{"text_format":"1","workbook":"xlsx","n_sheets":15,"sheets":["Select unit","UNIT RESULTS","FEEDBACK","Unit list","Chart data","Contacts","Report","HbA1c-2021","HbA1c-1920","Health checks","Health checks 1718","7procesess","HbA1c-1718","HbA1c-1819","Mean HbA1c adjusted"],"not_rendered":{"charts":31,"images":14,"macros":1,"external_links":2,"defined_names":11,"comments":0,"pivot_tables":0},"unopened":[],"bounds":{"document_bytes":16777216,"sheet_cells":100000,"rows_first":2000,"rows_last":500,"rows_between":2000,"halvings":0,"cell_chars":16384,"cell_head_chars":4096},"cells_cut":0,"cells_raw":0,"read":"whole","date_system":"1900"}

{"sheet":"Select unit","index":0,"n_rows":54,"n_cols":1,"rows_kept":54,"cut":false,"hidden":false,"merged":[[18,0,18,8],[3,0,3,8],[4,0,4,8],[14,0,14,8],[11,0,11,8],[10,0,10,8],[6,0,6,8]]}
[]
[]
[]
["National Paediatric Diabetes Audit 2020-21"]
["Unit posters"]
[]
["This Excel workbook contains two posters relating to the NPDA 2018-19 annual report. \nPlease select your unit from the dropdown below to view your posters:"]
[]
[]
["Your posters:"]
["◊ UNIT RESULTS poster Click on the 'UNITS RESULTS' sheet to view.\nThis poster shows summary results for HbA1c and key health check completion for your unit. "]
["◊ FEEDBACK poster Click on the 'FEEDBACK' sheet to view and add comments.\nThis poster has been designed to be displayed alongside your unit results poster, giving you an opportunity to let patients and families know how you're acting on your results as a unit. You can type directly onto this Excel sheet in the pale blue space before saving, or you can save, print and add your comments by hand.  "]
[]
["Saving your posters:"]
["Once you have viewed your posters and added any comments to your FEEDBACK poster, click on the 'Instructions' sheet to return to this page.\nThen, click the buttons below to save your posters. "]
[]
[]
[]
["You can share these posters with your patients and families via email or in your waiting areas. Both posters have been sized for print in A3."]
[]
[]
[]
[]
[]
[]
[]
[]
[]
[]
[]
[]
[]
[]
[]
[]
[]
[]
[]
[]
[]
[]
[]
[]
[]
[]
[]
[]
[]
[]
[]
[]
[]
[]
["View:"]

{"sheet":"UNIT RESULTS","index":1,"n_rows":77,"n_cols":2,"rows_kept":77,"cut":false,"hidden":false,"merged":[[9,1,9,19],[76,1,76,19],[14,3,14,16],[15,3,15,16],[16,5,16,8],[16,11,16,14],[17,3,17,17],[21,1,21,12],[8,1,8,19],[3,1,3,11],[4,1,4,12],[5,1,5,19],[6,1,6,19],[7,1,7,19]]}
[]
[]
[]
[null,"Our diabetes care"]
[null,"2020-21"]
[null,{"$f":"\"\"&'Unit list'!C1&\" takes part in the National Paediatric Diabetes Audit (NPDA). The NPDA monitors the care provided by paediatric diabetes clinics in England and Wales to children and young people with diabetes.\"&\"\"","v":"Addenbrooke's Hospital takes part in the National Paediatric Diabetes Audit (NPDA). The NPDA monitors the care provided by paediatric diabetes clinics in England and Wales to children and young people with diabetes."}]
[null,"The National Institute for Health and Care Excellence (NICE) recommends that several health checks should be performed for children and young people with Type 1 diabetes, depending on their age. The NPDA calls some of these 'key' yearly checks because it is important that they happen at least once a year."]
[null,{"$f":"\"This poster shows you the percentage of children and young people with Type 1 diabetes - receiving care from \"&'Unit list'!C1&\" - who completed these key checks in 2020-21. \n\nYou can also see the average (median) HbA1c level, or average blood glucose level, for children and young people with Type 1 diabetes receiving care from \"&'Unit list'!C1&\". NICE recommends aiming for an HbA1c level of 48 mmol/mol (6.5%) to reduce the risk of diabetes-related complications. Children and young people with diabetes should have their HbA1c checked at least four times a year.\"","v":"This poster shows you the percentage of children and young people with Type 1 diabetes - receiving care from Addenbrooke's Hospital - who completed these key checks in 2020-21. \n\nYou can also see the average (median) HbA1c level, or average blood glucose level, for children and young people with Type 1 diabetes receiving care from Addenbrooke's Hospital. NICE recommends aiming for an HbA1c level of 48 mmol/mol (6.5%) to reduce the risk of diabetes-related complications. Children and young people with diabetes should have their HbA1c checked at least four times a year."}]
[null,"Regional and national results are included on this poster, so you can see how the clinic you attend compares with the rest of the country. "]
[null,"To find out more about the other aspects of care the NPDA looks at, please visit: www.rcpch.ac.uk/npda"]
[]
[]
[]
[]
[]
[]
[]
[]
[]
[]
[]
[]
[]
[]
[]
[]
[]
[]
[]
[]
[]
[]
[]
[]
[]
[]
[]
[]
[]
[]
[]
[]
[]
[]
[]
[]
[]
[]
[]
[]
[]
[]
[]
[]
[]
[]
[]
[]
[]
[]
[]
[]
[]
[]
[]
[]
[]
[]
[]
[]
[]
[]
[]
[]
[]
[]
[null,"\nTo learn more about the NPDA, compare clinic results, read the privacy notice and understand how your child's data is being used to drive national improvements in diabetes care, please visit www.rcpch.ac.uk/npda or NPDA Results Online - www.npda-results.rcpch.ac.uk\n"]

{"sheet":"FEEDBACK","index":2,"n_rows":60,"n_cols":2,"rows_kept":60,"cut":false,"hidden":false,"merged":[[19,1,19,12],[57,1,57,22],[58,1,58,22],[59,1,59,22],[8,1,8,19],[13,3,13,16],[14,3,14,16],[15,5,15,8],[15,11,15,14],[16,3,16,17],[5,1,5,19],[6,1,6,19],[7,1,7,19],[3,1,3,21],[4,1,4,22]]}
[]
[]
[]
[null,"Our diabetes care"]
[null,"What are we doing in response to our NPDA results?"]
[]
[]
[]
[]
[]
[]
[]
[]
[]
[]
[]
[]
[]
[]
[]
[]
[]
[]
[]
[]
[]
[]
[]
[]
[]
[]
[]
[]
[]
[]
[]
[]
[]
[]
[]
[]
[]
[]
[]
[]
[]
[]
[]
[]
[]
[]
[]
[]
[]
[]
[]
[]
[null,"How can you help make sure your child gets their checks?"]
[null,"• Ask the diabetes team about your child's completion of the key health checks as part of an annual assessment. Finding any problems early can reduce the risk of further complications later. If your child misses any key health checks at annual review, discuss this with your diabetes team at their next appointment. \n\n• Make sure to attend all booked appointments. If you can no longer attend, make sure to let your team know in advance so another appointment can be arranged."]
[null,"To learn more about the NPDA, compare clinic results, read the privacy notice and understand how your child's data is being used to drive national improvements in diabetes care, please visit www.rcpch.ac.uk/npda or NPDA Results Online - www.npda-results.rcpch.ac.uk"]

{"sheet":"Unit list","index":3,"n_rows":178,"n_cols":11,"rows_kept":178,"cut":false,"hidden":true,"merged":[]}
[{"$f":"\"*\"&B1&\"*\"","v":"*PZ041*"},{"$f":"VLOOKUP(B2,A4:B178,2,0)","v":"PZ041"},{"$f":"VLOOKUP($B$1,$B$4:$D$178,2,0)","v":"Addenbrooke's Hospital"},{"$f":"VLOOKUP($B$1,$B$4:$D$178,3,0)","v":"East of England"},{"$f":"\"Units in \"&D1","v":"Units in East of England"},null,null,"HbA1c",null,null,"Region"]
[null,1,null,null,null,null,null,"2020-21",{"$f":"VLOOKUP(B1,'HbA1c-2021'!$A$1:$S$189,9,FALSE)","v":"59 mmol/mol (7.5%)"},"2020-21",{"$f":"VLOOKUP('Unit list'!D1,'HbA1c-2021'!$C$174:$I$189,7, FALSE)","v":"61 mmol/mol (7.7%)"}]
[null,"Unit code","Unit name","Region",null,null,null,"2019-20",{"$f":"VLOOKUP(B1,'HbA1c-1920'!$A$1:$S$189,9,FALSE)","v":{"$error":"#N/A"}},"2019-20",{"$f":"VLOOKUP(D1,'HbA1c-1920'!$C$169:$I$189,7,FALSE)","v":"62 mmol/mol (7.8%)"}]
[1,"PZ041","Addenbrooke's Hospital","East of England"]
[2,"PZ047","Airedale General Hospital, Keighley","Yorkshire and Humber"]
[3,"PZ074","Alder Hey Childrens Hospital","North West"]
[4,"PZ073","Alexandra Hospital ","West Midlands"]
[5,"PZ170","Arrowe Park Hospital","North West"]
[6,"PZ012","Barnet General Hospital","London and South East"]
[7,"PZ149","Barnsley Hospital","Yorkshire and Humber"]
[8,"PZ019","Basildon University Hospital","East of England"]
[9,"PZ159","Basingstoke and North Hampshire Hospital","South Central"]
[10,"PZ016","Bassetlaw District General Hospital","Yorkshire and Humber"]
[11,"PZ220","Bedford Hospital","East of England"]
[12,"PZ232","BHR University Hospitals NHS Trust ","London and South East"]
[13,"PZ108","Birmingham Children's Hospital","West Midlands"]
[14,"PZ040","Birmingham Heartlands Hospital","West Midlands"]
[15,"PZ160","Bishop Auckland Hospital","North East and North Cumbria"]
[16,"PZ139","Bristol Royal Hospital for Children","South West"]
[17,"PZ171","Broomfield Hospital","East of England"]
[18,"PZ186","Calderdale & Huddersfield NHS Foundation Trust","Yorkshire and Humber"]
[19,"PZ136","Central Manchester University Hospitals NHS Foundation Trust","North West"]
[20,"PZ014","Chase Farm Hospital","London and South East"]
[21,"PZ130","Chelsea and Westminster Hospital","London and South East"]
[22,"PZ064","Chesterfield Royal Hospital","East Midlands"]
[23,"PZ097","City Hospital, Birmingham","West Midlands"]
[24,"PZ076","Colchester General Hospital","East of England"]
[25,"PZ179","Countess of Chester Hospital NHS Trust","North West"]
[26,"PZ065","County Hospital Stafford","West Midlands"]
[27,"PZ062","Croydon University Hospital","London and South East"]
[28,"PZ150","Cumberland Infirmary","North East and North Cumbria"]
[29,"PZ119","Darent Valley Hospital, Dartford","London and South East"]
[30,"PZ161","Darlington Memorial Hospital","North East and North Cumbria"]
[31,"PZ005","Derbyshire Children's Hospital","East Midlands"]
[32,"PZ096","Derriford Hospital","South West"]
[33,"PZ226","Dewsbury & District Hospital","Yorkshire and Humber"]
[34,"PZ020","Diana, Princess of Wales Hospital, Grimsby","Yorkshire and Humber"]
[35,"PZ006","Doncaster Royal Infirmary","Yorkshire and Humber"]
[36,"PZ017","Dorset County Hospital","South Central"]
[37,"PZ191","Ealing Hospital","London and South East"]
[38,"PZ099","East and North Hertfordshire NHS Trust","East of England"]
[39,"PZ024","East Kent Hospitals University NHS Foundation Trust","London and South East"]
[40,"PZ213","East Surrey Hospital","London and South East"]
[41,"PZ230","East Sussex Healthcare NHS Trust/Conquest Hospital ","London and South East"]
[42,"PZ050","Epsom & St Helier University Hospitals NHS Trust","London and South East"]
[43,"PZ082","Evelina Childrens Hospital","London and South East"]
[44,"PZ027","Friarage Hospital ","North East and North Cumbria"]
[45,"PZ218","Frimley Park Hospital ","London and South East"]
[46,"PZ121","George Eliot Hospital","West Midlands"]
[47,"PZ011","Glan Clwyd District General Hospital ","Wales"]
[48,"PZ242","Gloucestershire Royal Hospital","South West"]
[49,"PZ144","Good Hope Hospital, Sutton Coldfield","West Midlands"]
[50,"PZ168","Grantham and District Hospital","East Midlands"]
[51,"PZ196","Great Ormond Street Hospital","London and South East"]
[52,"PZ221","Great Western Hospital","South West"]
[53,"PZ129","Harrogate District Hospital","Yorkshire and Humber"]
[54,"PZ111","Hereford County Hospital","West Midlands"]
[55,"PZ086","Hinchingbrooke Hospital","East of England"]
[56,"PZ026","Hull Royal Infirmary","Yorkshire and Humber"]
[57,"PZ244","Hywel Dda University Health Board","Wales"]
[58,"PZ181","Ipswich Hospital","East of England"]
[59,"PZ133","James Cook University Hospital ","North East and North Cumbria"]
[60,"PZ127","James Paget Hospital","East of England"]
[61,"PZ007","John Radcliffe Hospital","South Central"]
[62,"PZ174","Kettering General Hospital","East Midlands"]
[63,"PZ084","Kidderminster Hospital","West Midlands"]
[64,"PZ215","Kings College Hospital, London","London and South East"]
[65,"PZ180","Kings Mill Hospital","East Midlands"]
[66,"PZ057","Kingston Hospital","London and South East"]
[67,"PZ101","Leeds Childrens' Hospital","Yorkshire and Humber"]
[68,"PZ055","Leicester Royal Infirmary","East Midlands"]
[69,"PZ030","Leighton Hospital","North West"]
[70,"PZ048","Lincoln County Hospital ","East Midlands"]
[71,"PZ010","Luton and Dunstable Hospital","East of England"]
[72,"PZ009","Macclesfield District General Hospital","North West"]
[73,"PZ125","Maidstone Hospital","London and South East"]
[74,"PZ178","Manor Hospital, Walsall","West Midlands"]
[75,"PZ126","Medway Maritime Hospital","London and South East"]
[76,"PZ145","Milton Keynes Hospital","South Central"]
[77,"PZ001","Morriston Hospital ","Wales"]
[78,"PZ137","Musgrove Park Hospital","South West"]
[79,"PZ193","Neath Port Talbot Hospital","Wales"]
[80,"PZ222","New Cross Hospital, Wolverhampton","West Midlands"]
[81,"PZ058","Newham University Hospital","London and South East"]
[82,"PZ002","Norfolk and Norwich University Hospital","East of England"]
[83,"PZ100","North Devon District Hospital","South West"]
[84,"PZ199","North Middlesex University Hospital","London and South East"]
[85,"PZ120","North Tyneside General Hospital","North East and North Cumbria"]
[86,"PZ004","Northampton General Hospital","East Midlands"]
[87,"PZ089","Northwick Park Hospital","London and South East"]
[88,"PZ042","Nottingham Children's Hospital ","East Midlands"]
[89,"PZ110","Ormskirk & District General Hospital","North West"]
[90,"PZ131","Peterborough City Hospital","East of England"]
[91,"PZ128","Pilgrim Hospital ","East Midlands"]
[92,"PZ003","Pinderfields General Hospital and Pontefract General Infirmary","Yorkshire and Humber"]
[93,"PZ054","Poole General Hospital","South Central"]
[94,"PZ228","Prince Charles Hospital ","Wales"]
[95,"PZ200","Princess Alexandra Hospital, Harlow (inc Rectory Lane Health Center, Essex) ","East of England"]
[96,"PZ092","Princess of Wales Hospital, Bridgend","Wales"]
[97,"PZ094","Princess Royal Hospital","West Midlands"]
[98,"PZ085","Princess Royal University Hospital","London and South East"]
[99,"PZ238","Queen Alexandra Hospital, Portsmouth","South Central"]
[100,"PZ107","Queen Elizabeth Hospital, Gateshead","North East and North Cumbria"]
[101,"PZ156","Queen Elizabeth Hospital, Kings Lynn","East of England"]
[102,"PZ151","Queen Elizabeth Hospital, Woolwich","London and South East"]
[103,"PZ033","Queens Hospital, Burton on Trent","West Midlands"]
[104,"PZ164","Rotherham Hospital","Yorkshire and Humber"]
[105,"PZ104","Royal Albert Edward Infirmary","North West"]
[106,"PZ135","Royal Alexandra Hospital, Brighton","London and South East"]
[107,"PZ035","Royal Berkshire Hospital","South Central"]
[108,"PZ091","Royal Blackburn Hospital","North West"]
[109,"PZ177","Royal Bolton Hospital","North West"]
[110,"PZ067","Royal Cornwall Hospital","South West"]
[111,"PZ060","Royal Devon and Exeter Hospital","South West"]
[112,"PZ157","Royal Free Hospital","London and South East"]
[113,"PZ189","Royal Glamorgan Hospital","Wales"]
[114,"PZ034","Royal Hampshire County Hospital","South Central"]
[115,"PZ183","Royal Preston Hospital","North West"]
[116,"PZ078","Royal Stoke University Hospital","West Midlands"]
[117,"PZ088","Royal Surrey County Hospital","London and South East"]
[118,"PZ068","Royal United Hospital","South West"]
[119,"PZ032","Royal Victoria Infirmary, Newcastle Upon Tyne","North East and North Cumbria"]
[120,"PZ240","Russells Hall Hospital","West Midlands"]
[121,"PZ231","Salford Royal Foundation Trust","North West"]
[122,"PZ169","Salisbury District Hospital","South Central"]
[123,"PZ223","Sandwell General Hospital","West Midlands"]
[124,"PZ112","Scarborough General Hospital","Yorkshire and Humber"]
[125,"PZ053","Scunthorpe General Hospital","Yorkshire and Humber"]
[126,"PZ219","Sheffield Childrens Hospital","Yorkshire and Humber"]
[127,"PZ141","South Tyneside District Hospital","North East and North Cumbria"]
[128,"PZ109","Southampton Children’s Hospital","South Central"]
[129,"PZ146","Southend University Hospital","East of England"]
[130,"PZ023","St George's Hospital, London","London and South East"]
[131,"PZ105","St Luke's Hospital","Yorkshire and Humber"]
[132,"PZ202","St Marys Hospital, Imperial College, London","London and South East"]
[133,"PZ075","St Mary's Hospital, Isle of Wight","South Central"]
[134,"PZ176","St Peter's Hospital","London and South East"]
[135,"PZ031","St Richard's Hospital ","South Central"]
[136,"PZ069","Stepping Hill Hospital","North West"]
[137,"PZ028","Stoke Mandeville Hospital ","South Central"]
[138,"PZ080","Sunderland Royal Hospital","North East and North Cumbria"]
[139,"PZ140","Tameside General Hospital","North West"]
[140,"PZ245","The Grange University Hospital","Wales"]
[141,"PZ102","The Hillingdon Hospital","London and South East"]
[142,"PZ206","The Pennine Acute Hospitals NHS Trust","North West"]
[143,"PZ059","The Royal London Hospital ","London and South East"]
[144,"PZ114","The York Hospital","Yorkshire and Humber"]
[145,"PZ152","Torbay Hospital","South West"]
[146,"PZ216","Tunbridge Wells Hospital","London and South East"]
[147,"PZ203","University College London Hospital","London and South East"]
[148,"PZ118","University Hospital Lewisham","London and South East"]
[149,"PZ162","University Hospital of North Durham","North East and North Cumbria"]
[150,"PZ163","University Hospital of North Tees and University Hospital of Hartlepool","North East and North Cumbria"]
[151,"PZ113","University Hospital of Wales","Wales"]
[152,"PZ122","University Hospital, Coventry ","West Midlands"]
[153,"PZ167","University Hospitals of Morecambe Bay NHS Foundation Trust ","North West"]
[154,"PZ106","Victoria Hospital, Blackpool","North West"]
[155,"PZ049","Warrington Hospital","North West"]
[156,"PZ138","Warwick Hospital","West Midlands"]
[157,"PZ022","West Cumberland Hospital ","North East and North Cumbria"]
[158,"PZ172","West Hertfordshire Hospitals NHS Trust ","East of England"]
[159,"PZ182","West Middlesex University Hospital","London and South East"]
[160,"PZ072","West Suffolk Hospital, Bury St Edmunds","East of England"]
[161,"PZ021","Wexham Park Hospital","South Central"]
[162,"PZ036","Whipps Cross University Hospital ","London and South East"]
[163,"PZ153","Whiston Hospital","North West"]
[164,"PZ045","Whittington Hospital, London","London and South East"]
[165,"PZ225","Worcestershire Royal Hospital","West Midlands"]
[166,"PZ018","Worthing Hospital","South Central"]
[167,"PZ187","Wrexham Maelor Hospital","Wales"]
[168,"PZ038","Wycombe General Hospital ","South Central"]
[169,"PZ015","Wythenshawe Hospital","North West"]
[170,"PZ173","Yeovil District Hospital","South West"]
[171,"PZ132","Ysbyty Gwynedd Hospital ","Wales"]
[172,"PZ038","Wycombe General Hospital","South Central"]
[173,"PZ015","Wythenshawe Hospital","North West"]
[174,"PZ173","Yeovil District Hospital","South West"]
[175,"PZ132","Ysbyty Gwynedd","Wales"]

{"sheet":"Chart data","index":4,"n_rows":212,"n_cols":13,"rows_kept":212,"cut":false,"hidden":true,"merged":[[158,1,159,1],[160,1,161,1],[88,8,90,8]]}
["Link to data",null,null,null,null,null,null,null,"Graph data "]
[]
["Radar plot",null,null,{"$f":"\"\"&'Unit list'!$B$1&\" - 2018/19\"","v":"PZ041 - 2018/19"}]
[null,null,null,{"$f":"'Unit list'!$B$1","v":"PZ041"},{"$f":"'Unit list'!$D$1","v":"East of England"},"England and Wales",{"$f":"\"\"&'Unit list'!$B$1&\" - 2017/18\"","v":"PZ041 - 2017/18"},"Goal target"]
[5,null,"HbA1c health \ncheck (%)",{"$f":"D78","v":0.86877828054298645},{"$f":"E78","v":0.89905482041587903},{"$f":"F78","v":0.90558455547269867},{"$f":"IF(VLOOKUP(D$77,'Health checks 1718'!$A$3:$N$187,$A5,0)=\"*\",\"<5\",VLOOKUP(D$77,'Health checks 1718'!$A$3:$N$187,$A5,0))","v":0.93670886075949367},1]
[9,null,"Unadjusted HbA1c \n<58 mmol/mol (%)",{"$f":"D122","v":0.43654822335025378},{"$f":"E122","v":0.37302918483730291},{"$f":"F122","v":0.35950642902138069},{"$f":"VLOOKUP(D4,'HbA1c-1718'!A3:T175,A6,FALSE)","v":"59 mmol/mol (7.5%)"},1]
[14,null,"Unadjusted HbA1c \n<80 mmol/mol (%)",{"$f":"VLOOKUP(D4,'HbA1c-1819'!A1:T177,'Chart data'!A7,0)","v":0.21212121212121213},{"$f":"1-E125","v":0.51828245555182817},{"$f":"1-F125","v":0.50042613110015932},{"$f":"(VLOOKUP(D4,'HbA1c-1718'!A3:T175,A7,FALSE))","v":0.21544715447154472},1]
[14,null,"Health check completion rate* \n(aged 12+)",{"$f":"IF(VLOOKUP(D$77,'Health checks'!$A$3:$N$187,$A8,0)=\"*\",#N/A,VLOOKUP(D$77,'Health checks'!$A$3:$N$187,$A8,0))","v":0.48897057771682739},{"$f":"VLOOKUP(E$77,'Health checks'!$C$174:$N$189,$A8-2,0)","v":0.73766666650772095},{"$f":"VLOOKUP(F$77,'Health checks'!$C$176:$N$189,$A8-2,0)","v":0.70151072740554798},{"$f":"IF(VLOOKUP(D$77,'Health checks 1718'!$A$3:$N$187,$A8,0)=\"*\",\"<5\",VLOOKUP(D$77,'Health checks 1718'!$A$3:$N$187,$A8,0))","v":0.79788360000000003},1]
[12,null,"Foot exam health check (aged 12+) \n(%)",{"$f":"D84","v":0.49264705882352944},{"$f":"E84","v":0.3981841763942931},{"$f":"F84","v":0.57069693404387845},{"$f":"IF(VLOOKUP(D$77,'Health checks 1718'!$A$3:$N$187,$A9,0)=\"*\",\"<5\",VLOOKUP(D$77,'Health checks 1718'!$A$3:$N$187,$A9,0))","v":0.68148148148148147},1]
[11,null,"Eye screen health check (aged 12+) (%)",{"$f":"D83","v":0.3014705882352941},{"$f":"E83","v":0.23086900129701687},{"$f":"F83","v":0.24326943041040902},{"$f":"IF(VLOOKUP(D$77,'Health checks 1718'!$A$3:$N$187,$A10,0)=\"*\",\"<5\",VLOOKUP(D$77,'Health checks 1718'!$A$3:$N$187,$A10,0))","v":0.76296296296296295},1]
[10,null,"Albuminuria health check (aged 12+) (%)",{"$f":"D82","v":8.8235294117647065E-2},{"$f":"E82","v":0.50907911802853434},{"$f":"F82","v":0.64357394975430826},{"$f":"IF(VLOOKUP(D$77,'Health checks 1718'!$A$3:$N$187,$A11,0)=\"*\",\"<5\",VLOOKUP(D$77,'Health checks 1718'!$A$3:$N$187,$A11,0))","v":0.6074074074074074},1]
[9,null,"BP health check \n(aged 12+) \n(%)",{"$f":"D81","v":0.66176470588235292},{"$f":"E81","v":0.58236057068741898},{"$f":"F81","v":0.70371652017440656},{"$f":"IF(VLOOKUP(D$77,'Health checks 1718'!$A$3:$N$187,$A12,0)=\"*\",\"<5\",VLOOKUP(D$77,'Health checks 1718'!$A$3:$N$187,$A12,0))","v":0.89629629629629626},1]
[7,null,"BMI \nhealth check \n(%)",{"$f":"D79","v":0.79185520361990946},0.68431001890359167,0.78647775292070599,{"$f":"IF(VLOOKUP(D$77,'Health checks 1718'!$A$3:$N$187,$A13,0)=\"*\",\"<5\",VLOOKUP(D$77,'Health checks 1718'!$A$3:$N$187,$A13,0))","v":0.93670886075949367},1]
[6,null,"Thyroid \nhealth check \n(%)",0.14479638009049775,0.57731568998109639,0.77906205982268617,{"$f":"IF(VLOOKUP(D$77,'Health checks 1718'!$A$3:$N$187,$A14,0)=\"*\",\"<5\",VLOOKUP(D$77,'Health checks 1718'!$A$3:$N$187,$A14,0))","v":0.84388185654008441},1]
[]
[null,null,null,{"$f":"IF(D10<(E10-0.02),\"the proportion of children and young people recorded as receiving an eye screen in your unit is lower than the overall regional result.\",IF(D10>(E10+0.02),\"the proportion of CYP recorded as receiving an eye screen in your unit is higher than the overall regional result.\",\"the proportion of CYP recorded as receiving an eye screen in your unit is similar to the overall regional result.\"))","v":"the proportion of CYP recorded as receiving an eye screen in your unit is higher than the overall regional result."}]
[]
[]
["Radar plot - additional health checks",null,null,{"$f":"D4","v":"PZ041"},{"$f":"E4","v":"East of England"},{"$f":"F4","v":"England and Wales"},"Goal target"]
[null,null,"4+ HbA1c measurements (%)",{"$f":"D86","v":5.4298642533936653E-2},{"$f":"E86","v":{"$error":"#N/A"}},{"$f":"F86","v":0.14905957411550252},1]
[null,null,"Assessed for need of psychological \nsupport (%)",{"$f":"D91","v":{"$error":"#REF!"}},{"$error":"#REF!"},{"$error":"#REF!"},1]
[null,null,"Flu vaccine \nrecommended (%)",{"$error":"#REF!"},{"$error":"#REF!"},{"$error":"#REF!"},1]
[null,null,"'Sick day rules' advice (%)",{"$error":"#REF!"},{"$error":"#REF!"},{"$error":"#REF!"},1]
[null,null,"Blood ketone testing training (%)",{"$error":"#REF!"},{"$error":"#REF!"},{"$error":"#REF!"},1]
[null,null,"Smoking status \nrecorded (%)",{"$error":"#REF!"},{"$error":"#REF!"},{"$error":"#REF!"},1]
[]
[]
[]
[]
[]
[]
[]
[]
[]
[]
[]
["Characteristics"]
[null,null,"Number in audit",{"$f":"VLOOKUP('Unit list'!$B$1,#REF!,4,0)","v":{"$error":"#REF!"}},{"$f":"IF(D38=0,0,IF(D38<5,\"less than 5\",D38))","v":{"$error":"#REF!"}}]
[]
["Age"]
[null,null,null,{"$f":"'Unit list'!$B$1","v":"PZ041"},{"$f":"'Unit list'!$D$1","v":"East of England"},"England and Wales"]
[5,null,"0-4 years",{"$f":"IF(VLOOKUP(D$41,#REF!,A42,0)=\"*\",\"< 5\",VLOOKUP(D$41,#REF!,A42,0))","v":{"$error":"#REF!"}},{"$f":"IF(VLOOKUP(E$41,#REF!,$A42-2,0)=\"*\",\"< 5\",VLOOKUP(E$41,#REF!,$A42-2,0))","v":{"$error":"#REF!"}},{"$f":"VLOOKUP(F$41,#REF!,$A42-2,0)","v":{"$error":"#REF!"}}]
[6,null,"5-9 years",{"$f":"IF(VLOOKUP(D$41,#REF!,A43,0)=\"*\",\"< 5\",VLOOKUP(D$41,#REF!,A43,0))","v":{"$error":"#REF!"}},{"$f":"IF(VLOOKUP(E$41,#REF!,$A43-2,0)=\"*\",\"< 5\",VLOOKUP(E$41,#REF!,$A43-2,0))","v":{"$error":"#REF!"}},{"$f":"VLOOKUP(F$41,#REF!,$A43-2,0)","v":{"$error":"#REF!"}}]
[7,null,"10-14 years",{"$f":"IF(VLOOKUP(D$41,#REF!,A44,0)=\"*\",\"< 5\",VLOOKUP(D$41,#REF!,A44,0))","v":{"$error":"#REF!"}},{"$f":"IF(VLOOKUP(E$41,#REF!,$A44-2,0)=\"*\",\"< 5\",VLOOKUP(E$41,#REF!,$A44-2,0))","v":{"$error":"#REF!"}},{"$f":"VLOOKUP(F$41,#REF!,$A44-2,0)","v":{"$error":"#REF!"}}]
[8,null,"15-19 years",{"$f":"IF(VLOOKUP(D$41,#REF!,A45,0)=\"*\",\"< 5\",VLOOKUP(D$41,#REF!,A45,0))","v":{"$error":"#REF!"}},{"$f":"IF(VLOOKUP(E$41,#REF!,$A45-2,0)=\"*\",\"< 5\",VLOOKUP(E$41,#REF!,$A45-2,0))","v":{"$error":"#REF!"}},{"$f":"VLOOKUP(F$41,#REF!,$A45-2,0)","v":{"$error":"#REF!"}}]
[]
[]
["Ethnicity"]
[null,null,null,{"$f":"'Unit list'!$B$1","v":"PZ041"},{"$f":"'Unit list'!$D$1","v":"East of England"},"England and Wales"]
[9,null,"White",{"$f":"IF(VLOOKUP(D$41,#REF!,A50,0)=\"*\",\"< 5\",VLOOKUP(D$41,#REF!,A50,0))","v":{"$error":"#REF!"}},{"$f":"IF(VLOOKUP(E$41,#REF!,A50-2,0)=\"*\",\"< 5\",VLOOKUP(E$41,#REF!,A50-2,0))","v":{"$error":"#REF!"}},{"$f":"VLOOKUP(F$41,#REF!,$A50-2,0)","v":{"$error":"#REF!"}}]
[10,null,"Asian",{"$f":"IF(VLOOKUP(D$41,#REF!,A51,0)=\"*\",\"< 5\",VLOOKUP(D$41,#REF!,A51,0))","v":{"$error":"#REF!"}},{"$f":"IF(VLOOKUP(E$41,#REF!,A51-2,0)=\"*\",\"< 5\",VLOOKUP(E$41,#REF!,A51-2,0))","v":{"$error":"#REF!"}},{"$f":"VLOOKUP(F$41,#REF!,$A51-2,0)","v":{"$error":"#REF!"}}]
[11,null,"Black",{"$f":"IF(VLOOKUP(D$41,#REF!,A52,0)=\"*\",\"< 5\",VLOOKUP(D$41,#REF!,A52,0))","v":{"$error":"#REF!"}},{"$f":"IF(VLOOKUP(E$41,#REF!,A52-2,0)=\"*\",\"< 5\",VLOOKUP(E$41,#REF!,A52-2,0))","v":{"$error":"#REF!"}},{"$f":"VLOOKUP(F$41,#REF!,$A52-2,0)","v":{"$error":"#REF!"}}]
[12,null,"Mixed",{"$f":"IF(VLOOKUP(D$41,#REF!,A53,0)=\"*\",\"< 5\",VLOOKUP(D$41,#REF!,A53,0))","v":{"$error":"#REF!"}},{"$f":"IF(VLOOKUP(E$41,#REF!,A53-2,0)=\"*\",\"< 5\",VLOOKUP(E$41,#REF!,A53-2,0))","v":{"$error":"#REF!"}},{"$f":"VLOOKUP(F$41,#REF!,$A53-2,0)","v":{"$error":"#REF!"}}]
[13,null,"Other",{"$f":"IF(VLOOKUP(D$41,#REF!,A54,0)=\"*\",\"< 5\",VLOOKUP(D$41,#REF!,A54,0))","v":{"$error":"#REF!"}},{"$f":"IF(VLOOKUP(E$41,#REF!,A54-2,0)=\"*\",\"< 5\",VLOOKUP(E$41,#REF!,A54-2,0))","v":{"$error":"#REF!"}},{"$f":"VLOOKUP(F$41,#REF!,$A54-2,0)","v":{"$error":"#REF!"}}]
[14,null,"Not stated\nUnknown",{"$f":"IF(VLOOKUP(D$41,#REF!,A55,0)=\"*\",\"< 5\",VLOOKUP(D$41,#REF!,A55,0))","v":{"$error":"#REF!"}},{"$f":"IF(VLOOKUP(E$41,#REF!,A55-2,0)=\"*\",\"< 5\",VLOOKUP(E$41,#REF!,A55-2,0))","v":{"$error":"#REF!"}},{"$f":"VLOOKUP(F$41,#REF!,$A55-2,0)","v":{"$error":"#REF!"}}]
[]
[]
[]
["Diabetes type",null,null,{"$f":"'Unit list'!$B$1","v":"PZ041"},{"$f":"'Unit list'!$D$1","v":"East of England"},"England and Wales"]
[15,null,"Type 1",{"$f":"IF(VLOOKUP(D$41,#REF!,A60,0)=\"*\",\"< 5\",VLOOKUP(D$41,#REF!,A60,0))","v":{"$error":"#REF!"}},{"$f":"VLOOKUP(E$59,#REF!,$A60-2,0)","v":{"$error":"#REF!"}},{"$f":"VLOOKUP(F$59,#REF!,$A60-2,0)","v":{"$error":"#REF!"}}]
[16,null,"Type 2",{"$f":"IF(VLOOKUP(D$41,#REF!,A61,0)=\"*\",\"< 5\",VLOOKUP(D$41,#REF!,A61,0))","v":{"$error":"#REF!"}},{"$f":"VLOOKUP(E$59,#REF!,$A61-2,0)","v":{"$error":"#REF!"}},{"$f":"VLOOKUP(F$59,#REF!,$A61-2,0)","v":{"$error":"#REF!"}}]
[17,null,"Other*",{"$f":"IF(VLOOKUP(D$41,#REF!,A62,0)=\"*\",\"< 5\",VLOOKUP(D$41,#REF!,A62,0))","v":{"$error":"#REF!"}},{"$f":"VLOOKUP(E$59,#REF!,$A62-2,0)","v":{"$error":"#REF!"}},{"$f":"VLOOKUP(F$59,#REF!,$A62-2,0)","v":{"$error":"#REF!"}}]
[]
["Deprivation",null,null,{"$f":"'Unit list'!$B$1","v":"PZ041"},{"$f":"'Unit list'!$D$1","v":"East of England"},"England and Wales",null,null,null,{"$f":"IFERROR(D64,\"<5\")","v":"PZ041"},{"$f":"IFERROR(E64,\"<5\")","v":"East of England"},{"$f":"IFERROR(F64,\"<5\")","v":"England and Wales"}]
[18,null,"Most \ndeprived",{"$f":"IF(VLOOKUP(D$64,#REF!,A65,0)=\"*\",\"< 5\",VLOOKUP(D$64,#REF!,A65,0))","v":{"$error":"#REF!"}},{"$f":"VLOOKUP(E$59,#REF!,$A65-2,0)","v":{"$error":"#REF!"}},{"$f":"VLOOKUP(F$59,#REF!,$A65-2,0)","v":{"$error":"#REF!"}},null,null,{"$f":"C65","v":"Most \ndeprived"},{"$f":"IFERROR(D65,\"< 5\")","v":"< 5"},"< 5","< 5"]
[19,null,"Second most \ndeprived",{"$f":"IF(VLOOKUP(D$64,#REF!,A66,0)=\"*\",\"< 5\",VLOOKUP(D$64,#REF!,A66,0))","v":{"$error":"#REF!"}},{"$f":"VLOOKUP(E$59,#REF!,$A66-2,0)","v":{"$error":"#REF!"}},{"$f":"VLOOKUP(F$59,#REF!,$A66-2,0)","v":{"$error":"#REF!"}},null,null,{"$f":"C66","v":"Second most \ndeprived"},"< 5","< 5","< 5"]
[20,null,"Third least \ndeprived",{"$f":"IF(VLOOKUP(D$64,#REF!,A67,0)=\"*\",\"< 5\",VLOOKUP(D$64,#REF!,A67,0))","v":{"$error":"#REF!"}},{"$f":"VLOOKUP(E$59,#REF!,$A67-2,0)","v":{"$error":"#REF!"}},{"$f":"VLOOKUP(F$59,#REF!,$A67-2,0)","v":{"$error":"#REF!"}},null,null,{"$f":"C67","v":"Third least \ndeprived"},"< 5","< 5","< 5"]
[21,null,"Second least \ndeprived",{"$f":"IF(VLOOKUP(D$64,#REF!,A68,0)=\"*\",\"< 5\",VLOOKUP(D$64,#REF!,A68,0))","v":{"$error":"#REF!"}},{"$f":"VLOOKUP(E$59,#REF!,$A68-2,0)","v":{"$error":"#REF!"}},{"$f":"VLOOKUP(F$59,#REF!,$A68-2,0)","v":{"$error":"#REF!"}},null,null,{"$f":"C68","v":"Second least \ndeprived"},"< 5","< 5","< 5"]
[22,null,"Least \ndeprived",{"$f":"IF(VLOOKUP(D$64,#REF!,A69,0)=\"*\",\"< 5\",VLOOKUP(D$64,#REF!,A69,0))","v":{"$error":"#REF!"}},{"$f":"VLOOKUP(E$59,#REF!,$A69-2,0)","v":{"$error":"#REF!"}},{"$f":"VLOOKUP(F$59,#REF!,$A69-2,0)","v":{"$error":"#REF!"}}]
[]
[]
["Care processes"]
[null,null,"Denominator - All ages",{"$f":"VLOOKUP($D$77,'Health checks'!$A$3:$H$187,4,0)","v":221},{"$f":"IF(D73=0,0,IF(D73<5,\"less than 5\",D73))","v":221}]
[null,null,"Denominator - 12+",{"$f":"VLOOKUP($D$77,'Health checks'!$A$3:$H$187,8,0)","v":136},{"$f":"IF(D74=0,0,IF(D74<5,\"less than 5\",D74))","v":136}]
[]
[]
[null,null,null,{"$f":"'Unit list'!$B$1","v":"PZ041"},{"$f":"'Unit list'!$D$1","v":"East of England"},"England and Wales",null,null,null,null,{"$f":"D77","v":"PZ041"},{"$f":"E77","v":"East of England"},{"$f":"F77","v":"England and Wales"}]
[5,null,"HbA1c (all ages)",{"$f":"IF(VLOOKUP(D$77,'Health checks'!$A$3:$N$189,$A78,0)=\"*\",\"<5\",VLOOKUP(D$77,'Health checks'!$A$3:$N$187,$A78,0))","v":0.86877828054298645},{"$f":"VLOOKUP(E$77,'Health checks'!$C$174:$N$189,$A78-2,0)","v":0.89905482041587903},{"$f":"VLOOKUP(F$77,'Health checks'!$C$184:$N$189,$A78-2,0)","v":0.90558455547269867},null,null,"All ages","HbA1c",{"$f":"D78","v":0.86877828054298645},{"$f":"E78","v":0.89905482041587903},0.90558455547269867]
[7,null,"Body mass index \n(all ages)",{"$f":"IF(VLOOKUP(D$77,'Health checks'!$A$3:$N$187,$A79,0)=\"*\",\"<5\",VLOOKUP(D$77,'Health checks'!$A$3:$N$187,$A79,0))","v":0.79185520361990946},{"$f":"VLOOKUP(E$77,'Health checks'!$C$174:$N$189,$A79-2,0)","v":0.68431001890359167},{"$f":"VLOOKUP(F$77,'Health checks'!$C$184:$N$189,$A79-2,0)","v":0.78647775292070599},null,null,null,"BMI",{"$f":"D79","v":0.79185520361990946},0.68431001890359167,0.78647775292070599]
[6,null,"Thyroid (all ages)",{"$f":"IF(VLOOKUP(D$77,'Health checks'!$A$3:$N$187,$A80,0)=\"*\",\"<5\",VLOOKUP(D$77,'Health checks'!$A$3:$N$187,$A80,0))","v":0.14479638009049775},{"$f":"VLOOKUP(E$77,'Health checks'!$C$174:$N$189,$A80-2,0)","v":0.57731568998109639},{"$f":"VLOOKUP(F$77,'Health checks'!$C$176:$N$189,$A80-2,0)","v":0.77906205982268617},null,null,null,"Thyroid",0.14479638009049775,0.57731568998109639,0.77906205982268617]
[9,null,"Blood pressure (12+)",{"$f":"IF(VLOOKUP(D$77,'Health checks'!$A$3:$N$187,$A81,0)=\"*\",\"<5\",VLOOKUP(D$77,'Health checks'!$A$3:$N$187,$A81,0))","v":0.66176470588235292},{"$f":"VLOOKUP(E$77,'Health checks'!$C$174:$N$189,$A81-2,0)","v":0.58236057068741898},{"$f":"VLOOKUP(F$77,'Health checks'!$C$176:$N$189,$A81-2,0)","v":0.70371652017440656},null,null,"Aged 12+","Blood \npressure",0.66176470588235292,0.58236057068741898,0.70371652017440656]
[10,null,"Albuminuria (12+)",{"$f":"IF(VLOOKUP(D$77,'Health checks'!$A$3:$N$187,$A82,0)=\"*\",\"<5\",VLOOKUP(D$77,'Health checks'!$A$3:$N$187,$A82,0))","v":8.8235294117647065E-2},{"$f":"VLOOKUP(E$77,'Health checks'!$C$174:$N$189,$A82-2,0)","v":0.50907911802853434},{"$f":"VLOOKUP(F$77,'Health checks'!$C$176:$N$189,$A82-2,0)","v":0.64357394975430826},null,null,null,"Albuminuria",8.8235294117647065E-2,0.50907911802853434,0.64357394975430826]
[11,null,"Eye screening (12+)",{"$f":"IF(VLOOKUP(D$77,'Health checks'!$A$3:$N$187,$A83,0)=\"*\",\"<5\",VLOOKUP(D$77,'Health checks'!$A$3:$N$187,$A83,0))","v":0.3014705882352941},{"$f":"VLOOKUP(E$77,'Health checks'!$C$174:$N$189,$A83-2,0)","v":0.23086900129701687},{"$f":"VLOOKUP(F$77,'Health checks'!$C$176:$N$189,$A83-2,0)","v":0.24326943041040902},null,null,null,"Eye \nscreening",0.3014705882352941,0.23086900129701687,0.24326943041040902]
[12,null,"Foot examination (12+)",{"$f":"IF(VLOOKUP(D$77,'Health checks'!$A$3:$N$187,$A84,0)=\"*\",\"<5\",VLOOKUP(D$77,'Health checks'!$A$3:$N$187,$A84,0))","v":0.49264705882352944},{"$f":"VLOOKUP(E$77,'Health checks'!$C$174:$N$189,$A84-2,0)","v":0.3981841763942931},{"$f":"VLOOKUP(F$77,'Health checks'!$C$176:$N$189,$A84-2,0)","v":0.57069693404387845},null,null,null,"Foot exam",0.49264705882352944,0.3981841763942931,0.57069693404387845]
[]
[15,null,"4+ HbA1c \nmeasurements",{"$f":"IF(VLOOKUP(D$77,'Health checks'!$A$3:$O$187,$A86,0)=\"*\",\"< 5\",VLOOKUP(D$77,'Health checks'!$A$3:$O$187,$A86,0))","v":5.4298642533936653E-2},{"$f":"VLOOKUP(E$77,'Health checks'!$C$178:$P$189,$A86-2,0)","v":{"$error":"#N/A"}},{"$f":"VLOOKUP(F$77,'Health checks'!$C$176:$P$189,$A86-2,0)","v":0.14905957411550252}]
[]
[null,null,null,{"$f":"D77","v":"PZ041"},{"$f":"E77","v":"East of England"},{"$f":"F77","v":"England and Wales"},null,null,null,null,{"$f":"K77","v":"PZ041"},{"$f":"L77","v":"East of England"},{"$f":"M77","v":"England and Wales"}]
[5,null,"Offered dietetic appointment",{"$f":"IF(VLOOKUP(D$88,#REF!,$A89,0)=\"*\",\"<5\",VLOOKUP(D$88,#REF!,$A89,0))","v":{"$error":"#REF!"}},{"$f":"VLOOKUP(E$88,#REF!,$A89-2,0)","v":{"$error":"#REF!"}},{"$f":"VLOOKUP(F$88,#REF!,$A89-2,0)","v":{"$error":"#REF!"}},null,null,"Dietetic appointment","Appointment \noffered",{"$f":"D89","v":{"$error":"#REF!"}},{"$error":"#REF!"},{"$error":"#REF!"}]
[6,null,"Attended dietetic appointment",{"$f":"IF(VLOOKUP(D$88,#REF!,$A90,0)=\"*\",\"<5\",VLOOKUP(D$88,#REF!,$A90,0))","v":{"$error":"#REF!"}},{"$f":"VLOOKUP(E$88,#REF!,$A90-2,0)","v":{"$error":"#REF!"}},{"$f":"VLOOKUP(F$88,#REF!,$A90-2,0)","v":{"$error":"#REF!"}},null,null,null,"Appointment \nattended",{"$error":"#REF!"},{"$error":"#REF!"},{"$error":"#REF!"}]
[7,null,"Assessment for psychological \nsupport",{"$f":"IF(VLOOKUP(D$88,#REF!,$A91,0)=\"*\",\"<5\",VLOOKUP(D$88,#REF!,$A91,0))","v":{"$error":"#REF!"}},{"$f":"VLOOKUP(E$88,#REF!,$A91-2,0)","v":{"$error":"#REF!"}},{"$f":"VLOOKUP(F$88,#REF!,$A91-2,0)","v":{"$error":"#REF!"}},null,null,null,"Take-up rate",{"$f":"IF(K90=0,0,IF(K90=\"<5\",K90,K90/K89))","v":{"$error":"#REF!"}},{"$f":"L90/L89","v":{"$error":"#REF!"}},{"$f":"M90/M89","v":{"$error":"#REF!"}}]
[8,null,"Flu vaccine \nrecommended",{"$f":"IF(VLOOKUP(D$88,#REF!,$A92,0)=\"*\",\"<5\",VLOOKUP(D$88,#REF!,$A92,0))","v":{"$error":"#REF!"}},{"$f":"VLOOKUP(E$88,#REF!,$A92-2,0)","v":{"$error":"#REF!"}},{"$f":"VLOOKUP(F$88,#REF!,$A92-2,0)","v":{"$error":"#REF!"}}]
[9,null,"'Sick day rules'\nadvice",{"$f":"IF(VLOOKUP(D$88,#REF!,$A93,0)=\"*\",\"<5\",VLOOKUP(D$88,#REF!,$A93,0))","v":{"$error":"#REF!"}},{"$f":"VLOOKUP(E$88,#REF!,$A93-2,0)","v":{"$error":"#REF!"}},{"$f":"VLOOKUP(F$88,#REF!,$A93-2,0)","v":{"$error":"#REF!"}},null,null,null,null,{"$f":"K77","v":"PZ041"},{"$f":"L77","v":"East of England"},{"$f":"M77","v":"England and Wales"}]
[10,null,"Blood ketone \ntesting",{"$f":"IF(VLOOKUP(D$88,#REF!,$A94,0)=\"*\",\"<5\",VLOOKUP(D$88,#REF!,$A94,0))","v":{"$error":"#REF!"}},{"$f":"VLOOKUP(E$88,#REF!,$A94-2,0)","v":{"$error":"#REF!"}},{"$f":"VLOOKUP(F$88,#REF!,$A94-2,0)","v":{"$error":"#REF!"}},null,null,"All ages",{"$f":"C86","v":"4+ HbA1c \nmeasurements"},{"$f":"D86","v":5.4298642533936653E-2},{"$f":"E86","v":{"$error":"#N/A"}},{"$f":"F86","v":0.14905957411550252}]
[12,null,"Smoking status \nrecorded",{"$f":"IF(VLOOKUP(D$88,#REF!,$A95,0)=\"*\",\"<5\",VLOOKUP(D$88,#REF!,$A95,0))","v":{"$error":"#REF!"}},{"$f":"VLOOKUP(E$88,#REF!,$A95-2,0)","v":{"$error":"#REF!"}},{"$f":"VLOOKUP(F$88,#REF!,$A95-2,0)","v":{"$error":"#REF!"}},null,null,null,{"$f":"C91","v":"Assessment for psychological \nsupport"},{"$f":"D91","v":{"$error":"#REF!"}},{"$error":"#REF!"},{"$error":"#REF!"}]
[null,null,null,null,null,null,null,null,null,{"$f":"C92","v":"Flu vaccine \nrecommended"},{"$error":"#REF!"},{"$error":"#REF!"},{"$error":"#REF!"}]
[null,null,null,null,null,null,null,null,null,{"$f":"C93","v":"'Sick day rules'\nadvice"},{"$error":"#REF!"},{"$error":"#REF!"},{"$error":"#REF!"}]
[null,null,null,null,null,null,null,null,null,{"$f":"C94","v":"Blood ketone \ntesting"},{"$error":"#REF!"},{"$error":"#REF!"},{"$error":"#REF!"}]
[null,null,null,null,null,null,null,null,"Aged 12+",{"$f":"C95","v":"Smoking status \nrecorded"},{"$error":"#REF!"},{"$error":"#REF!"},{"$error":"#REF!"}]
[4,null,"Denominator- autoimmune screening",{"$f":"VLOOKUP($D$77,#REF!,A100,0)","v":{"$error":"#REF!"}},{"$f":"IF(D100=0,0,IF(D100=\"*\",\"<5\",\"=\"&D100&\"\"))","v":{"$error":"#REF!"}}]
[7,null,"Denominator- carb counting",{"$f":"VLOOKUP($D$77,#REF!,A101,0)","v":{"$error":"#REF!"}},{"$f":"IF(D101=0,0,IF(D101=\"*\",\"<5\",\"=\"&D101&\"\"))","v":{"$error":"#REF!"}}]
[]
[null,null,null,{"$f":"'Unit list'!$B$1","v":"PZ041"},{"$f":"'Unit list'!$D$1","v":"East of England"},"England and Wales"]
[5,null,"Thyroid disease screen",{"$f":"IF(VLOOKUP($D$77,#REF!,A104,0)=\"*\",\"< 5\",VLOOKUP($D$77,#REF!,A104,0))","v":{"$error":"#REF!"}},{"$f":"VLOOKUP(E$77,#REF!,$A104-2,0)","v":{"$error":"#REF!"}},{"$f":"VLOOKUP(F$77,#REF!,$A104-2,0)","v":{"$error":"#REF!"}}]
[6,null,"Coeliac disease screen",{"$f":"IF(VLOOKUP($D$77,#REF!,A105,0)=\"*\",\"< 5\",VLOOKUP($D$77,#REF!,A105,0))","v":{"$error":"#REF!"}},{"$f":"VLOOKUP(E$77,#REF!,$A105-2,0)","v":{"$error":"#REF!"}},{"$f":"VLOOKUP(F$77,#REF!,$A105-2,0)","v":{"$error":"#REF!"}}]
[8,null,"Carb counting",{"$f":"IF(VLOOKUP($D$77,#REF!,A106,0)=\"*\",\"< 5\",VLOOKUP($D$77,#REF!,A106,0))","v":{"$error":"#REF!"}},{"$f":"VLOOKUP(E$77,#REF!,$A106-2,0)","v":{"$error":"#REF!"}},{"$f":"VLOOKUP(F$77,#REF!,$A106-2,0)","v":{"$error":"#REF!"}}]
[]
[]
["HbA1c"]
[null,null,"Denominator HbA1c",{"$f":"VLOOKUP($D$119,'HbA1c-1819'!$A$3:$P$177,4,0)","v":231},{"$f":"IF(D110=0,0,IF(D110<5,\"less than 5\",D110))","v":231}]
[null,null,"Denominator Adjusted HbA1c",{"$f":"VLOOKUP($D$119,'HbA1c-1819'!$A$3:$X$177,14,0)","v":0.21212121212121213}]
[null,null,null,{"$f":"'Unit list'!$B$1","v":"PZ041"},{"$f":"'Unit list'!$D$1","v":"East of England"},"England and Wales"]
[null,null,"2013/14",{"$f":"VLOOKUP(D$112,#REF!,6,0)","v":{"$error":"#REF!"}},{"$f":"VLOOKUP(E$112,#REF!,4,0)","v":{"$error":"#REF!"}},{"$f":"VLOOKUP(F$112,#REF!,4,0)","v":{"$error":"#REF!"}}]
[null,null,"2014/15",{"$f":"VLOOKUP(D$112,#REF!,6,0)","v":{"$error":"#REF!"}},{"$f":"VLOOKUP(E$112,#REF!,4,0)","v":{"$error":"#REF!"}},{"$f":"VLOOKUP(F$112,#REF!,4,0)","v":{"$error":"#REF!"}}]
[null,null,"2015/16",{"$f":"VLOOKUP(D$112,#REF!,6,0)","v":{"$error":"#REF!"}},{"$f":"VLOOKUP(E$112,#REF!,4,0)","v":{"$error":"#REF!"}},{"$f":"VLOOKUP(F$112,#REF!,4,0)","v":{"$error":"#REF!"}}]
[null,null,"2016/17",{"$f":"VLOOKUP(D$112,#REF!,6,0)","v":{"$error":"#REF!"}},{"$f":"VLOOKUP(E$112,#REF!,4,0)","v":{"$error":"#REF!"}},{"$f":"VLOOKUP(F$112,#REF!,4,0)","v":{"$error":"#REF!"}}]
[null,null,"2017/18",{"$f":"VLOOKUP(D$112,'HbA1c-1718'!$A$3:$F$175,6,0)","v":59},{"$f":"VLOOKUP(E$112,'HbA1c-1718'!$C$176:$F$187,4,0)","v":63.5},{"$f":"VLOOKUP(F$112,'HbA1c-1718'!$C$187:$F$187,4,0)","v":64}]
[null,null,"2018/19",{"$f":"VLOOKUP(D$112,'HbA1c-1819'!$A$3:$F$177,6,0)","v":60},{"$f":"VLOOKUP(E$112,'HbA1c-1819'!$C$178:$F$189,4,0)","v":61.5},{"$f":"VLOOKUP(F$112,'HbA1c-1819'!$C$187:$F$189,4,0)","v":62}]
[null,null,null,{"$f":"'Unit list'!$B$1","v":"PZ041"},{"$f":"'Unit list'!$D$1","v":"East of England"},"England and Wales"]
[7,null,"% ≤48 \nmmol/mol",{"$f":"IF(VLOOKUP(D$119,'HbA1c-1819'!$A$3:$P$177,$A120,0)=\"*\",\"<5\",VLOOKUP(D$119,'HbA1c-1819'!$A$3:$P$177,$A120,0))","v":7.6399807850672516},{"$f":"VLOOKUP(E$119,'HbA1c-1819'!$C$178:$P$189,$A120-2+3,0)","v":0.11237839651123784},{"$f":"VLOOKUP(F$119,'HbA1c-1819'!$C$176:$P$189,$A120-2,0)","v":7.8229801445694935}]
[8,null,"% ≤53 \nmmol/mol",{"$f":"IF(VLOOKUP(D$119,'HbA1c-1819'!$A$3:$P$177,$A121,0)=\"*\",\"<5\",VLOOKUP(D$119,'HbA1c-1819'!$A$3:$P$177,$A121+3,0))","v":0.24242424242424243},{"$f":"VLOOKUP(E$119,'HbA1c-1819'!$C$178:$P$189,$A121-2+3,0)","v":0.23381415632338143},{"$f":"VLOOKUP(F$119,'HbA1c-1819'!$C$176:$P$189,$A121-2+3,0)","v":0.21665987327231631}]
[9,null,"% <58 \nmmol/mol",{"$f":"IF(VLOOKUP(D$119,'HbA1c-2021'!$A$3:$P$177,$A122,0)=\"*\",\"<5\",VLOOKUP(D$119,'HbA1c-2021'!$A$3:$P$177,$A122+3,0))","v":0.43654822335025378},{"$f":"VLOOKUP(E$119,'HbA1c-1819'!$C$178:$P$189,$A122-2+3,0)","v":0.37302918483730291},{"$f":"VLOOKUP(F$119,'HbA1c-1819'!$C$176:$P$189,$A122-2+3,0)","v":0.35950642902138069}]
[11,null,"% ≥69\nmmol/mol",{"$f":"IF(VLOOKUP(D$119,'HbA1c-1819'!$A$3:$P$177,$A123,0)=\"*\",\"<5\",VLOOKUP(D$119,'HbA1c-1819'!$A$3:$P$177,$A123,0))","v":0.24242424242424243},{"$f":"VLOOKUP(E$119,'HbA1c-1819'!$C$178:$P$189,$A123-2,0)","v":0.23381415632338143},{"$f":"VLOOKUP(F$119,'HbA1c-1819'!$C$176:$P$189,$A123-2,0)","v":0.21665987327231631}]
[12,null,"% >75\nmmol/mol",{"$f":"IF(VLOOKUP(D$119,'HbA1c-1819'!$A$3:$P$177,$A124,0)=\"*\",\"<5\",VLOOKUP(D$119,'HbA1c-1819'!$A$3:$P$177,$A124,0))","v":0.36796536796536794},{"$f":"VLOOKUP(E$119,'HbA1c-1819'!$C$178:$P$189,$A124-2,0)","v":0.37302918483730291},{"$f":"VLOOKUP(F$119,'HbA1c-1819'!$C$176:$P$189,$A124-2,0)","v":0.35950642902138069}]
[13,null,"% >80\nmmol/mol",{"$f":"IF(VLOOKUP(D$119,'HbA1c-1819'!$A$3:$P$177,$A125,0)=\"*\",\"<5\",VLOOKUP(D$119,'HbA1c-1819'!$A$3:$P$177,$A125,0))","v":0.51515151515151514},{"$f":"VLOOKUP(E$119,'HbA1c-1819'!$C$178:$P$189,$A125-2,0)","v":0.48171754444817177},{"$f":"VLOOKUP(F$119,'HbA1c-1819'!$C$176:$P$189,$A125-2,0)","v":0.49957386889984068},null,null,{"$f":"1-D125","v":0.48484848484848486},{"$f":"1-E125","v":0.51828245555182817},{"$f":"1-F125","v":0.50042613110015932}]
[]
[null,"<58 mmol/mol","<48 mmol/mol","48-57 mmol/mol","58-68 mmol/mol","69-75 mmol/mol","76-80 mmol/mol",">80 mmol/mol",">76 mmol/mol",">69 mmol/mol"]
["2014/15",{"$f":"IF(VLOOKUP(D$119,#REF!,7,0)=\"*\",VLOOKUP(D$119,#REF!,9,0),IF(VLOOKUP(D$119,#REF!,9,0)=\"*\",100%-C128-E128-F128-G128-H128,0))","v":{"$error":"#REF!"}},{"$f":"IF(VLOOKUP(D$119,#REF!,7,0)=\"*\",0,VLOOKUP(D$119,#REF!,7,0))","v":{"$error":"#REF!"}},{"$f":"IF(VLOOKUP(D$119,#REF!,7,0)=\"*\",0,(IF(VLOOKUP(D$119,#REF!,9,0)=\"*\",\"\",VLOOKUP(D$119,#REF!,9,0)))-(IF(VLOOKUP(D$119,#REF!,7,0)=\"*\",\"\",VLOOKUP(D$119,#REF!,7,0))))","v":{"$error":"#REF!"}},{"$f":"(1-(IF(VLOOKUP(D$119,#REF!,11,0)=\"*\",\"<5\",VLOOKUP(D$119,#REF!,11,0))))-(IF(VLOOKUP(D$119,#REF!,9,0)=\"*\",\"<5\",VLOOKUP(D$119,#REF!,9,0)))","v":{"$error":"#REF!"}},{"$f":"(1-(IF(VLOOKUP(D$119,#REF!,12,0)=\"*\",\"<5\",VLOOKUP(D$119,#REF!,12,0))))-(1-(IF(VLOOKUP(D$119,#REF!,11,0)=\"*\",\"<5\",VLOOKUP(D$119,#REF!,11,0))))","v":{"$error":"#REF!"}},{"$f":"(1-(IF(VLOOKUP(D$119,#REF!,13,0)=\"*\",\"<5\",VLOOKUP(D$119,#REF!,13,0))))-(1-(IF(VLOOKUP(D$119,#REF!,12,0)=\"*\",\"<5\",VLOOKUP(D$119,#REF!,12,0))))","v":{"$error":"#REF!"}},{"$f":"IF(VLOOKUP(D$119,#REF!,13,0)=\"*\",0,VLOOKUP(D$119,#REF!,13,0))","v":{"$error":"#REF!"}},{"$f":"IF(VLOOKUP(D$119,#REF!,13,0)=\"*\",100%-B128-C128-D128-E128-F128,0)","v":{"$error":"#REF!"}},{"$f":"IF(VLOOKUP(D$119,#REF!,12,0)=\"*\",VLOOKUP(D$119,#REF!,11,0),0)","v":{"$error":"#REF!"}}]
["2015/16",{"$f":"IF(VLOOKUP(D$119,#REF!,7,0)=\"*\",VLOOKUP(D$119,#REF!,9,0),IF(VLOOKUP(D$119,#REF!,9,0)=\"*\",100%-C129-E129-F129-G129-H129,0))","v":{"$error":"#REF!"}},{"$f":"IF(VLOOKUP(D$119,#REF!,7,0)=\"*\",0,VLOOKUP(D$119,#REF!,7,0))","v":{"$error":"#REF!"}},{"$f":"IF(VLOOKUP(D$119,#REF!,7,0)=\"*\",0,(IF(VLOOKUP(D$119,#REF!,9,0)=\"*\",\"\",VLOOKUP(D$119,#REF!,9,0)))-(IF(VLOOKUP(D$119,#REF!,7,0)=\"*\",\"\",VLOOKUP(D$119,#REF!,7,0))))","v":{"$error":"#REF!"}},{"$f":"(1-(IF(VLOOKUP(D$119,#REF!,11,0)=\"*\",\"<5\",VLOOKUP(D$119,#REF!,11,0))))-(IF(VLOOKUP(D$119,#REF!,9,0)=\"*\",\"<5\",VLOOKUP(D$119,#REF!,9,0)))","v":{"$error":"#REF!"}},{"$f":"(1-(IF(VLOOKUP(D$119,#REF!,12,0)=\"*\",\"<5\",VLOOKUP(D$119,#REF!,12,0))))-(1-(IF(VLOOKUP(D$119,#REF!,11,0)=\"*\",\"<5\",VLOOKUP(D$119,#REF!,11,0))))","v":{"$error":"#REF!"}},{"$f":"(1-(IF(VLOOKUP(D$119,#REF!,13,0)=\"*\",\"<5\",VLOOKUP(D$119,#REF!,13,0))))-(1-(IF(VLOOKUP(D$119,#REF!,12,0)=\"*\",\"<5\",VLOOKUP(D$119,#REF!,12,0))))","v":{"$error":"#REF!"}},{"$f":"IF(VLOOKUP(D$119,#REF!,13,0)=\"*\",0,VLOOKUP(D$119,#REF!,13,0))","v":{"$error":"#REF!"}},{"$f":"IF(VLOOKUP(D$119,#REF!,13,0)=\"*\",100%-B129-C129-D129-E129-F129,0)","v":{"$error":"#REF!"}},{"$f":"IF(VLOOKUP(D$119,#REF!,12,0)=\"*\",VLOOKUP(D$119,#REF!,11,0),0)","v":{"$error":"#REF!"}}]
["2016/17",{"$f":"IF(VLOOKUP(D$119,#REF!,7,0)=\"*\",VLOOKUP(D$119,#REF!,9,0),IF(VLOOKUP(D$119,#REF!,9,0)=\"*\",100%-C130-E130-F130-G130-H130,0))","v":{"$error":"#REF!"}},{"$f":"IF(VLOOKUP(D$119,#REF!,7,0)=\"*\",0,VLOOKUP(D$119,#REF!,7,0))","v":{"$error":"#REF!"}},{"$f":"IF(VLOOKUP(D$119,#REF!,7,0)=\"*\",0,(IF(VLOOKUP(D$119,#REF!,9,0)=\"*\",\"\",VLOOKUP(D$119,#REF!,9,0)))-(IF(VLOOKUP(D$119,#REF!,7,0)=\"*\",\"\",VLOOKUP(D$119,#REF!,7,0))))","v":{"$error":"#REF!"}},{"$f":"(1-(IF(VLOOKUP(D$119,#REF!,11,0)=\"*\",\"<5\",VLOOKUP(D$119,#REF!,11,0))))-(IF(VLOOKUP(D$119,#REF!,9,0)=\"*\",\"<5\",VLOOKUP(D$119,#REF!,9,0)))","v":{"$error":"#REF!"}},{"$f":"(1-(IF(VLOOKUP(D$119,#REF!,12,0)=\"*\",\"<5\",VLOOKUP(D$119,#REF!,12,0))))-(1-(IF(VLOOKUP(D$119,#REF!,11,0)=\"*\",\"<5\",VLOOKUP(D$119,#REF!,11,0))))","v":{"$error":"#REF!"}},{"$f":"(1-(IF(VLOOKUP(D$119,#REF!,13,0)=\"*\",\"<5\",VLOOKUP(D$119,#REF!,13,0))))-(1-(IF(VLOOKUP(D$119,#REF!,12,0)=\"*\",\"<5\",VLOOKUP(D$119,#REF!,12,0))))","v":{"$error":"#REF!"}},{"$f":"IF(VLOOKUP(D$119,#REF!,13,0)=\"*\",0,VLOOKUP(D$119,#REF!,13,0))","v":{"$error":"#REF!"}},{"$f":"IF(VLOOKUP(D$119,#REF!,13,0)=\"*\",100%-B130-C130-D130-E130-F130,0)","v":{"$error":"#REF!"}},{"$f":"IF(VLOOKUP(D$119,#REF!,12,0)=\"*\",VLOOKUP(D$119,#REF!,11,0),0)","v":{"$error":"#REF!"}}]
["2017/18",{"$f":"IF(VLOOKUP(D$119,'HbA1c-1718'!$A$3:$P$178,7,0)=\"*\",VLOOKUP(D$119,'HbA1c-1718'!$A$3:$P$178,9,0),IF(VLOOKUP(D$119,'HbA1c-1718'!$A$3:$P$178,9,0)=\"*\",100%-C131-E131-F131-G131-H131,0))","v":0},{"$f":"IF(VLOOKUP(D$119,'HbA1c-1718'!$A$3:$P$178,7,0)=\"*\",0,VLOOKUP(D$119,'HbA1c-1718'!$A$3:$P$178,7,0))","v":7.5484811053161316},{"$f":"IF(VLOOKUP(D$119,'HbA1c-1718'!$A$3:$P$178,7,0)=\"*\",0,(IF(VLOOKUP(D$119,'HbA1c-1718'!$A$3:$P$178,9,0)=\"*\",\"\",VLOOKUP(D$119,'HbA1c-1718'!$A$3:$P$178,9,0)))-(IF(VLOOKUP(D$119,'HbA1c-1718'!$A$3:$P$178,7,0)=\"*\",\"\",VLOOKUP(D$119,'HbA1c-1718'!$A$3:$P$178,7,0))))","v":{"$error":"#VALUE!"}},{"$f":"(1-(IF(VLOOKUP(D$119,'HbA1c-1718'!$A$3:$P$178,11,0)=\"*\",\"<5\",VLOOKUP(D$119,'HbA1c-1718'!$A$3:$P$178,11,0))))-(IF(VLOOKUP(D$119,'HbA1c-1718'!$A$3:$P$178,9,0)=\"*\",\"<5\",VLOOKUP(D$119,'HbA1c-1718'!$A$3:$P$178,9,0)))","v":{"$error":"#VALUE!"}},{"$f":"(1-(IF(VLOOKUP(D$119,'HbA1c-1718'!$A$3:$P$178,12,0)=\"*\",\"<5\",VLOOKUP(D$119,'HbA1c-1718'!$A$3:$P$178,12,0))))-(1-(IF(VLOOKUP(D$119,'HbA1c-1718'!$A$3:$P$178,11,0)=\"*\",\"<5\",VLOOKUP(D$119,'HbA1c-1718'!$A$3:$P$178,11,0))))","v":-0.16260162601626016},{"$f":"(1-(IF(VLOOKUP(D$119,'HbA1c-1718'!$A$3:$P$178,13,0)=\"*\",\"<5\",VLOOKUP(D$119,'HbA1c-1718'!$A$3:$P$178,13,0))))-(1-(IF(VLOOKUP(D$119,'HbA1c-1718'!$A$3:$P$178,12,0)=\"*\",\"<5\",VLOOKUP(D$119,'HbA1c-1718'!$A$3:$P$178,12,0))))","v":-1.6260162601626105E-2},{"$f":"IF(VLOOKUP(D$119,'HbA1c-1718'!$A$3:$P$178,13,0)=\"*\",0,VLOOKUP(D$119,'HbA1c-1718'!$A$3:$P$178,13,0))","v":0.45528455284552843},{"$f":"IF(VLOOKUP(D$119,'HbA1c-1718'!$A$3:$P$178,13,0)=\"*\",100%-B131-C131-D131-E131-F131,0)","v":0},{"$f":"IF(VLOOKUP(D$119,'HbA1c-1718'!$A$3:$P$178,12,0)=\"*\",VLOOKUP(D$119,'HbA1c-1718'!$A$3:$P$178,11,0),0)","v":0}]
["2018/19",{"$f":"IF(VLOOKUP(D$119,'HbA1c-1819'!$A$3:$P$178,7,0)=\"*\",VLOOKUP(D$119,'HbA1c-1819'!$A$3:$P$178,9,0),IF(VLOOKUP(D$119,'HbA1c-1819'!$A$3:$P$178,9,0)=\"*\",100%-C132-E132-F132-G132-H132,0))","v":0},{"$f":"IF(VLOOKUP(D$119,'HbA1c-1819'!$A$3:$P$178,7,0)=\"*\",0,VLOOKUP(D$119,'HbA1c-1819'!$A$3:$P$178,7,0))","v":7.6399807850672516},{"$f":"IF(VLOOKUP(D$119,'HbA1c-1819'!$A$3:$P$178,7,0)=\"*\",0,(IF(VLOOKUP(D$119,'HbA1c-1819'!$A$3:$P$178,9,0)=\"*\",\"\",VLOOKUP(D$119,'HbA1c-1819'!$A$3:$P$178,9,0)))-(IF(VLOOKUP(D$119,'HbA1c-1819'!$A$3:$P$178,7,0)=\"*\",\"\",VLOOKUP(D$119,'HbA1c-1819'!$A$3:$P$178,7,0))))","v":{"$error":"#VALUE!"}},{"$f":"(1-(IF(VLOOKUP(D$119,'HbA1c-1819'!$A$3:$P$178,11,0)=\"*\",\"<5\",VLOOKUP(D$119,'HbA1c-1819'!$A$3:$P$178,11,0))))-(IF(VLOOKUP(D$119,'HbA1c-1819'!$A$3:$P$178,9,0)=\"*\",\"<5\",VLOOKUP(D$119,'HbA1c-1819'!$A$3:$P$178,9,0)))","v":{"$error":"#VALUE!"}},{"$f":"(1-(IF(VLOOKUP(D$119,'HbA1c-1819'!$A$3:$P$178,12,0)=\"*\",\"<5\",VLOOKUP(D$119,'HbA1c-1819'!$A$3:$P$178,12,0))))-(1-(IF(VLOOKUP(D$119,'HbA1c-1819'!$A$3:$P$178,11,0)=\"*\",\"<5\",VLOOKUP(D$119,'HbA1c-1819'!$A$3:$P$178,11,0))))","v":-0.12554112554112551},{"$f":"(1-(IF(VLOOKUP(D$119,'HbA1c-1819'!$A$3:$P$178,13,0)=\"*\",\"<5\",VLOOKUP(D$119,'HbA1c-1819'!$A$3:$P$178,13,0))))-(1-(IF(VLOOKUP(D$119,'HbA1c-1819'!$A$3:$P$178,12,0)=\"*\",\"<5\",VLOOKUP(D$119,'HbA1c-1819'!$A$3:$P$178,12,0))))","v":-0.1471861471861472},{"$f":"IF(VLOOKUP(D$119,'HbA1c-1819'!$A$3:$P$178,13,0)=\"*\",0,VLOOKUP(D$119,'HbA1c-1819'!$A$3:$P$178,13,0))","v":0.51515151515151514},{"$f":"IF(VLOOKUP(D$119,'HbA1c-1819'!$A$3:$P$178,13,0)=\"*\",100%-B132-C132-D132-E132-F132,0)","v":0},{"$f":"IF(VLOOKUP(D$119,'HbA1c-1819'!$A$3:$P$178,12,0)=\"*\",VLOOKUP(D$119,'HbA1c-1819'!$A$3:$P$178,11,0),0)","v":0}]
[]
[]
[]
[]
[]
["Microvascular"]
[]
[4,null,"No. CYP-T1-12+",{"$f":"VLOOKUP($D$148,#REF!,A140,0)","v":{"$error":"#REF!"}},{"$f":"IF(D140=0,0,IF(D140<5,\"less than 5\",D140))","v":{"$error":"#REF!"}}]
[6,null,"Eye-screen known result",{"$f":"VLOOKUP($D$148,#REF!,A141,0)","v":{"$error":"#REF!"}},{"$f":"IF(D141=0,0,IF(D141<5,\"less than 5\",D141))","v":{"$error":"#REF!"}},{"$f":" IF(D142=D141, \"all of whom had a valid outcome recorded.\", \" and \"&D141&\" had a valid outcome recorded.\")","v":{"$error":"#REF!"}}]
[5,null,"Eye-screen check done",{"$f":"VLOOKUP($D$148,#REF!,A142,0)","v":{"$error":"#REF!"}},{"$f":"(D141/D140)*100","v":{"$error":"#REF!"}},{"$f":"IF(E142<75,\"This result should be interpreted with caution, since less than 75% of young people with Type 1 diabetes were checked and had a valid outcome recorded.\", \"\")","v":{"$error":"#REF!"}}]
[]
[9,null,"No. albumin screens",{"$f":"VLOOKUP($D$148,#REF!,A144,0)","v":{"$error":"#REF!"}},{"$f":"IF(D144=0,0,IF(D144<5,\"less than 5\",D144))","v":{"$error":"#REF!"}}]
[10,null,"Denominator - albumin result valid known",{"$f":"VLOOKUP($D$148,#REF!,A145,0)","v":{"$error":"#REF!"}},{"$f":"IF(D145=0,0,IF(D145<5,\"less than 5\",D145))","v":{"$error":"#REF!"}},{"$f":"IF(D144=D145,\", all of whom had a valid result recorded.\", \"; \"&D145&\" of whom had a valid result recorded.\")","v":{"$error":"#REF!"}}]
[null,null,null,null,{"$f":"(D145/D140)*100","v":{"$error":"#REF!"}},{"$f":"IF(E146<75,\"This result should be interpreted with caution, since less than 75% of young people with Type 1 diabetes were checked and had a valid outcome recorded.\", \"\")","v":{"$error":"#REF!"}}]
[]
[null,null,null,{"$f":"'Unit list'!$B$1","v":"PZ041"},{"$f":"'Unit list'!$D$1","v":"East of England"},"England and Wales"]
[8,"Eye disease","Abnormal eye screening",{"$f":"IF(VLOOKUP(D$148,#REF!,$A149,0)=\"*\",\"< 5\",VLOOKUP(D$148,#REF!,$A149,0))","v":{"$error":"#REF!"}},{"$f":"IF(VLOOKUP(E$148,#REF!,$A149-2,0)=\"*\",#N/A,VLOOKUP(E$148,#REF!,$A149-2,0))","v":{"$error":"#REF!"}},{"$f":"IF(VLOOKUP(F$148,#REF!,$A149-2,0)=\"*\",#N/A,VLOOKUP(F$148,#REF!,$A149-2,0))","v":{"$error":"#REF!"}},{"$f":"IF(D149=\"< 5\",\"Of those with a valid result, fewer than five were recorded as having an abnormal result.\",\"Of those with a valid result, \"&(ROUND(D149,3)*100)&\"% were recorded as having an abnormal result.\")","v":{"$error":"#REF!"}}]
[12,"Kidney disease","Albuminuria",{"$f":"IF(VLOOKUP(D$148,#REF!,$A150,0)=\"*\",\"< 5\",VLOOKUP(D$148,#REF!,$A150,0))","v":{"$error":"#REF!"}},{"$f":"IF(VLOOKUP(E$148,#REF!,$A150-2,0)=\"*\",#N/A,VLOOKUP(E$148,#REF!,$A150-2,0))","v":{"$error":"#REF!"}},{"$f":"VLOOKUP(F$148,#REF!,$A150-2,0)","v":{"$error":"#REF!"}},{"$f":"IF(D150=\"< 5\",\"Of those with a valid result, fewer than five were recorded as having albuminuria.\",\"Of those with a valid result, \"&(ROUND(D150,3)*100)&\"% were recorded as having albuminuria.\")","v":{"$error":"#REF!"}}]
[]
[]
["Macrovascular "]
[null,null,"Denominator - blood pressure",{"$f":"VLOOKUP($D$158,#REF!,4,0)","v":{"$error":"#REF!"}},{"$f":"IF(D154=0,0,IF(D154<5,\"less than 5\",D154))","v":{"$error":"#REF!"}},{"$f":"(D154/$D$140)*100","v":{"$error":"#REF!"}},{"$f":"IF(F154=0,\"\",IF(F154<75,\"Blood pressure data for \"&D148&\" should be interpreted with caution, since less than 75% of young people with Type 1 diabetes were checked and had a valid outcome recorded.\", \"\"))","v":{"$error":"#REF!"}}]
[null,null,"Denominator - cholesterol",{"$f":"VLOOKUP($D$158,#REF!,7,0)","v":{"$error":"#REF!"}},{"$f":"IF(D155=0,0,IF(D155<5,\"less than 5\",D155))","v":{"$error":"#REF!"}},{"$f":"(D155/$D$140)*100","v":{"$error":"#REF!"}},{"$f":"IF(F155=0,\"\",IF(F155<75,\"Cholesterol data for \"&D148&\" should be interpreted with caution, since less than 75% of young people with Type 1 diabetes were checked and had a valid outcome recorded.\", \"\"))","v":{"$error":"#REF!"}}]
[null,null,"Denominator - BMI",{"$f":"VLOOKUP($D$158,#REF!,10,0)","v":{"$error":"#REF!"}},{"$f":"IF(D156=0,0,IF(D156<5,\"less than 5\",D156))","v":{"$error":"#REF!"}},{"$f":"(D156/(D38*D60))*100","v":{"$error":"#REF!"}},{"$f":"IF(F156=0,\"\",IF(F156<75,\"BMI data for \"&D148&\" should be interpreted with caution, since less than 75% of young people with Type 1 diabetes were checked and have a valid outcome recorded.\", \"\"))","v":{"$error":"#REF!"}}]
[]
[null,null,null,{"$f":"'Unit list'!$B$1","v":"PZ041"},{"$f":"'Unit list'!$D$1","v":"East of England"},"England and Wales"]
[5,"Blood pressure","'High normal'",{"$f":"IF(VLOOKUP(D$158,#REF!,$A159,0)=\"*\",\"< 5\",VLOOKUP(D$158,#REF!,$A159,0))","v":{"$error":"#REF!"}},{"$f":"VLOOKUP(E$148,#REF!,$A159-2,0)","v":{"$error":"#REF!"}},{"$f":"VLOOKUP(F$148,#REF!,$A159-2,0)","v":{"$error":"#REF!"}}]
[6,null,"'High'",{"$f":"IF(VLOOKUP(D$158,#REF!,$A160,0)=\"*\",\"< 5\",VLOOKUP(D$158,#REF!,$A160,0))","v":{"$error":"#REF!"}},{"$f":"VLOOKUP(E$148,#REF!,$A160-2,0)","v":{"$error":"#REF!"}},{"$f":"VLOOKUP(F$148,#REF!,$A160-2,0)","v":{"$error":"#REF!"}}]
[8,"Cholesterol","4 mmol/l or more",{"$f":"IF(VLOOKUP(D$158,#REF!,$A161,0)=\"*\",\"< 5\",VLOOKUP(D$158,#REF!,$A161,0))","v":{"$error":"#REF!"}},{"$f":"VLOOKUP(E$148,#REF!,$A161-2,0)","v":{"$error":"#REF!"}},{"$f":"VLOOKUP(F$148,#REF!,$A161-2,0)","v":{"$error":"#REF!"}}]
[9,null,"5 mmol/l or more",{"$f":"IF(VLOOKUP(D$158,#REF!,$A162,0)=\"*\",\"< 5\",VLOOKUP(D$158,#REF!,$A162,0))","v":{"$error":"#REF!"}},{"$f":"VLOOKUP(E$148,#REF!,$A162-2,0)","v":{"$error":"#REF!"}},{"$f":"VLOOKUP(F$148,#REF!,$A162-2,0)","v":{"$error":"#REF!"}}]
[]
[null,null,null,{"$f":"'Unit list'!$B$1","v":"PZ041"},{"$f":"'Unit list'!$D$1","v":"East of England"},"England and Wales"]
[11,null,"Underweight",{"$f":"IF(VLOOKUP(D$164,#REF!,$A165,0)=\"*\",\"< 5\",VLOOKUP(D$164,#REF!,$A165,0))","v":{"$error":"#REF!"}},{"$f":"VLOOKUP(E$148,#REF!,$A165-2,0)","v":{"$error":"#REF!"}},{"$f":"VLOOKUP(F$148,#REF!,$A165-2,0)","v":{"$error":"#REF!"}}]
[12,null,"Healthy weight",{"$f":"IF(VLOOKUP(D$164,#REF!,$A166,0)=\"*\",\"< 5\",VLOOKUP(D$164,#REF!,$A166,0))","v":{"$error":"#REF!"}},{"$f":"VLOOKUP(E$148,#REF!,$A166-2,0)","v":{"$error":"#REF!"}},{"$f":"VLOOKUP(F$148,#REF!,$A166-2,0)","v":{"$error":"#REF!"}}]
[13,null,"Overweight",{"$f":"IF(VLOOKUP(D$164,#REF!,$A167,0)=\"*\",\"< 5\",VLOOKUP(D$164,#REF!,$A167,0))","v":{"$error":"#REF!"}},{"$f":"VLOOKUP(E$148,#REF!,$A167-2,0)","v":{"$error":"#REF!"}},{"$f":"VLOOKUP(F$148,#REF!,$A167-2,0)","v":{"$error":"#REF!"}}]
[14,null,"Obese",{"$f":"IF(VLOOKUP(D$164,#REF!,$A168,0)=\"*\",\"< 5\",VLOOKUP(D$164,#REF!,$A168,0))","v":{"$error":"#REF!"}},{"$f":"VLOOKUP(E$148,#REF!,$A168-2,0)","v":{"$error":"#REF!"}},{"$f":"VLOOKUP(F$148,#REF!,$A168-2,0)","v":{"$error":"#REF!"}}]
[]
[]
["Psychological support"]
[4,null,"T1_n",{"$f":"VLOOKUP($D$158,#REF!,A172,0)","v":{"$error":"#REF!"}},{"$f":"(D173/D172)*100","v":{"$error":"#REF!"}},{"$f":"ROUND(E172,1)","v":{"$error":"#REF!"}},{"$f":"IF(E172=0,\"\",IF(E172<75%,\"The result should be interpreted with caution, since the screening rate for Psychological support is less than 75%.\",\"\"))","v":{"$error":"#REF!"}}]
[5,null,"Denominator - outcome of assessment known",{"$f":"VLOOKUP($D$158,#REF!,A173,0)","v":{"$error":"#REF!"}},{"$f":"IF(D173=0,0,IF(D173<5,\"less than 5\",D173))","v":{"$error":"#REF!"}},{"$f":"IF(D172=D173,\", all of whom had a valid outcome recorded.\", \"; \"&D173&\" of whom had a valid outcome recorded.\")","v":{"$error":"#REF!"}}]
[]
[null,null,null,{"$f":"'Unit list'!$B$1","v":"PZ041"},{"$f":"'Unit list'!$D$1","v":"East of England"},"England and Wales"]
[6,null,"Required additional psychological support",{"$f":"IF(VLOOKUP(D$158,#REF!,$A176,0)=\"*\",\"< 5\",VLOOKUP(D$158,#REF!,$A176,0))","v":{"$error":"#REF!"}},{"$f":"VLOOKUP(E$148,#REF!,$A176-2,0)","v":{"$error":"#REF!"}},{"$f":"VLOOKUP(F$148,#REF!,$A176-2,0)","v":{"$error":"#REF!"}},{"$f":"IF(D176=\"No data\",\"No data is available to interpret results.\",\"Of those, \"&(ROUND(D176,3)*100)&\"% were recorded as requiring additional psychological support.\")","v":{"$error":"#REF!"}}]
[]
["Auto-immune"]
[4,null,"Denominator - thyroid",{"$f":"VLOOKUP($D$181,#REF!,A179,0)","v":{"$error":"#REF!"}},{"$f":"IF(D179=0,0,IF(D179=\"*\",\"less than 5\",D179))","v":{"$error":"#REF!"}}]
[]
[null,null,null,{"$f":"'Unit list'!$B$1","v":"PZ041"},{"$f":"'Unit list'!$D$1","v":"East of England"},"England and Wales"]
[5,null,"Thyroid disease",{"$f":"IF(VLOOKUP(D$181,#REF!,'Chart data'!$A182,0)=\"*\",\"< 5\",VLOOKUP(D$181,#REF!,'Chart data'!$A182,0))","v":{"$error":"#REF!"}},{"$f":"VLOOKUP(E$181,#REF!,'Chart data'!$A182-2,0)","v":{"$error":"#REF!"}},{"$f":"VLOOKUP(F$181,#REF!,'Chart data'!$A182-2,0)","v":{"$error":"#REF!"}}]
[6,null,"Coeliac disease",{"$f":"IF(VLOOKUP(D$181,#REF!,'Chart data'!$A183,0)=\"*\",\"< 5\",VLOOKUP(D$181,#REF!,'Chart data'!$A183,0))","v":{"$error":"#REF!"}},{"$f":"VLOOKUP(E$181,#REF!,'Chart data'!$A183-2,0)","v":{"$error":"#REF!"}},{"$f":"VLOOKUP(F$181,#REF!,'Chart data'!$A183-2,0)","v":{"$error":"#REF!"}}]
[null,null,null,{"$f":"IF(AND(VLOOKUP(D$181,#REF!,'Chart data'!$A183,0)=\"*\",VLOOKUP(D$181,#REF!,'Chart data'!$A182,0)=\"*\"),\"There are fewer than 5 children and young people with thyroid disease and coeliac disease in your unit.\",IF(VLOOKUP(D$181,#REF!,'Chart data'!$A183,0)=\"*\",\"There are fewer than 5 children and young people with coeliac disease in your unit.\",IF(VLOOKUP(D$181,#REF!,'Chart data'!$A182,0)=\"*\",\"There are fewer than 5 children and young people with thyroid disease in your unit.\",\"\")))","v":{"$error":"#REF!"}}]
[]
["Treatment"]
[4,null,"Denominator treatment",{"$f":"VLOOKUP($D$119,#REF!,A187,0)","v":{"$error":"#REF!"}},{"$f":"IF(D187=0,0,IF(D187<5,\"less than 5\",D187))","v":{"$error":"#REF!"}}]
[12,null,"Missing or unknown treatment",{"$f":"VLOOKUP($D$181,#REF!,A188,0)","v":{"$error":"#REF!"}},{"$f":"IF(D188>25%,\"The information below should be interpreted with caution, since less than 75% of children and young people with Type 1 diabetes had a valid/known treatment recorded.\",\"\")","v":{"$error":"#REF!"}}]
[null,null,null,{"$f":"'Unit list'!$B$1","v":"PZ041"},{"$f":"'Unit list'!$D$1","v":"East of England"},"England and Wales"]
[7,null,"1-3 Insulin Injections*",{"$f":"IF(VLOOKUP(D$189,#REF!,$A190,0)=\"*\",\"< 5\",VLOOKUP(D$189,#REF!,$A190,0))","v":{"$error":"#REF!"}},{"$f":"VLOOKUP(E$189,#REF!,$A190-2,0)","v":{"$error":"#REF!"}},{"$f":"VLOOKUP(F$189,#REF!,$A190-2,0)","v":{"$error":"#REF!"}}]
[5,null,"Multiple daily injections*",{"$f":"IF(VLOOKUP(D$189,#REF!,$A191,0)=\"*\",\"< 5\",VLOOKUP(D$189,#REF!,$A191,0))","v":{"$error":"#REF!"}},{"$f":"VLOOKUP(E$189,#REF!,$A191-2,0)","v":{"$error":"#REF!"}},{"$f":"VLOOKUP(F$189,#REF!,$A191-2,0)","v":{"$error":"#REF!"}}]
[6,null,"Insulin pump*",{"$f":"IF(VLOOKUP(D$189,#REF!,$A192,0)=\"*\",\"< 5\",VLOOKUP(D$189,#REF!,$A192,0))","v":{"$error":"#REF!"}},{"$f":"VLOOKUP(E$189,#REF!,$A192-2,0)","v":{"$error":"#REF!"}},{"$f":"VLOOKUP(F$189,#REF!,$A192-2,0)","v":{"$error":"#REF!"}}]
[]
[8,null,"denominator cgm",{"$f":"IF(VLOOKUP(D$189,#REF!,$A194,0)=\"*\",\"<5\",VLOOKUP(D$189,#REF!,$A194,0))","v":{"$error":"#REF!"}},{"$f":"VLOOKUP(E$189,#REF!,$A194-2,0)","v":{"$error":"#REF!"}},{"$f":"VLOOKUP(F$189,#REF!,$A194-2,0)","v":{"$error":"#REF!"}},{"$f":"IF(D194=\"<5\",\"fewer than five\",D194)","v":{"$error":"#REF!"}}]
[9,null,"Continuous glucose monitoring",{"$f":"IF(VLOOKUP(D$189,#REF!,$A195,0)=\"*\",\"< 5\",VLOOKUP(D$189,#REF!,$A195,0))","v":{"$error":"#REF!"}},{"$f":"VLOOKUP(E$189,#REF!,$A195-2,0)","v":{"$error":"#REF!"}},{"$f":"VLOOKUP(F$189,#REF!,$A195-2,0)","v":{"$error":"#REF!"}}]
[10,null,"Missing or unknown CGM use",{"$f":"IF(VLOOKUP(D$189,#REF!,$A196,0)=\"*\",\"< 5\",VLOOKUP(D$189,#REF!,$A196,0))","v":{"$error":"#REF!"}},{"$f":"IF(D196=100%, \"\", IF(D196>75%,\"This information should be interpreted with caution, since \"&(ROUND(D196,3)*100)&\"% of children and young people with Type 1 diabetes had a missing or unknown CGM use recorded.\",\"\"))","v":{"$error":"#REF!"}}]
[]
[null,null,null,{"$f":"'Unit list'!$B$1","v":"PZ041"}]
[null,null,null,"Treatment - MDI","Treatment - Pump"]
[5,null,{"$f":"D198","v":"PZ041"},{"$f":" VLOOKUP(C200,#REF!,5,0)","v":{"$error":"#REF!"}},{"$f":" VLOOKUP(C200,#REF!,$F200,0)","v":{"$error":"#REF!"}},9]
[4,null,{"$f":"E189","v":"East of England"},{"$f":" VLOOKUP(C201,#REF!,4,0)","v":{"$error":"#REF!"}},{"$f":" VLOOKUP(C201,#REF!,$F201,0)","v":{"$error":"#REF!"}},8]
[4,null,{"$f":"F189","v":"England and Wales"},{"$f":" VLOOKUP(C202,#REF!,4,0)","v":{"$error":"#REF!"}},{"$f":" VLOOKUP(C202,#REF!,$F202,0)","v":{"$error":"#REF!"}},8]
[]
[]
[]
[]
["Admission"]
[null,null,"Denominator - Admission",{"$f":"VLOOKUP($D$210,#REF!,4,0)","v":{"$error":"#REF!"}}]
[]
[null,null,null,{"$f":"'Unit list'!$B$1","v":"PZ041"},{"$f":"'Unit list'!$D$1","v":"East of England"},"England and Wales"]
[5,null,"Emergency Admission",{"$f":"IF(VLOOKUP(D$210,#REF!,'Chart data'!A$211,0)=\"*\",\"< 5\",IF(VLOOKUP(D$210,#REF!,'Chart data'!A$211,0)=\"No data\",#N/A,VLOOKUP('Chart data'!D$210,#REF!,'Chart data'!A$211,0)))","v":{"$error":"#REF!"}},{"$f":"VLOOKUP(E$210,#REF!,'Chart data'!A211-2,0)","v":{"$error":"#REF!"}},{"$f":"VLOOKUP(F$210,#REF!,'Chart data'!A211-2,0)","v":{"$error":"#REF!"}}]
[null,null,"Submitted data",{"$f":"IF(VLOOKUP(D210,#REF!,5,FALSE)=\"No data submitted\",\"no data was submitted on diabetes-related emeregency admissions.\",\"the percentage of children and young people admitted to hospital as a result of a diabetes-related emergency at least once was \"&ROUND(D211,3)*100&\"%.\")","v":{"$error":"#REF!"}}]

{"sheet":"Contacts","index":5,"n_rows":177,"n_cols":11,"rows_kept":177,"cut":false,"hidden":true,"merged":[]}
["PZ code","Paediatric Unit","Title (clinical lead)","Surname (clinical lead)",null,"Email (clinical lead)","Email (2nd contact)","Email (3rd contact)","Fourth contact","Fifth contact","Network manager"]
[null,2,3,4,null,5,6,7,8,9,10]
[{"$f":"A4","v":"PZ041"},{"$f":"B4","v":"Addenbrooke's Hospital"},{"$f":"C4","v":"Dr"},{"$f":"D4","v":"Williams"},null,{"$f":"F4","v":"rachel.williams@addenbrookes.nhs.uk"},{"$f":"\"\"&G4&\";\"&H4&\";\"&I4&\";\"&J4&\";\"&K4&\"\"","v":";ajay.thankamony@addenbrookes.nhs.uk;;;Kate.Wilson@addenbrookes.nhs.uk "},null,""]
[{"$f":"'Unit list'!B1","v":"PZ041"},{"$f":"IF(VLOOKUP($A$4,$A$6:$K$182,B2,0)=\"\",\"\",VLOOKUP($A$4,$A$6:$K$182,B2,0))","v":"Addenbrooke's Hospital"},"Dr","Williams",null,"rachel.williams@addenbrookes.nhs.uk","","ajay.thankamony@addenbrookes.nhs.uk","","","Kate.Wilson@addenbrookes.nhs.uk "]
[]
["PZ code","Paediatric Unit","Title (clinical lead)","Surname (clinical lead)",null,"Email (clinical lead)","Email (2nd contact)","Email (3rd contact)","Fourth contact","Fifth contact","Network manager"]
["PZ001","Morriston Hospital ","Dr",{"$f":"VLOOKUP(A7,[1]Units!$A$2:$AJ$172,7,0)","v":"Frost"},{"$f":"VLOOKUP(A7,[1]Units!$A$2:$AJ$172,9,0)","v":"Katherine.frost@wales.nhs.uk"},{"$f":"VLOOKUP(A7,[1]Units!$A$2:$AJ$172,11,0)","v":"Christopher.Bidder@wales.nhs.uk"},{"$f":"VLOOKUP(A7,[1]Units!$A$2:$AJ$172,15,0)","v":"heather.oconnell@wales.nhs.uk"},{"$f":"VLOOKUP(A7,[1]Units!$A$2:$AJ$172,19,0)","v":"Lisa.Daniels@wales.nhs.uk"},null,{"$f":"VLOOKUP(A7,[2]Sheet2!$A$2:$C$172, 3, 0)","v":"Jon.Matthias@wales.nhs.uk"}]
["PZ002","Norfolk and Norwich University Hospital","Dr",{"$f":"VLOOKUP(A8,[1]Units!$A$2:$AJ$172,7,0)","v":"Datta"},{"$f":"VLOOKUP(A8,[1]Units!$A$2:$AJ$172,9,0)","v":"vipan.datta@nnuh.nhs.uk"},null,{"$f":"VLOOKUP(A8,[1]Units!$A$2:$AJ$172,15,0)","v":"roberta.kemp@nnuh.nhs.uk"},{"$f":"VLOOKUP(A8,[1]Units!$A$2:$AJ$172,19,0)","v":"lisa.hunt@nnuh.nhs.uk"},{"$f":"VLOOKUP(A8,[1]Units!$A$2:$AJ$172,22,0)","v":"Laura.schaffer@nnuh.nhs.uk"},{"$f":"VLOOKUP(A8,[2]Sheet2!$A$2:$C$172, 3, 0)","v":"Kate.Wilson@addenbrookes.nhs.uk "}]
["PZ003","Pinderfields General Hospital and Pontefract General Infirmary","Dr",{"$f":"VLOOKUP(A9,[1]Units!$A$2:$AJ$172,7,0)","v":"Gardiner"},{"$f":"VLOOKUP(A9,[1]Units!$A$2:$AJ$172,9,0)","v":"susan.gardiner2@nhs.net"},{"$f":"VLOOKUP(A9,[1]Units!$A$2:$AJ$172,11,0)","v":"julie.thompson19@nhs.net"},{"$f":"VLOOKUP(A9,[1]Units!$A$2:$AJ$172,15,0)","v":"preya.dey1@nhs.net; Julie.thompson22@midyorks.nhs.uk"},{"$f":"VLOOKUP(A9,[1]Units!$A$2:$AJ$172,19,0)","v":"nardia.hafeez@nhs.net"},null,{"$f":"VLOOKUP(A9,[2]Sheet2!$A$2:$C$172, 3, 0)","v":"emma.savage8@nhs.net"}]
["PZ004","Northampton General Hospital","Dr",{"$f":"VLOOKUP(A10,[1]Units!$A$2:$AJ$172,7,0)","v":"Smith"},{"$f":"VLOOKUP(A10,[1]Units!$A$2:$AJ$172,9,0)","v":"anne.smith@ngh.nhs.uk"},{"$f":"VLOOKUP(A10,[1]Units!$A$2:$AJ$172,11,0)","v":"Anjum.rafiq@ngh.nhs.uk"},{"$f":"VLOOKUP(A10,[1]Units!$A$2:$AJ$172,15,0)","v":"Elizabeth.Haase@ngh.nhs.uk"},{"$f":"VLOOKUP(A10,[1]Units!$A$2:$AJ$172,19,0)","v":"Lucy.whiteside@ngh.nhs.uk"},{"$f":"VLOOKUP(A10,[1]Units!$A$2:$AJ$172,22,0)","v":"Clinical.audit@ngh.nhs.uk;"},{"$f":"VLOOKUP(A10,[2]Sheet2!$A$2:$C$172, 3, 0)","v":"asmita.sedhai3@nhs.net"}]
["PZ005","Derbyshire Children's Hospital","Dr",{"$f":"VLOOKUP(A11,[1]Units!$A$2:$AJ$172,7,0)","v":"Smith"},{"$f":"VLOOKUP(A11,[1]Units!$A$2:$AJ$172,9,0)","v":"julie.smith178@nhs.net"},{"$f":"VLOOKUP(A11,[1]Units!$A$2:$AJ$172,11,0)","v":"jordan.staples1@nhs.net"},{"$f":"VLOOKUP(A11,[1]Units!$A$2:$AJ$172,15,0)","v":"nicholas.coupland@nhs.net"},{"$f":"VLOOKUP(A11,[1]Units!$A$2:$AJ$172,19,0)","v":"julie.smith178@nhs.net"},null,{"$f":"VLOOKUP(A11,[2]Sheet2!$A$2:$C$172, 3, 0)","v":"asmita.sedhai3@nhs.net"}]
["PZ006","Doncaster Royal Infirmary","Dr",{"$f":"VLOOKUP(A12,[1]Units!$A$2:$AJ$172,7,0)","v":"Natarajan"},{"$f":"VLOOKUP(A12,[1]Units!$A$2:$AJ$172,9,0)","v":"Anuja.natarajan1@nhs.net"},null,{"$f":"VLOOKUP(A12,[1]Units!$A$2:$AJ$172,15,0)","v":"Lisa.whinfrey@nhs.net"},{"$f":"VLOOKUP(A12,[1]Units!$A$2:$AJ$172,19,0)","v":"Razia.petkar@nhs.net"},null,{"$f":"VLOOKUP(A12,[2]Sheet2!$A$2:$C$172, 3, 0)","v":"emma.savage8@nhs.net"}]
["PZ007","John Radcliffe Hospital","Dr",{"$f":"VLOOKUP(A13,[1]Units!$A$2:$AJ$172,7,0)","v":"Besser"},{"$f":"VLOOKUP(A13,[1]Units!$A$2:$AJ$172,9,0)","v":"rachel.besser@ouh.nhs.uk"},null,{"$f":"VLOOKUP(A13,[1]Units!$A$2:$AJ$172,15,0)","v":"Jane.Haest@ouh.nhs.uk"},null,null,{"$f":"VLOOKUP(A13,[2]Sheet2!$A$2:$C$172, 3, 0)","v":"Myfanwy.Champness@ouh.nhs.uk "}]
["PZ009","Macclesfield District General Hospital","Dr",{"$f":"VLOOKUP(A14,[1]Units!$A$2:$AJ$172,7,0)","v":"Chandrasekaran"},{"$f":"VLOOKUP(A14,[1]Units!$A$2:$AJ$172,9,0)","v":"surendran.chandrasekaran@nhs.net"},null,{"$f":"VLOOKUP(A14,[1]Units!$A$2:$AJ$172,15,0)","v":"shelley.morrall@nhs.net"},{"$f":"VLOOKUP(A14,[1]Units!$A$2:$AJ$172,19,0)","v":"sarah.lynch20@nhs.net"},null,{"$f":"VLOOKUP(A14,[2]Sheet2!$A$2:$C$172, 3, 0)","v":"Margotcarson@nhs.net"}]
["PZ010","Luton and Dunstable Hospital","Dr",{"$f":"VLOOKUP(A15,[1]Units!$A$2:$AJ$172,7,0)","v":"Misquith"},{"$f":"VLOOKUP(A15,[1]Units!$A$2:$AJ$172,9,0)","v":"Ronald.Misquith@ldh.nhs.uk"},null,{"$f":"VLOOKUP(A15,[1]Units!$A$2:$AJ$172,15,0)","v":"Nisha.Nathwani@ldh.nhs.uk"},{"$f":"VLOOKUP(A15,[1]Units!$A$2:$AJ$172,19,0)","v":"denise.morrison@ldh.nhs.uk"},null,{"$f":"VLOOKUP(A15,[2]Sheet2!$A$2:$C$172, 3, 0)","v":"Kate.Wilson@addenbrookes.nhs.uk "}]
["PZ011","Glan Clwyd District General Hospital ","Dr",{"$f":"VLOOKUP(A16,[1]Units!$A$2:$AJ$172,7,0)","v":"Moore"},{"$f":"VLOOKUP(A16,[1]Units!$A$2:$AJ$172,9,0)","v":"helen.moore@wales.nhs.uk"},null,{"$f":"VLOOKUP(A16,[1]Units!$A$2:$AJ$172,15,0)","v":"pramod.bhardwaj@wales.nhs.uk"},{"$f":"VLOOKUP(A16,[1]Units!$A$2:$AJ$172,19,0)","v":"teresa.jones8@wales.nhs.uk"},{"$f":"VLOOKUP(A16,[1]Units!$A$2:$AJ$172,22,0)","v":"trevor.smith@wales.nhs.uk; Julie.Evans38@wales.nhs.uk"},{"$f":"VLOOKUP(A16,[2]Sheet2!$A$2:$C$172, 3, 0)","v":"Jon.Matthias@wales.nhs.uk"}]
["PZ012","Barnet General Hospital","Dr",{"$f":"VLOOKUP(A17,[1]Units!$A$2:$AJ$172,7,0)","v":"Dublon"},{"$f":"VLOOKUP(A17,[1]Units!$A$2:$AJ$172,9,0)","v":"Victoria.Dublon@nhs.net"},null,{"$f":"VLOOKUP(A17,[1]Units!$A$2:$AJ$172,15,0)","v":"esther.freeman2@nhs.net"},{"$f":"VLOOKUP(A17,[1]Units!$A$2:$AJ$172,19,0)","v":"m.croitoru1@nhs.net"},{"$f":"VLOOKUP(A17,[1]Units!$A$2:$AJ$172,22,0)","v":"a.motabar1@nhs.net; sarah.winter2@nhs.net"},{"$f":"VLOOKUP(A17,[2]Sheet2!$A$2:$C$172, 3, 0)","v":"Usha.Parkash@nhs.net"}]
["PZ014","Chase Farm Hospital","Dr",{"$f":"VLOOKUP(A18,[1]Units!$A$2:$AJ$172,7,0)","v":"Dublon"},{"$f":"VLOOKUP(A18,[1]Units!$A$2:$AJ$172,9,0)","v":"Victoria.Dublon@nhs.net"},null,{"$f":"VLOOKUP(A18,[1]Units!$A$2:$AJ$172,15,0)","v":"esther.freeman2@nhs.net"},{"$f":"VLOOKUP(A18,[1]Units!$A$2:$AJ$172,19,0)","v":"m.croitoru1@nhs.net"},{"$f":"VLOOKUP(A18,[1]Units!$A$2:$AJ$172,22,0)","v":"a.motabar1@nhs.net"},{"$f":"VLOOKUP(A18,[2]Sheet2!$A$2:$C$172, 3, 0)","v":"Usha.Parkash@nhs.net"}]
["PZ015","Wythenshawe Hospital","Dr",{"$f":"VLOOKUP(A19,[1]Units!$A$2:$AJ$172,7,0)","v":"Riddle"},{"$f":"VLOOKUP(A19,[1]Units!$A$2:$AJ$172,9,0)","v":"miles.riddle@mft.nhs.uk"},null,null,{"$f":"VLOOKUP(A19,[1]Units!$A$2:$AJ$172,19,0)","v":"louise.turner@mft.nhs.uk"},null,{"$f":"VLOOKUP(A19,[2]Sheet2!$A$2:$C$172, 3, 0)","v":"Margotcarson@nhs.net"}]
["PZ016","Bassetlaw District General Hospital","Dr",{"$f":"VLOOKUP(A20,[1]Units!$A$2:$AJ$172,7,0)","v":"Joseph"},{"$f":"VLOOKUP(A20,[1]Units!$A$2:$AJ$172,9,0)","v":"lovlin.joseph@nhs.net"},null,{"$f":"VLOOKUP(A20,[1]Units!$A$2:$AJ$172,15,0)","v":"anita.long1@nhs.net"},null,null,{"$f":"VLOOKUP(A20,[2]Sheet2!$A$2:$C$172, 3, 0)","v":"emma.savage8@nhs.net"}]
["PZ017","Dorset County Hospital","Dr",{"$f":"VLOOKUP(A21,[1]Units!$A$2:$AJ$172,7,0)","v":"Ward"},{"$f":"VLOOKUP(A21,[1]Units!$A$2:$AJ$172,9,0)","v":"william.ward@dchft.nhs.uk"},null,{"$f":"VLOOKUP(A21,[1]Units!$A$2:$AJ$172,15,0)","v":"Claire.Biswell@dchft.nhs.uk"},{"$f":"VLOOKUP(A21,[1]Units!$A$2:$AJ$172,19,0)","v":"Samantha.Thornton@dchft.nhs.uk"},{"$f":"VLOOKUP(A21,[1]Units!$A$2:$AJ$172,22,0)","v":"Kirsty.Lee2@dchft.nhs.uk"},{"$f":"VLOOKUP(A21,[2]Sheet2!$A$2:$C$172, 3, 0)","v":"Lucy.Powell@hhft.nhs.uk"}]
["PZ018","Worthing Hospital","Dr",{"$f":"VLOOKUP(A22,[1]Units!$A$2:$AJ$172,7,0)","v":"Coldwell"},{"$f":"VLOOKUP(A22,[1]Units!$A$2:$AJ$172,9,0)","v":"sue.coldwell@nhs.net"},null,null,{"$f":"VLOOKUP(A22,[1]Units!$A$2:$AJ$172,19,0)","v":"jackie.mchenry@wsht.nhs.uk"},null,{"$f":"VLOOKUP(A22,[2]Sheet2!$A$2:$C$172, 3, 0)","v":"Lucy.Powell@hhft.nhs.uk"}]
["PZ019","Basildon University Hospital","Dr",{"$f":"VLOOKUP(A23,[1]Units!$A$2:$AJ$172,7,0)","v":"van Meijgaarden"},{"$f":"VLOOKUP(A23,[1]Units!$A$2:$AJ$172,9,0)","v":"birgitvanmeijgaarden@nhs.net"},{"$f":"VLOOKUP(A23,[1]Units!$A$2:$AJ$172,11,0)","v":"sanjay.rawal1@nhs.net; shahida.ahmed@nhs.net"},null,{"$f":"VLOOKUP(A23,[1]Units!$A$2:$AJ$172,19,0)","v":"danni.favari@nhs.net"},{"$f":"VLOOKUP(A23,[1]Units!$A$2:$AJ$172,22,0)","v":"r.francks@nhs.net"},{"$f":"VLOOKUP(A23,[2]Sheet2!$A$2:$C$172, 3, 0)","v":"Kate.Wilson@addenbrookes.nhs.uk "}]
["PZ020","Diana, Princess of Wales Hospital, Grimsby","Dr",{"$f":"VLOOKUP(A24,[1]Units!$A$2:$AJ$172,7,0)","v":"Danda"},{"$f":"VLOOKUP(A24,[1]Units!$A$2:$AJ$172,9,0)","v":"nandita.danda2@nhs.net"},{"$f":"VLOOKUP(A24,[1]Units!$A$2:$AJ$172,11,0)","v":"rebecca.bennett10@nhs.net "},{"$f":"VLOOKUP(A24,[1]Units!$A$2:$AJ$172,15,0)","v":"deborah.kemp3@nhs.net"},{"$f":"VLOOKUP(A24,[1]Units!$A$2:$AJ$172,19,0)","v":"rachel.stead6@nhs.net"},{"$f":"VLOOKUP(A24,[1]Units!$A$2:$AJ$172,22,0)","v":"elizabethsykes@nhs.net"},{"$f":"VLOOKUP(A24,[2]Sheet2!$A$2:$C$172, 3, 0)","v":"emma.savage8@nhs.net"}]
["PZ021","Wexham Park Hospital","Dr ",{"$f":"VLOOKUP(A25,[1]Units!$A$2:$AJ$172,7,0)","v":"Regan"},{"$f":"VLOOKUP(A25,[1]Units!$A$2:$AJ$172,9,0)","v":"Fiona.Regan@nhs.net"},null,{"$f":"VLOOKUP(A25,[1]Units!$A$2:$AJ$172,15,0)","v":"Sujata.Edate@nhs.net"},{"$f":"VLOOKUP(A25,[1]Units!$A$2:$AJ$172,19,0)","v":"sharonholt1@nhs.net"},null,{"$f":"VLOOKUP(A25,[2]Sheet2!$A$2:$C$172, 3, 0)","v":"Myfanwy.Champness@ouh.nhs.uk "}]
["PZ022","West Cumberland Hospital ","Dr",{"$f":"VLOOKUP(A26,[1]Units!$A$2:$AJ$172,7,0)","v":"Holt-Davis"},{"$f":"VLOOKUP(A26,[1]Units!$A$2:$AJ$172,9,0)","v":"Hannah.Holt-Davis@ncic.nhs.uk"},null,{"$f":"VLOOKUP(A26,[1]Units!$A$2:$AJ$172,15,0)","v":"kelvin.green@ncuh.nhs.uk"},{"$f":"VLOOKUP(A26,[1]Units!$A$2:$AJ$172,19,0)","v":"Christine.carruthers@ncuh.nhs.uk"},{"$f":"VLOOKUP(A26,[1]Units!$A$2:$AJ$172,22,0)","v":"Graeme.Appleton@ncic.nhs.uk"},{"$f":"VLOOKUP(A26,[2]Sheet2!$A$2:$C$172, 3, 0)","v":"Jenny.foster5@nhs.net"}]
["PZ023","St George's Hospital, London","Dr",{"$f":"VLOOKUP(A27,[1]Units!$A$2:$AJ$172,7,0)","v":"Rice"},{"$f":"VLOOKUP(A27,[1]Units!$A$2:$AJ$172,9,0)","v":"Alan.Rice@stgeorges.nhs.uk "},{"$f":"VLOOKUP(A27,[1]Units!$A$2:$AJ$172,11,0)","v":"Elena.Monti@stgeorges.nhs.uk"},{"$f":"VLOOKUP(A27,[1]Units!$A$2:$AJ$172,15,0)","v":"Heather.Hearty@stgeorges.nhs.uk"},{"$f":"VLOOKUP(A27,[1]Units!$A$2:$AJ$172,19,0)","v":"tasneem.riaz-teeluck@stgeorges.nhs.Uk"},{"$f":"VLOOKUP(A27,[1]Units!$A$2:$AJ$172,22,0)","v":"Imaan.Valimohamed@stgeorges.nhs.uk; Adam.Lewarne@stgeorges.nhs.uk; Alan.Evans@stgeorges.nhs.uk"},{"$f":"VLOOKUP(A27,[2]Sheet2!$A$2:$C$172, 3, 0)","v":"Usha.Parkash@nhs.net"}]
["PZ024","East Kent Hospitals University NHS Foundation Trust","Dr",{"$f":"VLOOKUP(A28,[1]Units!$A$2:$AJ$172,7,0)","v":"Christian "},{"$f":"VLOOKUP(A28,[1]Units!$A$2:$AJ$172,9,0)","v":"pchristian@nhs.net"},{"$f":"VLOOKUP(A28,[1]Units!$A$2:$AJ$172,11,0)","v":"jenniferbrunsdon@nhs.net"},{"$f":"VLOOKUP(A28,[1]Units!$A$2:$AJ$172,15,0)","v":"samantha.anacker@nhs.net"},null,null,{"$f":"VLOOKUP(A28,[2]Sheet2!$A$2:$C$172, 3, 0)","v":"Usha.Parkash@nhs.net"}]
["PZ026","Hull Royal Infirmary","Dr",{"$f":"VLOOKUP(A29,[1]Units!$A$2:$AJ$172,7,0)","v":"Mathew"},{"$f":"VLOOKUP(A29,[1]Units!$A$2:$AJ$172,9,0)","v":"verghese.mathew@nhs.net"},{"$f":"VLOOKUP(A29,[1]Units!$A$2:$AJ$172,11,0)","v":"l.pearce4@nhs.net; m.raven@nhs.net"},{"$f":"VLOOKUP(A29,[1]Units!$A$2:$AJ$172,15,0)","v":"sanjay.gupta2@nhs.net"},{"$f":"VLOOKUP(A29,[1]Units!$A$2:$AJ$172,19,0)","v":"annabel.taylor5@nhs.net"},{"$f":"VLOOKUP(A29,[1]Units!$A$2:$AJ$172,22,0)","v":"nick.gregory@nhs.net"},{"$f":"VLOOKUP(A29,[2]Sheet2!$A$2:$C$172, 3, 0)","v":"emma.savage8@nhs.net"}]
["PZ027","Friarage Hospital ","Dr",{"$f":"VLOOKUP(A30,[1]Units!$A$2:$AJ$172,7,0)","v":"Dammann"},{"$f":"VLOOKUP(A30,[1]Units!$A$2:$AJ$172,9,0)","v":"Dieter.dammann@nhs.net"},null,{"$f":"VLOOKUP(A30,[1]Units!$A$2:$AJ$172,15,0)","v":"victoria.stevenson6@nhs.net"},null,null,{"$f":"VLOOKUP(A30,[2]Sheet2!$A$2:$C$172, 3, 0)","v":"Jenny.foster5@nhs.net"}]
["PZ028","Stoke Mandeville Hospital ","Dr",{"$f":"VLOOKUP(A31,[1]Units!$A$2:$AJ$172,7,0)","v":"Dutta"},{"$f":"VLOOKUP(A31,[1]Units!$A$2:$AJ$172,9,0)","v":"Atanu.dutta@buckshealthcare.nhs.uk"},{"$f":"VLOOKUP(A31,[1]Units!$A$2:$AJ$172,11,0)","v":"michelle.russell-taylor@nhs.net"},{"$f":"VLOOKUP(A31,[1]Units!$A$2:$AJ$172,15,0)","v":"lyndaoswald@nhs.net"},{"$f":"VLOOKUP(A31,[1]Units!$A$2:$AJ$172,19,0)","v":"jinkley@nhs.net"},{"$f":"VLOOKUP(A31,[1]Units!$A$2:$AJ$172,22,0)","v":"louise.page1@nhs.net"},{"$f":"VLOOKUP(A31,[2]Sheet2!$A$2:$C$172, 3, 0)","v":"Myfanwy.Champness@ouh.nhs.uk "}]
["PZ030","Leighton Hospital","Dr",{"$f":"VLOOKUP(A32,[1]Units!$A$2:$AJ$172,7,0)","v":"Pyper"},{"$f":"VLOOKUP(A32,[1]Units!$A$2:$AJ$172,9,0)","v":"Sarah.Pyper@mcht.nhs.uk"},null,{"$f":"VLOOKUP(A32,[1]Units!$A$2:$AJ$172,15,0)","v":"linda.edge@mcht.nhs.uk"},{"$f":"VLOOKUP(A32,[1]Units!$A$2:$AJ$172,19,0)","v":"jennifer.carroll@mcht.nhs.uk; Stacey.bourne@mcht.nhs.uk; clinical.audit@mcht.nhs.uk"},null,{"$f":"VLOOKUP(A32,[2]Sheet2!$A$2:$C$172, 3, 0)","v":"Margotcarson@nhs.net"}]
["PZ031","St Richard's Hospital ","Dr",{"$f":"VLOOKUP(A33,[1]Units!$A$2:$AJ$172,7,0)","v":"Irvine"},{"$f":"VLOOKUP(A33,[1]Units!$A$2:$AJ$172,9,0)","v":"v.irvine@nhs.net"},null,{"$f":"VLOOKUP(A33,[1]Units!$A$2:$AJ$172,15,0)","v":"e.arkell@nhs.net"},null,null,{"$f":"VLOOKUP(A33,[2]Sheet2!$A$2:$C$172, 3, 0)","v":"Lucy.Powell@hhft.nhs.uk"}]
["PZ032","Royal Victoria Infirmary, Newcastle Upon Tyne","Dr",{"$f":"VLOOKUP(A34,[1]Units!$A$2:$AJ$172,7,0)","v":"Schenk"},{"$f":"VLOOKUP(A34,[1]Units!$A$2:$AJ$172,9,0)","v":"d.schenk@nhs.net"},null,{"$f":"VLOOKUP(A34,[1]Units!$A$2:$AJ$172,15,0)","v":"jgane@nhs.net"},{"$f":"VLOOKUP(A34,[1]Units!$A$2:$AJ$172,19,0)","v":"clare.bennett1@nhs.net"},null,{"$f":"VLOOKUP(A34,[2]Sheet2!$A$2:$C$172, 3, 0)","v":"Jenny.foster5@nhs.net"}]
["PZ033","Queens Hospital, Burton on Trent","Dr",{"$f":"VLOOKUP(A35,[1]Units!$A$2:$AJ$172,7,0)","v":"Vasista"},{"$f":"VLOOKUP(A35,[1]Units!$A$2:$AJ$172,9,0)","v":"p.vasista@nhs.net"},{"$f":"VLOOKUP(A35,[1]Units!$A$2:$AJ$172,11,0)","v":"jordan.staples1@nhs.net"},{"$f":"VLOOKUP(A35,[1]Units!$A$2:$AJ$172,15,0)","v":"Jane.Humphries1@nhs.net"},{"$f":"VLOOKUP(A35,[1]Units!$A$2:$AJ$172,19,0)","v":"helen.ward27@nhs.net"},{"$f":"VLOOKUP(A35,[1]Units!$A$2:$AJ$172,22,0)","v":"janea.parker@combined.nhs.uk"},{"$f":"VLOOKUP(A35,[2]Sheet2!$A$2:$C$172, 3, 0)","v":"heather.clark26@nhs.net"}]
["PZ034","Royal Hampshire County Hospital","Dr",{"$f":"VLOOKUP(A36,[1]Units!$A$2:$AJ$172,7,0)","v":"Williams"},{"$f":"VLOOKUP(A36,[1]Units!$A$2:$AJ$172,9,0)","v":"Eleri.Williams@hhft.nhs.uk"},null,{"$f":"VLOOKUP(A36,[1]Units!$A$2:$AJ$172,15,0)","v":"Max.Priesemann@hhft.nhs.uk"},{"$f":"VLOOKUP(A36,[1]Units!$A$2:$AJ$172,19,0)","v":"Eliza.wood@hhft.nhs.uk"},{"$f":"VLOOKUP(A36,[1]Units!$A$2:$AJ$172,22,0)","v":"Julia.brown@hhft.nhs.uk"},{"$f":"VLOOKUP(A36,[2]Sheet2!$A$2:$C$172, 3, 0)","v":"Lucy.Powell@hhft.nhs.uk"}]
["PZ035","Royal Berkshire Hospital","Dr",{"$f":"VLOOKUP(A37,[1]Units!$A$2:$AJ$172,7,0)","v":"Spinks"},{"$f":"VLOOKUP(A37,[1]Units!$A$2:$AJ$172,9,0)","v":"jo.spinks@royalberkshire.nhs.uk"},null,null,{"$f":"VLOOKUP(A37,[1]Units!$A$2:$AJ$172,19,0)","v":"andrea.jones@royalberkshire.nhs.uk"},null,{"$f":"VLOOKUP(A37,[2]Sheet2!$A$2:$C$172, 3, 0)","v":"Myfanwy.Champness@ouh.nhs.uk "}]
["PZ036","Whipps Cross University Hospital ","Dr ",{"$f":"VLOOKUP(A38,[1]Units!$A$2:$AJ$172,7,0)","v":"Kalaivanan"},{"$f":"VLOOKUP(A38,[1]Units!$A$2:$AJ$172,9,0)","v":"prabhakaran.kalaivanan@nhs.net"},{"$f":"VLOOKUP(A38,[1]Units!$A$2:$AJ$172,11,0)","v":"Evelien.gevers@bartshealth.nhs.uk"},{"$f":"VLOOKUP(A38,[1]Units!$A$2:$AJ$172,15,0)","v":"ruben.willemsen@nhs.net"},{"$f":"VLOOKUP(A38,[1]Units!$A$2:$AJ$172,19,0)","v":"p.cifelli@nhs.net; julia.miller9@nhs.net"},{"$f":"VLOOKUP(A38,[1]Units!$A$2:$AJ$172,22,0)","v":"nishal.patel6@nhs.net"},{"$f":"VLOOKUP(A38,[2]Sheet2!$A$2:$C$172, 3, 0)","v":"Usha.Parkash@nhs.net"}]
["PZ038","Wycombe General Hospital ","Dr",{"$f":"VLOOKUP(A39,[1]Units!$A$2:$AJ$172,7,0)","v":"Russell-Taylor"},{"$f":"VLOOKUP(A39,[1]Units!$A$2:$AJ$172,9,0)","v":"Michelle.Russell-Taylor@buckshealthcare.nhs.uk"},{"$f":"VLOOKUP(A39,[1]Units!$A$2:$AJ$172,11,0)","v":"atanudutta@nhs.net"},{"$f":"VLOOKUP(A39,[1]Units!$A$2:$AJ$172,15,0)","v":"lyndaoswald@nhs.net"},{"$f":"VLOOKUP(A39,[1]Units!$A$2:$AJ$172,19,0)","v":"jinkley@nhs.net"},{"$f":"VLOOKUP(A39,[1]Units!$A$2:$AJ$172,22,0)","v":"louise.page1@nhs.net"},{"$f":"VLOOKUP(A39,[2]Sheet2!$A$2:$C$172, 3, 0)","v":"Myfanwy.Champness@ouh.nhs.uk "}]
["PZ040","Birmingham Heartlands Hospital","Dr",{"$f":"VLOOKUP(A40,[1]Units!$A$2:$AJ$172,7,0)","v":"Karandikar"},{"$f":"VLOOKUP(A40,[1]Units!$A$2:$AJ$172,9,0)","v":"Swati.Karandikar@heartofengland.nhs.uk"},{"$f":"VLOOKUP(A40,[1]Units!$A$2:$AJ$172,11,0)","v":"dhaara.iyer@heartofengland.nhs.uk"},null,null,null,{"$f":"VLOOKUP(A40,[2]Sheet2!$A$2:$C$172, 3, 0)","v":"heather.clark26@nhs.net"}]
["PZ041","Addenbrooke's Hospital","Dr",{"$f":"VLOOKUP(A41,[1]Units!$A$2:$AJ$172,7,0)","v":"Williams"},{"$f":"VLOOKUP(A41,[1]Units!$A$2:$AJ$172,9,0)","v":"rachel.williams@addenbrookes.nhs.uk"},null,{"$f":"VLOOKUP(A41,[1]Units!$A$2:$AJ$172,15,0)","v":"ajay.thankamony@addenbrookes.nhs.uk"},null,null,{"$f":"VLOOKUP(A41,[2]Sheet2!$A$2:$C$172, 3, 0)","v":"Kate.Wilson@addenbrookes.nhs.uk "}]
["PZ042","Nottingham Children's Hospital ","Dr",{"$f":"VLOOKUP(A42,[1]Units!$A$2:$AJ$172,7,0)","v":"Denvir"},{"$f":"VLOOKUP(A42,[1]Units!$A$2:$AJ$172,9,0)","v":"Louise.denvir@nuh.nhs.uk"},null,{"$f":"VLOOKUP(A42,[1]Units!$A$2:$AJ$172,15,0)","v":"Jennifer.morledge-seeds@nuh.nhs.uk"},{"$f":"VLOOKUP(A42,[1]Units!$A$2:$AJ$172,19,0)","v":"rebecca.hughes@nuh.nhs.uk"},{"$f":"VLOOKUP(A42,[1]Units!$A$2:$AJ$172,22,0)","v":"auditenquiries@nuh.nhs.uk"},{"$f":"VLOOKUP(A42,[2]Sheet2!$A$2:$C$172, 3, 0)","v":"asmita.sedhai3@nhs.net"}]
["PZ045","Whittington Hospital, London","Dr",{"$f":"VLOOKUP(A43,[1]Units!$A$2:$AJ$172,7,0)","v":"Moyo"},{"$f":"VLOOKUP(A43,[1]Units!$A$2:$AJ$172,9,0)","v":"y.moyo@nhs.net"},{"$f":"VLOOKUP(A43,[1]Units!$A$2:$AJ$172,11,0)","v":"mohammadzubair.ahmad@nhs.net"},{"$f":"VLOOKUP(A43,[1]Units!$A$2:$AJ$172,15,0)","v":"varsha.rajashekar@nhs.net"},null,{"$f":"VLOOKUP(A43,[1]Units!$A$2:$AJ$172,22,0)","v":"sue.ellis5@nhs.net"},{"$f":"VLOOKUP(A43,[2]Sheet2!$A$2:$C$172, 3, 0)","v":"Usha.Parkash@nhs.net"}]
["PZ047","Airedale General Hospital, Keighley","Dr",{"$f":"VLOOKUP(A44,[1]Units!$A$2:$AJ$172,7,0)","v":"Lennon"},{"$f":"VLOOKUP(A44,[1]Units!$A$2:$AJ$172,9,0)","v":"Geraldine.lennon@anhst.nhs.uk"},null,null,{"$f":"VLOOKUP(A44,[1]Units!$A$2:$AJ$172,19,0)","v":"Catherine.Gray@anhst.nhs.uk"},null,{"$f":"VLOOKUP(A44,[2]Sheet2!$A$2:$C$172, 3, 0)","v":"emma.savage8@nhs.net"}]
["PZ048","Lincoln County Hospital ","Dr",{"$f":"VLOOKUP(A45,[1]Units!$A$2:$AJ$172,7,0)","v":"Naydeva-Grigorova"},{"$f":"VLOOKUP(A45,[1]Units!$A$2:$AJ$172,9,0)","v":"Tanya.Naydeva-Grigorova@ULH.nhs.uk"},null,{"$f":"VLOOKUP(A45,[1]Units!$A$2:$AJ$172,15,0)","v":"Caroline.Pearce@ulh.nhs.uk"},null,null,{"$f":"VLOOKUP(A45,[2]Sheet2!$A$2:$C$172, 3, 0)","v":"asmita.sedhai3@nhs.net"}]
["PZ049","Warrington Hospital","Dr",{"$f":"VLOOKUP(A46,[1]Units!$A$2:$AJ$172,7,0)","v":"Hulikere"},{"$f":"VLOOKUP(A46,[1]Units!$A$2:$AJ$172,9,0)","v":"Hulikere.Satish@nhs.net"},{"$f":"VLOOKUP(A46,[1]Units!$A$2:$AJ$172,11,0)","v":"lucy.unsworth@nhs.net"},{"$f":"VLOOKUP(A46,[1]Units!$A$2:$AJ$172,15,0)","v":"elaine.holcroft@nhs.net"},{"$f":"VLOOKUP(A46,[1]Units!$A$2:$AJ$172,19,0)","v":"claire.brookes11@nhs.net"},null,{"$f":"VLOOKUP(A46,[2]Sheet2!$A$2:$C$172, 3, 0)","v":"Margotcarson@nhs.net"}]
["PZ050","Epsom & St Helier University Hospitals NHS Trust","Dr",{"$f":"VLOOKUP(A47,[1]Units!$A$2:$AJ$172,7,0)","v":"Marr"},{"$f":"VLOOKUP(A47,[1]Units!$A$2:$AJ$172,9,0)","v":"t.marr@nhs.net"},null,{"$f":"VLOOKUP(A47,[1]Units!$A$2:$AJ$172,15,0)","v":"aileen.alston@nhs.net"},null,null,{"$f":"VLOOKUP(A47,[2]Sheet2!$A$2:$C$172, 3, 0)","v":"Usha.Parkash@nhs.net"}]
["PZ053","Scunthorpe General Hospital","Dr",{"$f":"VLOOKUP(A48,[1]Units!$A$2:$AJ$172,7,0)","v":"Madhusudhana"},{"$f":"VLOOKUP(A48,[1]Units!$A$2:$AJ$172,9,0)","v":"m.madhusudhana@nhs.net"},null,{"$f":"VLOOKUP(A48,[1]Units!$A$2:$AJ$172,15,0)","v":"hayli.garrod@nhs.net"},{"$f":"VLOOKUP(A48,[1]Units!$A$2:$AJ$172,19,0)","v":"jane.ogg@nhs.net"},null,{"$f":"VLOOKUP(A48,[2]Sheet2!$A$2:$C$172, 3, 0)","v":"emma.savage8@nhs.net"}]
["PZ054","Poole General Hospital","Dr",{"$f":"VLOOKUP(A49,[1]Units!$A$2:$AJ$172,7,0)","v":"McAulay"},{"$f":"VLOOKUP(A49,[1]Units!$A$2:$AJ$172,9,0)","v":"Antoinette.McAulay@uhd.nhs.uk"},null,{"$f":"VLOOKUP(A49,[1]Units!$A$2:$AJ$172,15,0)","v":"Victoria.Lowes@uhd.nhs.uk"},{"$f":"VLOOKUP(A49,[1]Units!$A$2:$AJ$172,19,0)","v":"Elaine.leonard@uhd.nhs.uk"},{"$f":"VLOOKUP(A49,[1]Units!$A$2:$AJ$172,22,0)","v":"rebecca.shephard@uhd.nhs.uk"},{"$f":"VLOOKUP(A49,[2]Sheet2!$A$2:$C$172, 3, 0)","v":"Lucy.Powell@hhft.nhs.uk"}]
["PZ055","Leicester Royal Infirmary","Dr",{"$f":"VLOOKUP(A50,[1]Units!$A$2:$AJ$172,7,0)","v":"Sundaram"},{"$f":"VLOOKUP(A50,[1]Units!$A$2:$AJ$172,9,0)","v":"Prem.Sundaram@uhl-tr.nhs.uk"},null,{"$f":"VLOOKUP(A50,[1]Units!$A$2:$AJ$172,15,0)","v":"anbezhil.subbarayan@uhl-tr.nhs.uk"},null,null,{"$f":"VLOOKUP(A50,[2]Sheet2!$A$2:$C$172, 3, 0)","v":"asmita.sedhai3@nhs.net"}]
["PZ057","Kingston Hospital","Dr",{"$f":"VLOOKUP(A51,[1]Units!$A$2:$AJ$172,7,0)","v":"Pai"},{"$f":"VLOOKUP(A51,[1]Units!$A$2:$AJ$172,9,0)","v":"vinayak.pai2@nhs.net"},{"$f":"VLOOKUP(A51,[1]Units!$A$2:$AJ$172,11,0)","v":"emma.stevens-tonks@nhs.net"},{"$f":"VLOOKUP(A51,[1]Units!$A$2:$AJ$172,15,0)","v":"jgwynne@nhs.net"},{"$f":"VLOOKUP(A51,[1]Units!$A$2:$AJ$172,19,0)","v":"k.spagnoli@nhs.net"},{"$f":"VLOOKUP(A51,[1]Units!$A$2:$AJ$172,22,0)","v":"s.calas@nhs.net; v.manoharan@nhs.net"},{"$f":"VLOOKUP(A51,[2]Sheet2!$A$2:$C$172, 3, 0)","v":"Usha.Parkash@nhs.net"}]
["PZ058","Newham University Hospital","Dr",{"$f":"VLOOKUP(A52,[1]Units!$A$2:$AJ$172,7,0)","v":"Sultana"},{"$f":"VLOOKUP(A52,[1]Units!$A$2:$AJ$172,9,0)","v":"p.sultana@nhs.net"},{"$f":"VLOOKUP(A52,[1]Units!$A$2:$AJ$172,11,0)","v":"ruben.willemsen@nhs.net"},{"$f":"VLOOKUP(A52,[1]Units!$A$2:$AJ$172,15,0)","v":"Evelien.gevers@bartshealth.nhs.uk; "},{"$f":"VLOOKUP(A52,[1]Units!$A$2:$AJ$172,19,0)","v":"julia.miller@bartshealth.nhs.uk; julia.miller9@nhs.net"},null,{"$f":"VLOOKUP(A52,[2]Sheet2!$A$2:$C$172, 3, 0)","v":"Usha.Parkash@nhs.net"}]
["PZ059","The Royal London Hospital ","Dr",{"$f":"VLOOKUP(A53,[1]Units!$A$2:$AJ$172,7,0)","v":"Willemsen"},{"$f":"VLOOKUP(A53,[1]Units!$A$2:$AJ$172,9,0)","v":"ruben.willemsen@nhs.net"},{"$f":"VLOOKUP(A53,[1]Units!$A$2:$AJ$172,11,0)","v":"nicky.moor1@nhs.net"},{"$f":"VLOOKUP(A53,[1]Units!$A$2:$AJ$172,15,0)","v":"julia.miller9@nhs.net"},{"$f":"VLOOKUP(A53,[1]Units!$A$2:$AJ$172,19,0)","v":"nishal.patel6@nhs.net"},{"$f":"VLOOKUP(A53,[1]Units!$A$2:$AJ$172,22,0)","v":"Evelien.gevers@bartshealth.nhs.uk; "},{"$f":"VLOOKUP(A53,[2]Sheet2!$A$2:$C$172, 3, 0)","v":"Usha.Parkash@nhs.net"}]
["PZ060","Royal Devon and Exeter Hospital","Dr",{"$f":"VLOOKUP(A54,[1]Units!$A$2:$AJ$172,7,0)","v":"Moudiotis"},{"$f":"VLOOKUP(A54,[1]Units!$A$2:$AJ$172,9,0)","v":"christopher.moudiotis@nhs.net"},null,{"$f":"VLOOKUP(A54,[1]Units!$A$2:$AJ$172,15,0)","v":"heather.fisher@nhs.net "},{"$f":"VLOOKUP(A54,[1]Units!$A$2:$AJ$172,19,0)","v":"maria.leveridge@nhs.net"},null,{"$f":"VLOOKUP(A54,[2]Sheet2!$A$2:$C$172, 3, 0)","v":"Lucyrowe@nhs.net"}]
["PZ062","Croydon University Hospital","Dr",{"$f":"VLOOKUP(A55,[1]Units!$A$2:$AJ$172,7,0)","v":"Holloway"},{"$f":"VLOOKUP(A55,[1]Units!$A$2:$AJ$172,9,0)","v":"edward.holloway@nhs.net"},{"$f":"VLOOKUP(A55,[1]Units!$A$2:$AJ$172,11,0)","v":"lhudson1@nhs.net"},{"$f":"VLOOKUP(A55,[1]Units!$A$2:$AJ$172,15,0)","v":"n.sandford@nhs.net"},{"$f":"VLOOKUP(A55,[1]Units!$A$2:$AJ$172,19,0)","v":"karen.burke10@nhs.net; sonja.allen3@nhs.net"},{"$f":"VLOOKUP(A55,[1]Units!$A$2:$AJ$172,22,0)","v":"alice.mccann@nhs.net"},{"$f":"VLOOKUP(A55,[2]Sheet2!$A$2:$C$172, 3, 0)","v":"Usha.Parkash@nhs.net"}]
["PZ064","Chesterfield Royal Hospital","Dr",{"$f":"VLOOKUP(A56,[1]Units!$A$2:$AJ$172,7,0)","v":"Mathew"},{"$f":"VLOOKUP(A56,[1]Units!$A$2:$AJ$172,9,0)","v":"roby.mathew@nhs.net"},null,null,{"$f":"VLOOKUP(A56,[1]Units!$A$2:$AJ$172,19,0)","v":"clairenelson1@nhs.net"},{"$f":"VLOOKUP(A56,[1]Units!$A$2:$AJ$172,22,0)","v":"gemmabills@nhs.net"},{"$f":"VLOOKUP(A56,[2]Sheet2!$A$2:$C$172, 3, 0)","v":"asmita.sedhai3@nhs.net"}]
["PZ065","County Hospital Stafford","Dr",{"$f":"VLOOKUP(A57,[1]Units!$A$2:$AJ$172,7,0)","v":"Raffeeq"},{"$f":"VLOOKUP(A57,[1]Units!$A$2:$AJ$172,9,0)","v":"Parakkal.Raffeeq@uhnm.nhs.uk"},{"$f":"VLOOKUP(A57,[1]Units!$A$2:$AJ$172,11,0)","v":"Emma.Lowe2@uhnm.nhs.uk"},{"$f":"VLOOKUP(A57,[1]Units!$A$2:$AJ$172,15,0)","v":"nicola.marshall@uhnm.nhs.uk"},{"$f":"VLOOKUP(A57,[1]Units!$A$2:$AJ$172,19,0)","v":"Mark.Jones@uhnm.nhs.uk"},null,{"$f":"VLOOKUP(A57,[2]Sheet2!$A$2:$C$172, 3, 0)","v":"heather.clark26@nhs.net"}]
["PZ067","Royal Cornwall Hospital","Dr",{"$f":"VLOOKUP(A58,[1]Units!$A$2:$AJ$172,7,0)","v":"Mallam"},{"$f":"VLOOKUP(A58,[1]Units!$A$2:$AJ$172,9,0)","v":"k.mallam@nhs.net"},null,{"$f":"VLOOKUP(A58,[1]Units!$A$2:$AJ$172,15,0)","v":"julie.kirby3@nhs.net"},{"$f":"VLOOKUP(A58,[1]Units!$A$2:$AJ$172,19,0)","v":"anita.england@nhs.net"},null,{"$f":"VLOOKUP(A58,[2]Sheet2!$A$2:$C$172, 3, 0)","v":"Lucyrowe@nhs.net"}]
["PZ068","Royal United Hospital","Dr",{"$f":"VLOOKUP(A59,[1]Units!$A$2:$AJ$172,7,0)","v":"Edmonds"},{"$f":"VLOOKUP(A59,[1]Units!$A$2:$AJ$172,9,0)","v":"clareedmonds@nhs.net"},{"$f":"VLOOKUP(A59,[1]Units!$A$2:$AJ$172,11,0)","v":"Karen.bradshaw9@nhs.net"},{"$f":"VLOOKUP(A59,[1]Units!$A$2:$AJ$172,15,0)","v":"carley.matthews@nhs.net"},{"$f":"VLOOKUP(A59,[1]Units!$A$2:$AJ$172,19,0)","v":"lynn.diskin@nhs.net"},{"$f":"VLOOKUP(A59,[1]Units!$A$2:$AJ$172,22,0)","v":"Edward.coxson@nhs.net"},{"$f":"VLOOKUP(A59,[2]Sheet2!$A$2:$C$172, 3, 0)","v":"Lucyrowe@nhs.net"}]
["PZ069","Stepping Hill Hospital","Dr",{"$f":"VLOOKUP(A60,[1]Units!$A$2:$AJ$172,7,0)","v":"Cooper"},{"$f":"VLOOKUP(A60,[1]Units!$A$2:$AJ$172,9,0)","v":"chris.cooper@stockport.nhs.uk"},{"$f":"VLOOKUP(A60,[1]Units!$A$2:$AJ$172,11,0)","v":"Jenny.Hurst@stockport.nhs.uk"},null,{"$f":"VLOOKUP(A60,[1]Units!$A$2:$AJ$172,19,0)","v":"Katie.beddows@stockport.nhs.uk"},{"$f":"VLOOKUP(A60,[1]Units!$A$2:$AJ$172,22,0)","v":"Dawn.Welsford@stockport.nhs.uk"},{"$f":"VLOOKUP(A60,[2]Sheet2!$A$2:$C$172, 3, 0)","v":"Margotcarson@nhs.net"}]
["PZ072","West Suffolk Hospital, Bury St Edmunds","Dr",{"$f":"VLOOKUP(A61,[1]Units!$A$2:$AJ$172,7,0)","v":"Anand"},{"$f":"VLOOKUP(A61,[1]Units!$A$2:$AJ$172,9,0)","v":"binu.anand@wsh.nhs.uk"},{"$f":"VLOOKUP(A61,[1]Units!$A$2:$AJ$172,11,0)","v":"Tom.Houghton@wsh.nhs.uk"},{"$f":"VLOOKUP(A61,[1]Units!$A$2:$AJ$172,15,0)","v":"Helen.Handley@wsh.nhs.uk"},{"$f":"VLOOKUP(A61,[1]Units!$A$2:$AJ$172,19,0)","v":"Julia.Harding@wsh.nhs.uk"},{"$f":"VLOOKUP(A61,[1]Units!$A$2:$AJ$172,22,0)","v":"Emily.Baker@wsh.nhs.uk"},{"$f":"VLOOKUP(A61,[2]Sheet2!$A$2:$C$172, 3, 0)","v":"Kate.Wilson@addenbrookes.nhs.uk "}]
["PZ073","Alexandra Hospital ","Dr",{"$f":"VLOOKUP(A62,[1]Units!$A$2:$AJ$172,7,0)","v":"Ahmad "},{"$f":"VLOOKUP(A62,[1]Units!$A$2:$AJ$172,9,0)","v":"naeem.ahmad3@nhs.net"},{"$f":"VLOOKUP(A62,[1]Units!$A$2:$AJ$172,11,0)","v":"jameswest@nhs.net"},{"$f":"VLOOKUP(A62,[1]Units!$A$2:$AJ$172,15,0)","v":"Susan.cockcroft@nhs.net"},{"$f":"VLOOKUP(A62,[1]Units!$A$2:$AJ$172,19,0)","v":"dianecluley@nhs.net"},{"$f":"VLOOKUP(A62,[1]Units!$A$2:$AJ$172,22,0)","v":"Gaynor.richardson@nhs.net"},{"$f":"VLOOKUP(A62,[2]Sheet2!$A$2:$C$172, 3, 0)","v":"heather.clark26@nhs.net"}]
["PZ074","Alder Hey Childrens Hospital","Dr",{"$f":"VLOOKUP(A63,[1]Units!$A$2:$AJ$172,7,0)","v":"Ghatak"},{"$f":"VLOOKUP(A63,[1]Units!$A$2:$AJ$172,9,0)","v":"atrayee.ghatak@alderhey.nhs.uk"},{"$f":"VLOOKUP(A63,[1]Units!$A$2:$AJ$172,11,0)","v":"mark.deakin@alderhey.nhs.uk"},{"$f":"VLOOKUP(A63,[1]Units!$A$2:$AJ$172,15,0)","v":"fulya.mehta@alderhey.nhs.uk"},null,{"$f":"VLOOKUP(A63,[1]Units!$A$2:$AJ$172,22,0)","v":"princy.paul@alderhey.nhs.uk; Neil.Olsson-Brown@alderhey.nhs.uk"},{"$f":"VLOOKUP(A63,[2]Sheet2!$A$2:$C$172, 3, 0)","v":"Margotcarson@nhs.net"}]
["PZ075","St Mary's Hospital, Isle of Wight","Dr",{"$f":"VLOOKUP(A64,[1]Units!$A$2:$AJ$172,7,0)","v":"Ogundiya"},{"$f":"VLOOKUP(A64,[1]Units!$A$2:$AJ$172,9,0)","v":"Akinsola.ogundiya@nhs.net"},null,{"$f":"VLOOKUP(A64,[1]Units!$A$2:$AJ$172,15,0)","v":"ashley.rawling@nhs.net"},null,{"$f":"VLOOKUP(A64,[1]Units!$A$2:$AJ$172,22,0)","v":"terry.patrick@nhs.net"},{"$f":"VLOOKUP(A64,[2]Sheet2!$A$2:$C$172, 3, 0)","v":"Lucy.Powell@hhft.nhs.uk"}]
["PZ076","Colchester General Hospital","Dr",{"$f":"VLOOKUP(A65,[1]Units!$A$2:$AJ$172,7,0)","v":"Shinkar"},{"$f":"VLOOKUP(A65,[1]Units!$A$2:$AJ$172,9,0)","v":"rajeev.shinkar@esneft.nhs.uk; rajeevshinkar@nhs.net"},{"$f":"VLOOKUP(A65,[1]Units!$A$2:$AJ$172,11,0)","v":"hannah.meek@colchesterhospital.nhs.uk"},{"$f":"VLOOKUP(A65,[1]Units!$A$2:$AJ$172,15,0)","v":"Nicola.Cackett@esneft.nhs.uk"},{"$f":"VLOOKUP(A65,[1]Units!$A$2:$AJ$172,19,0)","v":"natalie.jordan@colchesterhospital.nhs.uk; Stanislava.Cantwell@colchesterhospital.nhs.uk"},{"$f":"VLOOKUP(A65,[1]Units!$A$2:$AJ$172,22,0)","v":"NationalAudit@esneft.nhs.uk"},{"$f":"VLOOKUP(A65,[2]Sheet2!$A$2:$C$172, 3, 0)","v":"Kate.Wilson@addenbrookes.nhs.uk "}]
["PZ078","Royal Stoke University Hospital","Dr",{"$f":"VLOOKUP(A66,[1]Units!$A$2:$AJ$172,7,0)","v":"Raffeeq"},{"$f":"VLOOKUP(A66,[1]Units!$A$2:$AJ$172,9,0)","v":"Parakkal.Raffeeq@uhnm.nhs.uk"},{"$f":"VLOOKUP(A66,[1]Units!$A$2:$AJ$172,11,0)","v":"Emma.Lowe2@uhnm.nhs.uk"},{"$f":"VLOOKUP(A66,[1]Units!$A$2:$AJ$172,15,0)","v":"NICOLA.MARSHALL@uhnm.nhs.uk"},{"$f":"VLOOKUP(A66,[1]Units!$A$2:$AJ$172,19,0)","v":"Mark.Jones@uhnm.nhs.uk"},null,{"$f":"VLOOKUP(A66,[2]Sheet2!$A$2:$C$172, 3, 0)","v":"heather.clark26@nhs.net"}]
["PZ080","Sunderland Royal Hospital","Dr",{"$f":"VLOOKUP(A67,[1]Units!$A$2:$AJ$172,7,0)","v":"Hopper"},{"$f":"VLOOKUP(A67,[1]Units!$A$2:$AJ$172,9,0)","v":"neil.hopper@chsft.nhs.uk; n.hopper@nhs.net"},{"$f":"VLOOKUP(A67,[1]Units!$A$2:$AJ$172,11,0)","v":"Josephine.flowers@chsft.nhs.uk"},{"$f":"VLOOKUP(A67,[1]Units!$A$2:$AJ$172,15,0)","v":"caroline.robson@nhs.net"},{"$f":"VLOOKUP(A67,[1]Units!$A$2:$AJ$172,19,0)","v":"gillian.hanratty@nhs.net "},null,{"$f":"VLOOKUP(A67,[2]Sheet2!$A$2:$C$172, 3, 0)","v":"Jenny.foster5@nhs.net"}]
["PZ082","Evelina Childrens Hospital","Dr",{"$f":"VLOOKUP(A68,[1]Units!$A$2:$AJ$172,7,0)","v":"Ajzensztejn"},{"$f":"VLOOKUP(A68,[1]Units!$A$2:$AJ$172,9,0)","v":"michal.ajzensztejn@gstt.nhs.uk"},{"$f":"VLOOKUP(A68,[1]Units!$A$2:$AJ$172,11,0)","v":"sophia.sakka@gstt.nhs.uk"},{"$f":"VLOOKUP(A68,[1]Units!$A$2:$AJ$172,15,0)","v":"Sophia.Chukwumah@gstt.nhs.uk"},{"$f":"VLOOKUP(A68,[1]Units!$A$2:$AJ$172,19,0)","v":"PaediatricDiabetesTeam@gstt.nhs.uk"},{"$f":"VLOOKUP(A68,[1]Units!$A$2:$AJ$172,22,0)","v":"Moira.Cheung@gstt.nhs.uk"},{"$f":"VLOOKUP(A68,[2]Sheet2!$A$2:$C$172, 3, 0)","v":"Usha.Parkash@nhs.net"}]
["PZ084","Kidderminster Hospital","Dr",{"$f":"VLOOKUP(A69,[1]Units!$A$2:$AJ$172,7,0)","v":"West"},{"$f":"VLOOKUP(A69,[1]Units!$A$2:$AJ$172,9,0)","v":"jameswest@nhs.net"},{"$f":"VLOOKUP(A69,[1]Units!$A$2:$AJ$172,11,0)","v":"Traceyjones7@nhs.net"},{"$f":"VLOOKUP(A69,[1]Units!$A$2:$AJ$172,15,0)","v":"susan.cockcroft@nhs.net"},{"$f":"VLOOKUP(A69,[1]Units!$A$2:$AJ$172,19,0)","v":"Dianecluley@nhs.net"},{"$f":"VLOOKUP(A69,[1]Units!$A$2:$AJ$172,22,0)","v":"Beverly.darbyshire@nhs.net"},{"$f":"VLOOKUP(A69,[2]Sheet2!$A$2:$C$172, 3, 0)","v":"heather.clark26@nhs.net"}]
["PZ085","Princess Royal University Hospital","Dr",{"$f":"VLOOKUP(A70,[1]Units!$A$2:$AJ$172,7,0)","v":"Abbot"},{"$f":"VLOOKUP(A70,[1]Units!$A$2:$AJ$172,9,0)","v":"vabbot@nhs.net"},null,{"$f":"VLOOKUP(A70,[1]Units!$A$2:$AJ$172,15,0)","v":"julia.phillips6@nhs.net"},{"$f":"VLOOKUP(A70,[1]Units!$A$2:$AJ$172,19,0)","v":"bernadette.jamboria@nhs.net"},{"$f":"VLOOKUP(A70,[1]Units!$A$2:$AJ$172,22,0)","v":"j.gnanendran@nhs.net"},{"$f":"VLOOKUP(A70,[2]Sheet2!$A$2:$C$172, 3, 0)","v":"Usha.Parkash@nhs.net"}]
["PZ086","Hinchingbrooke Hospital","Dr",{"$f":"VLOOKUP(A71,[1]Units!$A$2:$AJ$172,7,0)","v":"Goonetilleke"},{"$f":"VLOOKUP(A71,[1]Units!$A$2:$AJ$172,9,0)","v":"rajiv.goonetilleke@nhs.net"},null,{"$f":"VLOOKUP(A71,[1]Units!$A$2:$AJ$172,15,0)","v":"madhu.easwariah@nhs.net"},{"$f":"VLOOKUP(A71,[1]Units!$A$2:$AJ$172,19,0)","v":"victoriawilliams4@nhs.net"},null,{"$f":"VLOOKUP(A71,[2]Sheet2!$A$2:$C$172, 3, 0)","v":"Kate.Wilson@addenbrookes.nhs.uk "}]
["PZ088","Royal Surrey County Hospital","Dr",{"$f":"VLOOKUP(A72,[1]Units!$A$2:$AJ$172,7,0)","v":"Sumner"},{"$f":"VLOOKUP(A72,[1]Units!$A$2:$AJ$172,9,0)","v":"alexander.sumner@nhs.net"},{"$f":"VLOOKUP(A72,[1]Units!$A$2:$AJ$172,11,0)","v":"emmaestevens@nhs.net"},null,{"$f":"VLOOKUP(A72,[1]Units!$A$2:$AJ$172,19,0)","v":"janani.cittambalam@nhs.net"},null,{"$f":"VLOOKUP(A72,[2]Sheet2!$A$2:$C$172, 3, 0)","v":"Usha.Parkash@nhs.net"}]
["PZ089","Northwick Park Hospital","Dr",{"$f":"VLOOKUP(A73,[1]Units!$A$2:$AJ$172,7,0)","v":" Ali"},{"$f":"VLOOKUP(A73,[1]Units!$A$2:$AJ$172,9,0)","v":"ashiya.ali@nhs.net"},{"$f":"VLOOKUP(A73,[1]Units!$A$2:$AJ$172,11,0)","v":"nilanjana.ray@nhs.net"},{"$f":"VLOOKUP(A73,[1]Units!$A$2:$AJ$172,15,0)","v":"nilanjana.ray@nhs.net"},{"$f":"VLOOKUP(A73,[1]Units!$A$2:$AJ$172,19,0)","v":"dpoole@nhs.net"},null,{"$f":"VLOOKUP(A73,[2]Sheet2!$A$2:$C$172, 3, 0)","v":"Usha.Parkash@nhs.net"}]
["PZ091","Royal Blackburn Hospital","Dr",{"$f":"VLOOKUP(A74,[1]Units!$A$2:$AJ$172,7,0)","v":"Gardner"},{"$f":"VLOOKUP(A74,[1]Units!$A$2:$AJ$172,9,0)","v":"Chris.Gardner@elht.nhs.uk"},null,{"$f":"VLOOKUP(A74,[1]Units!$A$2:$AJ$172,15,0)","v":"Janet.Soo@elht.nhs.uk"},{"$f":"VLOOKUP(A74,[1]Units!$A$2:$AJ$172,19,0)","v":"victoria.phillips@elht.nhs.uk"},{"$f":"VLOOKUP(A74,[1]Units!$A$2:$AJ$172,22,0)","v":"Beverley.King2@elht.nhs.uk"},{"$f":"VLOOKUP(A74,[2]Sheet2!$A$2:$C$172, 3, 0)","v":"Margotcarson@nhs.net"}]
["PZ092","Princess of Wales Hospital, Bridgend","Dr",{"$f":"VLOOKUP(A75,[1]Units!$A$2:$AJ$172,7,0)","v":"Jain"},{"$f":"VLOOKUP(A75,[1]Units!$A$2:$AJ$172,9,0)","v":"Shikha.Jain@wales.nhs.uk"},null,{"$f":"VLOOKUP(A75,[1]Units!$A$2:$AJ$172,15,0)","v":"Nirupa.D'Souza@wales.nhs.uk"},{"$f":"VLOOKUP(A75,[1]Units!$A$2:$AJ$172,19,0)","v":"Paul.Leach3@wales.nhs.uk;"},null,{"$f":"VLOOKUP(A75,[2]Sheet2!$A$2:$C$172, 3, 0)","v":"Jon.Matthias@wales.nhs.uk"}]
["PZ094","Princess Royal Hospital","Dr",{"$f":"VLOOKUP(A76,[1]Units!$A$2:$AJ$172,7,0)","v":"McCrea"},{"$f":"VLOOKUP(A76,[1]Units!$A$2:$AJ$172,9,0)","v":"k.mccrea@nhs.net"},null,{"$f":"VLOOKUP(A76,[1]Units!$A$2:$AJ$172,15,0)","v":"janine.gill1@nhs.net"},null,null,{"$f":"VLOOKUP(A76,[2]Sheet2!$A$2:$C$172, 3, 0)","v":"heather.clark26@nhs.net"}]
["PZ096","Derriford Hospital","Dr",{"$f":"VLOOKUP(A77,[1]Units!$A$2:$AJ$172,7,0)","v":"Alins-sahun "},{"$f":"VLOOKUP(A77,[1]Units!$A$2:$AJ$172,9,0)","v":"yolanda.alins-sahun@nhs.net"},null,{"$f":"VLOOKUP(A77,[1]Units!$A$2:$AJ$172,15,0)","v":"georginaselby@nhs.net"},null,null,{"$f":"VLOOKUP(A77,[2]Sheet2!$A$2:$C$172, 3, 0)","v":"Lucyrowe@nhs.net"}]
["PZ097","City Hospital, Birmingham","Dr",{"$f":"VLOOKUP(A78,[1]Units!$A$2:$AJ$172,7,0)","v":"Bandhakavi"},{"$f":"VLOOKUP(A78,[1]Units!$A$2:$AJ$172,9,0)","v":"m.bandhakavi@nhs.net"},null,{"$f":"VLOOKUP(A78,[1]Units!$A$2:$AJ$172,15,0)","v":"angela.ruizmorales@nhs.net"},null,null,{"$f":"VLOOKUP(A78,[2]Sheet2!$A$2:$C$172, 3, 0)","v":"heather.clark26@nhs.net"}]
["PZ099","East and North Hertfordshire NHS Trust","Dr",{"$f":"VLOOKUP(A79,[1]Units!$A$2:$AJ$172,7,0)","v":"Matei"},{"$f":"VLOOKUP(A79,[1]Units!$A$2:$AJ$172,9,0)","v":"Cristina.Matei@nhs.net"},{"$f":"VLOOKUP(A79,[1]Units!$A$2:$AJ$172,11,0)","v":"cbasey@nhs.net"},{"$f":"VLOOKUP(A79,[1]Units!$A$2:$AJ$172,15,0)","v":"denisechilton@nhs.net"},null,null,{"$f":"VLOOKUP(A79,[2]Sheet2!$A$2:$C$172, 3, 0)","v":"Kate.Wilson@addenbrookes.nhs.uk "}]
["PZ100","North Devon District Hospital","Dr",{"$f":"VLOOKUP(A80,[1]Units!$A$2:$AJ$172,7,0)","v":"Davison"},{"$f":"VLOOKUP(A80,[1]Units!$A$2:$AJ$172,9,0)","v":"s.davison1@nhs.net"},null,{"$f":"VLOOKUP(A80,[1]Units!$A$2:$AJ$172,15,0)","v":"ndht.cypdiabetes@nhs.net"},{"$f":"VLOOKUP(A80,[1]Units!$A$2:$AJ$172,19,0)","v":"sally.jefferies@nhs.net"},null,{"$f":"VLOOKUP(A80,[2]Sheet2!$A$2:$C$172, 3, 0)","v":"Lucyrowe@nhs.net"}]
["PZ101","Leeds Childrens' Hospital","Dr",{"$f":"VLOOKUP(A81,[1]Units!$A$2:$AJ$172,7,0)","v":"Campbell"},{"$f":"VLOOKUP(A81,[1]Units!$A$2:$AJ$172,9,0)","v":"fiona.campbell26@nhs.net"},null,{"$f":"VLOOKUP(A81,[1]Units!$A$2:$AJ$172,15,0)","v":"libby.adams@nhs.net"},{"$f":"VLOOKUP(A81,[1]Units!$A$2:$AJ$172,19,0)","v":"franceshanson@nhs.net"},null,{"$f":"VLOOKUP(A81,[2]Sheet2!$A$2:$C$172, 3, 0)","v":"emma.savage8@nhs.net"}]
["PZ102","The Hillingdon Hospital","Dr",{"$f":"VLOOKUP(A82,[1]Units!$A$2:$AJ$172,7,0)","v":"Ganapathi"},{"$f":"VLOOKUP(A82,[1]Units!$A$2:$AJ$172,9,0)","v":"jaikumar.ganapathi@nhs.net"},{"$f":"VLOOKUP(A82,[1]Units!$A$2:$AJ$172,11,0)","v":"sharanjit.cheema@nhs.net"},{"$f":"VLOOKUP(A82,[1]Units!$A$2:$AJ$172,15,0)","v":"jasjitbhandari@nhs.net"},{"$f":"VLOOKUP(A82,[1]Units!$A$2:$AJ$172,19,0)","v":"Catherine.tapping@nhs.net"},null,{"$f":"VLOOKUP(A82,[2]Sheet2!$A$2:$C$172, 3, 0)","v":"Usha.Parkash@nhs.net"}]
["PZ104","Royal Albert Edward Infirmary","Dr",{"$f":"VLOOKUP(A83,[1]Units!$A$2:$AJ$172,7,0)","v":"Robinson"},{"$f":"VLOOKUP(A83,[1]Units!$A$2:$AJ$172,9,0)","v":"Mark.Robinson@wwl.nhs.uk"},null,{"$f":"VLOOKUP(A83,[1]Units!$A$2:$AJ$172,15,0)","v":"vineeta.joshi@wwl.nhs.uk"},{"$f":"VLOOKUP(A83,[1]Units!$A$2:$AJ$172,19,0)","v":"Leeanne.sumner@wwl.nhs.uk"},{"$f":"VLOOKUP(A83,[1]Units!$A$2:$AJ$172,22,0)","v":"Lucy.Rutter@wwl.nhs.uk"},{"$f":"VLOOKUP(A83,[2]Sheet2!$A$2:$C$172, 3, 0)","v":"Margotcarson@nhs.net"}]
["PZ105","St Luke's Hospital","Dr",{"$f":"VLOOKUP(A84,[1]Units!$A$2:$AJ$172,7,0)","v":"Gorman"},{"$f":"VLOOKUP(A84,[1]Units!$A$2:$AJ$172,9,0)","v":"shaun.gorman@bthft.nhs.uk"},{"$f":"VLOOKUP(A84,[1]Units!$A$2:$AJ$172,11,0)","v":"Mathew.Mathai@bthft.nhs.uk"},{"$f":"VLOOKUP(A84,[1]Units!$A$2:$AJ$172,15,0)","v":"Sarah.Haigh@bthft.nhs.uk"},{"$f":"VLOOKUP(A84,[1]Units!$A$2:$AJ$172,19,0)","v":"Alison.Woodhead@bthft.nhs.uk"},{"$f":"VLOOKUP(A84,[1]Units!$A$2:$AJ$172,22,0)","v":"clinicaleffectiveness@bthft.nhs.uk; donna.ashcroft@bthft.nhs.uk"},{"$f":"VLOOKUP(A84,[2]Sheet2!$A$2:$C$172, 3, 0)","v":"emma.savage8@nhs.net"}]
["PZ106","Victoria Hospital, Blackpool","Dr",{"$f":"VLOOKUP(A85,[1]Units!$A$2:$AJ$172,7,0)","v":"Ahmed"},{"$f":"VLOOKUP(A85,[1]Units!$A$2:$AJ$172,9,0)","v":"drahmed@nhs.net"},{"$f":"VLOOKUP(A85,[1]Units!$A$2:$AJ$172,11,0)","v":"ismail.dalal@nhs.net "},null,null,null,{"$f":"VLOOKUP(A85,[2]Sheet2!$A$2:$C$172, 3, 0)","v":"Margotcarson@nhs.net"}]
["PZ107","Queen Elizabeth Hospital, Gateshead","Dr",{"$f":"VLOOKUP(A86,[1]Units!$A$2:$AJ$172,7,0)","v":"Reid"},{"$f":"VLOOKUP(A86,[1]Units!$A$2:$AJ$172,9,0)","v":"judith.reid4@nhs.net"},{"$f":"VLOOKUP(A86,[1]Units!$A$2:$AJ$172,11,0)","v":"s.saranga@nhs.net"},{"$f":"VLOOKUP(A86,[1]Units!$A$2:$AJ$172,15,0)","v":"Judith.reid4@nhs.net"},{"$f":"VLOOKUP(A86,[1]Units!$A$2:$AJ$172,19,0)","v":"lynsey.kennedy@nhs.net"},null,{"$f":"VLOOKUP(A86,[2]Sheet2!$A$2:$C$172, 3, 0)","v":"Jenny.foster5@nhs.net"}]
["PZ108","Birmingham Children's Hospital","Dr",{"$f":"VLOOKUP(A87,[1]Units!$A$2:$AJ$172,7,0)","v":"Dias"},{"$f":"VLOOKUP(A87,[1]Units!$A$2:$AJ$172,9,0)","v":"r.dias1@nhs.net"},{"$f":"VLOOKUP(A87,[1]Units!$A$2:$AJ$172,11,0)","v":"suma.uday@nhs.net"},{"$f":"VLOOKUP(A87,[1]Units!$A$2:$AJ$172,15,0)","v":"mariemcelroy@nhs.net"},null,null,{"$f":"VLOOKUP(A87,[2]Sheet2!$A$2:$C$172, 3, 0)","v":"heather.clark26@nhs.net"}]
["PZ109","Southampton Children’s Hospital","Dr",{"$f":"VLOOKUP(A88,[1]Units!$A$2:$AJ$172,7,0)","v":"Trevelyan"},{"$f":"VLOOKUP(A88,[1]Units!$A$2:$AJ$172,9,0)","v":"Nicola.Trevelyan@uhs.nhs.uk"},null,{"$f":"VLOOKUP(A88,[1]Units!$A$2:$AJ$172,15,0)","v":"Lucy.Trubacik@uhs.nhs.uk"},{"$f":"VLOOKUP(A88,[1]Units!$A$2:$AJ$172,19,0)","v":"Lisa.Horton@uhs.nhs.uk"},{"$f":"VLOOKUP(A88,[1]Units!$A$2:$AJ$172,22,0)","v":"chdf@mrc.soton.ac.uk"},{"$f":"VLOOKUP(A88,[2]Sheet2!$A$2:$C$172, 3, 0)","v":"Lucy.Powell@hhft.nhs.uk"}]
["PZ110","Ormskirk & District General Hospital","Dr",{"$f":"VLOOKUP(A89,[1]Units!$A$2:$AJ$172,7,0)","v":"Ng"},{"$f":"VLOOKUP(A89,[1]Units!$A$2:$AJ$172,9,0)","v":"may.ng@nhs.net"},null,{"$f":"VLOOKUP(A89,[1]Units!$A$2:$AJ$172,15,0)","v":"angela.ashurst@nhs.net"},{"$f":"VLOOKUP(A89,[1]Units!$A$2:$AJ$172,19,0)","v":"lynnefinnigan@nhs.net"},{"$f":"VLOOKUP(A89,[1]Units!$A$2:$AJ$172,22,0)","v":"michelle.quinn2@nhs.net"},{"$f":"VLOOKUP(A89,[2]Sheet2!$A$2:$C$172, 3, 0)","v":"Margotcarson@nhs.net"}]
["PZ111","Hereford County Hospital","Dr",{"$f":"VLOOKUP(A90,[1]Units!$A$2:$AJ$172,7,0)","v":"Balehithlu"},{"$f":"VLOOKUP(A90,[1]Units!$A$2:$AJ$172,9,0)","v":"Hemantha.balehithlu@wvt.nhs.uk"},null,{"$f":"VLOOKUP(A90,[1]Units!$A$2:$AJ$172,15,0)","v":"ainsley.rees@wvt.nhs.uk"},{"$f":"VLOOKUP(A90,[1]Units!$A$2:$AJ$172,19,0)","v":"mark.weston@wvt.nhs.uk"},{"$f":"VLOOKUP(A90,[1]Units!$A$2:$AJ$172,22,0)","v":"Joanne.Hall@wvt.nhs.uk"},{"$f":"VLOOKUP(A90,[2]Sheet2!$A$2:$C$172, 3, 0)","v":"heather.clark26@nhs.net"}]
["PZ112","Scarborough General Hospital","Dr",{"$f":"VLOOKUP(A91,[1]Units!$A$2:$AJ$172,7,0)","v":"Martin"},{"$f":"VLOOKUP(A91,[1]Units!$A$2:$AJ$172,9,0)","v":"Sarah.Martin@york.nhs.uk"},{"$f":"VLOOKUP(A91,[1]Units!$A$2:$AJ$172,11,0)","v":"clinicaleffectivenessteam@york.nhs.uk"},{"$f":"VLOOKUP(A91,[1]Units!$A$2:$AJ$172,15,0)","v":"suzannewright@nhs.net"},null,{"$f":"VLOOKUP(A91,[1]Units!$A$2:$AJ$172,22,0)","v":"kelly.render@nhs.net"},{"$f":"VLOOKUP(A91,[2]Sheet2!$A$2:$C$172, 3, 0)","v":"emma.savage8@nhs.net"}]
["PZ113","University Hospital of Wales","Dr",{"$f":"VLOOKUP(A92,[1]Units!$A$2:$AJ$172,7,0)","v":"Shetty"},{"$f":"VLOOKUP(A92,[1]Units!$A$2:$AJ$172,9,0)","v":"ambika.shetty@wales.nhs.uk"},{"$f":"VLOOKUP(A92,[1]Units!$A$2:$AJ$172,11,0)","v":"justin.warner@wales.nhs.uk"},{"$f":"VLOOKUP(A92,[1]Units!$A$2:$AJ$172,15,0)","v":"rachel.harris3@wales.nhs.uk"},{"$f":"VLOOKUP(A92,[1]Units!$A$2:$AJ$172,19,0)","v":"Alexandra.Scott2@wales.nhs.uk"},{"$f":"VLOOKUP(A92,[1]Units!$A$2:$AJ$172,22,0)","v":"rebekah.pryce@wales.nhs.uk"},{"$f":"VLOOKUP(A92,[2]Sheet2!$A$2:$C$172, 3, 0)","v":"Jon.Matthias@wales.nhs.uk"}]
["PZ114","The York Hospital","Dr",{"$f":"VLOOKUP(A93,[1]Units!$A$2:$AJ$172,7,0)","v":"Watts"},{"$f":"VLOOKUP(A93,[1]Units!$A$2:$AJ$172,9,0)","v":"Wendy.watts@york.nhs.uk"},{"$f":"VLOOKUP(A93,[1]Units!$A$2:$AJ$172,11,0)","v":"dominic.smith@york.nhs.uk"},{"$f":"VLOOKUP(A93,[1]Units!$A$2:$AJ$172,15,0)","v":"Angela.Shroder@york.nhs.uk"},{"$f":"VLOOKUP(A93,[1]Units!$A$2:$AJ$172,19,0)","v":"ruth.kingsley@york.nhs.uk"},{"$f":"VLOOKUP(A93,[1]Units!$A$2:$AJ$172,22,0)","v":"Ella.Watola@YORK.NHS.UK"},{"$f":"VLOOKUP(A93,[2]Sheet2!$A$2:$C$172, 3, 0)","v":"emma.savage8@nhs.net"}]
["PZ118","University Hospital Lewisham","Dr",{"$f":"VLOOKUP(A94,[1]Units!$A$2:$AJ$172,7,0)","v":"Lawrence"},{"$f":"VLOOKUP(A94,[1]Units!$A$2:$AJ$172,9,0)","v":"joanna.lawrence@nhs.net"},null,{"$f":"VLOOKUP(A94,[1]Units!$A$2:$AJ$172,15,0)","v":"sarah.goreham@nhs.net"},null,null,{"$f":"VLOOKUP(A94,[2]Sheet2!$A$2:$C$172, 3, 0)","v":"Usha.Parkash@nhs.net"}]
["PZ119","Darent Valley Hospital, Dartford","Dr",{"$f":"VLOOKUP(A95,[1]Units!$A$2:$AJ$172,7,0)","v":"Gupta"},{"$f":"VLOOKUP(A95,[1]Units!$A$2:$AJ$172,9,0)","v":"alokgupta@nhs.net"},{"$f":"VLOOKUP(A95,[1]Units!$A$2:$AJ$172,11,0)","v":"kishaneekiriella@nhs.net"},{"$f":"VLOOKUP(A95,[1]Units!$A$2:$AJ$172,15,0)","v":"juliehudson@nhs.net"},{"$f":"VLOOKUP(A95,[1]Units!$A$2:$AJ$172,19,0)","v":"c.ticehurst@nhs.net"},{"$f":"VLOOKUP(A95,[1]Units!$A$2:$AJ$172,22,0)","v":"sukhvinderkaur@nhs.net; dgn-tr.clinicalaudit@nhs.net"},{"$f":"VLOOKUP(A95,[2]Sheet2!$A$2:$C$172, 3, 0)","v":"Usha.Parkash@nhs.net"}]
["PZ120","North Tyneside General Hospital","Dr",{"$f":"VLOOKUP(A96,[1]Units!$A$2:$AJ$172,7,0)","v":"Bruce"},{"$f":"VLOOKUP(A96,[1]Units!$A$2:$AJ$172,9,0)","v":"stephen.bruce@nhct.nhs.uk"},{"$f":"VLOOKUP(A96,[1]Units!$A$2:$AJ$172,11,0)","v":"Fiona.fairlie@nhct.nhs.uk"},null,null,null,{"$f":"VLOOKUP(A96,[2]Sheet2!$A$2:$C$172, 3, 0)","v":"Jenny.foster5@nhs.net"}]
["PZ121","George Eliot Hospital","Dr",{"$f":"VLOOKUP(A97,[1]Units!$A$2:$AJ$172,7,0)","v":"Puttha"},{"$f":"VLOOKUP(A97,[1]Units!$A$2:$AJ$172,9,0)","v":"radhika.puttha@nhs.net"},{"$f":"VLOOKUP(A97,[1]Units!$A$2:$AJ$172,11,0)","v":"Olumuyiwa.oso@geh.nhs.uk"},null,{"$f":"VLOOKUP(A97,[1]Units!$A$2:$AJ$172,19,0)","v":"Clare.neail@geh.nhs.uk"},{"$f":"VLOOKUP(A97,[1]Units!$A$2:$AJ$172,22,0)","v":"joanne.webb@geh.nhs.uk;"},{"$f":"VLOOKUP(A97,[2]Sheet2!$A$2:$C$172, 3, 0)","v":"heather.clark26@nhs.net"}]
["PZ122","University Hospital, Coventry ","Dr",{"$f":"VLOOKUP(A98,[1]Units!$A$2:$AJ$172,7,0)","v":"Karthikeyan\n"},{"$f":"VLOOKUP(A98,[1]Units!$A$2:$AJ$172,9,0)","v":"ambika.karthikeyan@uhcw.nhs.uk "},null,{"$f":"VLOOKUP(A98,[1]Units!$A$2:$AJ$172,15,0)","v":"laura.bambrick@uhcw.nhs.uk"},{"$f":"VLOOKUP(A98,[1]Units!$A$2:$AJ$172,19,0)","v":"uhc-tr.paediatricdiabetes@nhs.net"},null,{"$f":"VLOOKUP(A98,[2]Sheet2!$A$2:$C$172, 3, 0)","v":"heather.clark26@nhs.net"}]
["PZ125","Maidstone Hospital","Dr",{"$f":"VLOOKUP(A99,[1]Units!$A$2:$AJ$172,7,0)","v":"Khanna"},{"$f":"VLOOKUP(A99,[1]Units!$A$2:$AJ$172,9,0)","v":"ankit.khanna@nhs.net"},{"$f":"VLOOKUP(A99,[1]Units!$A$2:$AJ$172,11,0)","v":"kpathy@nhs.net"},{"$f":"VLOOKUP(A99,[1]Units!$A$2:$AJ$172,15,0)","v":"mlibby@nhs.net"},null,{"$f":"VLOOKUP(A99,[1]Units!$A$2:$AJ$172,22,0)","v":"Stephanie.smith29@nhs.net"},{"$f":"VLOOKUP(A99,[2]Sheet2!$A$2:$C$172, 3, 0)","v":"Usha.Parkash@nhs.net"}]
["PZ126","Medway Maritime Hospital","Dr",{"$f":"VLOOKUP(A100,[1]Units!$A$2:$AJ$172,7,0)","v":"Ranasinghe"},{"$f":"VLOOKUP(A100,[1]Units!$A$2:$AJ$172,9,0)","v":"asankharanasinghe@nhs.net"},{"$f":"VLOOKUP(A100,[1]Units!$A$2:$AJ$172,11,0)","v":"Nicola.richards1@nhs.net"},{"$f":"VLOOKUP(A100,[1]Units!$A$2:$AJ$172,15,0)","v":"malathi.kurre@nhs.net"},null,null,{"$f":"VLOOKUP(A100,[2]Sheet2!$A$2:$C$172, 3, 0)","v":"Usha.Parkash@nhs.net"}]
["PZ127","James Paget Hospital","Dr",{"$f":"VLOOKUP(A101,[1]Units!$A$2:$AJ$172,7,0)","v":"Gurung"},{"$f":"VLOOKUP(A101,[1]Units!$A$2:$AJ$172,9,0)","v":"Himal.Gurung@nhs.net"},null,{"$f":"VLOOKUP(A101,[1]Units!$A$2:$AJ$172,15,0)","v":"Pauline.Phillips@JPaget.nhs.uk"},{"$f":"VLOOKUP(A101,[1]Units!$A$2:$AJ$172,19,0)","v":"clinicalaudit@jpaget.nhs.uk"},null,{"$f":"VLOOKUP(A101,[2]Sheet2!$A$2:$C$172, 3, 0)","v":"Kate.Wilson@addenbrookes.nhs.uk "}]
["PZ128","Pilgrim Hospital ","Dr",{"$f":"VLOOKUP(A102,[1]Units!$A$2:$AJ$172,7,0)","v":"Naydeva-Grigorova"},{"$f":"VLOOKUP(A102,[1]Units!$A$2:$AJ$172,9,0)","v":"Tanya.Naydeva-Grigorova@ULH.nhs.uk"},null,null,{"$f":"VLOOKUP(A102,[1]Units!$A$2:$AJ$172,19,0)","v":"helen.warhurst@ulh.nhs.uk"},null,{"$f":"VLOOKUP(A102,[2]Sheet2!$A$2:$C$172, 3, 0)","v":"asmita.sedhai3@nhs.net"}]
["PZ129","Harrogate District Hospital","Dr",{"$f":"VLOOKUP(A103,[1]Units!$A$2:$AJ$172,7,0)","v":"Alaber"},{"$f":"VLOOKUP(A103,[1]Units!$A$2:$AJ$172,9,0)","v":"a.alaber@nhs.net"},{"$f":"VLOOKUP(A103,[1]Units!$A$2:$AJ$172,11,0)","v":"robert.brown29@nhs.net"},{"$f":"VLOOKUP(A103,[1]Units!$A$2:$AJ$172,15,0)","v":"m.harvey4@nhs.net"},{"$f":"VLOOKUP(A103,[1]Units!$A$2:$AJ$172,19,0)","v":"Rebecca.hill66@nhs.net; hdft.clinicalaudit@nhs.net"},{"$f":"VLOOKUP(A103,[1]Units!$A$2:$AJ$172,22,0)","v":"rebecca.maggs@nhs.net"},{"$f":"VLOOKUP(A103,[2]Sheet2!$A$2:$C$172, 3, 0)","v":"emma.savage8@nhs.net"}]
["PZ130","Chelsea and Westminster Hospital","Dr",{"$f":"VLOOKUP(A104,[1]Units!$A$2:$AJ$172,7,0)","v":"Bridges"},{"$f":"VLOOKUP(A104,[1]Units!$A$2:$AJ$172,9,0)","v":"nicola.bridges@nhs.net"},{"$f":"VLOOKUP(A104,[1]Units!$A$2:$AJ$172,11,0)","v":"shivaani.kaushik@nhs.net"},{"$f":"VLOOKUP(A104,[1]Units!$A$2:$AJ$172,15,0)","v":"s.alexander@nhs.net"},{"$f":"VLOOKUP(A104,[1]Units!$A$2:$AJ$172,19,0)","v":"neelam.sharma6@nhs.net"},{"$f":"VLOOKUP(A104,[1]Units!$A$2:$AJ$172,22,0)","v":"hannah.morrow2@nhs.net"},{"$f":"VLOOKUP(A104,[2]Sheet2!$A$2:$C$172, 3, 0)","v":"Usha.Parkash@nhs.net"}]
["PZ131","Peterborough City Hospital","Dr",{"$f":"VLOOKUP(A105,[1]Units!$A$2:$AJ$172,7,0)","v":"Yong"},{"$f":"VLOOKUP(A105,[1]Units!$A$2:$AJ$172,9,0)","v":"diana.yong@nhs.net"},null,{"$f":"VLOOKUP(A105,[1]Units!$A$2:$AJ$172,15,0)","v":"rosemaryjones2@nhs.net;"},null,null,{"$f":"VLOOKUP(A105,[2]Sheet2!$A$2:$C$172, 3, 0)","v":"Kate.Wilson@addenbrookes.nhs.uk "}]
["PZ132","Ysbyty Gwynedd Hospital ","Dr",{"$f":"VLOOKUP(A106,[1]Units!$A$2:$AJ$172,7,0)","v":"Gangadharan"},{"$f":"VLOOKUP(A106,[1]Units!$A$2:$AJ$172,9,0)","v":"Arundoss.Gangadharan3@wales.nhs.uk"},null,{"$f":"VLOOKUP(A106,[1]Units!$A$2:$AJ$172,15,0)","v":"Angela.clarke4@wales.nhs.uk"},{"$f":"VLOOKUP(A106,[1]Units!$A$2:$AJ$172,19,0)","v":"carolyn.bowness@wales.nhs.uk"},{"$f":"VLOOKUP(A106,[1]Units!$A$2:$AJ$172,22,0)","v":"Trevor.Smith@wales.nhs.uk"},{"$f":"VLOOKUP(A106,[2]Sheet2!$A$2:$C$172, 3, 0)","v":"Jon.Matthias@wales.nhs.uk"}]
["PZ133","James Cook University Hospital ","Dr",{"$f":"VLOOKUP(A107,[1]Units!$A$2:$AJ$172,7,0)","v":"Burns"},{"$f":"VLOOKUP(A107,[1]Units!$A$2:$AJ$172,9,0)","v":"mark.burns2@nhs.net "},null,{"$f":"VLOOKUP(A107,[1]Units!$A$2:$AJ$172,15,0)","v":"alison.murray22@nhs.net"},null,null,{"$f":"VLOOKUP(A107,[2]Sheet2!$A$2:$C$172, 3, 0)","v":"Jenny.foster5@nhs.net"}]
["PZ135","Royal Alexandra Hospital, Brighton","Dr",{"$f":"VLOOKUP(A108,[1]Units!$A$2:$AJ$172,7,0)","v":"Ismail"},{"$f":"VLOOKUP(A108,[1]Units!$A$2:$AJ$172,9,0)","v":"dunia.ismail@nhs.net"},null,{"$f":"VLOOKUP(A108,[1]Units!$A$2:$AJ$172,15,0)","v":"juliette.sacre@nhs.net"},null,null,{"$f":"VLOOKUP(A108,[2]Sheet2!$A$2:$C$172, 3, 0)","v":"Usha.Parkash@nhs.net"}]
["PZ136","Central Manchester University Hospitals NHS Foundation Trust","Dr",{"$f":"VLOOKUP(A109,[1]Units!$A$2:$AJ$172,7,0)","v":"Doughty"},{"$f":"VLOOKUP(A109,[1]Units!$A$2:$AJ$172,9,0)","v":"Ian.Doughty@cmft.nhs.uk"},null,{"$f":"VLOOKUP(A109,[1]Units!$A$2:$AJ$172,15,0)","v":"Syed.jilani@cmft.nhs.uk"},{"$f":"VLOOKUP(A109,[1]Units!$A$2:$AJ$172,19,0)","v":"Susan.Ainsworth@mft.nhs.uk"},{"$f":"VLOOKUP(A109,[1]Units!$A$2:$AJ$172,22,0)","v":"Carol.Metcalfe@mft.nhs.uk"},{"$f":"VLOOKUP(A109,[2]Sheet2!$A$2:$C$172, 3, 0)","v":"Margotcarson@nhs.net"}]
["PZ137","Musgrove Park Hospital","Dr",{"$f":"VLOOKUP(A110,[1]Units!$A$2:$AJ$172,7,0)","v":"Robin"},{"$f":"VLOOKUP(A110,[1]Units!$A$2:$AJ$172,9,0)","v":"lucy.robin@tst.nhs.uk"},null,{"$f":"VLOOKUP(A110,[1]Units!$A$2:$AJ$172,15,0)","v":"Lisa.Goodman@tst.nhs.uk"},{"$f":"VLOOKUP(A110,[1]Units!$A$2:$AJ$172,19,0)","v":"Gita.Modgil@tst.nhs.uk"},null,{"$f":"VLOOKUP(A110,[2]Sheet2!$A$2:$C$172, 3, 0)","v":"Lucyrowe@nhs.net"}]
["PZ138","Warwick Hospital","Dr",{"$f":"VLOOKUP(A111,[1]Units!$A$2:$AJ$172,7,0)","v":"Rengaraju"},{"$f":"VLOOKUP(A111,[1]Units!$A$2:$AJ$172,9,0)","v":"latha.rengaraju@swft.nhs.uk"},{"$f":"VLOOKUP(A111,[1]Units!$A$2:$AJ$172,11,0)","v":"gillian.lyder@swft.nhs.uk"},{"$f":"VLOOKUP(A111,[1]Units!$A$2:$AJ$172,15,0)","v":"gillian.lyder@swft.nhs.uk"},{"$f":"VLOOKUP(A111,[1]Units!$A$2:$AJ$172,19,0)","v":"catherine.norrish@swft.nhs.uk"},null,{"$f":"VLOOKUP(A111,[2]Sheet2!$A$2:$C$172, 3, 0)","v":"heather.clark26@nhs.net"}]
["PZ139","Bristol Royal Hospital for Children","Dr",{"$f":"VLOOKUP(A112,[1]Units!$A$2:$AJ$172,7,0)","v":"Barton"},{"$f":"VLOOKUP(A112,[1]Units!$A$2:$AJ$172,9,0)","v":"john.barton@uhbw.nhs.uk"},{"$f":"VLOOKUP(A112,[1]Units!$A$2:$AJ$172,11,0)","v":"Toby.Candler@uhbw.nhs.uk"},{"$f":"VLOOKUP(A112,[1]Units!$A$2:$AJ$172,15,0)","v":"Alison.Spear@uhbw.nhs.uk"},null,null,{"$f":"VLOOKUP(A112,[2]Sheet2!$A$2:$C$172, 3, 0)","v":"Lucyrowe@nhs.net"}]
["PZ140","Tameside General Hospital","Dr",{"$f":"VLOOKUP(A113,[1]Units!$A$2:$AJ$172,7,0)","v":"Tatnall"},{"$f":"VLOOKUP(A113,[1]Units!$A$2:$AJ$172,9,0)","v":"sarah.tatnall@tgh.nhs.uk"},{"$f":"VLOOKUP(A113,[1]Units!$A$2:$AJ$172,11,0)","v":"Jacqueline.birch@tgh.nhs.uk; Clare.Mellor@tgh.nhs.uk "},{"$f":"VLOOKUP(A113,[1]Units!$A$2:$AJ$172,15,0)","v":"karen.wright@tgh.nhs.uk; Elke.Brown@tgh.nhs.uk"},{"$f":"VLOOKUP(A113,[1]Units!$A$2:$AJ$172,19,0)","v":"Clare.Mellor@tgh.nhs.uk "},{"$f":"VLOOKUP(A113,[1]Units!$A$2:$AJ$172,22,0)","v":"Jade.mcaleer@tgh.nhs.uk"},{"$f":"VLOOKUP(A113,[2]Sheet2!$A$2:$C$172, 3, 0)","v":"Margotcarson@nhs.net"}]
["PZ141","South Tyneside District Hospital","Dr",{"$f":"VLOOKUP(A114,[1]Units!$A$2:$AJ$172,7,0)","v":"Okugbeni"},{"$f":"VLOOKUP(A114,[1]Units!$A$2:$AJ$172,9,0)","v":"gabriel.okugbeni1@nhs.net"},{"$f":"VLOOKUP(A114,[1]Units!$A$2:$AJ$172,11,0)","v":"alexandra.jones13@nhs.net"},{"$f":"VLOOKUP(A114,[1]Units!$A$2:$AJ$172,15,0)","v":"valerie.campbell3@nhs.net"},{"$f":"VLOOKUP(A114,[1]Units!$A$2:$AJ$172,19,0)","v":"joanne.henderson4@nhs.net"},null,{"$f":"VLOOKUP(A114,[2]Sheet2!$A$2:$C$172, 3, 0)","v":"Jenny.foster5@nhs.net"}]
["PZ144","Good Hope Hospital, Sutton Coldfield","Dr",{"$f":"VLOOKUP(A115,[1]Units!$A$2:$AJ$172,7,0)","v":"Plunkett"},{"$f":"VLOOKUP(A115,[1]Units!$A$2:$AJ$172,9,0)","v":"Michael.plunkett@uhb.nhs.uk"},{"$f":"VLOOKUP(A115,[1]Units!$A$2:$AJ$172,11,0)","v":"Paitra.l.sparkes@heartofengland.nhs.uk"},{"$f":"VLOOKUP(A115,[1]Units!$A$2:$AJ$172,15,0)","v":"Paitra.l.sparkes@heartofengland.nhs.uk"},null,null,{"$f":"VLOOKUP(A115,[2]Sheet2!$A$2:$C$172, 3, 0)","v":"heather.clark26@nhs.net"}]
["PZ145","Milton Keynes Hospital","Dr",{"$f":"VLOOKUP(A116,[1]Units!$A$2:$AJ$172,7,0)","v":"Ali"},{"$f":"VLOOKUP(A116,[1]Units!$A$2:$AJ$172,9,0)","v":"Keya.ali@mkuh.nhs.uk; karen.coleburt@mkuh.nhs.uk"},{"$f":"VLOOKUP(A116,[1]Units!$A$2:$AJ$172,11,0)","v":"caroline.simmons@mkuh.nhs.uk"},{"$f":"VLOOKUP(A116,[1]Units!$A$2:$AJ$172,15,0)","v":"james.bursell@mkhospital.nhs.uk"},{"$f":"VLOOKUP(A116,[1]Units!$A$2:$AJ$172,19,0)","v":"Jacqueline.higgins@mkuh.nhs.uk"},{"$f":"VLOOKUP(A116,[1]Units!$A$2:$AJ$172,22,0)","v":"Jacky.Palmer@mkuh.nhs.uk"},{"$f":"VLOOKUP(A116,[2]Sheet2!$A$2:$C$172, 3, 0)","v":"Myfanwy.Champness@ouh.nhs.uk "}]
["PZ146","Southend University Hospital","Dr",{"$f":"VLOOKUP(A117,[1]Units!$A$2:$AJ$172,7,0)","v":"Awadalla"},{"$f":"VLOOKUP(A117,[1]Units!$A$2:$AJ$172,9,0)","v":"fathel.awadalla@southend.nhs.uk"},null,{"$f":"VLOOKUP(A117,[1]Units!$A$2:$AJ$172,15,0)","v":"jpowathil@nhs.net"},null,null,{"$f":"VLOOKUP(A117,[2]Sheet2!$A$2:$C$172, 3, 0)","v":"Kate.Wilson@addenbrookes.nhs.uk "}]
["PZ149","Barnsley Hospital","Dr",{"$f":"VLOOKUP(A118,[1]Units!$A$2:$AJ$172,7,0)","v":"Bhimsaria"},{"$f":"VLOOKUP(A118,[1]Units!$A$2:$AJ$172,9,0)","v":"sunilbhimsaria@nhs.net"},null,{"$f":"VLOOKUP(A118,[1]Units!$A$2:$AJ$172,15,0)","v":"kate.pattison@nhs.net"},{"$f":"VLOOKUP(A118,[1]Units!$A$2:$AJ$172,19,0)","v":"denise.gibson@nhs.net"},null,{"$f":"VLOOKUP(A118,[2]Sheet2!$A$2:$C$172, 3, 0)","v":"emma.savage8@nhs.net"}]
["PZ150","Cumberland Infirmary","Dr",{"$f":"VLOOKUP(A119,[1]Units!$A$2:$AJ$172,7,0)","v":"Holt-Davis"},{"$f":"VLOOKUP(A119,[1]Units!$A$2:$AJ$172,9,0)","v":"Hannah.Holt-Davis@ncic.nhs.uk"},null,{"$f":"VLOOKUP(A119,[1]Units!$A$2:$AJ$172,15,0)","v":"Christine.carruthers@ncuh.nhs.uk"},{"$f":"VLOOKUP(A119,[1]Units!$A$2:$AJ$172,19,0)","v":"Kelvin.green@ncuh.nhs.uk"},{"$f":"VLOOKUP(A119,[1]Units!$A$2:$AJ$172,22,0)","v":"Julie.Edge@ncic.nhs.uk"},{"$f":"VLOOKUP(A119,[2]Sheet2!$A$2:$C$172, 3, 0)","v":"Jenny.foster5@nhs.net"}]
["PZ151","Queen Elizabeth Hospital, Woolwich","Dr ",{"$f":"VLOOKUP(A120,[1]Units!$A$2:$AJ$172,7,0)","v":"Raj"},{"$f":"VLOOKUP(A120,[1]Units!$A$2:$AJ$172,9,0)","v":"meena.raj1@nhs.net"},{"$f":"VLOOKUP(A120,[1]Units!$A$2:$AJ$172,11,0)","v":"jacob.eyers@nhs.net"},{"$f":"VLOOKUP(A120,[1]Units!$A$2:$AJ$172,15,0)","v":"louise.barham@nhs.net; d.swanscott@nhs.net; anne.kelly5@nhs.net"},{"$f":"VLOOKUP(A120,[1]Units!$A$2:$AJ$172,19,0)","v":"liz.bell@nhs.net;"},{"$f":"VLOOKUP(A120,[1]Units!$A$2:$AJ$172,22,0)","v":"sally.edwards1@nhs.net; sean.jones@nhs.net"},{"$f":"VLOOKUP(A120,[2]Sheet2!$A$2:$C$172, 3, 0)","v":"Usha.Parkash@nhs.net"}]
["PZ152","Torbay Hospital","Dr",{"$f":"VLOOKUP(A121,[1]Units!$A$2:$AJ$172,7,0)","v":"Reilly"},{"$f":"VLOOKUP(A121,[1]Units!$A$2:$AJ$172,9,0)","v":"Philip.reilly@nhs.net"},null,{"$f":"VLOOKUP(A121,[1]Units!$A$2:$AJ$172,15,0)","v":"lauracoley@nhs.net"},null,null,{"$f":"VLOOKUP(A121,[2]Sheet2!$A$2:$C$172, 3, 0)","v":"Lucyrowe@nhs.net"}]
["PZ153","Whiston Hospital","Dr",{"$f":"VLOOKUP(A122,[1]Units!$A$2:$AJ$172,7,0)","v":"Ahmad"},{"$f":"VLOOKUP(A122,[1]Units!$A$2:$AJ$172,9,0)","v":"Ijaz.ahmad@sthk.nhs.uk"},null,{"$f":"VLOOKUP(A122,[1]Units!$A$2:$AJ$172,15,0)","v":"Victoria.Peers@sthk.nhs.uk"},{"$f":"VLOOKUP(A122,[1]Units!$A$2:$AJ$172,19,0)","v":"Fiona.healey@sthk.nhs.uk"},{"$f":"VLOOKUP(A122,[1]Units!$A$2:$AJ$172,22,0)","v":"Swathi.Upadrasta2@sthk.nhs.uk"},{"$f":"VLOOKUP(A122,[2]Sheet2!$A$2:$C$172, 3, 0)","v":"Margotcarson@nhs.net"}]
["PZ156","Queen Elizabeth Hospital, Kings Lynn","Dr",{"$f":"VLOOKUP(A123,[1]Units!$A$2:$AJ$172,7,0)","v":"Piel"},{"$f":"VLOOKUP(A123,[1]Units!$A$2:$AJ$172,9,0)","v":"Barbara.Piel@qehkl.nhs.uk"},{"$f":"VLOOKUP(A123,[1]Units!$A$2:$AJ$172,11,0)","v":"matt.williams@qehkl.nhs.uk"},null,null,null,{"$f":"VLOOKUP(A123,[2]Sheet2!$A$2:$C$172, 3, 0)","v":"Kate.Wilson@addenbrookes.nhs.uk "}]
["PZ157","Royal Free Hospital","Dr",{"$f":"VLOOKUP(A124,[1]Units!$A$2:$AJ$172,7,0)","v":"Dublon"},{"$f":"VLOOKUP(A124,[1]Units!$A$2:$AJ$172,9,0)","v":"Victoria.Dublon@nhs.net"},null,{"$f":"VLOOKUP(A124,[1]Units!$A$2:$AJ$172,15,0)","v":"m.nuur@nhs.net"},{"$f":"VLOOKUP(A124,[1]Units!$A$2:$AJ$172,19,0)","v":"sue.hempstead@nhs.net"},{"$f":"VLOOKUP(A124,[1]Units!$A$2:$AJ$172,22,0)","v":"a.motabar1@nhs.net"},{"$f":"VLOOKUP(A124,[2]Sheet2!$A$2:$C$172, 3, 0)","v":"Usha.Parkash@nhs.net"}]
["PZ159","Basingstoke and North Hampshire Hospital","Dr",{"$f":"VLOOKUP(A125,[1]Units!$A$2:$AJ$172,7,0)","v":"Hind"},{"$f":"VLOOKUP(A125,[1]Units!$A$2:$AJ$172,9,0)","v":"Edward.Hind@hhft.nhs.uk"},null,{"$f":"VLOOKUP(A125,[1]Units!$A$2:$AJ$172,15,0)","v":"andrea.malone@hhft.nhs.uk"},{"$f":"VLOOKUP(A125,[1]Units!$A$2:$AJ$172,19,0)","v":"Julia.brown@hhft.nhs.uk"},null,{"$f":"VLOOKUP(A125,[2]Sheet2!$A$2:$C$172, 3, 0)","v":"Lucy.Powell@hhft.nhs.uk"}]
["PZ160","Bishop Auckland Hospital","Dr",{"$f":"VLOOKUP(A126,[1]Units!$A$2:$AJ$172,7,0)","v":"Lamb"},{"$f":"VLOOKUP(A126,[1]Units!$A$2:$AJ$172,9,0)","v":"william.lamb@nhs.net"},{"$f":"VLOOKUP(A126,[1]Units!$A$2:$AJ$172,11,0)","v":"william.lamb@nhs.net"},{"$f":"VLOOKUP(A126,[1]Units!$A$2:$AJ$172,15,0)","v":"kevin.graham@nhs.net"},null,null,{"$f":"VLOOKUP(A126,[2]Sheet2!$A$2:$C$172, 3, 0)","v":"Jenny.foster5@nhs.net"}]
["PZ161","Darlington Memorial Hospital","Dr",{"$f":"VLOOKUP(A127,[1]Units!$A$2:$AJ$172,7,0)","v":"Palombella "},{"$f":"VLOOKUP(A127,[1]Units!$A$2:$AJ$172,9,0)","v":"j.palombella@nhs.net"},{"$f":"VLOOKUP(A127,[1]Units!$A$2:$AJ$172,11,0)","v":"m.kambalimath@nhs.net"},{"$f":"VLOOKUP(A127,[1]Units!$A$2:$AJ$172,15,0)","v":"kevin.graham@nhs.net"},{"$f":"VLOOKUP(A127,[1]Units!$A$2:$AJ$172,19,0)","v":"swathy.sarangapani@nhs.net"},null,{"$f":"VLOOKUP(A127,[2]Sheet2!$A$2:$C$172, 3, 0)","v":"Jenny.foster5@nhs.net"}]
["PZ162","University Hospital of North Durham","Dr",{"$f":"VLOOKUP(A128,[1]Units!$A$2:$AJ$172,7,0)","v":"Palombella "},{"$f":"VLOOKUP(A128,[1]Units!$A$2:$AJ$172,9,0)","v":"j.palombella@nhs.net"},null,{"$f":"VLOOKUP(A128,[1]Units!$A$2:$AJ$172,15,0)","v":"s.el-kholy@nhs.net"},{"$f":"VLOOKUP(A128,[1]Units!$A$2:$AJ$172,19,0)","v":"kevin.graham@nhs.net"},null,{"$f":"VLOOKUP(A128,[2]Sheet2!$A$2:$C$172, 3, 0)","v":"Jenny.foster5@nhs.net"}]
["PZ163","University Hospital of North Tees and University Hospital of Hartlepool","Dr",{"$f":"VLOOKUP(A129,[1]Units!$A$2:$AJ$172,7,0)","v":"Sajjanraj"},{"$f":"VLOOKUP(A129,[1]Units!$A$2:$AJ$172,9,0)","v":"kishoresajjanraj@nhs.net"},null,{"$f":"VLOOKUP(A129,[1]Units!$A$2:$AJ$172,15,0)","v":"anna.milner@nhs.net"},{"$f":"VLOOKUP(A129,[1]Units!$A$2:$AJ$172,19,0)","v":"james.andrew2@nhs.net"},null,{"$f":"VLOOKUP(A129,[2]Sheet2!$A$2:$C$172, 3, 0)","v":"Jenny.foster5@nhs.net"}]
["PZ164","Rotherham Hospital","Dr",{"$f":"VLOOKUP(A130,[1]Units!$A$2:$AJ$172,7,0)","v":"Bashir"},{"$f":"VLOOKUP(A130,[1]Units!$A$2:$AJ$172,9,0)","v":"imran.bashir@nhs.net"},null,{"$f":"VLOOKUP(A130,[1]Units!$A$2:$AJ$172,15,0)","v":"katy.campbell2@nhs.net​"},{"$f":"VLOOKUP(A130,[1]Units!$A$2:$AJ$172,19,0)","v":"terrye.cartwright@nhs.net"},null,{"$f":"VLOOKUP(A130,[2]Sheet2!$A$2:$C$172, 3, 0)","v":"emma.savage8@nhs.net"}]
["PZ167","University Hospitals of Morecambe Bay NHS Foundation Trust ","Dr",{"$f":"VLOOKUP(A131,[1]Units!$A$2:$AJ$172,7,0)","v":"Peace"},{"$f":"VLOOKUP(A131,[1]Units!$A$2:$AJ$172,9,0)","v":"Helen.Peace@mbht.nhs.uk"},null,{"$f":"VLOOKUP(A131,[1]Units!$A$2:$AJ$172,15,0)","v":"Glenys.mckay@mbht.nhs.uk"},{"$f":"VLOOKUP(A131,[1]Units!$A$2:$AJ$172,19,0)","v":"Suzanne.Jackson@mbht.nhs.uk"},null,{"$f":"VLOOKUP(A131,[2]Sheet2!$A$2:$C$172, 3, 0)","v":"Margotcarson@nhs.net"}]
["PZ168","Grantham and District Hospital","Dr",{"$f":"VLOOKUP(A132,[1]Units!$A$2:$AJ$172,7,0)","v":"Naydeva-Grigorova"},{"$f":"VLOOKUP(A132,[1]Units!$A$2:$AJ$172,9,0)","v":"Tanya.Naydeva-Grigorova@ULH.nhs.uk"},null,{"$f":"VLOOKUP(A132,[1]Units!$A$2:$AJ$172,15,0)","v":"Rebecca.Cummings@ulh.nhs.uk"},null,null,{"$f":"VLOOKUP(A132,[2]Sheet2!$A$2:$C$172, 3, 0)","v":"asmita.sedhai3@nhs.net"}]
["PZ169","Salisbury District Hospital","Dr",{"$f":"VLOOKUP(A133,[1]Units!$A$2:$AJ$172,7,0)","v":"Anderson"},{"$f":"VLOOKUP(A133,[1]Units!$A$2:$AJ$172,9,0)","v":"chris.anderson1@nhs.net"},null,{"$f":"VLOOKUP(A133,[1]Units!$A$2:$AJ$172,15,0)","v":"Sally.madgwick@nhs.net"},{"$f":"VLOOKUP(A133,[1]Units!$A$2:$AJ$172,19,0)","v":"carly.ackland@nhs.net"},null,{"$f":"VLOOKUP(A133,[2]Sheet2!$A$2:$C$172, 3, 0)","v":"Lucy.Powell@hhft.nhs.uk"}]
["PZ170","Arrowe Park Hospital","Dr",{"$f":"VLOOKUP(A134,[1]Units!$A$2:$AJ$172,7,0)","v":"Bhowmik"},{"$f":"VLOOKUP(A134,[1]Units!$A$2:$AJ$172,9,0)","v":"sudeshna.bhowmik@nhs.net"},null,{"$f":"VLOOKUP(A134,[1]Units!$A$2:$AJ$172,15,0)","v":"beverley.sanders@nhs.net"},{"$f":"VLOOKUP(A134,[1]Units!$A$2:$AJ$172,19,0)","v":"ronacookson@nhs.net"},null,{"$f":"VLOOKUP(A134,[2]Sheet2!$A$2:$C$172, 3, 0)","v":"Margotcarson@nhs.net"}]
["PZ171","Broomfield Hospital","Dr",{"$f":"VLOOKUP(A135,[1]Units!$A$2:$AJ$172,7,0)","v":"Lim"},{"$f":"VLOOKUP(A135,[1]Units!$A$2:$AJ$172,9,0)","v":"Sharon.Lim@meht.nhs.uk"},{"$f":"VLOOKUP(A135,[1]Units!$A$2:$AJ$172,11,0)","v":"Harnom.Zubairu@nhs.net "},{"$f":"VLOOKUP(A135,[1]Units!$A$2:$AJ$172,15,0)","v":"sharmila.nambiar@meht.nhs.uk"},{"$f":"VLOOKUP(A135,[1]Units!$A$2:$AJ$172,19,0)","v":"mehtpaediatricssecretaries@meht.nhs.uk "},{"$f":"VLOOKUP(A135,[1]Units!$A$2:$AJ$172,22,0)","v":"Paul.Hawkins@meht.nhs.uk"},{"$f":"VLOOKUP(A135,[2]Sheet2!$A$2:$C$172, 3, 0)","v":"Kate.Wilson@addenbrookes.nhs.uk "}]
["PZ172","West Hertfordshire Hospitals NHS Trust ","Dr",{"$f":"VLOOKUP(A136,[1]Units!$A$2:$AJ$172,7,0)","v":"Mitchell"},{"$f":"VLOOKUP(A136,[1]Units!$A$2:$AJ$172,9,0)","v":"heather.mitchell@nhs.net"},null,null,null,null,{"$f":"VLOOKUP(A136,[2]Sheet2!$A$2:$C$172, 3, 0)","v":"Kate.Wilson@addenbrookes.nhs.uk "}]
["PZ173","Yeovil District Hospital","Dr",{"$f":"VLOOKUP(A137,[1]Units!$A$2:$AJ$172,7,0)","v":"Vaina"},{"$f":"VLOOKUP(A137,[1]Units!$A$2:$AJ$172,9,0)","v":"Camelia.Vaina@YDH.NHS.UK"},{"$f":"VLOOKUP(A137,[1]Units!$A$2:$AJ$172,11,0)","v":"Tamsyn.nicole@ydh.nhs.uk"},{"$f":"VLOOKUP(A137,[1]Units!$A$2:$AJ$172,15,0)","v":"Bethany.McNiven@YDH.NHS.UK"},{"$f":"VLOOKUP(A137,[1]Units!$A$2:$AJ$172,19,0)","v":"Julie.bond@ydh.nhs.uk"},{"$f":"VLOOKUP(A137,[1]Units!$A$2:$AJ$172,22,0)","v":"michelle.smith@ydh.nhs.uk"},{"$f":"VLOOKUP(A137,[2]Sheet2!$A$2:$C$172, 3, 0)","v":"Lucyrowe@nhs.net"}]
["PZ174","Kettering General Hospital","Dr",{"$f":"VLOOKUP(A138,[1]Units!$A$2:$AJ$172,7,0)","v":"Govier"},{"$f":"VLOOKUP(A138,[1]Units!$A$2:$AJ$172,9,0)","v":"Katie.govier@nhs.net"},{"$f":"VLOOKUP(A138,[1]Units!$A$2:$AJ$172,11,0)","v":"gmargabanthu@nhs.net"},null,{"$f":"VLOOKUP(A138,[1]Units!$A$2:$AJ$172,19,0)","v":"Kathryn.exton@nhft.nhs.uk"},null,{"$f":"VLOOKUP(A138,[2]Sheet2!$A$2:$C$172, 3, 0)","v":"asmita.sedhai3@nhs.net"}]
["PZ176","St Peter's Hospital","Dr",{"$f":"VLOOKUP(A139,[1]Units!$A$2:$AJ$172,7,0)","v":"Bahl"},{"$f":"VLOOKUP(A139,[1]Units!$A$2:$AJ$172,9,0)","v":"s.bahl@nhs.net"},null,{"$f":"VLOOKUP(A139,[1]Units!$A$2:$AJ$172,15,0)","v":"michaelhooker@nhs.net"},{"$f":"VLOOKUP(A139,[1]Units!$A$2:$AJ$172,19,0)","v":"asp-tr.generalpaeddiabetes@nhs.net"},{"$f":"VLOOKUP(A139,[1]Units!$A$2:$AJ$172,22,0)","v":"claire.berriman@nhs.net"},{"$f":"VLOOKUP(A139,[2]Sheet2!$A$2:$C$172, 3, 0)","v":"Usha.Parkash@nhs.net"}]
["PZ177","Royal Bolton Hospital","Dr",{"$f":"VLOOKUP(A140,[1]Units!$A$2:$AJ$172,7,0)","v":"McKinnon"},{"$f":"VLOOKUP(A140,[1]Units!$A$2:$AJ$172,9,0)","v":"James.McKinnon@boltonft.nhs.uk"},{"$f":"VLOOKUP(A140,[1]Units!$A$2:$AJ$172,11,0)","v":"Kay.Cowpe@boltonft.nhs.uk"},{"$f":"VLOOKUP(A140,[1]Units!$A$2:$AJ$172,15,0)","v":"Deborah.Cropper@boltonft.nhs.uk"},null,null,{"$f":"VLOOKUP(A140,[2]Sheet2!$A$2:$C$172, 3, 0)","v":"Margotcarson@nhs.net"}]
["PZ178","Manor Hospital, Walsall","Dr",{"$f":"VLOOKUP(A141,[1]Units!$A$2:$AJ$172,7,0)","v":"Javed"},{"$f":"VLOOKUP(A141,[1]Units!$A$2:$AJ$172,9,0)","v":"muhammad.javed@walsallhealthcare.nhs.uk"},{"$f":"VLOOKUP(A141,[1]Units!$A$2:$AJ$172,11,0)","v":"Deborah.mccausland@walsallhealthcare.nhs.uk"},{"$f":"VLOOKUP(A141,[1]Units!$A$2:$AJ$172,15,0)","v":"becky.wood@walsallhealthcare.nhs.uk"},{"$f":"VLOOKUP(A141,[1]Units!$A$2:$AJ$172,19,0)","v":"debbie.coates@walsallhospitals.nhs.uk"},{"$f":"VLOOKUP(A141,[1]Units!$A$2:$AJ$172,22,0)","v":"Annette.Killops@walsall.nhs.uk"},{"$f":"VLOOKUP(A141,[2]Sheet2!$A$2:$C$172, 3, 0)","v":"heather.clark26@nhs.net"}]
["PZ179","Countess of Chester Hospital NHS Trust","Dr",{"$f":"VLOOKUP(A142,[1]Units!$A$2:$AJ$172,7,0)","v":"Timmis"},{"$f":"VLOOKUP(A142,[1]Units!$A$2:$AJ$172,9,0)","v":"alison.timmis@nhs.net"},null,{"$f":"VLOOKUP(A142,[1]Units!$A$2:$AJ$172,15,0)","v":"Helen.dodd9@nhs.net"},{"$f":"VLOOKUP(A142,[1]Units!$A$2:$AJ$172,19,0)","v":"michaelmcguigan@nhs.net"},null,{"$f":"VLOOKUP(A142,[2]Sheet2!$A$2:$C$172, 3, 0)","v":"Margotcarson@nhs.net"}]
["PZ180","Kings Mill Hospital","Dr",{"$f":"VLOOKUP(A143,[1]Units!$A$2:$AJ$172,7,0)","v":"Ngwu "},{"$f":"VLOOKUP(A143,[1]Units!$A$2:$AJ$172,9,0)","v":"Ursula.Ngwu@nhs.net"},null,{"$f":"VLOOKUP(A143,[1]Units!$A$2:$AJ$172,15,0)","v":"sanjayrathi1@nhs.net"},null,null,{"$f":"VLOOKUP(A143,[2]Sheet2!$A$2:$C$172, 3, 0)","v":"asmita.sedhai3@nhs.net"}]
["PZ181","Ipswich Hospital","Dr",{"$f":"VLOOKUP(A144,[1]Units!$A$2:$AJ$172,7,0)","v":"Buck"},{"$f":"VLOOKUP(A144,[1]Units!$A$2:$AJ$172,9,0)","v":"Jackie.Buck@ipswichhospital.nhs.uk"},{"$f":"VLOOKUP(A144,[1]Units!$A$2:$AJ$172,11,0)","v":"Emma.Perkins@esneft.nhs.uk; Hannah.Sebborn@esneft.nhs.uk"},{"$f":"VLOOKUP(A144,[1]Units!$A$2:$AJ$172,15,0)","v":"Kerry.Denholm@esneft.nhs.uk"},{"$f":"VLOOKUP(A144,[1]Units!$A$2:$AJ$172,19,0)","v":"Heidi.Fulcher@esneft.nhs.uk"},{"$f":"VLOOKUP(A144,[1]Units!$A$2:$AJ$172,22,0)","v":"nationalaudit@esneft.nhs.uk;Jodie.borley@ipswichhospital.nhs.uk;nicola.moles@esneft.nhs.uk"},{"$f":"VLOOKUP(A144,[2]Sheet2!$A$2:$C$172, 3, 0)","v":"Kate.Wilson@addenbrookes.nhs.uk "}]
["PZ182","West Middlesex University Hospital","Dr",{"$f":"VLOOKUP(A145,[1]Units!$A$2:$AJ$172,7,0)","v":"Rangasami"},{"$f":"VLOOKUP(A145,[1]Units!$A$2:$AJ$172,9,0)","v":"jayanti.rangasami@nhs.net"},null,{"$f":"VLOOKUP(A145,[1]Units!$A$2:$AJ$172,15,0)","v":"archana.kshirsagar1@nhs.net"},{"$f":"VLOOKUP(A145,[1]Units!$A$2:$AJ$172,19,0)","v":"sara.kelly10@nhs.net; neelam.sharma6@nhs.net"},null,{"$f":"VLOOKUP(A145,[2]Sheet2!$A$2:$C$172, 3, 0)","v":"Usha.Parkash@nhs.net"}]
["PZ183","Royal Preston Hospital","Dr",{"$f":"VLOOKUP(A146,[1]Units!$A$2:$AJ$172,7,0)","v":"Ayoola"},{"$f":"VLOOKUP(A146,[1]Units!$A$2:$AJ$172,9,0)","v":"Omolola.ayoola@lthtr.nhs.uk"},null,{"$f":"VLOOKUP(A146,[1]Units!$A$2:$AJ$172,15,0)","v":"kate.orme@lthtr.nhs.uk"},{"$f":"VLOOKUP(A146,[1]Units!$A$2:$AJ$172,19,0)","v":"Deborah.kendall@lthtr.nhs.uk"},null,{"$f":"VLOOKUP(A146,[2]Sheet2!$A$2:$C$172, 3, 0)","v":"Margotcarson@nhs.net"}]
["PZ186","Calderdale & Huddersfield NHS Foundation Trust","Dr",{"$f":"VLOOKUP(A147,[1]Units!$A$2:$AJ$172,7,0)","v":"How Yaw"},{"$f":"VLOOKUP(A147,[1]Units!$A$2:$AJ$172,9,0)","v":"Stephanie.How-Yaw@cht.nhs.uk"},{"$f":"VLOOKUP(A147,[1]Units!$A$2:$AJ$172,11,0)","v":"lynne.terrett2@cht.nhs.uk"},{"$f":"VLOOKUP(A147,[1]Units!$A$2:$AJ$172,15,0)","v":"Sarah.schorah@cht.nhs.uk"},{"$f":"VLOOKUP(A147,[1]Units!$A$2:$AJ$172,19,0)","v":"Alison.oversby@cht.nhs.uk"},{"$f":"VLOOKUP(A147,[1]Units!$A$2:$AJ$172,22,0)","v":"amanda.grayson@cht.nhs.uk"},{"$f":"VLOOKUP(A147,[2]Sheet2!$A$2:$C$172, 3, 0)","v":"emma.savage8@nhs.net"}]
["PZ187","Wrexham Maelor Hospital","Dr",{"$f":"VLOOKUP(A148,[1]Units!$A$2:$AJ$172,7,0)","v":"Weerasinghe "},{"$f":"VLOOKUP(A148,[1]Units!$A$2:$AJ$172,9,0)","v":"kamal.weerasinghe@wales.nhs.uk"},{"$f":"VLOOKUP(A148,[1]Units!$A$2:$AJ$172,11,0)","v":"ravi.palakurthi@wales.nhs.uk"},{"$f":"VLOOKUP(A148,[1]Units!$A$2:$AJ$172,15,0)","v":"karen.czerniak@wales.nhs.uk"},null,{"$f":"VLOOKUP(A148,[1]Units!$A$2:$AJ$172,22,0)","v":"Trevor.Smith@wales.nhs.uk"},{"$f":"VLOOKUP(A148,[2]Sheet2!$A$2:$C$172, 3, 0)","v":"Jon.Matthias@wales.nhs.uk"}]
["PZ189","Royal Glamorgan Hospital","Dr",{"$f":"VLOOKUP(A149,[1]Units!$A$2:$AJ$172,7,0)","v":"Millar-Jones"},{"$f":"VLOOKUP(A149,[1]Units!$A$2:$AJ$172,9,0)","v":"Lynne.millar-jones@wales.nhs.uk"},null,{"$f":"VLOOKUP(A149,[1]Units!$A$2:$AJ$172,15,0)","v":"julie.haycox@wales.nhs.uk"},{"$f":"VLOOKUP(A149,[1]Units!$A$2:$AJ$172,19,0)","v":"Joanne.lloyd-jones@wales.nhs.uk"},{"$f":"VLOOKUP(A149,[1]Units!$A$2:$AJ$172,22,0)","v":"matthew.ward@wales.nhs.uk;dom.hurford@wales.nhs.uk "},{"$f":"VLOOKUP(A149,[2]Sheet2!$A$2:$C$172, 3, 0)","v":"Jon.Matthias@wales.nhs.uk"}]
["PZ191","Ealing Hospital","Dr",{"$f":"VLOOKUP(A150,[1]Units!$A$2:$AJ$172,7,0)","v":"Kumar"},{"$f":"VLOOKUP(A150,[1]Units!$A$2:$AJ$172,9,0)","v":"priya.kumar3@nhs.net"},{"$f":"VLOOKUP(A150,[1]Units!$A$2:$AJ$172,11,0)","v":"gillian.adams2@nhs.net"},{"$f":"VLOOKUP(A150,[1]Units!$A$2:$AJ$172,15,0)","v":"ewalichtarowicz-krynska@nhs.net"},null,null,{"$f":"VLOOKUP(A150,[2]Sheet2!$A$2:$C$172, 3, 0)","v":"Usha.Parkash@nhs.net"}]
["PZ193","Neath Port Talbot Hospital","Dr",{"$f":"VLOOKUP(A151,[1]Units!$A$2:$AJ$172,7,0)","v":"Ryan"},{"$f":"VLOOKUP(A151,[1]Units!$A$2:$AJ$172,9,0)","v":"Matthew.Ryan@wales.nhs.uk"},{"$f":"VLOOKUP(A151,[1]Units!$A$2:$AJ$172,11,0)","v":"Christopher.bidder@wales.nhs.uk"},null,{"$f":"VLOOKUP(A151,[1]Units!$A$2:$AJ$172,19,0)","v":"lesley.whitehorn@wales.nhs.uk"},{"$f":"VLOOKUP(A151,[1]Units!$A$2:$AJ$172,22,0)","v":"Sharon.E.Ragbetli@wales.nhs.uk; karen.lewis1c4154@wales.nhs.uk"},{"$f":"VLOOKUP(A151,[2]Sheet2!$A$2:$C$172, 3, 0)","v":"Jon.Matthias@wales.nhs.uk"}]
["PZ196","Great Ormond Street Hospital","Dr",{"$f":"VLOOKUP(A152,[1]Units!$A$2:$AJ$172,7,0)","v":"Peters"},{"$f":"VLOOKUP(A152,[1]Units!$A$2:$AJ$172,9,0)","v":"catherine.peters@gosh.nhs.uk"},{"$f":"VLOOKUP(A152,[1]Units!$A$2:$AJ$172,11,0)","v":"Kelly.Turner@gosh.nhs.uk"},{"$f":"VLOOKUP(A152,[1]Units!$A$2:$AJ$172,15,0)","v":"Samantha.Drew@gosh.nhs.uk"},{"$f":"VLOOKUP(A152,[1]Units!$A$2:$AJ$172,19,0)","v":"Andrew.Pearson@gosh.nhs.uk"},null,{"$f":"VLOOKUP(A152,[2]Sheet2!$A$2:$C$172, 3, 0)","v":"Usha.Parkash@nhs.net"}]
["PZ199","North Middlesex University Hospital","Dr",{"$f":"VLOOKUP(A153,[1]Units!$A$2:$AJ$172,7,0)","v":"Kapila"},{"$f":"VLOOKUP(A153,[1]Units!$A$2:$AJ$172,9,0)","v":"piyusha.kapila@nhs.net"},null,{"$f":"VLOOKUP(A153,[1]Units!$A$2:$AJ$172,15,0)","v":"Fionnghuala.fuller@nhs.net"},null,null,{"$f":"VLOOKUP(A153,[2]Sheet2!$A$2:$C$172, 3, 0)","v":"Usha.Parkash@nhs.net"}]
["PZ200","Princess Alexandra Hospital, Harlow (inc Rectory Lane Health Center, Essex) ","Dr",{"$f":"VLOOKUP(A154,[1]Units!$A$2:$AJ$172,7,0)","v":"Nuti"},{"$f":"VLOOKUP(A154,[1]Units!$A$2:$AJ$172,9,0)","v":"amith.nuti2@nhs.net"},null,{"$f":"VLOOKUP(A154,[1]Units!$A$2:$AJ$172,15,0)","v":"thulasibalakumar@nhs.net"},{"$f":"VLOOKUP(A154,[1]Units!$A$2:$AJ$172,19,0)","v":"naomi.staines@nhs.net"},null,{"$f":"VLOOKUP(A154,[2]Sheet2!$A$2:$C$172, 3, 0)","v":"Kate.Wilson@addenbrookes.nhs.uk "}]
["PZ202","St Marys Hospital, Imperial College, London","Dr",{"$f":"VLOOKUP(A155,[1]Units!$A$2:$AJ$172,7,0)","v":"Wassouf"},{"$f":"VLOOKUP(A155,[1]Units!$A$2:$AJ$172,9,0)","v":"samir.wassouf@nhs.net"},{"$f":"VLOOKUP(A155,[1]Units!$A$2:$AJ$172,11,0)","v":"mando.watson@nhs.net"},{"$f":"VLOOKUP(A155,[1]Units!$A$2:$AJ$172,15,0)","v":"christopher.bound@nhs.net"},{"$f":"VLOOKUP(A155,[1]Units!$A$2:$AJ$172,19,0)","v":"soraia.vieira@nhs.net"},{"$f":"VLOOKUP(A155,[1]Units!$A$2:$AJ$172,22,0)","v":"karen.logan3@nhs.net"},{"$f":"VLOOKUP(A155,[2]Sheet2!$A$2:$C$172, 3, 0)","v":"Usha.Parkash@nhs.net"}]
["PZ203","University College London Hospital","Prof",{"$f":"VLOOKUP(A156,[1]Units!$A$2:$AJ$172,7,0)","v":"Hindmarsh"},{"$f":"VLOOKUP(A156,[1]Units!$A$2:$AJ$172,9,0)","v":"p.hindmarsh@ucl.ac.uk"},{"$f":"VLOOKUP(A156,[1]Units!$A$2:$AJ$172,11,0)","v":"Francesca.Annan@nhs.net"},{"$f":"VLOOKUP(A156,[1]Units!$A$2:$AJ$172,15,0)","v":"Thayavathi.Subramaniam@nhs.net"},{"$f":"VLOOKUP(A156,[1]Units!$A$2:$AJ$172,19,0)","v":"billy.white@nhs.net;rebecca.martin4@nhs.net "},{"$f":"VLOOKUP(A156,[1]Units!$A$2:$AJ$172,22,0)","v":"halina.flannery@nhs.net"},{"$f":"VLOOKUP(A156,[2]Sheet2!$A$2:$C$172, 3, 0)","v":"Usha.Parkash@nhs.net"}]
["PZ206","The Pennine Acute Hospitals NHS Trust","Dr",{"$f":"VLOOKUP(A157,[1]Units!$A$2:$AJ$172,7,0)","v":"Bagewadi"},{"$f":"VLOOKUP(A157,[1]Units!$A$2:$AJ$172,9,0)","v":"sunil.bagewadi@pat.nhs.uk"},{"$f":"VLOOKUP(A157,[1]Units!$A$2:$AJ$172,11,0)","v":"paul.carr@pat.nhs.uk"},{"$f":"VLOOKUP(A157,[1]Units!$A$2:$AJ$172,15,0)","v":"Stephanie.Tarpey@pat.nhs.uk"},{"$f":"VLOOKUP(A157,[1]Units!$A$2:$AJ$172,19,0)","v":"Peter.Doyle@pat.nhs.uk"},{"$f":"VLOOKUP(A157,[1]Units!$A$2:$AJ$172,22,0)","v":"EmilyMaria.Faulkner@pat.nhs.uk"},{"$f":"VLOOKUP(A157,[2]Sheet2!$A$2:$C$172, 3, 0)","v":"Margotcarson@nhs.net"}]
["PZ213","East Surrey Hospital","Dr",{"$f":"VLOOKUP(A158,[1]Units!$A$2:$AJ$172,7,0)","v":"Jain"},{"$f":"VLOOKUP(A158,[1]Units!$A$2:$AJ$172,9,0)","v":"Neemisha.Jain@nhs.net"},null,{"$f":"VLOOKUP(A158,[1]Units!$A$2:$AJ$172,15,0)","v":"O.Lipova@nhs.net"},{"$f":"VLOOKUP(A158,[1]Units!$A$2:$AJ$172,19,0)","v":"nicola.streatfield@nhs.net"},null,{"$f":"VLOOKUP(A158,[2]Sheet2!$A$2:$C$172, 3, 0)","v":"Usha.Parkash@nhs.net"}]
["PZ215","Kings College Hospital, London","Dr",{"$f":"VLOOKUP(A159,[1]Units!$A$2:$AJ$172,7,0)","v":"Ford-Adams"},{"$f":"VLOOKUP(A159,[1]Units!$A$2:$AJ$172,9,0)","v":"martha.ford-adams@nhs.net"},null,{"$f":"VLOOKUP(A159,[1]Units!$A$2:$AJ$172,15,0)","v":"p.deshmukh@nhs.net"},{"$f":"VLOOKUP(A159,[1]Units!$A$2:$AJ$172,19,0)","v":"j.gnanendran@nhs.net"},null,{"$f":"VLOOKUP(A159,[2]Sheet2!$A$2:$C$172, 3, 0)","v":"Usha.Parkash@nhs.net"}]
["PZ216","Tunbridge Wells Hospital","Dr ",{"$f":"VLOOKUP(A160,[1]Units!$A$2:$AJ$172,7,0)","v":"Khanna"},{"$f":"VLOOKUP(A160,[1]Units!$A$2:$AJ$172,9,0)","v":"ankit.khanna@nhs.net"},{"$f":"VLOOKUP(A160,[1]Units!$A$2:$AJ$172,11,0)","v":"kpathy@nhs.net"},{"$f":"VLOOKUP(A160,[1]Units!$A$2:$AJ$172,15,0)","v":"mlibby@nhs.net"},{"$f":"VLOOKUP(A160,[1]Units!$A$2:$AJ$172,19,0)","v":"cpatankar@nhs.net; laura.halpin1@nhs.net; ankit.khanna@nhs.net"},{"$f":"VLOOKUP(A160,[1]Units!$A$2:$AJ$172,22,0)","v":"Stephanie.smith29@nhs.net"},{"$f":"VLOOKUP(A160,[2]Sheet2!$A$2:$C$172, 3, 0)","v":"Usha.Parkash@nhs.net"}]
["PZ218","Frimley Park Hospital ","Dr",{"$f":"VLOOKUP(A161,[1]Units!$A$2:$AJ$172,7,0)","v":"Goturu"},{"$f":"VLOOKUP(A161,[1]Units!$A$2:$AJ$172,9,0)","v":"Aruna.Goturu@nhs.net; elizabeth.george9@nhs.net"},{"$f":"VLOOKUP(A161,[1]Units!$A$2:$AJ$172,11,0)","v":"rekha.sanghavi@nhs.net"},{"$f":"VLOOKUP(A161,[1]Units!$A$2:$AJ$172,15,0)","v":"elizabeth.george9@nhs.net"},{"$f":"VLOOKUP(A161,[1]Units!$A$2:$AJ$172,19,0)","v":"g.smith53@nhs.net; joana.carmo@nhs.net; paula.betenson@nhs.net"},{"$f":"VLOOKUP(A161,[1]Units!$A$2:$AJ$172,22,0)","v":"gemma.bryce@nhs.net; sarah.bond21@nhs.net"},{"$f":"VLOOKUP(A161,[2]Sheet2!$A$2:$C$172, 3, 0)","v":"Usha.Parkash@nhs.net"}]
["PZ219","Sheffield Childrens Hospital","Dr",{"$f":"VLOOKUP(A162,[1]Units!$A$2:$AJ$172,7,0)","v":"Wright"},{"$f":"VLOOKUP(A162,[1]Units!$A$2:$AJ$172,9,0)","v":"neil.wright1@nhs.net"},null,{"$f":"VLOOKUP(A162,[1]Units!$A$2:$AJ$172,15,0)","v":"a.darby@nhs.net"},{"$f":"VLOOKUP(A162,[1]Units!$A$2:$AJ$172,19,0)","v":"a.soni1@nhs.net"},{"$f":"VLOOKUP(A162,[1]Units!$A$2:$AJ$172,22,0)","v":"nivedita.aswani1@nhs.net "},{"$f":"VLOOKUP(A162,[2]Sheet2!$A$2:$C$172, 3, 0)","v":"emma.savage8@nhs.net"}]
["PZ220","Bedford Hospital","Dr",{"$f":"VLOOKUP(A163,[1]Units!$A$2:$AJ$172,7,0)","v":"Khetriwal"},{"$f":"VLOOKUP(A163,[1]Units!$A$2:$AJ$172,9,0)","v":"babita.khetriwal@bedfordhospital.nhs.uk"},{"$f":"VLOOKUP(A163,[1]Units!$A$2:$AJ$172,11,0)","v":"Maureen.Walton@ldh.nhs.uk"},{"$f":"VLOOKUP(A163,[1]Units!$A$2:$AJ$172,15,0)","v":"kalika.shah-enderby@bedfordhospital.nhs.uk"},null,null,{"$f":"VLOOKUP(A163,[2]Sheet2!$A$2:$C$172, 3, 0)","v":"Kate.Wilson@addenbrookes.nhs.uk "}]
["PZ221","Great Western Hospital","Dr",{"$f":"VLOOKUP(A164,[1]Units!$A$2:$AJ$172,7,0)","v":"West"},{"$f":"VLOOKUP(A164,[1]Units!$A$2:$AJ$172,9,0)","v":"nicol.west1@nhs.net"},{"$f":"VLOOKUP(A164,[1]Units!$A$2:$AJ$172,11,0)","v":"sandra.rudman@nhs.net"},null,null,null,{"$f":"VLOOKUP(A164,[2]Sheet2!$A$2:$C$172, 3, 0)","v":"Lucyrowe@nhs.net"}]
["PZ222","New Cross Hospital, Wolverhampton","Dr",{"$f":"VLOOKUP(A165,[1]Units!$A$2:$AJ$172,7,0)","v":"Pargass"},{"$f":"VLOOKUP(A165,[1]Units!$A$2:$AJ$172,9,0)","v":"Nisha.Pargass@nhs.net"},{"$f":"VLOOKUP(A165,[1]Units!$A$2:$AJ$172,11,0)","v":"sammie.bissell@nhs.net"},{"$f":"VLOOKUP(A165,[1]Units!$A$2:$AJ$172,15,0)","v":"d.deakin@nhs.net"},{"$f":"VLOOKUP(A165,[1]Units!$A$2:$AJ$172,19,0)","v":"s.uppal@nhs.net"},{"$f":"VLOOKUP(A165,[1]Units!$A$2:$AJ$172,22,0)","v":"r.jayaraman@nhs.net"},{"$f":"VLOOKUP(A165,[2]Sheet2!$A$2:$C$172, 3, 0)","v":"heather.clark26@nhs.net"}]
["PZ223","Sandwell General Hospital","Dr",{"$f":"VLOOKUP(A166,[1]Units!$A$2:$AJ$172,7,0)","v":"Chizo Agwu"},{"$f":"VLOOKUP(A166,[1]Units!$A$2:$AJ$172,9,0)","v":"chizo.agwu@nhs.net"},null,{"$f":"VLOOKUP(A166,[1]Units!$A$2:$AJ$172,15,0)","v":"Julie.oliver1@nhs.net"},null,null,{"$f":"VLOOKUP(A166,[2]Sheet2!$A$2:$C$172, 3, 0)","v":"heather.clark26@nhs.net"}]
["PZ225","Worcestershire Royal Hospital","Dr",{"$f":"VLOOKUP(A167,[1]Units!$A$2:$AJ$172,7,0)","v":"West"},{"$f":"VLOOKUP(A167,[1]Units!$A$2:$AJ$172,9,0)","v":"jameswest@nhs.net"},null,null,{"$f":"VLOOKUP(A167,[1]Units!$A$2:$AJ$172,19,0)","v":"dianecluley@nhs.net"},{"$f":"VLOOKUP(A167,[1]Units!$A$2:$AJ$172,22,0)","v":"sarah.phillips21@nhs.net"},{"$f":"VLOOKUP(A167,[2]Sheet2!$A$2:$C$172, 3, 0)","v":"heather.clark26@nhs.net"}]
["PZ226","Dewsbury & District Hospital","Dr",{"$f":"VLOOKUP(A168,[1]Units!$A$2:$AJ$172,7,0)","v":"Allagoa"},{"$f":"VLOOKUP(A168,[1]Units!$A$2:$AJ$172,9,0)","v":"brigid.allagoa@midyorks.nhs.uk"},null,{"$f":"VLOOKUP(A168,[1]Units!$A$2:$AJ$172,15,0)","v":"Kate.scott@locala.org.uk"},null,null,{"$f":"VLOOKUP(A168,[2]Sheet2!$A$2:$C$172, 3, 0)","v":"emma.savage8@nhs.net"}]
["PZ228","Prince Charles Hospital ","Dr",{"$f":"VLOOKUP(A169,[1]Units!$A$2:$AJ$172,7,0)","v":"Okuonghae"},{"$f":"VLOOKUP(A169,[1]Units!$A$2:$AJ$172,9,0)","v":"humphrey.okuonghae@wales.nhs.uk"},null,{"$f":"VLOOKUP(A169,[1]Units!$A$2:$AJ$172,15,0)","v":"lucy.collins@wales.nhs.uk"},{"$f":"VLOOKUP(A169,[1]Units!$A$2:$AJ$172,19,0)","v":"Heather.Oconnell@wales.nhs.uk"},{"$f":"VLOOKUP(A169,[1]Units!$A$2:$AJ$172,22,0)","v":"Arlene.shenkorov@wales.nhs.uk"},{"$f":"VLOOKUP(A169,[2]Sheet2!$A$2:$C$172, 3, 0)","v":"Jon.Matthias@wales.nhs.uk"}]
["PZ230","East Sussex Healthcare NHS Trust_Conquest Hospital ","Dr",{"$f":"VLOOKUP(A170,[1]Units!$A$2:$AJ$172,7,0)","v":"Gill"},{"$f":"VLOOKUP(A170,[1]Units!$A$2:$AJ$172,9,0)","v":"stephanie.gill@nhs.net"},null,{"$f":"VLOOKUP(A170,[1]Units!$A$2:$AJ$172,15,0)","v":"nadia.muhi-iddin1@nhs.net"},{"$f":"VLOOKUP(A170,[1]Units!$A$2:$AJ$172,19,0)","v":"ellen.blay@nhs.net"},null,{"$f":"VLOOKUP(A170,[2]Sheet2!$A$2:$C$172, 3, 0)","v":"Usha.Parkash@nhs.net"}]
["PZ231","Salford Royal Foundation Trust","Dr",{"$f":"VLOOKUP(A171,[1]Units!$A$2:$AJ$172,7,0)","v":"Rahman"},{"$f":"VLOOKUP(A171,[1]Units!$A$2:$AJ$172,9,0)","v":"shahera.rahman@srft.nhs.uk"},{"$f":"VLOOKUP(A171,[1]Units!$A$2:$AJ$172,11,0)","v":"DawnL.Anderson@srft.nhs.uk"},{"$f":"VLOOKUP(A171,[1]Units!$A$2:$AJ$172,15,0)","v":"Rachael.Bowker@srft.nhs.uk"},null,null,{"$f":"VLOOKUP(A171,[2]Sheet2!$A$2:$C$172, 3, 0)","v":"Margotcarson@nhs.net"}]
["PZ232","BHR University Hospitals NHS Trust ","Dr",{"$f":"VLOOKUP(A172,[1]Units!$A$2:$AJ$172,7,0)","v":"Banerjee"},{"$f":"VLOOKUP(A172,[1]Units!$A$2:$AJ$172,9,0)","v":"kausikbanerjee@nhs.net"},{"$f":"VLOOKUP(A172,[1]Units!$A$2:$AJ$172,11,0)","v":"andrea.donald2@nhs.net"},null,null,null,{"$f":"VLOOKUP(A172,[2]Sheet2!$A$2:$C$172, 3, 0)","v":"Usha.Parkash@nhs.net"}]
["PZ238","Queen Alexandra Hospital, Portsmouth","Dr",{"$f":"VLOOKUP(A173,[1]Units!$A$2:$AJ$172,7,0)","v":"Davis"},{"$f":"VLOOKUP(A173,[1]Units!$A$2:$AJ$172,9,0)","v":"Emma.Davis@porthosp.nhs.uk"},{"$f":"VLOOKUP(A173,[1]Units!$A$2:$AJ$172,11,0)","v":"vinodh.vijayakumaran@porthosp.nhs.uk"},{"$f":"VLOOKUP(A173,[1]Units!$A$2:$AJ$172,15,0)","v":"Deena.Alsheikh@porthosp.nhs.uk"},{"$f":"VLOOKUP(A173,[1]Units!$A$2:$AJ$172,19,0)","v":"Heather.Carmichael@porthosp.nhs.uk"},{"$f":"VLOOKUP(A173,[1]Units!$A$2:$AJ$172,22,0)","v":"victoria.maclellan@porthosp.nhs.uk"},{"$f":"VLOOKUP(A173,[2]Sheet2!$A$2:$C$172, 3, 0)","v":"Lucy.Powell@hhft.nhs.uk"}]
["PZ240","Russells Hall Hospital","Dr",{"$f":"VLOOKUP(A174,[1]Units!$A$2:$AJ$172,7,0)","v":"Petkar"},{"$f":"VLOOKUP(A174,[1]Units!$A$2:$AJ$172,9,0)","v":"anjali.petkar@nhs.net"},null,null,null,null,{"$f":"VLOOKUP(A174,[2]Sheet2!$A$2:$C$172, 3, 0)","v":"heather.clark26@nhs.net"}]
["PZ242","Gloucestershire Royal Hospital","Dr ",{"$f":"VLOOKUP(A175,[1]Units!$A$2:$AJ$172,7,0)","v":"AbithaKujambal"},{"$f":"VLOOKUP(A175,[1]Units!$A$2:$AJ$172,9,0)","v":"Vellore.AbithaKujambal@nhs.net"},{"$f":"VLOOKUP(A175,[1]Units!$A$2:$AJ$172,11,0)","v":"debbie.harris12@nhs.net"},null,null,null,{"$f":"VLOOKUP(A175,[2]Sheet2!$A$2:$C$172, 3, 0)","v":"Lucyrowe@nhs.net"}]
["PZ244","Hywel Dda University Health Board","Dr",{"$f":"VLOOKUP(A176,[1]Units!$A$2:$AJ$172,7,0)","v":"Fountain-Polley"},{"$f":"VLOOKUP(A176,[1]Units!$A$2:$AJ$172,9,0)","v":"simon.fountain-polley@wales.nhs.uk"},{"$f":"VLOOKUP(A176,[1]Units!$A$2:$AJ$172,11,0)","v":"Yvonne.Davies2@wales.nhs.uk"},{"$f":"VLOOKUP(A176,[1]Units!$A$2:$AJ$172,15,0)","v":"Sian.southgate@wales.nhs.uk"},{"$f":"VLOOKUP(A176,[1]Units!$A$2:$AJ$172,19,0)","v":"Laura.Gingell@wales.nhs.uk"},{"$f":"VLOOKUP(A176,[1]Units!$A$2:$AJ$172,22,0)","v":"Ian.bebb@wales.nhs.uk;  Swe.Lynn@wales.nhs.uk; Kim.Crossman@wales.nhs.uk; Heather.Oconnell@wales.nhs.uk"},{"$f":"VLOOKUP(A176,[2]Sheet2!$A$2:$C$172, 3, 0)","v":"Jon.Matthias@wales.nhs.uk"}]
["PZ245","The Grange University Hospital","Dr",{"$f":"VLOOKUP(A177,[1]Units!$A$2:$AJ$172,7,0)","v":"Hawkes"},{"$f":"VLOOKUP(A177,[1]Units!$A$2:$AJ$172,9,0)","v":"Davida.Hawkes@wales.nhs.uk "},{"$f":"VLOOKUP(A177,[1]Units!$A$2:$AJ$172,11,0)","v":"Ramya.Venkataramakrishnan@wales.nhs.uk"},{"$f":"VLOOKUP(A177,[1]Units!$A$2:$AJ$172,15,0)","v":"Heather.Oconnell@wales.nhs.uk"},{"$f":"VLOOKUP(A177,[1]Units!$A$2:$AJ$172,19,0)","v":"suzanne.hackling@wales.nhs.uk"},{"$f":"VLOOKUP(A177,[1]Units!$A$2:$AJ$172,22,0)","v":"Kate.Hooton@wales.nhs.uk; "},{"$f":"VLOOKUP(A177,[2]Sheet2!$A$2:$C$172, 3, 0)","v":"Jon.Matthias@wales.nhs.uk"}]

{"sheet":"Report","index":6,"n_rows":461,"n_cols":15,"rows_kept":461,"cut":false,"hidden":true,"merged":[[281,16365,281,16369],[281,16370,281,16374],[281,16375,281,16379],[281,16380,281,16383],[296,0,296,4],[296,5,296,9],[281,16340,281,16344],[281,16345,281,16349],[281,16350,281,16354],[281,16355,281,16359],[281,16360,281,16364],[281,16315,281,16319],[281,16320,281,16324],[281,16325,281,16329],[281,16330,281,16334],[281,16335,281,16339],[281,16290,281,16294],[281,16295,281,16299],[281,16300,281,16304],[281,16305,281,16309],[281,16310,281,16314],[281,16265,281,16269],[281,16270,281,16274],[281,16275,281,16279],[281,16280,281,16284],[281,16285,281,16289],[281,16240,281,16244],[281,16245,281,16249],[281,16250,281,16254],[281,16255,281,16259],[281,16260,281,16264],[281,16215,281,16219],[281,16220,281,16224],[281,16225,281,16229],[281,16230,281,16234],[281,16235,281,16239],[281,16190,281,16194],[281,16195,281,16199],[281,16200,281,16204],[281,16205,281,16209],[281,16210,281,16214],[281,16165,281,16169],[281,16170,281,16174],[281,16175,281,16179],[281,16180,281,16184],[281,16185,281,16189],[281,16140,281,16144],[281,16145,281,16149],[281,16150,281,16154],[281,16155,281,16159],[281,16160,281,16164],[281,16115,281,16119],[281,16120,281,16124],[281,16125,281,16129],[281,16130,281,16134],[281,16135,281,16139],[281,16090,281,16094],[281,16095,281,16099],[281,16100,281,16104],[281,16105,281,16109],[281,16110,281,16114],[281,16065,281,16069],[281,16070,281,16074],[281,16075,281,16079],[281,16080,281,16084],[281,16085,281,16089],[281,16040,281,16044],[281,16045,281,16049],[281,16050,281,16054],[281,16055,281,16059],[281,16060,281,16064],[281,16015,281,16019],[281,16020,281,16024],[281,16025,281,16029],[281,16030,281,16034],[281,16035,281,16039],[281,15990,281,15994],[281,15995,281,15999],[281,16000,281,16004],[281,16005,281,16009],[281,16010,281,16014],[281,15965,281,15969],[281,15970,281,15974],[281,15975,281,15979],[281,15980,281,15984],[281,15985,281,15989],[281,15940,281,15944],[281,15945,281,15949],[281,15950,281,15954],[281,15955,281,15959],[281,15960,281,15964],[281,15915,281,15919],[281,15920,281,15924],[281,15925,281,15929],[281,15930,281,15934],[281,15935,281,15939],[281,15890,281,15894],[281,15895,281,15899],[281,15900,281,15904],[281,15905,281,15909],[281,15910,281,15914],[281,15865,281,15869],[281,15870,281,15874],[281,15875,281,15879],[281,15880,281,15884],[281,15885,281,15889],[281,15840,281,15844],[281,15845,281,15849],[281,15850,281,15854],[281,15855,281,15859],[281,15860,281,15864],[281,15815,281,15819],[281,15820,281,15824],[281,15825,281,15829],[281,15830,281,15834],[281,15835,281,15839],[281,15790,281,15794],[281,15795,281,15799],[281,15800,281,15804],[281,15805,281,15809],[281,15810,281,15814],[281,15765,281,15769],[281,15770,281,15774],[281,15775,281,15779],[281,15780,281,15784],[281,15785,281,15789],[281,15740,281,15744],[281,15745,281,15749],[281,15750,281,15754],[281,15755,281,15759],[281,15760,281,15764],[281,15715,281,15719],[281,15720,281,15724],[281,15725,281,15729],[281,15730,281,15734],[281,15735,281,15739],[281,15690,281,15694],[281,15695,281,15699],[281,15700,281,15704],[281,15705,281,15709],[281,15710,281,15714],[281,15665,281,15669],[281,15670,281,15674],[281,15675,281,15679],[281,15680,281,15684],[281,15685,281,15689],[281,15640,281,15644],[281,15645,281,15649],[281,15650,281,15654],[281,15655,281,15659],[281,15660,281,15664],[281,15615,281,15619],[281,15620,281,15624],[281,15625,281,15629],[281,15630,281,15634],[281,15635,281,15639],[281,15590,281,15594],[281,15595,281,15599],[281,15600,281,15604],[281,15605,281,15609],[281,15610,281,15614],[281,15565,281,15569],[281,15570,281,15574],[281,15575,281,15579],[281,15580,281,15584],[281,15585,281,15589],[281,15540,281,15544],[281,15545,281,15549],[281,15550,281,15554],[281,15555,281,15559],[281,15560,281,15564],[281,15515,281,15519],[281,15520,281,15524],[281,15525,281,15529],[281,15530,281,15534],[281,15535,281,15539],[281,15490,281,15494],[281,15495,281,15499],[281,15500,281,15504],[281,15505,281,15509],[281,15510,281,15514],[281,15465,281,15469],[281,15470,281,15474],[281,15475,281,15479],[281,15480,281,15484],[281,15485,281,15489],[281,15440,281,15444],[281,15445,281,15449],[281,15450,281,15454],[281,15455,281,15459],[281,15460,281,15464],[281,15415,281,15419],[281,15420,281,15424],[281,15425,281,15429],[281,15430,281,15434],[281,15435,281,15439],[281,15390,281,15394],[281,15395,281,15399],[281,15400,281,15404],[281,15405,281,15409],[281,15410,281,15414],[281,15365,281,15369],[281,15370,281,15374],[281,15375,281,15379],[281,15380,281,15384],[281,15385,281,15389],[281,15340,281,15344],[281,15345,281,15349],[281,15350,281,15354],[281,15355,281,15359],[281,15360,281,15364],[281,15315,281,15319],[281,15320,281,15324],[281,15325,281,15329],[281,15330,281,15334],[281,15335,281,15339],[281,15290,281,15294],[281,15295,281,15299],[281,15300,281,15304],[281,15305,281,15309],[281,15310,281,15314],[281,15265,281,15269],[281,15270,281,15274],[281,15275,281,15279],[281,15280,281,15284],[281,15285,281,15289],[281,15240,281,15244],[281,15245,281,15249],[281,15250,281,15254],[281,15255,281,15259],[281,15260,281,15264],[281,15215,281,15219],[281,15220,281,15224],[281,15225,281,15229],[281,15230,281,15234],[281,15235,281,15239],[281,15190,281,15194],[281,15195,281,15199],[281,15200,281,15204],[281,15205,281,15209],[281,15210,281,15214],[281,15165,281,15169],[281,15170,281,15174],[281,15175,281,15179],[281,15180,281,15184],[281,15185,281,15189],[281,15140,281,15144],[281,15145,281,15149],[281,15150,281,15154],[281,15155,281,15159],[281,15160,281,15164],[281,15115,281,15119],[281,15120,281,15124],[281,15125,281,15129],[281,15130,281,15134],[281,15135,281,15139],[281,15090,281,15094],[281,15095,281,15099],[281,15100,281,15104],[281,15105,281,15109],[281,15110,281,15114],[281,15065,281,15069],[281,15070,281,15074],[281,15075,281,15079],[281,15080,281,15084],[281,15085,281,15089],[281,15040,281,15044],[281,15045,281,15049],[281,15050,281,15054],[281,15055,281,15059],[281,15060,281,15064],[281,15015,281,15019],[281,15020,281,15024],[281,15025,281,15029],[281,15030,281,15034],[281,15035,281,15039],[281,14990,281,14994],[281,14995,281,14999],[281,15000,281,15004],[281,15005,281,15009],[281,15010,281,15014],[281,14965,281,14969],[281,14970,281,14974],[281,14975,281,14979],[281,14980,281,14984],[281,14985,281,14989],[281,14940,281,14944],[281,14945,281,14949],[281,14950,281,14954],[281,14955,281,14959],[281,14960,281,14964],[281,14915,281,14919],[281,14920,281,14924],[281,14925,281,14929],[281,14930,281,14934],[281,14935,281,14939],[281,14890,281,14894],[281,14895,281,14899],[281,14900,281,14904],[281,14905,281,14909],[281,14910,281,14914],[281,14865,281,14869],[281,14870,281,14874],[281,14875,281,14879],[281,14880,281,14884],[281,14885,281,14889],[281,14840,281,14844],[281,14845,281,14849],[281,14850,281,14854],[281,14855,281,14859],[281,14860,281,14864],[281,14815,281,14819],[281,14820,281,14824],[281,14825,281,14829],[281,14830,281,14834],[281,14835,281,14839],[281,14790,281,14794],[281,14795,281,14799],[281,14800,281,14804],[281,14805,281,14809],[281,14810,281,14814],[281,14765,281,14769],[281,14770,281,14774],[281,14775,281,14779],[281,14780,281,14784],[281,14785,281,14789],[281,14740,281,14744],[281,14745,281,14749],[281,14750,281,14754],[281,14755,281,14759],[281,14760,281,14764],[281,14715,281,14719],[281,14720,281,14724],[281,14725,281,14729],[281,14730,281,14734],[281,14735,281,14739],[281,14690,281,14694],[281,14695,281,14699],[281,14700,281,14704],[281,14705,281,14709],[281,14710,281,14714],[281,14665,281,14669],[281,14670,281,14674],[281,14675,281,14679],[281,14680,281,14684],[281,14685,281,14689],[281,14640,281,14644],[281,14645,281,14649],[281,14650,281,14654],[281,14655,281,14659],[281,14660,281,14664],[281,14615,281,14619],[281,14620,281,14624],[281,14625,281,14629],[281,14630,281,14634],[281,14635,281,14639],[281,14590,281,14594],[281,14595,281,14599],[281,14600,281,14604],[281,14605,281,14609],[281,14610,281,14614],[281,14565,281,14569],[281,14570,281,14574],[281,14575,281,14579],[281,14580,281,14584],[281,14585,281,14589],[281,14540,281,14544],[281,14545,281,14549],[281,14550,281,14554],[281,14555,281,14559],[281,14560,281,14564],[281,14515,281,14519],[281,14520,281,14524],[281,14525,281,14529],[281,14530,281,14534],[281,14535,281,14539],[281,14490,281,14494],[281,14495,281,14499],[281,14500,281,14504],[281,14505,281,14509],[281,14510,281,14514],[281,14465,281,14469],[281,14470,281,14474],[281,14475,281,14479],[281,14480,281,14484],[281,14485,281,14489],[281,14440,281,14444],[281,14445,281,14449],[281,14450,281,14454],[281,14455,281,14459],[281,14460,281,14464],[281,14415,281,14419],[281,14420,281,14424],[281,14425,281,14429],[281,14430,281,14434],[281,14435,281,14439],[281,14390,281,14394],[281,14395,281,14399],[281,14400,281,14404],[281,14405,281,14409],[281,14410,281,14414],[281,14365,281,14369],[281,14370,281,14374],[281,14375,281,14379],[281,14380,281,14384],[281,14385,281,14389],[281,14340,281,14344],[281,14345,281,14349],[281,14350,281,14354],[281,14355,281,14359],[281,14360,281,14364],[281,14315,281,14319],[281,14320,281,14324],[281,14325,281,14329],[281,14330,281,14334],[281,14335,281,14339],[281,14290,281,14294],[281,14295,281,14299],[281,14300,281,14304],[281,14305,281,14309],[281,14310,281,14314],[281,14265,281,14269],[281,14270,281,14274],[281,14275,281,14279],[281,14280,281,14284],[281,14285,281,14289],[281,14240,281,14244],[281,14245,281,14249],[281,14250,281,14254],[281,14255,281,14259],[281,14260,281,14264],[281,14215,281,14219],[281,14220,281,14224],[281,14225,281,14229],[281,14230,281,14234],[281,14235,281,14239],[281,14190,281,14194],[281,14195,281,14199],[281,14200,281,14204],[281,14205,281,14209],[281,14210,281,14214],[281,14165,281,14169],[281,14170,281,14174],[281,14175,281,14179],[281,14180,281,14184],[281,14185,281,14189],[281,14140,281,14144],[281,14145,281,14149],[281,14150,281,14154],[281,14155,281,14159],[281,14160,281,14164],[281,14115,281,14119],[281,14120,281,14124],[281,14125,281,14129],[281,14130,281,14134],[281,14135,281,14139],[281,14090,281,14094],[281,14095,281,14099],[281,14100,281,14104],[281,14105,281,14109],[281,14110,281,14114],[281,14065,281,14069],[281,14070,281,14074],[281,14075,281,14079],[281,14080,281,14084],[281,14085,281,14089],[281,14040,281,14044],[281,14045,281,14049],[281,14050,281,14054],[281,14055,281,14059],[281,14060,281,14064],[281,14015,281,14019],[281,14020,281,14024],[281,14025,281,14029],[281,14030,281,14034],[281,14035,281,14039],[281,13990,281,13994],[281,13995,281,13999],[281,14000,281,14004],[281,14005,281,14009],[281,14010,281,14014],[281,13965,281,13969],[281,13970,281,13974],[281,13975,281,13979],[281,13980,281,13984],[281,13985,281,13989],[281,13940,281,13944],[281,13945,281,13949],[281,13950,281,13954],[281,13955,281,13959],[281,13960,281,13964],[281,13915,281,13919],[281,13920,281,13924],[281,13925,281,13929],[281,13930,281,13934],[281,13935,281,13939],[281,13890,281,13894],[281,13895,281,13899],[281,13900,281,13904],[281,13905,281,13909],[281,13910,281,13914],[281,13865,281,13869],[281,13870,281,13874],[281,13875,281,13879],[281,13880,281,13884],[281,13885,281,13889],[281,13840,281,13844],[281,13845,281,13849],[281,13850,281,13854],[281,13855,281,13859],[281,13860,281,13864],[281,13815,281,13819],[281,13820,281,13824],[281,13825,281,13829],[281,13830,281,13834],[281,13835,281,13839],[281,13790,281,13794],[281,13795,281,13799],[281,13800,281,13804],[281,13805,281,13809],[281,13810,281,13814],[281,13765,281,13769],[281,13770,281,13774],[281,13775,281,13779],[281,13780,281,13784],[281,13785,281,13789],[281,13740,281,13744],[281,13745,281,13749],[281,13750,281,13754],[281,13755,281,13759],[281,13760,281,13764],[281,13715,281,13719],[281,13720,281,13724],[281,13725,281,13729],[281,13730,281,13734],[281,13735,281,13739],[281,13690,281,13694],[281,13695,281,13699],[281,13700,281,13704],[281,13705,281,13709],[281,13710,281,13714],[281,13665,281,13669],[281,13670,281,13674],[281,13675,281,13679],[281,13680,281,13684],[281,13685,281,13689],[281,13640,281,13644],[281,13645,281,13649],[281,13650,281,13654],[281,13655,281,13659],[281,13660,281,13664],[281,13615,281,13619],[281,13620,281,13624],[281,13625,281,13629],[281,13630,281,13634],[281,13635,281,13639],[281,13590,281,13594],[281,13595,281,13599],[281,13600,281,13604],[281,13605,281,13609],[281,13610,281,13614],[281,13565,281,13569],[281,13570,281,13574],[281,13575,281,13579],[281,13580,281,13584],[281,13585,281,13589],[281,13540,281,13544],[281,13545,281,13549],[281,13550,281,13554],[281,13555,281,13559],[281,13560,281,13564],[281,13515,281,13519],[281,13520,281,13524],[281,13525,281,13529],[281,13530,281,13534],[281,13535,281,13539],[281,13490,281,13494],[281,13495,281,13499],[281,13500,281,13504],[281,13505,281,13509],[281,13510,281,13514],[281,13465,281,13469],[281,13470,281,13474],[281,13475,281,13479],[281,13480,281,13484],[281,13485,281,13489],[281,13440,281,13444],[281,13445,281,13449],[281,13450,281,13454],[281,13455,281,13459],[281,13460,281,13464],[281,13415,281,13419],[281,13420,281,13424],[281,13425,281,13429],[281,13430,281,13434],[281,13435,281,13439],[281,13390,281,13394],[281,13395,281,13399],[281,13400,281,13404],[281,13405,281,13409],[281,13410,281,13414],[281,13365,281,13369],[281,13370,281,13374],[281,13375,281,13379],[281,13380,281,13384],[281,13385,281,13389],[281,13340,281,13344],[281,13345,281,13349],[281,13350,281,13354],[281,13355,281,13359],[281,13360,281,13364],[281,13315,281,13319],[281,13320,281,13324],[281,13325,281,13329],[281,13330,281,13334],[281,13335,281,13339],[281,13290,281,13294],[281,13295,281,13299],[281,13300,281,13304],[281,13305,281,13309],[281,13310,281,13314],[281,13265,281,13269],[281,13270,281,13274],[281,13275,281,13279],[281,13280,281,13284],[281,13285,281,13289],[281,13240,281,13244],[281,13245,281,13249],[281,13250,281,13254],[281,13255,281,13259],[281,13260,281,13264],[281,13215,281,13219],[281,13220,281,13224],[281,13225,281,13229],[281,13230,281,13234],[281,13235,281,13239],[281,13190,281,13194],[281,13195,281,13199],[281,13200,281,13204],[281,13205,281,13209],[281,13210,281,13214],[281,13165,281,13169],[281,13170,281,13174],[281,13175,281,13179],[281,13180,281,13184],[281,13185,281,13189],[281,13140,281,13144],[281,13145,281,13149],[281,13150,281,13154],[281,13155,281,13159],[281,13160,281,13164],[281,13115,281,13119],[281,13120,281,13124],[281,13125,281,13129],[281,13130,281,13134],[281,13135,281,13139],[281,13090,281,13094],[281,13095,281,13099],[281,13100,281,13104],[281,13105,281,13109],[281,13110,281,13114],[281,13065,281,13069],[281,13070,281,13074],[281,13075,281,13079],[281,13080,281,13084],[281,13085,281,13089],[281,13040,281,13044],[281,13045,281,13049],[281,13050,281,13054],[281,13055,281,13059],[281,13060,281,13064],[281,13015,281,13019],[281,13020,281,13024],[281,13025,281,13029],[281,13030,281,13034],[281,13035,281,13039],[281,12990,281,12994],[281,12995,281,12999],[281,13000,281,13004],[281,13005,281,13009],[281,13010,281,13014],[281,12965,281,12969],[281,12970,281,12974],[281,12975,281,12979],[281,12980,281,12984],[281,12985,281,12989],[281,12940,281,12944],[281,12945,281,12949],[281,12950,281,12954],[281,12955,281,12959],[281,12960,281,12964],[281,12915,281,12919],[281,12920,281,12924],[281,12925,281,12929],[281,12930,281,12934],[281,12935,281,12939],[281,12890,281,12894],[281,12895,281,12899],[281,12900,281,12904],[281,12905,281,12909],[281,12910,281,12914],[281,12865,281,12869],[281,12870,281,12874],[281,12875,281,12879],[281,12880,281,12884],[281,12885,281,12889],[281,12840,281,12844],[281,12845,281,12849],[281,12850,281,12854],[281,12855,281,12859],[281,12860,281,12864],[281,12815,281,12819],[281,12820,281,12824],[281,12825,281,12829],[281,12830,281,12834],[281,12835,281,12839],[281,12790,281,12794],[281,12795,281,12799],[281,12800,281,12804],[281,12805,281,12809],[281,12810,281,12814],[281,12765,281,12769],[281,12770,281,12774],[281,12775,281,12779],[281,12780,281,12784],[281,12785,281,12789],[281,12740,281,12744],[281,12745,281,12749],[281,12750,281,12754],[281,12755,281,12759],[281,12760,281,12764],[281,12715,281,12719],[281,12720,281,12724],[281,12725,281,12729],[281,12730,281,12734],[281,12735,281,12739],[281,12690,281,12694],[281,12695,281,12699],[281,12700,281,12704],[281,12705,281,12709],[281,12710,281,12714],[281,12665,281,12669],[281,12670,281,12674],[281,12675,281,12679],[281,12680,281,12684],[281,12685,281,12689],[281,12640,281,12644],[281,12645,281,12649],[281,12650,281,12654],[281,12655,281,12659],[281,12660,281,12664],[281,12615,281,12619],[281,12620,281,12624],[281,12625,281,12629],[281,12630,281,12634],[281,12635,281,12639],[281,12590,281,12594],[281,12595,281,12599],[281,12600,281,12604],[281,12605,281,12609],[281,12610,281,12614],[281,12565,281,12569],[281,12570,281,12574],[281,12575,281,12579],[281,12580,281,12584],[281,12585,281,12589],[281,12540,281,12544],[281,12545,281,12549],[281,12550,281,12554],[281,12555,281,12559],[281,12560,281,12564],[281,12515,281,12519],[281,12520,281,12524],[281,12525,281,12529],[281,12530,281,12534],[281,12535,281,12539],[281,12490,281,12494],[281,12495,281,12499],[281,12500,281,12504],[281,12505,281,12509],[281,12510,281,12514],[281,12465,281,12469],[281,12470,281,12474],[281,12475,281,12479],[281,12480,281,12484],[281,12485,281,12489],[281,12440,281,12444],[281,12445,281,12449],[281,12450,281,12454],[281,12455,281,12459],[281,12460,281,12464],[281,12415,281,12419],[281,12420,281,12424],[281,12425,281,12429],[281,12430,281,12434],[281,12435,281,12439],[281,12390,281,12394],[281,12395,281,12399],[281,12400,281,12404],[281,12405,281,12409],[281,12410,281,12414],[281,12365,281,12369],[281,12370,281,12374],[281,12375,281,12379],[281,12380,281,12384],[281,12385,281,12389],[281,12340,281,12344],[281,12345,281,12349],[281,12350,281,12354],[281,12355,281,12359],[281,12360,281,12364],[281,12315,281,12319],[281,12320,281,12324],[281,12325,281,12329],[281,12330,281,12334],[281,12335,281,12339],[281,12290,281,12294],[281,12295,281,12299],[281,12300,281,12304],[281,12305,281,12309],[281,12310,281,12314],[281,12265,281,12269],[281,12270,281,12274],[281,12275,281,12279],[281,12280,281,12284],[281,12285,281,12289],[281,12240,281,12244],[281,12245,281,12249],[281,12250,281,12254],[281,12255,281,12259],[281,12260,281,12264],[281,12215,281,12219],[281,12220,281,12224],[281,12225,281,12229],[281,12230,281,12234],[281,12235,281,12239],[281,12190,281,12194],[281,12195,281,12199],[281,12200,281,12204],[281,12205,281,12209],[281,12210,281,12214],[281,12165,281,12169],[281,12170,281,12174],[281,12175,281,12179],[281,12180,281,12184],[281,12185,281,12189],[281,12140,281,12144],[281,12145,281,12149],[281,12150,281,12154],[281,12155,281,12159],[281,12160,281,12164],[281,12115,281,12119],[281,12120,281,12124],[281,12125,281,12129],[281,12130,281,12134],[281,12135,281,12139],[281,12090,281,12094],[281,12095,281,12099],[281,12100,281,12104],[281,12105,281,12109],[281,12110,281,12114],[281,12065,281,12069],[281,12070,281,12074],[281,12075,281,12079],[281,12080,281,12084],[281,12085,281,12089],[281,12040,281,12044],[281,12045,281,12049],[281,12050,281,12054],[281,12055,281,12059],[281,12060,281,12064],[281,12015,281,12019],[281,12020,281,12024],[281,12025,281,12029],[281,12030,281,12034],[281,12035,281,12039],[281,11990,281,11994],[281,11995,281,11999],[281,12000,281,12004],[281,12005,281,12009],[281,12010,281,12014],[281,11965,281,11969],[281,11970,281,11974],[281,11975,281,11979],[281,11980,281,11984],[281,11985,281,11989],[281,11940,281,11944],[281,11945,281,11949],[281,11950,281,11954],[281,11955,281,11959],[281,11960,281,11964],[281,11915,281,11919],[281,11920,281,11924],[281,11925,281,11929],[281,11930,281,11934],[281,11935,281,11939],[281,11890,281,11894],[281,11895,281,11899],[281,11900,281,11904],[281,11905,281,11909],[281,11910,281,11914],[281,11865,281,11869],[281,11870,281,11874],[281,11875,281,11879],[281,11880,281,11884],[281,11885,281,11889],[281,11840,281,11844],[281,11845,281,11849],[281,11850,281,11854],[281,11855,281,11859],[281,11860,281,11864],[281,11815,281,11819],[281,11820,281,11824],[281,11825,281,11829],[281,11830,281,11834],[281,11835,281,11839],[281,11790,281,11794],[281,11795,281,11799],[281,11800,281,11804],[281,11805,281,11809],[281,11810,281,11814],[281,11765,281,11769],[281,11770,281,11774],[281,11775,281,11779],[281,11780,281,11784],[281,11785,281,11789],[281,11740,281,11744],[281,11745,281,11749],[281,11750,281,11754],[281,11755,281,11759],[281,11760,281,11764],[281,11715,281,11719],[281,11720,281,11724],[281,11725,281,11729],[281,11730,281,11734],[281,11735,281,11739],[281,11690,281,11694],[281,11695,281,11699],[281,11700,281,11704],[281,11705,281,11709],[281,11710,281,11714],[281,11665,281,11669],[281,11670,281,11674],[281,11675,281,11679],[281,11680,281,11684],[281,11685,281,11689],[281,11640,281,11644],[281,11645,281,11649],[281,11650,281,11654],[281,11655,281,11659],[281,11660,281,11664],[281,11615,281,11619],[281,11620,281,11624],[281,11625,281,11629],[281,11630,281,11634],[281,11635,281,11639],[281,11590,281,11594],[281,11595,281,11599],[281,11600,281,11604],[281,11605,281,11609],[281,11610,281,11614],[281,11565,281,11569],[281,11570,281,11574],[281,11575,281,11579],[281,11580,281,11584],[281,11585,281,11589],[281,11540,281,11544],[281,11545,281,11549],[281,11550,281,11554],[281,11555,281,11559],[281,11560,281,11564],[281,11515,281,11519],[281,11520,281,11524],[281,11525,281,11529],[281,11530,281,11534],[281,11535,281,11539],[281,11490,281,11494],[281,11495,281,11499],[281,11500,281,11504],[281,11505,281,11509],[281,11510,281,11514],[281,11465,281,11469],[281,11470,281,11474],[281,11475,281,11479],[281,11480,281,11484],[281,11485,281,11489],[281,11440,281,11444],[281,11445,281,11449],[281,11450,281,11454],[281,11455,281,11459],[281,11460,281,11464],[281,11415,281,11419],[281,11420,281,11424],[281,11425,281,11429],[281,11430,281,11434],[281,11435,281,11439],[281,11390,281,11394],[281,11395,281,11399],[281,11400,281,11404],[281,11405,281,11409]],"merged_total":3367,"flags":["merged_cut"]}
[]
[]
[]
["National Paediatric Diabetes Audit 2018/19"]
[]
[{"$f":"\"Summary results for \"&'Unit list'!C1&\" (code \"&'Unit list'!B1&\") in the \"&'Unit list'!D1&\" region\"","v":"Summary results for Addenbrooke's Hospital (code PZ041) in the East of England region"}]
[]
["CONFIDENTIAL - NOT FOR ONWARD CIRCULATION UNTIL RELEASE OF NPDA 2018/19 NATIONAL REPORT "]
["1. Introduction"]
[{"$f":"\"This report has been prepared for paediatric diabetes units (PDUs) who participated in the 2018/19 National Paediatric Diabetes Audit.\"& \" \" & \"It contains unit level summary data and is shared in advance of publication of the national report and the update of NPDA Results Online so that PDUs can access their results as soon as possible.\"& \" \" & \"Results are reported for children and young people with Type 1 diabetes only, apart from section 2, which reports patient characteristics for children and young people with all types of diabetes.\n\n\"&\"Most indicators were calculated using the information of children and young people whose last recorded PDU in the audit year  was \"&'Unit list'!$C$1&\"; with the exception of 'Care at diagnosis', where care was attributed to \"&'Unit list'!$C$1&\"  if this was the first recorded at diagnosis within the audit year. \n\n\"&\"In accordance with information governance rules, any demographic data based on a number less than five has been suppressed and is shown as '< 5' in the charts below.\"","v":"This report has been prepared for paediatric diabetes units (PDUs) who participated in the 2018/19 National Paediatric Diabetes Audit. It contains unit level summary data and is shared in advance of publication of the national report and the update of NPDA Results Online so that PDUs can access their results as soon as possible. Results are reported for children and young people with Type 1 diabetes only, apart from section 2, which reports patient characteristics for children and young people with all types of diabetes.\n\nMost indicators were calculated using the information of children and young people whose last recorded PDU in the audit year  was Addenbrooke's Hospital; with the exception of 'Care at diagnosis', where care was attributed to Addenbrooke's Hospital  if this was the first recorded at diagnosis within the audit year. \n\nIn accordance with information governance rules, any demographic data based on a number less than five has been suppressed and is shown as '< 5' in the charts below."}]
["1.1 Overall unit summary"]
["This section is intended to provide you with an 'at a glance' view of how your unit is performing.\n\nThe first two radar plots show the health check completion rate, the percentage of children and young people receiving each of the seven essential health checks, and the percentage of children and young people with an unadjusted HbA1c below 58 mmol/mol. Figure 1 illustrates how your unit is performing compared to local regional and national results and Figure 2 illustrates how your unit is performing compared to the previous audit year. Figure 3 shows how your unit is performing compared to local regional and national results on six additional recommended health checks."]
[]
["Interpreting the plot:"]
[{"$f":"\"The blue line represents your unit's performance, the orange dashed line represents regional performance and the dark-grey dotted line represents national performance. \"&\" The outer thick mid-grey line represents what every unit should be aiming to achieve i.e. 100% on each measure. \n\n\"&\"In Figures 1 and 3, if the blue line is outside of the dashed or dotted line, this means that your unit has a better result compared to the overall regional and national results, respectively - and vice versa. For example, in Figure 1, \"&'Chart data'!D16&\"\n\n\"&\"In Figure 2, if the solid line is outside of the dashed  line, this means that your unit has\"&\" a better result compared to the previous audit year.\"","v":"The blue line represents your unit's performance, the orange dashed line represents regional performance and the dark-grey dotted line represents national performance.  The outer thick mid-grey line represents what every unit should be aiming to achieve i.e. 100% on each measure. \n\nIn Figures 1 and 3, if the blue line is outside of the dashed or dotted line, this means that your unit has a better result compared to the overall regional and national results, respectively - and vice versa. For example, in Figure 1, the proportion of CYP recorded as receiving an eye screen in your unit is higher than the overall regional result.\n\nIn Figure 2, if the solid line is outside of the dashed  line, this means that your unit has a better result compared to the previous audit year."}]
["Figure 1: Radar plot showing unit, region and national performance on the seven essential health checks,  % achieving an HbA1c of below 58 mmol/mol and % achieving an HbA1c of below 80 mmol/mol"]
[]
[]
[]
[]
[]
[]
[]
[]
[]
["Figure 2: Radar plot showing unit performance in 2017/18 and 2018/19 on the seven key health checks, % achieving an HbA1c of below 58 mmol/mol and % achieving an HbA1c of below 80 mmol/mol"]
[]
[]
[]
[]
[]
[]
[]
[]
[]
["*The health check completion rate is calculated by dividing the total number of health checks completed in each unit by the total expected number of health checks (which is equal to the number of children and young people with Type 1 diabetes aged 12 or older who completed a full year of care multiplied by 7; 7 is the recommended number of health checks each patients should receive.)"]
["Figure 3: Radar plot showing unit, region and national performance on additional health checks"]
[]
[]
[]
[]
[]
[]
[]
[]
[]
[]
[]
["2. Clinic characteristics"]
[{"$f":"\"A total of \"&'Chart data'!$E$38&\" children and young people with diabetes who received treatment at \"&'Unit list'!$C$1&\" were included in the 2018/19 audit.  A small number of CYP for whom data was provided may not be included in the audit if they did not meet the audit criteria or did not have the minimum demographic data required.\"","v":{"$error":"#REF!"}}]
["2.1. Age"]
["Figure 4: Age of children and young people by unit, region and overall"]
[]
[]
[]
[]
[]
[]
[]
[]
[]
[]
["2.2. Ethnicity category by unit, region and overall"]
["Figure 5: Percentage of children and young people within each ethnic category by unit, region and overall"]
[]
[]
[]
[]
[]
[]
[]
[]
[]
[]
[]
[]
[]
[]
[]
["2.3 Diabetes type by unit, region and overall"]
["Figure 6: Percentage of children and young people according to diabetes type by unit, region and overall"]
[]
[]
[]
[]
[]
[]
[]
[]
[]
["*Includes other types or unspecified"]
["2.4 Patient deprivation profile by unit, region and overall"]
["Figure 7: Percentage of children and young people within each deprivation quintile by unit, region and overall"]
[]
[]
[]
[]
[]
[]
[]
[]
[]
[]
[]
[]
["*Calculated using Indices of Multiple Deprivation based on patient postcode"]
["3. Completion of health checks (care processes)"]
[{"$f":"\"The NPDA collects data on the health checks (care processes) recommended by NICE. \"&\"Guidelines specify a starting age of 12 years for commencing all checks except for HbA1c and measurement of height and weight, which should be recorded in all ages of children and young people with Type 1 diabetes, and thyroid screening,  \"&\"which should be performed at diagnosis and annually thereafter. \"&\"The criteria for inclusion in the denominator are having a complete year of care (i.e. children and young people who were not diagnosed, did not transition or die within the audit period) and being aged 12 or older on\"&\" the first day of the audit (apart from HbA1c, BMI and Thyroid health checks, which are for all ages). \n\n\"&\"The denominator for unit \"&'Unit list'!B1&\" for the HbA1c, BMI and Thyroid health checks is \"&'Chart data'!E73&\". The denominator for all other health checks and the health check completion rate is \"&'Chart data'!E74&\". This means that there were \"&'Chart data'!E73&\" children and young people within your unit who completed a full year of care, and of those, \"&'Chart data'!E74&\" were aged 12 and above.\"","v":"The NPDA collects data on the health checks (care processes) recommended by NICE. Guidelines specify a starting age of 12 years for commencing all checks except for HbA1c and measurement of height and weight, which should be recorded in all ages of children and young people with Type 1 diabetes, and thyroid screening,  which should be performed at diagnosis and annually thereafter. The criteria for inclusion in the denominator are having a complete year of care (i.e. children and young people who were not diagnosed, did not transition or die within the audit period) and being aged 12 or older on the first day of the audit (apart from HbA1c, BMI and Thyroid health checks, which are for all ages). \n\nThe denominator for unit PZ041 for the HbA1c, BMI and Thyroid health checks is 221. The denominator for all other health checks and the health check completion rate is 136. This means that there were 221 children and young people within your unit who completed a full year of care, and of those, 136 were aged 12 and above."}]
["3.1 Key health check completion rates"]
["Figure 8: Percentage of children and young people with Type 1 diabetes who received each of the seven key health checks"]
[]
[]
[]
[]
[]
[]
[]
[]
[]
[]
[]
[]
[]
["3.2. Overall health check completion rate"]
[{"$f":"\"The overall health check completion rate for unit \"&'Unit list'!B1&\" is \"&#REF!&\", compared to \"&ROUND(#REF!,3)*100&\"% for England and Wales. \"&#REF!&\" \"","v":{"$error":"#REF!"}}]
["The health check completion rate is calculated by dividing the total number of health checks received by young people aged 12 and above with Type 1 diabetes who completed a full year of care by the total expected number of health checks. The expected number of health checks is equal to the number of young people aged 12 and above with Type 1 diabetes who completed a full year of care, multiplied by seven (seven is the number of key health checks each young person should receive).\n\nThe NPDA uses this measure in its formal outlier identification and reporting process, in addition to the adjusted HbA1c metric (see section 4.1.1)."]
["Interpreting the funnel plot:"]
["The funnel plot shows variation in the health check completion rate between units. The horizontal navy line shows the mean completion rate for England and Wales (combined), and the dotted lines indicate units whose results are within two standard deviations (dashes) or three standard deviations (dots) of the mean.\n\nThe NPDA defines services with a result below two standard deviations of the expected value on this metric as an 'alert', and below three standard deviations  as an  ‘alarm’, which confers negative outlier status in accordance with HQIP guidance (2017). In Figure 9, PDUs below the bottom dotted line (3SD) are considered ‘alarm’ outliers as their completion rate is significantly lower than others in England and Wales.  Conversely, services with results above three standard deviations above the expected value are considered 'positive outliers' on this metric."]
[{"$f":"\"The outlier status of \"&'Unit list'!$C$1&\", on the performance indicator for health check completion rate for 2018/19 is: \"&#REF!&\".\"","v":{"$error":"#REF!"}}]
["Figure 9: Health check completion rate for children and young people with Type 1 diabetes aged 12 or older who completed a full year of care"]
[]
[]
[]
[]
[]
[]
[]
[]
[]
[]
[]
[]
[]
["3.3. Percentage receiving all seven essential health checks"]
[{"$f":"\"In unit \"&'Unit list'!B1&\", \"&'7procesess'!$E$179&\" young people aged 12 years and older received all seven key health checks within the audit year, compared to \"&ROUND('7procesess'!E181,3)*100&\"% across England and Wales. \"&'7procesess'!F192&\"\"","v":"In unit PZ041, 58.7% of young people aged 12 years and older received all seven key health checks within the audit year, compared to 55.7% across England and Wales. This result is similar to the national mean."}]
["Interpreting the funnel plot:"]
["The funnel plot shows variation in the proportion of young people aged 12 and above who received all seven health checks within the audit year. The horizontal navy line shows the mean percentage for England and Wales (combined), and the dotted lines indicate units whose results are within two standard deviations (dashes) or three standard deviations (dots) of the mean.\n\nIn Figure 10, PDUs below the bottom dotted line (>3SD) have significantly lower completion rates for all seven checks than others in England and Wales, and those above the top line have significantly higher rates."]
["Figure 10: Percentage of young people aged 12 years and above who received all seven health checks"]
[null,null,null,null,null,null,null,null,null,null,null,null,null,null,"3SD"]
[]
[]
[]
[]
[]
[]
[]
[]
[]
["3.4. Additional health checks"]
["This section includes a summary of the additional recommended health check data collected by the NPDA."]
["Figure 11: Percentage of children and young people with Type 1 diabetes with a complete year of care who received additional health checks"]
[]
[]
[]
[]
[]
[]
[]
[]
[]
[]
[]
["Figure 12: Percentage of children and young people with Type 1 diabetes with a complete year of care who were offered an additional dietetic appointment, who attended an additional dietetic appointment, and the proportion who were offered and subsequently attended an appointment (take-up rate)"]
[]
[]
[]
[]
[]
[]
[]
[]
[]
[]
["Figure 13: Percentage of children and young people with Type 1 diabetes with a complete year of care receiving recommended advice/training "]
[]
[]
[]
[]
[]
[]
[]
[]
[]
[]
["4. Care at diagnosis"]
["4.1 Screening for autoimmune disease"]
[{"$f":"\"NICE recommends that children and young people with Type 1 diabetes are screened for thyroid and coeliac disease at diagnosis. \"&\"The denominator for this measure is the number of children and young people diagnosed more than 90 days before the end of the audit year (n\"&'Chart data'!E100&\"). The numerator is the number screened within 90 days from diagnosis.\"","v":{"$error":"#REF!"}}]
[]
["Figure 14: Percentage of children and young people with Type 1 diabetes who received screening within 90 days of diagnosis"]
[]
[]
[]
[]
[]
[]
[]
[]
[]
[]
[]
[{"$f":"\"NICE also recommends offering level 3 carbohydrate-counting education to children and young people with Type 1 diabetes from diagnosis. \"&\"The denominator for this measure is the number of children and young people diagnosed more than 14 days before the end of the audit year (n\"&'Chart data'!E101&\").  The numerator is the number commencing carbohydrate counting within 14 days of diagnosis.\"","v":{"$error":"#REF!"}}]
[]
["Figure 15: Percentage of children and young people with Type 1 diabetes who received Level 3 carbohydrate-counting education within 14 days of diagnosis "]
[]
[]
[]
[]
[]
[null,null,null,null,null,null,null,null,null,null,"c"]
[]
[]
[]
["4. Outcomes of care"]
["The collection of outcome measures is an important part of monitoring diabetes control and care. Treatment targets can be viewed as part of the process of care or as an ‘intermediate outcome’ i.e. an intermediary step between a health check and a ‘hard’ endpoint, such as, the development of a complication. This section not only covers HbA1c measurements which are recommended as the best indicator of long-term diabetes control, but also covers other indicators of microvascular disease and macrovascular risk factors."]
["4.1 HbA1c"]
[{"$f":"\"HbA1c is a measure of overall diabetes control and can be used as an intermediate outcome for people with diabetes. All the data presented below on HbA1c relates to the results for the \"&'Chart data'!E110&\" children and young people with Type 1 diabetes who had one or more valid HbA1c measurements in the audit period. \"&\" This may differ from the number of children and young people included in the denominator for HbA1c as a health check as it includes those who have had a valid HbA1c at least 90 days after \"&\"diagnosis irrespective of whether they had a complete year of care. \"&\"Where more than one valid HbA1c was recorded during the year per child or young person, the median value was used.\"","v":"HbA1c is a measure of overall diabetes control and can be used as an intermediate outcome for people with diabetes. All the data presented below on HbA1c relates to the results for the 231 children and young people with Type 1 diabetes who had one or more valid HbA1c measurements in the audit period.  This may differ from the number of children and young people included in the denominator for HbA1c as a health check as it includes those who have had a valid HbA1c at least 90 days after diagnosis irrespective of whether they had a complete year of care. Where more than one valid HbA1c was recorded during the year per child or young person, the median value was used."}]
["The NPDA recommends using the unit median to compare your year on year progress towards lower average HbA1c, as the median is less affected by extreme results than the mean, and the case-mix of most units is unlikely to vary much between audit years. The case-mix adjusted mean takes into account the differences in HbA1c outcomes associated with case-mix, which can provide fairer comparison between units (see Figure 19)."]
["Where historic HbA1c data has not been published for the unit, #N/A will be shown on the chart."]
["Figure 16: Median HbA1c for children and young people with Type 1 diabetes"]
[]
[]
[]
[]
[]
[]
[]
[]
[]
["Figure 17: Percentage of children and young people with Type 1 diabetes meeting HbA1c targets"]
[]
[]
[]
[]
[]
[]
[]
[]
[]
["Figure 18 shows the percentages of children and young people with Type 1 diabetes who achieved each of the NICE (2004, 2015) treatment targets from 2014/15 to 2018/19. The percentages were masked wherever a  target was achieved by less than 5 children and young people; for that reason, some years will not add up to 100%. "]
["Figure 18: Percentage of children and young people with Type 1 diabetes meeting HbA1c targets, by audit year"]
[]
[]
[]
[]
[]
[]
[]
[]
[]
["4.1.1 Adjusting HbA1c outcomes for case-mix and demographic characteristics of patients"]
["Given the variations in HbA1c associated with different demographic and social characteristics, it is appropriate to adjust HbA1c figures to take account of the characteristics of their patients or case-mix to allow for equitable benchmarking of individual PDU performance. The case-mix adjustments applied to the 2018/19 data consider the effects of age, sex, ethnicity, duration of diabetes and deprivation on mean HbA1c and the expected proportion of children and young people achieving HbA1c targets of below 58 mmol/mol and above 80 mmol/mol. A summary of the output of the regression models used to construct the case-mix adjusted measures will be available on the NPDA website following publication of the national report."]
["The formula used in the calculation of the adjusted mean HbA1c is: "]
[]
["Where \"actual mean HbA1c\" is the unadjusted figure; \"expected mean HbA1c\" is derived from the case-mix regression model (the mean value expected according to the unit demographic characteristics);  and \"overall mean HbA1c\" is the adjusted mean for England and Wales. "]
["If the PDU actual mean HbA1c is higher than expected according to the unit demographic characteristics, then the adjusted mean HbA1c will be higher than the overall mean."]
["Interpreting the funnel plot:"]
["The funnel plot shows the case-mix adjusted mean HbA1c for each unit in England and Wales. The horizontal navy line shows the mean HbA1c for England and Wales (combined), and the dotted lines indicate units whose results are within two standard deviations (dashes) or three standard deviations (dots) of the mean.\n\nThe NPDA defines services with a result above two standard deviations of the expected value on this metric as an 'alert', and above three standard deviations  as an  ‘alarm’, which confers negative outlier status in accordance with HQIP guidance (2017). In Figure 19, PDUs above the top dotted line (3SD) are considered ‘alarm’ outliers as their adjusted mean HbA1c is significantly higher than the overall mean in England and Wales.  Conversely, services with results below three standard deviations are considered positive outliers on this metric. "]
[]
[{"$f":"\"At \"&'Unit list'!$B$1&\", the mean HbA1c for children and young people with Type 1 diabetes was \"&ROUND(VLOOKUP('Unit list'!$A$1,'HbA1c-1819'!A3:E177,5,0),1)&\" mmol/mol. The adjusted mean was \"&ROUND(VLOOKUP('Unit list'!$A$1,'Mean HbA1c adjusted'!A3:E175,4,0),1)&\" mmol/mol which\"&'Mean HbA1c adjusted'!E190&\"\"","v":"At PZ041, the mean HbA1c for children and young people with Type 1 diabetes was 63 mmol/mol. The adjusted mean was 64.7 mmol/mol which is similar to the national figure for England and Wales."}]
[{"$f":"\"The outlier status of \"&'Unit list'!$C$1&\", on the performance indicator Adjusted Mean HbA1c for 2018/19 is: \"&'Mean HbA1c adjusted'!E191&\".\"","v":{"$error":"#REF!"}}]
["Figure 19: Adjusted mean HbA1c"]
[]
[]
[]
[]
[]
[]
[]
[]
[]
[]
["Interpreting the funnel plot:"]
["The funnel plot shows the case-mix adjusted proportion of children and young people with a HbA1c of less than 58 mmol/mol for each unit in England and Wales. The horizontal navy line shows the mean percentage for England and Wales (combined), and the dotted lines indicate units whose results are within two standard deviations (dashes) or three standard deviations (dots) of the mean.\n\nIn Figure 20, PDUs above the top dotted and dashed lines have a significantly higher case-mix adjusted percentage of children and young people with an HbA1c of less than 58 mmol/mol compared to others in England and Wales, with those below the bottom lines having a significantly lower percentage."]
[]
[{"$f":"\"The case-mix adjusted percentage of children and young people with Type 1 diabetes with a HbA1c of less than 58 mmol/mol in unit \"&'Unit list'!$B$1&\" is \"&ROUND(VLOOKUP('Unit list'!$A$1,#REF!,5,0)*100,1)&\"% which\"&#REF!&\".\"","v":{"$error":"#REF!"}}]
["Figure 20: Adjusted percentage of children and young people with a HbA1c of less than 58 mmol/mol"]
[]
[]
[]
[]
[]
[]
[]
[]
[]
[]
["Interpreting the funnel plot:"]
["The funnel plot shows the case-mix adjusted proportion of children and young people with a HbA1c of above 80 mmol/mol for each unit in England and Wales. The horizontal navy line shows the mean percentage for England and Wales (combined), and the dotted lines indicate units whose results are within two standard deviations (dashes) or three standard deviations (dots) of the mean.\n\nIn Figure 21, PDUs below the bottom dotted and dashed lines have a significantly lower case-mix adjusted percentage of children and young people with an HbA1c of more than 80 mmol/mol compared to others in England and Wales, with those above the top lines having a significantly higher percentage."]
[]
[{"$f":"\"The case-mix adjusted percentage of children and young people with Type 1 diabetes with a HbA1c of above 80mmol/mol in unit \"&'Unit list'!$B$1&\" is \"&ROUND(VLOOKUP('Unit list'!$A$1,#REF!,5,0)*100,1)&\"% which\"&#REF!&\".\"","v":{"$error":"#REF!"}}]
["Figure 21: Adjusted percentage of children and young people with a HbA1c of above 80 mmol/mol"]
[]
[]
[]
[]
[]
[]
[]
[]
[]
["4.2 Microvascular disease "]
["People with diabetes are at increased risk of microvascular disease including retinopathy and kidney disease."]
[{"$f":"IF('Chart data'!D140<5,\"In \"&'Unit list'!$B$1&\" eye-screen outcomes cannot be reported according to small numbers policy.\",\"In \"&'Unit list'!$B$1&\", from \"&'Chart data'!D140&\" young people with Type 1 diabetes aged 12 years and above, \"&'Chart data'!D142&\" were recorded as receiving an eye-screen during the audit period, \"&'Chart data'!F141&\" \"&'Chart data'!G149&\" \"&'Chart data'!F142&\"\")","v":{"$error":"#REF!"}}]
[{"$f":"IF('Chart data'!D140<5,\"At \"&'Unit list'!$B$1&\" kidney-disease outcomes cannot be reported according to small numbers policy.\",\"With respect to kidney disease, \"&'Chart data'!D144&\" young people with Type 1 diabetes aged 12 years and above were recorded as receiving an albuminuria screen during the audit period\"&'Chart data'!F145&\" \"&'Chart data'!G150&\" \"&'Chart data'!F146&\"\")","v":{"$error":"#REF!"}}]
["Figure 22: Percentage of people with microvascular disease aged 12 years and older and Type 1 diabetes"]
[]
[]
[]
[]
[]
[]
[]
[]
["4.3 Macrovascular disease risk factors"]
[{"$f":"IF('Chart data'!D140<5,\"At \"&'Unit list'!$B$1&\" Blood Pressure and cholesterol outcomes cannot be reported according to small numbers policy.\",\"People with diabetes are at an increased risk of cardiovascular disease, secondary to macrovascular risk factors including high blood pressure, abnormal lipid levels and high body mass index. \"&\"The chart below includes all young people aged 12 years and older where there was a valid blood pressure reading recorded and where the results of a lipid profile were recorded.  The denominator for blood pressure is \"&'Chart data'!E154&\" and for lipids (cholesterol) is \"&'Chart data'!E155&\". \"&'Chart data'!G154&\" \"&'Chart data'!G155&\"\")","v":{"$error":"#REF!"}}]
["'High normal' blood pressure is defined as a systolic and/or a diastolic blood pressure between the 91st and 98th centile adjusted for age and sex.  'High' blood pressure is defined as a systolic and/or diastolic blood pressure above the 98th centile adjusted for age and sex. Total cholesterol should be below 4 mmol/l."]
["Figure 23: Blood pressure and cholesterol outcomes for young people aged 12 years and older and with Type 1 diabetes"]
[]
[]
[]
[]
[]
[]
[]
[]
[]
[{"$f":"\"Information on body mass index below relates to \"&'Chart data'!E156&\" children and young people of all ages with Type 1 diabetes where a valid height and weight were measured on the same day. \"&\"Categories are calculated based on the UK 1990 reference population. Underweight is defined as below the 2nd centile, healthy weight as 2nd to 85th centile, overweight as 85th to 95th centile and obese over 95th centile.\"","v":{"$error":"#REF!"}}]
[{"$f":"'Chart data'!G156","v":{"$error":"#REF!"}}]
["Figure 24: Body mass index categories for children and young people with Type 1 diabetes"]
[]
[]
[]
[]
[]
[]
[]
[]
[]
["5. Assessment for need of psychological support"]
[]
["NICE guidance recommends that psychological assessment is undertaken by multidisciplinary teams for children and young people with diabetes’ emotional and behavioural needs. Timely intervention is important to prevent or manage co-morbid  psychological disorders known to be associated with diabetes such as depression, anxiety and eating disorders. "]
[{"$f":"IF('Chart data'!D173<5,\"At \"&'Unit list'!$B$1&\" Psychological outcomes cannot be reported according to small numbers policy.\",\"At \"&'Unit list'!$C$1&\", \"&'Chart data'!F172&\"% (n = \"&'Chart data'!D173&\") of children and young people with Type 1 diabetes were recorded as having a psychological screening assessment during the audit period, with a valid known result. \"&'Chart data'!G176&\" \n\n\"&\" \"&'Chart data'!G172&\"\")","v":{"$error":"#REF!"}}]
["Figure 25: Percentage of children and young people with Type 1 diabetes assessed as requiring additional psychological support "]
[]
[]
[]
[]
[]
[]
[]
[]
["6. Thyroid and coeliac disease"]
[{"$f":"\"Thyroid and coeliac disease screening for children and young people with Type 1 diabetes is important because the risk of developing these is increased amongst those with a pre-existing autoimmune condition\"&\".  The data presented below includes all \"&'Chart data'!E179&\" children and young people with Type 1 diabetes in unit \"&'Unit list'!$B$1&\".\n\n\" & \"Recommendation of a gluten-free diet was taken to indicate the presence of coeliac disease, while being treated for thyroid disease was taken as indicative of the presence of such disease.\"","v":{"$error":"#REF!"}}]
["Figure 26: Percentage of children and young people with Type 1 diabetes with thyroid and coeliac disease"]
[]
[]
[]
[]
[]
[]
[]
[]
[]
["7. Treatment regimen and diabetes monitoring"]
["7.1. Treatment regimen"]
[{"$f":"\"The data presented below is for the \"&'Chart data'!E187&\" children and young people with Type 1 diabetes in \"&'Unit list'!$B$1&\" who had a valid treatment regimen recorded. \"&\"\n\n\"&\" \"&'Chart data'!E188&\"\"","v":{"$error":"#REF!"}}]
["Figure 27: Treatment regimen of children and young people with Type 1 diabetes"]
[]
[]
[]
[]
[]
[]
[]
[]
["* Includes children and young people who combine injections/pump with other blood glucose lowering medication."]
[]
[]
["Figure 28 shows the median HbA1c by treatment regimen, at PDU level, region and overall. These data do not account for the influence of deprivation, age, duration of diabetes or other factors which may influence the choice of insulin regimen, and have also been shown to impact HbA1c levels."]
["Figure 28: Median HbA1c (mmol/mol), by treatment regimen"]
[]
[]
[]
[]
[]
[]
[]
[]
[]
[]
[]
[]
[]
[]
[]
[]
[]
[]
["7.2 Continuous glucose monitoring"]
[{"$f":"IF('Chart data'!D196=100%,\"No data was reported to the audit.\",\"In \"&'Unit list'!$B$1&\", \"&'Chart data'!G194&\" children and young people with Type 1 diabetes had a negative or positive indication of use of continuous glucose monitoring (CGM) with alarms reported within the audit period. \"&\"The proportion recorded as using CGM is reported below.\")","v":{"$error":"#REF!"}}]
[{"$f":"'Chart data'!E196","v":{"$error":"#REF!"}}]
["Figure 29: Percentage of children and young people using a CGM with alarms."]
[]
[]
[]
[]
[]
[]
[]
[]
[]
[]
[]
[]
[]
[]
[]
[]
[]
[]
[]
[]
[]
["8. Emergency hospital admissions"]
[{"$f":"\"In 2018/19, 168 out of 175 units submitted admission data to the audit. \"&\" Diabetes-related emergency hospital admission rates include children and young people with Type 1 diabetes who were admitted as a result of; \"&\"(i) DKA not at diagnosis, (ii) ketosis without acidosis, (iii) hypoglycaemia, and (iv) stabilisation of diabetes not associated with diagnosis. \"&\"In unit \"&'Unit list'!$B$1&\", \"&'Chart data'!D212&\"\"","v":{"$error":"#REF!"}}]
["Please note, these figures should be interpreted with caution as the data have not yet been triangulated with HES/PEDW data."]
["Figure 30: Percentage of children and young people with Type 1 diabetes who had at least one emergency hospital admission"]
[]
[]
[]
[]
[]
[]
[]
[]
[]
["9. Conclusion"]
["This PDU level summary provides useful information for clinical staff, healthcare managers, commissioners, children and young people with diabetes and their families. It should be used in conjunction with data presented in the national report 2018/19 when published.  Data should be scrutinised and utilised to drive up quality and standards of care. This can be achieved by benchmarking and adopting practices of care where high levels of performance have been found. \n\nThe data contained in this report will be used to update NPDA Results Online (subject to the validation of the results), following the release of the 2018/19 national report. NPDA Results Online is a valuable resource for understanding and comparing local performance, and once data has been made available, we recommend undertaking benchmarking against other units, regions and CCGs/Health Boards for all measures.  Network working and quality assurance (peer review) based on the findings will be essential to achieving quality improvement.  "]
[]
[]
[]
[]
[]
[]
[]
[]
[]
["Further information"]
["If you have any queries or questions, please feel free to contact the NPDA team at npda@rcpch.ac.uk or 020 7092 6167."]
["For further information about the audit, please visit the RCPCH website - ",null,null,null,null,null,null,"www.rcpch.ac.uk/npda"]
["Or, follow us on Twitter -",null,null,"@NPDA_RCPCH"]

{"sheet":"HbA1c-2021","index":7,"n_rows":186,"n_cols":25,"rows_kept":186,"cut":false,"hidden":true,"merged":[[0,0,1,0],[0,1,1,1],[0,2,1,2],[0,4,0,15],[0,17,0,19]]}
["Unit code","Unit name","Region",null,"Unadjusted HbA1c figures (Type 1 diabetes only)",null,null,null,null,null,null,null,null,null,null,null,null,"Adjusted HbA1c figures (Type 1 diabetes only)"]
[null,null,null,"Denominator","Mean","Median","DCCT","Full text",null,"% ≤48 mmol/mol","% ≤53 mmol/mol","% <58 mmol/mol","% 58-80mmol/mol","% ≥69mmol/mol","% >75mmol/mol","% >80mmol/mol","< 80","Mean","% <58mmol/mol","% >80mmol/mol","% < 80",null,null,null," mmol/mol "]
["PZ001","Morriston Hospital ","Wales",121,67.834709167480469,64,{"$f":"(F3/10.929)+2.15","v":8.0059795040717354},{"$f":"(ROUND(F3,1)&$Y$2&$Y$3&(ROUND(G3,1)&$Y$4&$Y$5))","v":"64 mmol/mol (8%)"},"64 mmol/mol (8%)",6.6115702479338845E-2,0.13223140495867769,0.23966942148760331,0.61157024793388426,0.35537190082644626,0.2231404958677686,0.1487603305785124,0.85123966942148765,67.725028991699219,0.24218206107616425,0.15318678319454193,null,null,null,null,"("]
["PZ002","Norfolk and Norwich University Hospital","East of England",293,61.102390289306641,59,{"$f":"(F4/10.929)+2.15","v":7.5484811053161316},{"$f":"(ROUND(F4,1)&$Y$2&$Y$3&(ROUND(G4,1)&$Y$4&$Y$5))","v":"59 mmol/mol (7.5%)"},"59 mmol/mol (7.5%)",0.10580204778156997,0.24232081911262798,0.44368600682593856,0.4948805460750853,0.18771331058020477,0.10238907849829351,6.1433447098976107E-2,0.93856655290102387,61.543628692626953,0.43414786458015442,6.6280864179134369E-2,null,null,null,null,"%"]
["PZ003","Pinderfields General Hospital and Pontefract General Infirmary","Yorkshire and Humber",198,68.830810546875,64.25,{"$f":"(F5/10.929)+2.15","v":8.0288544240095163},"64.3 mmol/mol (8%)","64.3 mmol/mol (8%)",7.0707070707070704E-2,0.17171717171717171,0.31818181818181818,0.49494949494949497,0.36363636363636365,0.25757575757575757,0.18686868686868688,0.81313131313131315,67.507392883300781,0.34273797273635864,0.15683682262897491,null,null,null,null,")"]
["PZ004","Northampton General Hospital","East Midlands",200,65.299858093261719,63,{"$f":"(F6/10.929)+2.15","v":7.9144798243206154},"63 mmol/mol (7.9%)","63 mmol/mol (7.9%)",0.09,0.16500000000000001,0.28499999999999998,0.6,0.315,0.18,0.115,0.88500000000000001,66.123435974121094,0.27081859111785889,0.12946011126041412]
["PZ005","Derbyshire Children's Hospital","East Midlands",229,59.668121337890625,57,{"$f":"(F7/10.929)+2.15","v":7.3654817458138897},"57 mmol/mol (7.4%)","57 mmol/mol (7.4%)",0.14410480349344978,0.33624454148471616,0.53711790393013104,0.3930131004366812,0.18777292576419213,9.606986899563319E-2,6.9868995633187769E-2,0.93013100436681229,60.306575775146484,0.51172250509262085,7.5999461114406586E-2]
["PZ006","Doncaster Royal Infirmary","Yorkshire and Humber",166,61.3704833984375,58,{"$f":"(F8/10.929)+2.15","v":7.4569814255650098},"58 mmol/mol (7.5%)","58 mmol/mol (7.5%)",9.036144578313253E-2,0.27108433734939757,0.49397590361445781,0.40963855421686746,0.22289156626506024,0.13253012048192772,9.6385542168674704E-2,0.90361445783132532,60.169689178466797,0.52884829044342041,8.0492317676544189E-2]
["PZ007","John Radcliffe Hospital","South Central",326,59.617095947265625,58,7.4569814255650098,"58 mmol/mol (7.5%)","58 mmol/mol (7.5%)",0.19631901840490798,0.34662576687116564,0.48773006134969327,0.41717791411042943,0.19631901840490798,0.12576687116564417,9.5092024539877307E-2,0.90490797546012269,61.236968994140625,0.44029581546783447,0.11817967146635056]
["PZ009","Macclesfield District General Hospital","North West",81,61.975307464599609,60,7.6399807850672516,"60 mmol/mol (7.6%)","60 mmol/mol (7.6%)",8.6419753086419748E-2,0.13580246913580246,0.33333333333333331,0.60493827160493829,0.22222222222222221,8.6419753086419748E-2,6.1728395061728392E-2,0.93827160493827155,63.333889007568359,0.30729135870933533,7.636570930480957E-2]
["PZ010","Luton and Dunstable Hospital","East of England",137,68.089141845703125,65.033004760742188,8.1004991088610296,"65 mmol/mol (8.1%)","65 mmol/mol (8.1%)",5.8394160583941604E-2,8.7591240875912413E-2,0.22627737226277372,0.6058394160583942,0.42335766423357662,0.25547445255474455,0.16788321167883211,0.83211678832116787,67.926292419433594,0.2345263659954071,0.18196740746498108]
["PZ011","Glan Clwyd District General Hospital ","Wales",124,66.427421569824219,61.5,7.7772303046939335,"61.5 mmol/mol (7.8%)","61.5 mmol/mol (7.8%)",7.2580645161290328E-2,0.18548387096774194,0.37096774193548387,0.49193548387096775,0.34677419354838712,0.21774193548387097,0.13709677419354838,0.86290322580645162,67.183380126953125,0.35691073536872864,0.15673106908798218]
["PZ012","Barnet General Hospital","London and South East",84,61.345237731933594,61,7.7314804648183735,"61 mmol/mol (7.7%)","61 mmol/mol (7.7%)",0.15476190476190477,0.27380952380952384,0.38095238095238093,0.54761904761904767,0.23809523809523808,0.11904761904761904,7.1428571428571425E-2,0.9285714285714286,61.246372222900391,0.38160398602485657,7.4811480939388275E-2]
["PZ014","Chase Farm Hospital","London and South East",52,68.471153259277344,64,8.0059795040717354,"64 mmol/mol (8%)","64 mmol/mol (8%)",5.7692307692307696E-2,0.19230769230769232,0.25,0.57692307692307687,0.36538461538461536,0.23076923076923078,0.17307692307692307,0.82692307692307687,68.380783081054688,0.24808642268180847,0.16911399364471436]
["PZ015","Wythenshawe Hospital","North West",107,64.429908752441406,60.5,7.6857306249428117,"60.5 mmol/mol (7.7%)","60.5 mmol/mol (7.7%)",0.11214953271028037,0.21495327102803738,0.37383177570093457,0.48598130841121495,0.28971962616822428,0.21495327102803738,0.14018691588785046,0.85981308411214952,65.2657470703125,0.37188062071800232,0.15734536945819855]
["PZ016","Bassetlaw District General Hospital","Yorkshire and Humber",74,60.459461212158203,55.5,7.2282322261872078,"55.5 mmol/mol (7.2%)","55.5 mmol/mol (7.2%)",0.13513513513513514,0.36486486486486486,0.58108108108108103,0.32432432432432434,0.20270270270270271,0.10810810810810811,9.45945945945946E-2,0.90540540540540537,60.015357971191406,0.59860527515411377,8.9391887187957764E-2]
["PZ017","Dorset County Hospital","South Central",88,65.534088134765625,63,7.9144798243206154,"63 mmol/mol (7.9%)","63 mmol/mol (7.9%)",4.5454545454545456E-2,0.14772727272727273,0.26136363636363635,0.60227272727272729,0.31818181818181818,0.17045454545454544,0.13636363636363635,0.86363636363636365,65.269058227539063,0.26312914490699768,0.13044895231723785]
["PZ018","Worthing Hospital","South Central",125,68.491249084472656,67.218994140625,8.3005164370596578,"67.2 mmol/mol (8.3%)","67.2 mmol/mol (8.3%)",4.8000000000000001E-2,0.112,0.25600000000000001,0.56799999999999995,0.4,0.23200000000000001,0.17599999999999999,0.82400000000000007,69.477348327636719,0.23918883502483368,0.1897118091583252]
["PZ019","Basildon University Hospital","East of England",82,58.68902587890625,57,7.3654817458138897,"57 mmol/mol (7.4%)","57 mmol/mol (7.4%)",0.28048780487804881,0.40243902439024393,0.56097560975609762,0.34146341463414637,0.2073170731707317,0.14634146341463414,9.7560975609756101E-2,0.90243902439024393,58.888069152832031,0.57141685485839844,0.10599666833877563]
["PZ020","Diana, Princess of Wales Hospital, Grimsby","Yorkshire and Humber",114,58.302631378173828,57,7.3654817458138897,"57 mmol/mol (7.4%)","57 mmol/mol (7.4%)",0.14035087719298245,0.33333333333333331,0.52631578947368418,0.43859649122807015,0.13157894736842105,5.2631578947368418E-2,3.5087719298245612E-2,0.96491228070175439,58.664466857910156,0.51906496286392212,3.7460636347532272E-2]
["PZ021","Wexham Park Hospital","South Central",179,58.581005096435547,56.5,7.3197319059383297,"56.5 mmol/mol (7.3%)","56.5 mmol/mol (7.3%)",0.18994413407821228,0.39664804469273746,0.54748603351955305,0.41340782122905029,0.16201117318435754,0.1005586592178771,3.9106145251396648E-2,0.96089385474860334,59.431480407714844,0.52248203754425049,4.4146660715341568E-2]
["PZ022","West Cumberland Hospital ","North East and North Cumbria",51,63.509803771972656,59.5,7.5942309451916916,"59.5 mmol/mol (7.6%)","59.5 mmol/mol (7.6%)",0.19607843137254902,0.29411764705882354,0.45098039215686275,0.39215686274509803,0.29411764705882354,0.23529411764705882,0.15686274509803921,0.84313725490196079,63.475288391113281,0.45105698704719543,0.16184897720813751]
["PZ023","St George's Hospital, London","London and South East",125,67.431999206542969,64,8.0059795040717354,"64 mmol/mol (8%)","64 mmol/mol (8%)",0.104,0.184,0.29599999999999999,0.53600000000000003,0.39200000000000002,0.25600000000000001,0.16800000000000001,0.83199999999999996,66.561485290527344,0.30491006374359131,0.14165842533111572]
["PZ024","East Kent Hospitals University NHS Foundation Trust","London and South East",248,68.076614379882813,64,8.0059795040717354,"64 mmol/mol (8%)","64 mmol/mol (8%)",9.2741935483870969E-2,0.20161290322580644,0.31048387096774194,0.52419354838709675,0.38709677419354838,0.22177419354838709,0.16532258064516128,0.83467741935483875,67.550155639648438,0.31851300597190857,0.15143454074859619]
["PZ026","Hull Royal Infirmary","Yorkshire and Humber",199,68.766334533691406,66,8.1889788635739773,"66 mmol/mol (8.2%)","66 mmol/mol (8.2%)",9.0452261306532666E-2,0.17587939698492464,0.30150753768844218,0.52261306532663321,0.42211055276381909,0.2613065326633166,0.17587939698492464,0.82412060301507539,69.056358337402344,0.29849165678024292,0.18503934144973755]
["PZ027","Friarage Hospital ","North East and North Cumbria",47,62,58.5,7.5027312654405716,"58.5 mmol/mol (7.5%)","58.5 mmol/mol (7.5%)",0.1276595744680851,0.27659574468085107,0.42553191489361702,0.51063829787234039,0.23404255319148937,8.5106382978723402E-2,6.3829787234042548E-2,0.93617021276595747,63.555694580078125,0.39313063025474548,7.8688837587833405E-2]
["PZ028","Stoke Mandeville Hospital ","South Central",87,58.775863647460938,57,7.3654817458138897,"57 mmol/mol (7.4%)","57 mmol/mol (7.4%)",0.16091954022988506,0.35632183908045978,0.50574712643678166,0.42528735632183906,0.14942528735632185,8.0459770114942528E-2,6.8965517241379309E-2,0.93103448275862066,62.013980865478516,0.42320111393928528,0.11244122684001923]
["PZ030","Leighton Hospital","North West",90,66.472221374511719,63,7.9144798243206154,"63 mmol/mol (7.9%)","63 mmol/mol (7.9%)",4.4444444444444446E-2,0.17777777777777778,0.26666666666666666,0.57777777777777772,0.32222222222222224,0.22222222222222221,0.15555555555555556,0.84444444444444444,68.682464599609375,0.24044255912303925,0.21759220957756042]
["PZ031","St Richard's Hospital ","South Central",121,65.49273681640625,62.847000122070313,7.9004803844880875,"62.8 mmol/mol (7.9%)","62.8 mmol/mol (7.9%)",5.7851239669421489E-2,0.13223140495867769,0.28925619834710742,0.61157024793388426,0.30578512396694213,0.13223140495867769,9.9173553719008267E-2,0.90082644628099173,66.7266845703125,0.27294954657554626,0.11282156407833099]
["PZ032","Royal Victoria Infirmary, Newcastle Upon Tyne","North East and North Cumbria",255,64.466667175292969,62,7.8229801445694935,"62 mmol/mol (7.8%)","62 mmol/mol (7.8%)",0.17254901960784313,0.25490196078431371,0.38823529411764707,0.45490196078431372,0.32941176470588235,0.2196078431372549,0.15686274509803921,0.84313725490196079,63.366817474365234,0.41637703776359558,0.13786347210407257]
["PZ033","Queens Hospital, Burton on Trent","West Midlands",138,59.257247924804688,56.75,7.3426068258761088,"56.8 mmol/mol (7.3%)","56.8 mmol/mol (7.3%)",0.18840579710144928,0.36231884057971014,0.54347826086956519,0.38405797101449274,0.18115942028985507,0.10144927536231885,7.2463768115942032E-2,0.92753623188405798,59.830539703369141,0.51820027828216553,7.6256677508354187E-2]
["PZ034","Royal Hampshire County Hospital","South Central",116,61.706897735595703,58.25,7.4798563455027907,"58.3 mmol/mol (7.5%)","58.3 mmol/mol (7.5%)",0.13793103448275862,0.32758620689655171,0.46551724137931033,0.39655172413793105,0.2413793103448276,0.17241379310344829,0.13793103448275862,0.86206896551724133,63.047672271728516,0.42260456085205078,0.16206957399845123]
["PZ035","Royal Berkshire Hospital","South Central",217,60.361751556396484,59,7.5484811053161316,"59 mmol/mol (7.5%)","59 mmol/mol (7.5%)",0.15207373271889402,0.27649769585253459,0.44700460829493088,0.47926267281105989,0.17972350230414746,8.755760368663594E-2,7.3732718894009217E-2,0.92626728110599077,61.983711242675781,0.40436449646949768,9.2230595648288727E-2]
["PZ036","Whipps Cross University Hospital ","London and South East",105,63.700950622558594,60,7.6399807850672516,"60 mmol/mol (7.6%)","60 mmol/mol (7.6%)",0.14285714285714285,0.27619047619047621,0.43809523809523809,0.41904761904761906,0.30476190476190479,0.23809523809523808,0.14285714285714285,0.85714285714285721,63.052623748779297,0.45352369546890259,0.13217122852802277]
["PZ038","Wycombe General Hospital ","South Central",93,54.618278503417969,54.5,7.1367325464360878,"54.5 mmol/mol (7.1%)","54.5 mmol/mol (7.1%)",0.19354838709677419,0.39784946236559138,0.67741935483870963,0.32258064516129031,6.4516129032258063E-2,1.0752688172043012E-2,0,1,57.914402008056641,0.56889301538467407,0]
["PZ040","Birmingham Heartlands Hospital","West Midlands",194,66.363151550292969,64,8.0059795040717354,"64 mmol/mol (8%)","64 mmol/mol (8%)",9.7938144329896906E-2,0.19587628865979381,0.33505154639175255,0.50515463917525771,0.38144329896907214,0.23195876288659795,0.15979381443298968,0.84020618556701032,64.915275573730469,0.37787231802940369,0.14027103781700134]
["PZ041","Addenbrooke's Hospital","East of England",197,61.746192932128906,59,7.5484811053161316,"59 mmol/mol (7.5%)","59 mmol/mol (7.5%)",0.15228426395939088,0.28426395939086296,0.43654822335025378,0.43147208121827413,0.24365482233502539,0.14720812182741116,0.13197969543147209,0.86802030456852797,63.436294555664063,0.40189087390899658,0.17720063030719757]
["PZ042","Nottingham Children's Hospital ","East Midlands",344,57.636264801025391,57.25,7.3883566657516688,"57.3 mmol/mol (7.4%)","57.3 mmol/mol (7.4%)",0.20639534883720931,0.35174418604651164,0.50290697674418605,0.46511627906976744,0.125,4.9418604651162788E-2,3.1976744186046513E-2,0.96802325581395343,57.844181060791016,0.49701672792434692,3.3023007214069366E-2]
["PZ045","Whittington Hospital, London","London and South East",78,69.139739990234375,68.25,8.3948531430139983,"68.3 mmol/mol (8.4%)","68.3 mmol/mol (8.4%)",0.11538461538461539,0.19230769230769232,0.29487179487179488,0.52564102564102566,0.5,0.32051282051282054,0.17948717948717949,0.82051282051282048,66.338180541992188,0.34792542457580566,0.13345268368721008]
["PZ047","Airedale General Hospital, Keighley","Yorkshire and Humber",97,65.989692687988281,62,7.8229801445694935,"62 mmol/mol (7.8%)","62 mmol/mol (7.8%)",7.2164948453608241E-2,0.14432989690721648,0.32989690721649484,0.54639175257731953,0.32989690721649484,0.21649484536082475,0.12371134020618557,0.87628865979381443,65.594253540039063,0.32809790968894958,0.10965772718191147]
["PZ048","Lincoln County Hospital ","East Midlands",141,66.354255676269531,64,8.0059795040717354,"64 mmol/mol (8%)","64 mmol/mol (8%)",9.9290780141843976E-2,0.19858156028368795,0.28368794326241137,0.55319148936170215,0.37588652482269502,0.25531914893617019,0.16312056737588654,0.83687943262411346,66.030998229980469,0.28466442227363586,0.14832749962806702]
["PZ049","Warrington Hospital","North West",113,64.150444030761719,61,7.7314804648183735,"61 mmol/mol (7.7%)","61 mmol/mol (7.7%)",8.8495575221238937E-2,0.22123893805309736,0.38938053097345132,0.48672566371681414,0.25663716814159293,0.16814159292035399,0.12389380530973451,0.87610619469026552,64.753959655761719,0.3827461302280426,0.14227592945098877]
["PZ050","Epsom & St Helier University Hospitals NHS Trust","London and South East",166,63.138553619384766,60,7.6399807850672516,"60 mmol/mol (7.6%)","60 mmol/mol (7.6%)",0.18072289156626506,0.28313253012048195,0.41566265060240964,0.45180722891566266,0.30722891566265059,0.18072289156626506,0.13253012048192772,0.86746987951807231,64.779815673828125,0.37665030360221863,0.16059979796409607]
["PZ053","Scunthorpe General Hospital","Yorkshire and Humber",103,67.257278442382813,64,8.0059795040717354,"64 mmol/mol (8%)","64 mmol/mol (8%)",5.8252427184466021E-2,0.20388349514563106,0.3300970873786408,0.53398058252427183,0.37864077669902912,0.24271844660194175,0.13592233009708737,0.86407766990291268,66.749679565429688,0.34182292222976685,0.12886317074298859]
["PZ054","Poole General Hospital","South Central",202,61.339107513427734,58.75,7.5256061853783507,"58.8 mmol/mol (7.5%)","58.8 mmol/mol (7.5%)",0.11881188118811881,0.29207920792079206,0.44554455445544555,0.46039603960396042,0.19801980198019803,0.11881188118811881,9.405940594059406E-2,0.90594059405940597,63.063980102539063,0.41015565395355225,0.1312030702829361]
["PZ055","Leicester Royal Infirmary","East Midlands",308,61.189933776855469,59.75,7.6171058651294725,"59.8 mmol/mol (7.6%)","59.8 mmol/mol (7.6%)",0.12012987012987013,0.29545454545454547,0.41558441558441561,0.52272727272727271,0.23376623376623376,0.12662337662337661,6.1688311688311688E-2,0.93831168831168832,62.604053497314453,0.39438518881797791,8.2917660474777222E-2]
["PZ057","Kingston Hospital","London and South East",123,61.564155578613281,60,7.6399807850672516,"60 mmol/mol (7.6%)","60 mmol/mol (7.6%)",5.6910569105691054E-2,0.17886178861788618,0.37398373983739835,0.56910569105691056,0.2032520325203252,0.10569105691056911,5.6910569105691054E-2,0.94308943089430897,63.360591888427734,0.33681386709213257,7.683214545249939E-2]
["PZ058","Newham University Hospital","London and South East",81,65.748977661132813,62,7.8229801445694935,"62 mmol/mol (7.8%)","62 mmol/mol (7.8%)",0.14814814814814814,0.34567901234567899,0.40740740740740738,0.40740740740740738,0.37037037037037035,0.27160493827160492,0.18518518518518517,0.81481481481481488,62.737964630126953,0.49613499641418457,0.13045290112495422]
["PZ059","The Royal London Hospital ","London and South East",229,62.598255157470703,59,7.5484811053161316,"59 mmol/mol (7.5%)","59 mmol/mol (7.5%)",0.14847161572052403,0.28820960698689957,0.43231441048034935,0.45414847161572053,0.24890829694323144,0.14847161572052403,0.11353711790393013,0.88646288209606983,59.595264434814453,0.53581321239471436,8.0259405076503754E-2]
["PZ060","Royal Devon and Exeter Hospital","South West",175,68.65142822265625,67,8.2804785433250974,"67 mmol/mol (8.3%)","67 mmol/mol (8.3%)",5.1428571428571428E-2,0.1657142857142857,0.26285714285714284,0.56571428571428573,0.39428571428571429,0.21714285714285714,0.17142857142857143,0.82857142857142851,69.801681518554688,0.24182291328907013,0.18298585712909698]
["PZ062","Croydon University Hospital","London and South East",133,65.383460998535156,62,7.8229801445694935,"62 mmol/mol (7.8%)","62 mmol/mol (7.8%)",0.12781954887218044,0.27067669172932329,0.36842105263157893,0.46616541353383456,0.34586466165413532,0.21052631578947367,0.16541353383458646,0.83458646616541354,63.501556396484375,0.40673065185546875,0.12730520963668823]
["PZ064","Chesterfield Royal Hospital","East Midlands",165,60.374122619628906,59,7.5484811053161316,"59 mmol/mol (7.5%)","59 mmol/mol (7.5%)",0.18181818181818182,0.26060606060606062,0.47878787878787876,0.44848484848484849,0.19393939393939394,9.696969696969697E-2,7.2727272727272724E-2,0.92727272727272725,59.706485748291016,0.49221640825271606,6.3226833939552307E-2]
["PZ065","County Hospital Stafford","West Midlands",79,61.132911682128906,59,7.5484811053161316,"59 mmol/mol (7.5%)","59 mmol/mol (7.5%)",0.10126582278481013,0.24050632911392406,0.43037974683544306,0.48101265822784811,0.189873417721519,0.12658227848101267,8.8607594936708861E-2,0.91139240506329111,61.713390350341797,0.41553148627281189,9.6175841987133026E-2]
["PZ067","Royal Cornwall Hospital","South West",218,59.752292633056641,58,7.4569814255650098,"58 mmol/mol (7.5%)","58 mmol/mol (7.5%)",0.11009174311926606,0.26146788990825687,0.47706422018348627,0.48165137614678899,0.16055045871559634,8.7155963302752298E-2,4.1284403669724773E-2,0.95871559633027525,60.135429382324219,0.46950563788414001,4.5805849134922028E-2]
["PZ068","Royal United Hospital","South West",179,64.446929931640625,60,7.6399807850672516,"60 mmol/mol (7.6%)","60 mmol/mol (7.6%)",5.5865921787709494E-2,0.2011173184357542,0.37988826815642457,0.50837988826815639,0.28491620111731841,0.16759776536312848,0.11173184357541899,0.88826815642458101,65.756919860839844,0.35335439443588257,0.13936260342597961]
["PZ069","Stepping Hill Hospital","North West",177,61.737289428710938,60,7.6399807850672516,"60 mmol/mol (7.6%)","60 mmol/mol (7.6%)",0.13559322033898305,0.2711864406779661,0.42937853107344631,0.49717514124293788,0.24858757062146894,0.15819209039548024,7.3446327683615822E-2,0.92655367231638419,62.618553161621094,0.40036237239837646,7.9489216208457947E-2]
["PZ072","West Suffolk Hospital, Bury St Edmunds","East of England",112,67.549110412597656,62.75,7.8916049043828345,"62.8 mmol/mol (7.9%)","62.8 mmol/mol (7.9%)",8.0357142857142863E-2,0.19642857142857142,0.32142857142857145,0.49107142857142855,0.3125,0.22321428571428573,0.1875,0.8125,68.497665405273438,0.30489632487297058,0.21016733348369598]
["PZ073","Alexandra Hospital ","West Midlands",81,69.567901611328125,65,8.0974791838228573,"65 mmol/mol (8.1%)","65 mmol/mol (8.1%)",7.407407407407407E-2,0.16049382716049382,0.2839506172839506,0.49382716049382713,0.38271604938271603,0.25925925925925924,0.22222222222222221,0.77777777777777779,69.804061889648438,0.28023147583007813,0.23203909397125244]
["PZ074","Alder Hey Childrens Hospital","North West",312,63.403846740722656,60,7.6399807850672516,"60 mmol/mol (7.6%)","60 mmol/mol (7.6%)",0.14102564102564102,0.27884615384615385,0.41346153846153844,0.45833333333333331,0.30448717948717946,0.17307692307692307,0.12820512820512819,0.87179487179487181,61.024238586425781,0.48509636521339417,9.7243033349514008E-2]
["PZ075","St Mary's Hospital, Isle of Wight","South Central",77,69.941558837890625,69,8.4634779028273392,"69 mmol/mol (8.5%)","69 mmol/mol (8.5%)",6.4935064935064929E-2,0.15584415584415584,0.23376623376623376,0.53246753246753242,0.50649350649350644,0.32467532467532467,0.23376623376623376,0.76623376623376627,70.721221923828125,0.23146434128284454,0.28142419457435608]
["PZ076","Colchester General Hospital","East of England",195,69.064071655273438,65,8.0974791838228573,"65 mmol/mol (8.1%)","65 mmol/mol (8.1%)",6.6666666666666666E-2,0.18974358974358974,0.29743589743589743,0.47179487179487178,0.44615384615384618,0.29230769230769232,0.23076923076923078,0.76923076923076916,68.763961791992188,0.3027631938457489,0.22161754965782166]
["PZ078","Royal Stoke University Hospital","West Midlands",210,61.985713958740234,60,7.6399807850672516,"60 mmol/mol (7.6%)","60 mmol/mol (7.6%)",7.1428571428571425E-2,0.21904761904761905,0.38571428571428573,0.54761904761904767,0.2,0.10952380952380952,6.6666666666666666E-2,0.93333333333333335,61.617389678955078,0.39854902029037476,6.7311428487300873E-2]
["PZ080","Sunderland Royal Hospital","North East and North Cumbria",198,60.199493408203125,58,7.4569814255650098,"58 mmol/mol (7.5%)","58 mmol/mol (7.5%)",0.19191919191919191,0.34848484848484851,0.48484848484848486,0.42424242424242425,0.19696969696969696,0.1111111111111111,9.0909090909090912E-2,0.90909090909090906,59.270153045654297,0.51217663288116455,7.7187329530715942E-2]
["PZ082","Evelina Childrens Hospital","London and South East",91,65.725273132324219,61,7.7314804648183735,"61 mmol/mol (7.7%)","61 mmol/mol (7.7%)",9.8901098901098897E-2,0.24175824175824176,0.39560439560439559,0.40659340659340659,0.30769230769230771,0.21978021978021978,0.19780219780219779,0.80219780219780223,63.545387268066406,0.45971408486366272,0.16537819802761078]
["PZ084","Kidderminster Hospital","West Midlands",45,68.377777099609375,66,8.1889788635739773,"66 mmol/mol (8.2%)","66 mmol/mol (8.2%)",2.2222222222222223E-2,6.6666666666666666E-2,0.17777777777777778,0.66666666666666663,0.42222222222222222,0.26666666666666666,0.15555555555555556,0.84444444444444444,67.510948181152344,0.19025763869285583,0.14517149329185486]
["PZ085","Princess Royal University Hospital","London and South East",141,65.925529479980469,61.5,7.7772303046939335,"61.5 mmol/mol (7.8%)","61.5 mmol/mol (7.8%)",9.2198581560283682E-2,0.21276595744680851,0.40425531914893614,0.43971631205673761,0.31205673758865249,0.23404255319148937,0.15602836879432624,0.84397163120567376,66.807640075683594,0.37722733616828918,0.16714242100715637]
["PZ086","Hinchingbrooke Hospital","East of England",92,61.896739959716797,58,7.4569814255650098,"58 mmol/mol (7.5%)","58 mmol/mol (7.5%)",0.17391304347826086,0.30434782608695654,0.47826086956521741,0.34782608695652173,0.28260869565217389,0.20652173913043478,0.17391304347826086,0.82608695652173914,62.368198394775391,0.45971781015396118,0.17578297853469849]
["PZ088","Royal Surrey County Hospital","London and South East",148,60.970561981201172,58,{"$f":"(F68/10.929)+2.15","v":7.4569814255650098},{"$f":"(ROUND(F68,1)&$Y$2&$Y$3&(ROUND(G68,1)&$Y$4&$Y$5))","v":"58 mmol/mol (7.5%)"},"58 mmol/mol (7.5%)",0.14864864864864866,0.33108108108108109,0.44594594594594594,0.45270270270270269,0.21621621621621623,0.12837837837837837,0.10135135135135136,0.89864864864864868,62.293201446533203,0.4057299792766571,0.11836747080087662]
["PZ089","Northwick Park Hospital","London and South East",141,69.294326782226563,65,8.0974791838228573,"65 mmol/mol (8.1%)","65 mmol/mol (8.1%)",6.3829787234042548E-2,0.12056737588652482,0.22695035460992907,0.53900709219858156,0.42553191489361702,0.28368794326241137,0.23404255319148937,0.76595744680851063,68.099945068359375,0.24034580588340759,0.21447950601577759]
["PZ091","Royal Blackburn Hospital","North West",249,67.795181274414063,66,8.1889788635739773,"66 mmol/mol (8.2%)","66 mmol/mol (8.2%)",9.6385542168674704E-2,0.1606425702811245,0.27710843373493976,0.51807228915662651,0.40160642570281124,0.24899598393574296,0.20481927710843373,0.79518072289156627,66.339492797851563,0.30727964639663696,0.17742228507995605]
["PZ092","Princess of Wales Hospital, Bridgend","Wales",74,63.243244171142578,60.25,7.6628557050050325,"60.3 mmol/mol (7.7%)","60.3 mmol/mol (7.7%)",9.45945945945946E-2,0.29729729729729731,0.45945945945945948,0.44594594594594594,0.27027027027027029,0.13513513513513514,9.45945945945946E-2,0.90540540540540537,64.733955383300781,0.42126339673995972,0.11511280387639999]
["PZ094","Princess Royal Hospital","West Midlands",226,64.522125244140625,62,7.8229801445694935,"62 mmol/mol (7.8%)","62 mmol/mol (7.8%)",6.1946902654867256E-2,0.19469026548672566,0.32300884955752213,0.57964601769911506,0.26106194690265488,0.13274336283185842,9.7345132743362831E-2,0.90265486725663713,64.332084655761719,0.32658672332763672,9.1550692915916443E-2]
["PZ096","Derriford Hospital","South West",203,60.747097015380859,59,7.5484811053161316,"59 mmol/mol (7.5%)","59 mmol/mol (7.5%)",0.15270935960591134,0.27586206896551724,0.45320197044334976,0.47290640394088668,0.2413793103448276,9.3596059113300489E-2,7.3891625615763554E-2,0.92610837438423643,61.167301177978516,0.44573962688446045,8.1145666539669037E-2]
["PZ097","City Hospital, Birmingham","West Midlands",74,70.959457397460938,68,8.3719782230762192,"68 mmol/mol (8.4%)","68 mmol/mol (8.4%)",0.14864864864864866,0.17567567567567569,0.27027027027027029,0.5,0.48648648648648651,0.35135135135135137,0.22972972972972974,0.77027027027027029,66.045951843261719,0.36299541592597961,0.1331108957529068]
["PZ099","East and North Hertfordshire NHS Trust","East of England",247,65.069633483886719,61.5,7.7772303046939335,"61.5 mmol/mol (7.8%)","61.5 mmol/mol (7.8%)",0.13765182186234817,0.25910931174089069,0.39676113360323889,0.47368421052631576,0.31983805668016196,0.20242914979757085,0.12955465587044535,0.87044534412955465,66.34783935546875,0.36699336767196655,0.14520943164825439]
["PZ100","North Devon District Hospital","South West",70,61.25,58,7.4569814255650098,"58 mmol/mol (7.5%)","58 mmol/mol (7.5%)",0.11428571428571428,0.21428571428571427,0.47142857142857142,0.42857142857142855,0.14285714285714285,0.1,0.1,0.9,62.297061920166016,0.44970440864562988,0.11666962504386902]
["PZ101","Leeds Childrens' Hospital","Yorkshire and Humber",400,64.65875244140625,60,7.6399807850672516,"60 mmol/mol (7.6%)","60 mmol/mol (7.6%)",0.15,0.29249999999999998,0.43,0.42499999999999999,0.32500000000000001,0.20749999999999999,0.14499999999999999,0.85499999999999998,63.627426147460938,0.44870838522911072,0.12010892480611801]
["PZ102","The Hillingdon Hospital","London and South East",137,58.532848358154297,56,7.2739820660627679,"56 mmol/mol (7.3%)","56 mmol/mol (7.3%)",0.24817518248175183,0.38686131386861317,0.55474452554744524,0.36496350364963503,0.16058394160583941,9.4890510948905105E-2,8.0291970802919707E-2,0.91970802919708028,58.088153839111328,0.55876064300537109,7.1613810956478119E-2]
["PZ104","Royal Albert Edward Infirmary","North West",155,67.376777648925781,62.5,7.8687299844450536,"62.5 mmol/mol (7.9%)","62.5 mmol/mol (7.9%)",9.0322580645161285E-2,0.16774193548387098,0.30967741935483872,0.43870967741935485,0.36774193548387096,0.28387096774193549,0.25161290322580643,0.74838709677419357,67.055534362792969,0.31669950485229492,0.25170627236366272]
["PZ105","St Luke's Hospital","Yorkshire and Humber",156,67.076919555664063,65,8.0974791838228573,"65 mmol/mol (8.1%)","65 mmol/mol (8.1%)",5.128205128205128E-2,0.10897435897435898,0.28205128205128205,0.57051282051282048,0.40384615384615385,0.21153846153846154,0.14743589743589744,0.85256410256410253,65.298210144042969,0.33218821883201599,0.13575416803359985]
["PZ106","Victoria Hospital, Blackpool","North West",100,65.699996948242188,62.75,7.8916049043828345,"62.8 mmol/mol (7.9%)","62.8 mmol/mol (7.9%)",0.09,0.27,0.35,0.52,0.33,0.18,0.13,0.87,66.0655517578125,0.34275048971176147,0.13951127231121063]
["PZ107","Queen Elizabeth Hospital, Gateshead","North East and North Cumbria",111,67.689186096191406,64,8.0059795040717354,"64 mmol/mol (8%)","64 mmol/mol (8%)",7.2072072072072071E-2,0.15315315315315314,0.31531531531531531,0.52252252252252251,0.36936936936936937,0.26126126126126126,0.16216216216216217,0.83783783783783783,66.437141418457031,0.33876878023147583,0.13946367800235748]
["PZ108","Birmingham Children's Hospital","West Midlands",213,62.736583709716797,61,7.7314804648183735,"61 mmol/mol (7.7%)","61 mmol/mol (7.7%)",0.10328638497652583,0.20187793427230047,0.34741784037558687,0.59624413145539901,0.25352112676056338,0.11267605633802817,5.6338028169014086E-2,0.94366197183098588,60.703125,0.41278499364852905,4.8568300902843475E-2]
["PZ109","Southampton Children’s Hospital","South Central",225,65.168891906738281,62.5,7.8687299844450536,"62.5 mmol/mol (7.9%)","62.5 mmol/mol (7.9%)",9.7777777777777783E-2,0.22666666666666666,0.36444444444444446,0.50222222222222224,0.32444444444444442,0.21777777777777776,0.13333333333333333,0.8666666666666667,65.584884643554688,0.35703596472740173,0.14087897539138794]
["PZ110","Ormskirk & District General Hospital","North West",124,63.426284790039063,62.25,7.8458550645072744,"62.3 mmol/mol (7.8%)","62.3 mmol/mol (7.8%)",5.6451612903225805E-2,0.15322580645161291,0.32258064516129031,0.61290322580645162,0.2661290322580645,0.12096774193548387,6.4516129032258063E-2,0.93548387096774199,64.247238159179688,0.29407897591590881,7.0224985480308533E-2]
["PZ111","Hereford County Hospital","West Midlands",79,61.14556884765625,60,7.6399807850672516,"60 mmol/mol (7.6%)","60 mmol/mol (7.6%)",0.15189873417721519,0.32911392405063289,0.41772151898734178,0.50632911392405067,0.27848101265822783,0.10126582278481013,7.5949367088607597E-2,0.92405063291139244,62.027133941650391,0.40183749794960022,9.1333381831645966E-2]
["PZ112","Scarborough General Hospital","Yorkshire and Humber",78,61.109184265136719,60.25,7.6628557050050325,"60.3 mmol/mol (7.7%)","60.3 mmol/mol (7.7%)",7.6923076923076927E-2,0.17948717948717949,0.41025641025641024,0.53846153846153844,0.17948717948717949,8.9743589743589744E-2,5.128205128205128E-2,0.94871794871794868,60.858848571777344,0.42083874344825745,5.183381587266922E-2]
["PZ113","University Hospital of Wales","Wales",188,65.489364624023438,62.5,7.8687299844450536,"62.5 mmol/mol (7.9%)","62.5 mmol/mol (7.9%)",0.10638297872340426,0.19680851063829788,0.31914893617021278,0.51595744680851063,0.31914893617021278,0.22872340425531915,0.16489361702127658,0.83510638297872342,65.606666564941406,0.31791234016418457,0.16785377264022827]
["PZ114","The York Hospital","Yorkshire and Humber",125,62.916000366210938,60.5,7.6857306249428117,"60.5 mmol/mol (7.7%)","60.5 mmol/mol (7.7%)",0.16800000000000001,0.25600000000000001,0.39200000000000002,0.47199999999999998,0.27200000000000002,0.16,0.13600000000000001,0.86399999999999999,64.720199584960938,0.35078269243240356,0.17415358126163483]
["PZ118","University Hospital Lewisham","London and South East",110,67.954544067382813,63,7.9144798243206154,"63 mmol/mol (7.9%)","63 mmol/mol (7.9%)",0.12727272727272726,0.23636363636363636,0.33636363636363636,0.46363636363636362,0.42727272727272725,0.33636363636363636,0.2,0.8,65.142990112304688,0.38641145825386047,0.14056290686130524]
["PZ119","Darent Valley Hospital, Dartford","London and South East",143,67.440315246582031,64,8.0059795040717354,"64 mmol/mol (8%)","64 mmol/mol (8%)",5.5944055944055944E-2,0.13286713286713286,0.25874125874125875,0.58041958041958042,0.38461538461538464,0.23776223776223776,0.16083916083916083,0.83916083916083917,68.55157470703125,0.25240147113800049,0.2056218683719635]
["PZ120","North Tyneside General Hospital","North East and North Cumbria",147,60.275508880615234,59,7.5484811053161316,"59 mmol/mol (7.5%)","59 mmol/mol (7.5%)",0.1360544217687075,0.29931972789115646,0.46258503401360546,0.49659863945578231,0.23129251700680273,8.8435374149659865E-2,4.0816326530612242E-2,0.95918367346938771,60.995132446289063,0.44308051466941833,4.5149251818656921E-2]
["PZ121","George Eliot Hospital","West Midlands",88,65.44659423828125,64,8.0059795040717354,"64 mmol/mol (8%)","64 mmol/mol (8%)",6.8181818181818177E-2,0.18181818181818182,0.25,0.63636363636363635,0.35227272727272729,0.22727272727272727,0.11363636363636363,0.88636363636363635,65.033645629882813,0.25448104739189148,0.10875146836042404]
["PZ122","University Hospital, Coventry ","West Midlands",199,68.520103454589844,65,8.0974791838228573,"65 mmol/mol (8.1%)","65 mmol/mol (8.1%)",5.5276381909547742E-2,0.18592964824120603,0.32160804020100503,0.48241206030150752,0.41708542713567837,0.25125628140703515,0.19597989949748743,0.8040201005025126,68.002090454101563,0.32842928171157837,0.18045815825462341]
["PZ125","Maidstone Hospital","London and South East",119,63.546218872070313,61.5,7.7772303046939335,"61.5 mmol/mol (7.8%)","61.5 mmol/mol (7.8%)",9.2436974789915971E-2,0.16806722689075632,0.35294117647058826,0.55462184873949583,0.24369747899159663,0.14285714285714285,9.2436974789915971E-2,0.90756302521008403,64.898292541503906,0.3308824896812439,0.11451329290866852]
["PZ126","Medway Maritime Hospital","London and South East",250,65.612861633300781,62.300498962402344,7.8504757033948529,"62.3 mmol/mol (7.9%)","62.3 mmol/mol (7.9%)",0.124,0.21199999999999999,0.35199999999999998,0.5,0.32400000000000001,0.22,0.14799999999999999,0.85199999999999998,65.22039794921875,0.36104494333267212,0.14079365134239197]
["PZ127","James Paget Hospital","East of England",119,72.47479248046875,66,8.1889788635739773,"66 mmol/mol (8.2%)","66 mmol/mol (8.2%)",5.0420168067226892E-2,0.15966386554621848,0.24369747899159663,0.46218487394957986,0.46218487394957986,0.38655462184873951,0.29411764705882354,0.70588235294117641,71.27752685546875,0.25775697827339172,0.25682586431503296]
["PZ128","Pilgrim Hospital ","East Midlands",95,66.137367248535156,65,8.0974791838228573,"65 mmol/mol (8.1%)","65 mmol/mol (8.1%)",0.12631578947368421,0.21052631578947367,0.31578947368421051,0.52631578947368418,0.41052631578947368,0.18947368421052632,0.15789473684210525,0.84210526315789469,65.451866149902344,0.32921594381332397,0.14822471141815186]
["PZ129","Harrogate District Hospital","Yorkshire and Humber",72,67,62,7.8229801445694935,"62 mmol/mol (7.8%)","62 mmol/mol (7.8%)",0.125,0.18055555555555555,0.31944444444444442,0.5,0.34722222222222221,0.25,0.18055555555555555,0.81944444444444442,67.911544799804688,0.29155558347702026,0.1808977872133255]
["PZ130","Chelsea and Westminster Hospital","London and South East",126,69.6767578125,67.1094970703125,8.2904974901923776,"67.1 mmol/mol (8.3%)","67.1 mmol/mol (8.3%)",0.1111111111111111,0.16666666666666666,0.26984126984126983,0.5,0.45238095238095238,0.2857142857142857,0.23015873015873015,0.76984126984126988,68.580551147460938,0.28458762168884277,0.21291589736938477]
["PZ131","Peterborough City Hospital","East of England",191,66.908378601074219,63,7.9144798243206154,"63 mmol/mol (7.9%)","63 mmol/mol (7.9%)",9.947643979057591E-2,0.20942408376963351,0.33507853403141363,0.49214659685863876,0.36649214659685864,0.23036649214659685,0.17277486910994763,0.82722513089005234,67.227005004882813,0.33547738194465637,0.18764530122280121]
["PZ132","Ysbyty Gwynedd Hospital ","Wales",91,60.213188171386719,59,7.5484811053161316,"59 mmol/mol (7.5%)","59 mmol/mol (7.5%)",0.18681318681318682,0.34065934065934067,0.43956043956043955,0.46153846153846156,0.25274725274725274,0.13186813186813187,9.8901098901098897E-2,0.90109890109890112,61.775409698486328,0.4032551646232605,0.12856714427471161]
["PZ133","James Cook University Hospital ","North East and North Cumbria",142,61.605632781982422,60,7.6399807850672516,"60 mmol/mol (7.6%)","60 mmol/mol (7.6%)",0.15492957746478872,0.27464788732394368,0.45774647887323944,0.46478873239436619,0.27464788732394368,0.13380281690140844,7.746478873239436E-2,0.92253521126760563,62.320858001708984,0.45285999774932861,9.3649856746196747E-2]
["PZ135","Royal Alexandra Hospital, Brighton","London and South East",182,63.961540222167969,61,7.7314804648183735,"61 mmol/mol (7.7%)","61 mmol/mol (7.7%)",8.2417582417582416E-2,0.23076923076923078,0.40659340659340659,0.47252747252747251,0.2967032967032967,0.16483516483516483,0.12087912087912088,0.87912087912087911,65.455902099609375,0.3715038001537323,0.14581269025802612]
["PZ136","Central Manchester University Hospitals NHS Foundation Trust","North West",266,66.857139587402344,63.5,7.9602296641961754,"63.5 mmol/mol (8%)","63.5 mmol/mol (8%)",0.10150375939849623,0.18421052631578946,0.31954887218045114,0.51503759398496241,0.38345864661654133,0.24812030075187969,0.16541353383458646,0.83458646616541354,63.845085144042969,0.38811993598937988,0.11428920924663544]
["PZ137","Musgrove Park Hospital","South West",193,68.559585571289063,64,8.0059795040717354,"64 mmol/mol (8%)","64 mmol/mol (8%)",9.3264248704663211E-2,0.20207253886010362,0.26424870466321243,0.53886010362694303,0.37823834196891193,0.25906735751295334,0.19689119170984457,0.80310880829015541,68.891036987304688,0.26235958933830261,0.20052549242973328]
["PZ138","Warwick Hospital","West Midlands",108,62.680557250976563,59.5,7.5942309451916916,"59.5 mmol/mol (7.6%)","59.5 mmol/mol (7.6%)",0.18518518518518517,0.23148148148148148,0.42592592592592593,0.43518518518518517,0.26851851851851855,0.15740740740740741,0.1388888888888889,0.86111111111111116,65.377632141113281,0.3644028902053833,0.19586475193500519]
["PZ139","Bristol Royal Hospital for Children","South West",440,63.180683135986328,60.5,7.6857306249428117,"60.5 mmol/mol (7.7%)","60.5 mmol/mol (7.7%)",0.1409090909090909,0.26136363636363635,0.39318181818181819,0.49090909090909091,0.27727272727272728,0.16363636363636364,0.11590909090909091,0.88409090909090904,63.348705291748047,0.38819718360900879,0.11633165925741196]
["PZ140","Tameside General Hospital","North West",86,68.279067993164063,65.5,8.1432290236984173,"65.5 mmol/mol (8.1%)","65.5 mmol/mol (8.1%)",6.9767441860465115E-2,0.18604651162790697,0.22093023255813954,0.55813953488372092,0.45348837209302323,0.26744186046511625,0.22093023255813954,0.77906976744186052,67.228805541992188,0.23670460283756256,0.21110868453979492]
["PZ141","South Tyneside District Hospital","North East and North Cumbria",64,57.518047332763672,57,7.3654817458138897,"57 mmol/mol (7.4%)","57 mmol/mol (7.4%)",0.140625,0.390625,0.5625,0.40625,0.140625,3.125E-2,3.125E-2,0.96875,57.176631927490234,0.57771319150924683,3.0419580638408661E-2]
["PZ144","Good Hope Hospital, Sutton Coldfield","West Midlands",102,60.058822631835938,60,7.6399807850672516,"60 mmol/mol (7.6%)","60 mmol/mol (7.6%)",0.23529411764705882,0.33333333333333331,0.45098039215686275,0.47058823529411764,0.22549019607843138,0.11764705882352941,7.8431372549019607E-2,0.92156862745098045,59.895450592041016,0.45360839366912842,7.749408483505249E-2]
["PZ145","Milton Keynes Hospital","South Central",129,57.786823272705078,56,7.2739820660627679,"56 mmol/mol (7.3%)","56 mmol/mol (7.3%)",0.16279069767441862,0.38759689922480622,0.52713178294573648,0.4573643410852713,0.17054263565891473,6.2015503875968991E-2,1.5503875968992248E-2,0.98449612403100772,59.246292114257813,0.48719877004623413,2.0157795399427414E-2]
["PZ146","Southend University Hospital","East of England",173,59.315029144287109,57.5,7.4112315856894497,"57.5 mmol/mol (7.4%)","57.5 mmol/mol (7.4%)",0.1791907514450867,0.34104046242774566,0.50867052023121384,0.4277456647398844,0.1791907514450867,0.10404624277456648,6.358381502890173E-2,0.93641618497109824,60.292922973632813,0.48259952664375305,7.1173220872879028E-2]
["PZ149","Barnsley Hospital","Yorkshire and Humber",120,64.145835876464844,60.75,7.7086055448805926,"60.8 mmol/mol (7.7%)","60.8 mmol/mol (7.7%)",0.10833333333333334,0.17499999999999999,0.33333333333333331,0.58333333333333337,0.33333333333333331,0.18333333333333332,8.3333333333333329E-2,0.91666666666666663,62.749874114990234,0.36001861095428467,6.8735763430595398E-2]
["PZ150","Cumberland Infirmary","North East and North Cumbria",92,60.087516784667969,56,7.2739820660627679,"56 mmol/mol (7.3%)","56 mmol/mol (7.3%)",0.16304347826086957,0.40217391304347827,0.54347826086956519,0.38043478260869568,0.18478260869565216,0.11956521739130435,7.6086956521739135E-2,0.92391304347826086,60.350788116455078,0.5278201699256897,7.6440893113613129E-2]
["PZ151","Queen Elizabeth Hospital, Woolwich","London and South East",190,69.0489501953125,66,8.1889788635739773,"66 mmol/mol (8.2%)","66 mmol/mol (8.2%)",7.3684210526315783E-2,0.15263157894736842,0.25263157894736843,0.5368421052631579,0.43157894736842106,0.27894736842105261,0.21052631578947367,0.78947368421052633,67.97283935546875,0.26561805605888367,0.18455193936824799]
["PZ152","Torbay Hospital","South West",94,65.590423583984375,62.75,7.8916049043828345,"62.8 mmol/mol (7.9%)","62.8 mmol/mol (7.9%)",0.10638297872340426,0.23404255319148937,0.30851063829787234,0.52127659574468088,0.30851063829787234,0.23404255319148937,0.1702127659574468,0.82978723404255317,65.537429809570313,0.30864426493644714,0.1661275327205658]
["PZ153","Whiston Hospital","North West",81,65.991905212402344,63,7.9144798243206154,"63 mmol/mol (7.9%)","63 mmol/mol (7.9%)",7.407407407407407E-2,0.22222222222222221,0.40740740740740738,0.43209876543209874,0.32098765432098764,0.22222222222222221,0.16049382716049382,0.83950617283950613,64.8505859375,0.43785196542739868,0.14399275183677673]
["PZ156","Queen Elizabeth Hospital, Kings Lynn","East of England",126,71.416664123535156,67,8.2804785433250974,"67 mmol/mol (8.3%)","67 mmol/mol (8.3%)",2.3809523809523808E-2,9.5238095238095233E-2,0.19047619047619047,0.57936507936507942,0.45238095238095238,0.31746031746031744,0.23015873015873015,0.76984126984126988,69.976387023925781,0.20461474359035492,0.18304556608200073]
["PZ157","Royal Free Hospital","London and South East",42,60.035713195800781,56,7.2739820660627679,"56 mmol/mol (7.3%)","56 mmol/mol (7.3%)",0.19047619047619047,0.45238095238095238,0.54761904761904767,0.33333333333333331,0.23809523809523808,0.14285714285714285,0.11904761904761904,0.88095238095238093,59.120651245117188,0.56239575147628784,0.10628660768270493]
["PZ159","Basingstoke and North Hampshire Hospital","South Central",138,63.152172088623047,59.75,7.6171058651294725,"59.8 mmol/mol (7.6%)","59.8 mmol/mol (7.6%)",0.13043478260869565,0.27536231884057971,0.42753623188405798,0.46376811594202899,0.27536231884057971,0.18115942028985507,0.10869565217391304,0.89130434782608692,64.990486145019531,0.38851648569107056,0.14043226838111877]
["PZ160","Bishop Auckland Hospital","North East and North Cumbria",78,62.00640869140625,60,7.6399807850672516,"60 mmol/mol (7.6%)","60 mmol/mol (7.6%)",0.23076923076923078,0.32051282051282054,0.44871794871794873,0.46153846153846156,0.28205128205128205,0.20512820512820512,8.9743589743589744E-2,0.91025641025641024,60.815143585205078,0.4811255931854248,7.4449285864830017E-2]
["PZ161","Darlington Memorial Hospital","North East and North Cumbria",67,64.171638488769531,61,7.7314804648183735,"61 mmol/mol (7.7%)","61 mmol/mol (7.7%)",0.14925373134328357,0.23880597014925373,0.28358208955223879,0.59701492537313428,0.34328358208955223,0.17910447761194029,0.11940298507462686,0.88059701492537312,64.298347473144531,0.27258208394050598,0.10917391628026962]
["PZ162","University Hospital of North Durham","North East and North Cumbria",100,61.950000762939453,59.5,7.5942309451916916,"59.5 mmol/mol (7.6%)","59.5 mmol/mol (7.6%)",0.1,0.27,0.44,0.49,0.24,0.13,7.0000000000000007E-2,0.92999999999999994,61.942802429199219,0.44097208976745605,7.3541529476642609E-2]
["PZ163","University Hospital of North Tees and University Hospital of Hartlepool","North East and North Cumbria",161,64.512420654296875,62,7.8229801445694935,"62 mmol/mol (7.8%)","62 mmol/mol (7.8%)",0.11801242236024845,0.19875776397515527,0.34782608695652173,0.52795031055900621,0.31677018633540371,0.18012422360248448,0.12422360248447205,0.87577639751552794,62.965549468994141,0.37851062417030334,0.10100294649600983]
["PZ164","Rotherham Hospital","Yorkshire and Humber",106,63.759552001953125,60.660999298095703,7.7004620091587253,"60.7 mmol/mol (7.7%)","60.7 mmol/mol (7.7%)",7.5471698113207544E-2,0.18867924528301888,0.39622641509433965,0.5,0.22641509433962265,0.13207547169811321,0.10377358490566038,0.89622641509433965,62.434436798095703,0.42672690749168396,8.4216557443141937E-2]
["PZ167","University Hospitals of Morecambe Bay NHS Foundation Trust ","North West",184,64.75543212890625,61.5,7.7772303046939335,"61.5 mmol/mol (7.8%)","61.5 mmol/mol (7.8%)",7.6086956521739135E-2,0.20652173913043478,0.34239130434782611,0.53804347826086951,0.27717391304347827,0.19565217391304349,0.11956521739130435,0.88043478260869568,64.154930114746094,0.35341981053352356,0.11284267902374268]
["PZ168","Grantham and District Hospital","East Midlands",54,60.888889312744141,61,7.7314804648183735,"61 mmol/mol (7.7%)","61 mmol/mol (7.7%)",0.18518518518518517,0.27777777777777779,0.44444444444444442,0.42592592592592593,0.25925925925925924,0.16666666666666666,0.12962962962962962,0.87037037037037035,63.016620635986328,0.39085143804550171,0.17025935649871826]
["PZ169","Salisbury District Hospital","South Central",131,63.824428558349609,61,7.7314804648183735,"61 mmol/mol (7.7%)","61 mmol/mol (7.7%)",0.15267175572519084,0.24427480916030533,0.38167938931297712,0.48091603053435117,0.28244274809160308,0.16793893129770993,0.13740458015267176,0.86259541984732824,65.597450256347656,0.34525778889656067,0.16788093745708466]
["PZ170","Arrowe Park Hospital","North West",144,65.434028625488281,62.75,7.8916049043828345,"62.8 mmol/mol (7.9%)","62.8 mmol/mol (7.9%)",8.3333333333333329E-2,0.20833333333333334,0.3125,0.53472222222222221,0.33333333333333331,0.20833333333333334,0.15277777777777779,0.84722222222222221,64.817718505859375,0.3310847282409668,0.14940012991428375]
["PZ171","Broomfield Hospital","East of England",162,58.439685821533203,56.75,7.3426068258761088,"56.8 mmol/mol (7.3%)","56.8 mmol/mol (7.3%)",0.14814814814814814,0.31481481481481483,0.54320987654320985,0.41358024691358025,0.16049382716049382,8.6419753086419748E-2,4.3209876543209874E-2,0.95679012345679015,60.546642303466797,0.48678672313690186,6.09634630382061E-2]
["PZ172","West Hertfordshire Hospitals NHS Trust ","East of England",182,65.399497985839844,62.75,{"$f":"(F132/10.929)+2.15","v":7.8916049043828345},{"$f":"(ROUND(F132,1)&$Y$2&$Y$3&(ROUND(G132,1)&$Y$4&$Y$5))","v":"62.8 mmol/mol (7.9%)"},"62.8 mmol/mol (7.9%)",0.1043956043956044,0.19230769230769232,0.30769230769230771,0.55494505494505497,0.35164835164835168,0.2032967032967033,0.13736263736263737,0.86263736263736268,66.960952758789063,0.28381529450416565,0.16583491861820221]
["PZ173","Yeovil District Hospital","South West",98,62.714336395263672,61,7.7314804648183735,"61 mmol/mol (7.7%)","61 mmol/mol (7.7%)",0.15306122448979592,0.27551020408163263,0.40816326530612246,0.48979591836734693,0.24489795918367346,0.15306122448979592,0.10204081632653061,0.89795918367346939,62.541793823242188,0.40170246362686157,9.2927634716033936E-2]
["PZ174","Kettering General Hospital","East Midlands",178,68.033477783203125,63.75,7.9831045841339545,"63.8 mmol/mol (8%)","63.8 mmol/mol (8%)",0.1348314606741573,0.24157303370786518,0.3595505617977528,0.4438202247191011,0.38202247191011235,0.2640449438202247,0.19662921348314608,0.8033707865168539,67.931915283203125,0.35384833812713623,0.18228676915168762]
["PZ176","St Peter's Hospital","London and South East",173,65.658958435058594,63.5,7.9602296641961754,"63.5 mmol/mol (8%)","63.5 mmol/mol (8%)",8.0924855491329481E-2,0.16763005780346821,0.2832369942196532,0.58959537572254339,0.34104046242774566,0.18497109826589594,0.12716763005780346,0.87283236994219648,67.417488098144531,0.25856402516365051,0.15947532653808594]
["PZ177","Royal Bolton Hospital","North West",115,62.760868072509766,62,7.8229801445694935,"62 mmol/mol (7.8%)","62 mmol/mol (7.8%)",7.8260869565217397E-2,0.17391304347826086,0.35652173913043478,0.57391304347826089,0.26956521739130435,0.12173913043478261,6.9565217391304349E-2,0.93043478260869561,62.609424591064453,0.37205985188484192,7.5853131711483002E-2]
["PZ178","Manor Hospital, Walsall","West Midlands",112,64.459823608398438,63,7.9144798243206154,"63 mmol/mol (7.9%)","63 mmol/mol (7.9%)",0.14285714285714285,0.25892857142857145,0.4017857142857143,0.4732142857142857,0.3125,0.17857142857142858,0.125,0.875,62.440753936767578,0.458600252866745,9.9987171590328217E-2]
["PZ179","Countess of Chester Hospital NHS Trust","North West",125,66.531997680664063,63,7.9144798243206154,"63 mmol/mol (7.9%)","63 mmol/mol (7.9%)",0.104,0.2,0.35199999999999998,0.48,0.32800000000000001,0.216,0.16800000000000001,0.83199999999999996,67.725105285644531,0.33020344376564026,0.19016155600547791]
["PZ180","Kings Mill Hospital","East Midlands",163,58.158836364746094,56.28900146484375,7.3004256075435769,"56.3 mmol/mol (7.3%)","56.3 mmol/mol (7.3%)",0.13496932515337423,0.31288343558282211,0.57055214723926384,0.37423312883435583,0.1411042944785276,6.7484662576687116E-2,5.5214723926380369E-2,0.94478527607361962,57.730735778808594,0.58186483383178711,5.1714465022087097E-2]
["PZ181","Ipswich Hospital","East of England",204,68.462501525878906,63.375,7.9487922042272849,"63.4 mmol/mol (7.9%)","63.4 mmol/mol (7.9%)",0.11764705882352941,0.16176470588235295,0.30392156862745096,0.50980392156862742,0.36764705882352944,0.22549019607843138,0.18627450980392157,0.81372549019607843,69.09320068359375,0.29233741760253906,0.19451078772544861]
["PZ182","West Middlesex University Hospital","London and South East",159,63.441196441650391,61,7.7314804648183735,"61 mmol/mol (7.7%)","61 mmol/mol (7.7%)",0.1069182389937107,0.20754716981132076,0.38993710691823902,0.51572327044025157,0.33333333333333331,0.1761006289308176,9.4339622641509441E-2,0.90566037735849059,62.545886993408203,0.40821841359138489,8.3375826478004456E-2]
["PZ183","Royal Preston Hospital","North West",194,65.296394348144531,62.25,7.8458550645072744,"62.3 mmol/mol (7.8%)","62.3 mmol/mol (7.8%)",9.7938144329896906E-2,0.20103092783505155,0.31958762886597936,0.55154639175257736,0.32989690721649484,0.19587628865979381,0.12886597938144329,0.87113402061855671,65.330436706542969,0.31733900308609009,0.13186018168926239]
["PZ186","Calderdale & Huddersfield NHS Foundation Trust","Yorkshire and Humber",174,69.189651489257813,64.5,8.0517293439472954,"64.5 mmol/mol (8.1%)","64.5 mmol/mol (8.1%)",6.8965517241379309E-2,0.18390804597701149,0.26436781609195403,0.5,0.39080459770114945,0.27586206896551724,0.23563218390804597,0.76436781609195403,68.066474914550781,0.28517124056816101,0.22058677673339844]
["PZ187","Wrexham Maelor Hospital","Wales",96,60.083332061767578,58.25,7.4798563455027907,"58.3 mmol/mol (7.5%)","58.3 mmol/mol (7.5%)",0.16666666666666666,0.33333333333333331,0.47916666666666669,0.45833333333333331,0.22916666666666666,0.11458333333333333,6.25E-2,0.9375,61.967094421386719,0.4320736825466156,8.5478082299232483E-2]
["PZ189","Royal Glamorgan Hospital","Wales",73,66.698631286621094,63.5,7.9602296641961754,"63.5 mmol/mol (8%)","63.5 mmol/mol (8%)",0.12328767123287671,0.21917808219178081,0.31506849315068491,0.56164383561643838,0.35616438356164382,0.24657534246575341,0.12328767123287671,0.87671232876712324,66.228485107421875,0.32978823781013489,0.1234281063079834]
["PZ191","Ealing Hospital","London and South East",91,71.76373291015625,66.5,8.2347287034495373,"66.5 mmol/mol (8.2%)","66.5 mmol/mol (8.2%)",6.5934065934065936E-2,0.12087912087912088,0.24175824175824176,0.47252747252747251,0.40659340659340659,0.32967032967032966,0.2857142857142857,0.7142857142857143,67.871116638183594,0.2980019748210907,0.1897345632314682]
["PZ193","Neath Port Talbot Hospital","Wales",53,69.179244995117188,66.5,8.2347287034495373,"66.5 mmol/mol (8.2%)","66.5 mmol/mol (8.2%)",3.7735849056603772E-2,9.4339622641509441E-2,0.26415094339622641,0.54716981132075471,0.41509433962264153,0.22641509433962265,0.18867924528301888,0.81132075471698117,69.208251953125,0.26533684134483337,0.20178672671318054]
["PZ196","Great Ormond Street Hospital","London and South East",10,59.390350341796875,57,7.3654817458138897,"57 mmol/mol (7.4%)","57 mmol/mol (7.4%)",0.2,0.2,0.6,0.4,0.2,0,0,1,60.195915222167969,0.60891228914260864,0]
["PZ199","North Middlesex University Hospital","London and South East",162,61.422840118408203,58.25,7.4798563455027907,"58.3 mmol/mol (7.5%)","58.3 mmol/mol (7.5%)",0.16049382716049382,0.34567901234567899,0.46913580246913578,0.44444444444444442,0.20987654320987653,0.13580246913580246,8.6419753086419748E-2,0.91358024691358031,58.759284973144531,0.55466198921203613,6.2148783355951309E-2]
["PZ200","Princess Alexandra Hospital, Harlow (inc Rectory Lane Health Center, Essex) ","East of England",105,59.599998474121094,58,7.4569814255650098,"58 mmol/mol (7.5%)","58 mmol/mol (7.5%)",0.22857142857142856,0.37142857142857144,0.49523809523809526,0.4,0.20952380952380953,0.14285714285714285,0.10476190476190476,0.89523809523809528,60.486000061035156,0.45912143588066101,0.10955417156219482]
["PZ202","St Marys Hospital, Imperial College, London","London and South East",130,66.826919555664063,64,8.0059795040717354,"64 mmol/mol (8%)","64 mmol/mol (8%)",0.1,0.14615384615384616,0.26153846153846155,0.57692307692307687,0.34615384615384615,0.24615384615384617,0.16153846153846155,0.83846153846153848,64.586952209472656,0.29877156019210815,0.12410097569227219]
["PZ203","University College London Hospital","London and South East",50,65.091590881347656,62.300498962402344,7.8504757033948529,"62.3 mmol/mol (7.9%)","62.3 mmol/mol (7.9%)",0.16,0.3,0.44,0.44,0.28000000000000003,0.18,0.12,0.88,64.879425048828125,0.45823082327842712,0.12098964303731918]
["PZ206","The Pennine Acute Hospitals NHS Trust","North West",259,69.777336120605469,67,8.2804785433250974,"67 mmol/mol (8.3%)","67 mmol/mol (8.3%)",9.2664092664092659E-2,0.16216216216216217,0.27799227799227799,0.49806949806949807,0.45173745173745172,0.30501930501930502,0.22393822393822393,0.77606177606177607,68.869461059570313,0.29496946930885315,0.21498215198516846]
["PZ213","East Surrey Hospital","London and South East",222,66.168220520019531,63.700000762939453,7.9785296699551154,"63.7 mmol/mol (8%)","63.7 mmol/mol (8%)",9.0090090090090086E-2,0.18018018018018017,0.28828828828828829,0.57207207207207211,0.33783783783783783,0.20270270270270271,0.13963963963963963,0.86036036036036034,67.248878479003906,0.26859775185585022,0.15825964510440826]
["PZ215","Kings College Hospital, London","London and South East",119,68.807937622070313,64,8.0059795040717354,"64 mmol/mol (8%)","64 mmol/mol (8%)",7.5630252100840331E-2,0.16806722689075632,0.31932773109243695,0.46218487394957986,0.3949579831932773,0.26890756302521007,0.21848739495798319,0.78151260504201681,65.933021545410156,0.3650958240032196,0.14584624767303467]
["PZ216","Tunbridge Wells Hospital","London and South East",94,63.10638427734375,62,7.8229801445694935,"62 mmol/mol (7.8%)","62 mmol/mol (7.8%)",9.5744680851063829E-2,0.20212765957446807,0.35106382978723405,0.54255319148936165,0.28723404255319152,0.13829787234042554,0.10638297872340426,0.8936170212765957,65.984939575195313,0.30307075381278992,0.16315224766731262]
["PZ218","Frimley Park Hospital ","London and South East",209,64.995216369628906,61,7.7314804648183735,"61 mmol/mol (7.7%)","61 mmol/mol (7.7%)",8.1339712918660281E-2,0.17703349282296652,0.34928229665071769,0.54066985645933019,0.28229665071770332,0.1674641148325359,0.11004784688995216,0.88995215311004783,67.761009216308594,0.29824185371398926,0.15827552974224091]
["PZ219","Sheffield Childrens Hospital","Yorkshire and Humber",245,58.808162689208984,56,7.2739820660627679,"56 mmol/mol (7.3%)","56 mmol/mol (7.3%)",0.23673469387755103,0.39183673469387753,0.56326530612244896,0.34285714285714286,0.19183673469387755,0.12244897959183673,9.3877551020408165E-2,0.90612244897959182,58.110530853271484,0.59326958656311035,8.9221760630607605E-2]
["PZ220","Bedford Hospital","East of England",77,62.402595520019531,60,7.6399807850672516,"60 mmol/mol (7.6%)","60 mmol/mol (7.6%)",0.14285714285714285,0.23376623376623376,0.37662337662337664,0.51948051948051943,0.2857142857142857,0.12987012987012986,0.1038961038961039,0.89610389610389607,64.244132995605469,0.34552609920501709,0.13735152781009674]
["PZ221","Great Western Hospital","South West",158,62.10443115234375,61,7.7314804648183735,"61 mmol/mol (7.7%)","61 mmol/mol (7.7%)",0.14556962025316456,0.24050632911392406,0.41772151898734178,0.46835443037974683,0.25949367088607594,0.16455696202531644,0.11392405063291139,0.88607594936708867,62.732540130615234,0.40486347675323486,0.12823167443275452]
["PZ222","New Cross Hospital, Wolverhampton","West Midlands",153,66.900215148925781,65,8.0974791838228573,"65 mmol/mol (8.1%)","65 mmol/mol (8.1%)",0.12418300653594772,0.20261437908496732,0.30718954248366015,0.55555555555555558,0.35294117647058826,0.18954248366013071,0.13725490196078433,0.86274509803921573,66.263626098632813,0.33053514361381531,0.1313873678445816]
["PZ223","Sandwell General Hospital","West Midlands",143,64.874122619628906,62.5,7.8687299844450536,"62.5 mmol/mol (7.9%)","62.5 mmol/mol (7.9%)",0.1048951048951049,0.27972027972027974,0.36363636363636365,0.47552447552447552,0.30769230769230771,0.20279720279720279,0.16083916083916083,0.83916083916083917,62.815647125244141,0.42282918095588684,0.12889564037322998]
["PZ225","Worcestershire Royal Hospital","West Midlands",121,64.950416564941406,62,7.8229801445694935,"62 mmol/mol (7.8%)","62 mmol/mol (7.8%)",8.2644628099173556E-2,0.18181818181818182,0.33057851239669422,0.55371900826446285,0.23966942148760331,0.15702479338842976,0.11570247933884298,0.88429752066115697,65.947921752929688,0.30934563279151917,0.12636655569076538]
["PZ226","Dewsbury & District Hospital","Yorkshire and Humber",99,66.954544067382813,62.5,7.8687299844450536,"62.5 mmol/mol (7.9%)","62.5 mmol/mol (7.9%)",7.0707070707070704E-2,0.17171717171717171,0.30303030303030304,0.5252525252525253,0.29292929292929293,0.19191919191919191,0.17171717171717171,0.82828282828282829,65.428398132324219,0.34859764575958252,0.15529431402683258]
["PZ228","Prince Charles Hospital ","Wales",94,65.484039306640625,62,7.8229801445694935,"62 mmol/mol (7.8%)","62 mmol/mol (7.8%)",0.10638297872340426,0.20212765957446807,0.34042553191489361,0.53191489361702127,0.31914893617021278,0.18085106382978725,0.1276595744680851,0.87234042553191493,64.120269775390625,0.36566582322120667,0.10810801386833191]
["PZ230","East Sussex Healthcare NHS Trust/Conquest Hospital ","London and South East",135,66.24444580078125,63,7.9144798243206154,"63 mmol/mol (7.9%)","63 mmol/mol (7.9%)",0.14074074074074075,0.25925925925925924,0.35555555555555557,0.46666666666666667,0.37037037037037035,0.22962962962962963,0.17777777777777778,0.82222222222222219,67.237846374511719,0.34334030747413635,0.20923377573490143]
["PZ231","Salford Royal Foundation Trust","North West",115,66.343475341796875,61,7.7314804648183735,"61 mmol/mol (7.7%)","61 mmol/mol (7.7%)",0.1391304347826087,0.26956521739130435,0.37391304347826088,0.46956521739130436,0.27826086956521739,0.19130434782608696,0.15652173913043479,0.84347826086956523,64.777435302734375,0.40865805745124817,0.1294446736574173]
["PZ232","BHR University Hospitals NHS Trust ","London and South East",141,69.24822998046875,65,8.0974791838228573,"65 mmol/mol (8.1%)","65 mmol/mol (8.1%)",0.11347517730496454,0.19858156028368795,0.2978723404255319,0.49645390070921985,0.39007092198581561,0.24822695035460993,0.20567375886524822,0.79432624113475181,69.141624450683594,0.30000558495521545,0.20951853692531586]
["PZ238","Queen Alexandra Hospital, Portsmouth","South Central",264,65.037879943847656,62.5,7.8687299844450536,"62.5 mmol/mol (7.9%)","62.5 mmol/mol (7.9%)",6.8181818181818177E-2,0.20454545454545456,0.33333333333333331,0.53030303030303028,0.30303030303030304,0.17045454545454544,0.13636363636363635,0.86363636363636365,65.493820190429688,0.32354524731636047,0.14293426275253296]
["PZ240","Russells Hall Hospital","West Midlands",144,62.417964935302734,61,7.7314804648183735,"61 mmol/mol (7.7%)","61 mmol/mol (7.7%)",0.13194444444444445,0.2638888888888889,0.35416666666666669,0.55555555555555558,0.24305555555555555,0.125,9.0277777777777776E-2,0.90972222222222221,62.411384582519531,0.35455167293548584,9.2452995479106903E-2]
["PZ242","Gloucestershire Royal Hospital","South West",212,60.365566253662109,58,7.4569814255650098,"58 mmol/mol (7.5%)","58 mmol/mol (7.5%)",0.16981132075471697,0.29245283018867924,0.48584905660377359,0.45283018867924529,0.19811320754716982,0.12735849056603774,6.1320754716981132E-2,0.93867924528301883,62.297306060791016,0.43875166773796082,8.2213431596755981E-2]
["PZ244","Hywel Dda University Health Board","Wales",169,59.946746826171875,57,7.3654817458138897,"57 mmol/mol (7.4%)","57 mmol/mol (7.4%)",0.22485207100591717,0.37278106508875741,0.50887573964497046,0.41420118343195267,0.18343195266272189,0.10059171597633136,7.6923076923076927E-2,0.92307692307692313,60.261871337890625,0.49924269318580627,8.3323709666728973E-2]
["PZ245","The Grange University Hospital","Wales",210,69.400001525878906,67,8.2804785433250974,"67 mmol/mol (8.3%)","67 mmol/mol (8.3%)",5.7142857142857141E-2,0.11904761904761904,0.23333333333333334,0.55238095238095242,0.46190476190476193,0.2857142857142857,0.21428571428571427,0.7857142857142857,69.39593505859375,0.23794549703598022,0.22445777058601379]
[null,null,"East Midlands",1877,61.734642028808594,59.5,7.5942309451916916,"59.5 mmol/mol (7.6%)","59.5 mmol/mol (7.6%)",0.14437932871603623,0.27810335641981887,0.43207245604688332,0.47735748534896111,0.23974427277570592,0.13372402770378264,9.0570058604155568E-2,0.90942994139584443,62.060684204101563,0.42301148176193237,9.4253994524478912E-2]
[null,null,"East of England",2694,64.614212036132813,61,7.7314804648183735,"61 mmol/mol (7.7%)","61 mmol/mol (7.7%)",0.1206384558277654,0.23348181143281366,0.37899034892353378,0.47772828507795101,0.30697847067557538,0.19561989606533037,0.14328136599851521,0.85671863400148474,65.304603576660156,0.36582091450691223,0.15569233894348145]
[null,null,"London and South East",4939,65.461746215820313,62,7.8229801445694935,"62 mmol/mol (7.8%)","62 mmol/mol (7.8%)",0.11216845515286496,0.22129985827090504,0.35290544644664912,0.49868394411824257,0.32840656003239521,0.20712694877505569,0.14841060943510831,0.85158939056489169,65.111625671386719,0.35779586434364319,0.14083503186702728]
[null,null,"North East and North Cumbria",1513,62.498485565185547,60,7.6399807850672516,"60 mmol/mol (7.6%)","60 mmol/mol (7.6%)",0.15135492399206874,0.28023793787177792,0.42696629213483145,0.47058823529411764,0.27032385988103108,0.15730337078651685,0.1024454725710509,0.89755452742894914,62.070659637451172,0.43802246451377869,9.6548654139041901E-2]
[null,null,"North West",3077,65.601699829101563,62.5,7.8687299844450536,"62.5 mmol/mol (7.9%)","62.5 mmol/mol (7.9%)",9.7822554436139103E-2,0.20474488137796554,0.33766655833604159,0.51218719532011703,0.33149171270718231,0.2089697757556061,0.15014624634384141,0.84985375365615856,64.983985900878906,0.35151198506355286,0.14129501581192017]
[null,null,"South Central",2518,62.257030487060547,60,7.6399807850672516,"60 mmol/mol (7.6%)","60 mmol/mol (7.6%)",0.12867355043685463,0.27362986497220015,0.42096902303415407,0.47577442414614773,0.24741858617950754,0.14455917394757745,0.10325655281969817,0.89674344718030186,63.599613189697266,0.39029750227928162,0.12379211932420731]
[null,null,"South West",2040,63.307926177978516,60.5,7.6857306249428117,"60.5 mmol/mol (7.7%)","60.5 mmol/mol (7.7%)",0.12058823529411765,0.24313725490196078,0.39460784313725489,0.49411764705882355,0.26715686274509803,0.15931372549019607,0.11127450980392156,0.88872549019607838,63.937831878662109,0.38104623556137085,0.12080172449350357]
[null,null,"Wales",1293,65.027381896972656,62,7.8229801445694935,"62 mmol/mol (7.8%)","62 mmol/mol (7.8%)",0.11446249033255994,0.22351121423047177,0.35498839907192575,0.50812064965197212,0.3225058004640371,0.19644238205723125,0.1368909512761021,0.86310904872389793,65.350936889648438,0.35030320286750793,0.1470121294260025]
[null,null,"West Midlands",2509,64.370887756347656,62,7.8229801445694935,"62 mmol/mol (7.8%)","62 mmol/mol (7.8%)",0.10920685532084495,0.22598644878437624,0.35831008369868472,0.52172180151454761,0.29493822239936229,0.17018732562774014,0.11996811478676764,0.88003188521323239,63.812446594238281,0.37281966209411621,0.11328298598527908]
[null,null,"Yorkshire and Humber",2526,64.633224487304688,61,7.7314804648183735,"61 mmol/mol (7.7%)","61 mmol/mol (7.7%)",0.11401425178147269,0.23475851148060173,0.39192399049881232,0.47268408551068886,0.30403800475059384,0.18962787015043547,0.13539192399049882,0.86460807600950118,63.946601867675781,0.40821659564971924,0.12412942200899124]
[null,null,"England",23693,64.169174194335938,61,7.7314804648183735,"61 mmol/mol (7.7%)","61 mmol/mol (7.7%)",0.11868484362469928,0.23817161186848437,0.38044992191786603,0.49141096526400202,0.29561473853036763,0.18051745241210485,0.12813911281813195,0.87186088718186805,64.159248352050781,0.38074004650115967,0.12781386077404022]
[null,null,"Wales",1293,65.027381896972656,62,7.8229801445694935,"62 mmol/mol (7.8%)","62 mmol/mol (7.8%)",0.11446249033255994,0.22351121423047177,0.35498839907192575,0.50812064965197212,0.3225058004640371,0.19644238205723125,0.1368909512761021,0.86310904872389793,65.350936889648438,0.35030320286750793,0.1470121294260025]
[null,null,"England and Wales",24986,64.213584899902344,61,7.7314804648183735,"61 mmol/mol (7.7%)","61 mmol/mol (7.7%)",0.11846634115104458,0.23741295125270151,0.37913231409589371,0.49227567437765146,0.29700632354118306,0.18134155126871049,0.1285920115264548,0.87140798847354517,64.220367431640625,0.37914708256721402,0.12873591482639313]

{"sheet":"HbA1c-1920","index":8,"n_rows":181,"n_cols":25,"rows_kept":181,"cut":false,"hidden":true,"merged":[[0,0,1,0],[0,1,1,1],[0,2,1,2],[0,4,0,15],[0,17,0,19]]}
["Unit code","Unit name","Region",null,"Unadjusted HbA1c figures (Type 1 diabetes only)",null,null,null,null,null,null,null,null,null,null,null,null,"Adjusted HbA1c figures (Type 1 diabetes only)"]
[null,null,null,"Denominator","Mean","Median","DCCT","Full text",null,"% ≤48 mmol/mol","% ≤53 mmol/mol","% <58 mmol/mol","% 58-80mmol/mol","% ≥69mmol/mol","% >75mmol/mol","% >80mmol/mol","< 80","Mean","% <58mmol/mol","% >80mmol/mol","% < 80",null,null,null," mmol/mol "]
["PZ001","Morriston Hospital ","Wales",123,68.028457641601563,64.5,{"$f":"(F3/10.929)+2.15","v":8.0517293439472954},{"$f":"(ROUND(F3,1)&$Y$2&$Y$3&(ROUND(G3,1)&$Y$4&$Y$5))","v":"64.5 mmol/mol (8.1%)"},"64.5 mmol/mol (8.1%)",8.943089430894309E-2,0.2032520325203252,0.30081300813008133,0.56097560975609762,0.3983739837398374,0.17886178861788618,0.13821138211382114,0.86178861788617889,67.8507080078125,0.31020098924636841,0.1530625969171524,0.8469374030828476,null,null,null,"("]
["PZ002","Norfolk and Norwich University Hospital","East of England",292,61.870719909667969,60,{"$f":"(F4/10.929)+2.15","v":7.6399807850672516},{"$f":"(ROUND(F4,1)&$Y$2&$Y$3&(ROUND(G4,1)&$Y$4&$Y$5))","v":"60 mmol/mol (7.6%)"},"60 mmol/mol (7.6%)",9.9315068493150679E-2,0.23972602739726026,0.38013698630136988,0.54794520547945202,0.21917808219178081,9.5890410958904104E-2,7.1917808219178078E-2,0.92808219178082196,62.166862487792969,0.37374895811080933,7.7596135437488556E-2,0.92240386456251144,null,null,null,"%"]
["PZ003","Pinderfields General Hospital and Pontefract General Infirmary","Yorkshire and Humber",197,69.068527221679688,65,8.0974791838228573,"65 mmol/mol (8.1%)","65 mmol/mol (8.1%)",6.5989847715736044E-2,0.14720812182741116,0.25888324873096447,0.5532994923857868,0.37055837563451777,0.24365482233502539,0.18781725888324874,0.81218274111675126,68.176353454589844,0.27292051911354065,0.16635653376579285,0.83364346623420715,null,null,null,")"]
["PZ004","Northampton General Hospital","East Midlands",196,66.216835021972656,65.25,8.1203541037606364,"65.3 mmol/mol (8.1%)","65.3 mmol/mol (8.1%)",9.1836734693877556E-2,0.19387755102040816,0.27551020408163263,0.58163265306122447,0.34183673469387754,0.21938775510204081,0.14285714285714285,0.85714285714285721,66.989723205566406,0.26330024003982544,0.16322416067123413,0.83677583932876587]
["PZ005","Derbyshire Children's Hospital","East Midlands",246,61.936992645263672,58,7.4569814255650098,"58 mmol/mol (7.5%)","58 mmol/mol (7.5%)",0.13008130081300814,0.28455284552845528,0.47967479674796748,0.39430894308943087,0.21544715447154472,0.14227642276422764,0.12601626016260162,0.87398373983739841,62.6221923828125,0.45459276437759399,0.13753575086593628,0.86246424913406372]
["PZ006","Doncaster Royal Infirmary","Yorkshire and Humber",165,64.56060791015625,61,7.7314804648183735,"61 mmol/mol (7.7%)","61 mmol/mol (7.7%)",7.8787878787878782E-2,0.18787878787878787,0.38787878787878788,0.47878787878787876,0.26060606060606062,0.17575757575757575,0.13333333333333333,0.8666666666666667,63.556377410888672,0.40849959850311279,0.11479999125003815,0.88520000874996185]
["PZ007","John Radcliffe Hospital","South Central",322,60.495342254638672,58.75,7.5256061853783507,"58.8 mmol/mol (7.5%)","58.8 mmol/mol (7.5%)",0.20496894409937888,0.35403726708074534,0.46273291925465837,0.44720496894409939,0.21739130434782608,0.13043478260869565,9.0062111801242239E-2,0.90993788819875776,61.389911651611328,0.42548036575317383,9.7729198634624481E-2,0.90227080136537552]
["PZ009","Macclesfield District General Hospital","North West",99,61.343433380126953,59,7.5484811053161316,"59 mmol/mol (7.5%)","59 mmol/mol (7.5%)",0.10101010101010101,0.24242424242424243,0.44444444444444442,0.47474747474747475,0.26262626262626265,0.14141414141414141,8.0808080808080815E-2,0.91919191919191923,62.824089050292969,0.40688857436180115,0.10329118371009827,0.89670881628990173]
["PZ010","Luton and Dunstable Hospital","East of England",163,66.685577392578125,66.125999450683594,8.2005077729603428,"66.1 mmol/mol (8.2%)","66.1 mmol/mol (8.2%)",4.9079754601226995E-2,0.1165644171779141,0.2822085889570552,0.61349693251533743,0.41717791411042943,0.24539877300613497,0.10429447852760736,0.89570552147239269,66.270339965820313,0.29605698585510254,0.10918381065130234,0.89081618934869766]
["PZ011","Glan Clwyd District General Hospital ","Wales",114,65.5,61,7.7314804648183735,"61 mmol/mol (7.7%)","61 mmol/mol (7.7%)",8.771929824561403E-2,0.19298245614035087,0.35964912280701755,0.49122807017543857,0.32456140350877194,0.21052631578947367,0.14912280701754385,0.85087719298245612,66.131187438964844,0.34914374351501465,0.1684427410364151,0.8315572589635849]
["PZ012","Barnet General Hospital","London and South East",93,65.041740417480469,62,7.8229801445694935,"62 mmol/mol (7.8%)","62 mmol/mol (7.8%)",0.15053763440860216,0.29032258064516131,0.41935483870967744,0.43010752688172044,0.32258064516129031,0.23655913978494625,0.15053763440860216,0.84946236559139787,65.487434387207031,0.39668619632720947,0.16030944883823395,0.83969055116176605]
["PZ014","Chase Farm Hospital","London and South East",52,69.125,66,8.1889788635739773,"66 mmol/mol (8.2%)","66 mmol/mol (8.2%)",7.6923076923076927E-2,0.17307692307692307,0.30769230769230771,0.44230769230769229,0.42307692307692307,0.34615384615384615,0.25,0.75,69.034217834472656,0.30331045389175415,0.24650293588638306,0.75349706411361694]
["PZ015","Wythenshawe Hospital","North West",114,63.951755523681641,59,7.5484811053161316,"59 mmol/mol (7.5%)","59 mmol/mol (7.5%)",0.17543859649122806,0.35087719298245612,0.47368421052631576,0.33333333333333331,0.30701754385964913,0.21929824561403508,0.19298245614035087,0.80701754385964919,65.020088195800781,0.45979711413383484,0.2185274213552475,0.7814725786447525]
["PZ016","Bassetlaw District General Hospital","Yorkshire and Humber",75,63.046665191650391,59.5,7.5942309451916916,"59.5 mmol/mol (7.6%)","59.5 mmol/mol (7.6%)",0.14666666666666667,0.28000000000000003,0.4,0.49333333333333335,0.28000000000000003,0.16,0.10666666666666667,0.89333333333333331,63.049373626708984,0.4020613431930542,0.10494636744260788,0.89505363255739212]
["PZ017","Dorset County Hospital","South Central",95,67.234703063964844,62.300502777099609,7.8504760524384309,"62.3 mmol/mol (7.9%)","62.3 mmol/mol (7.9%)",6.3157894736842107E-2,0.1368421052631579,0.30526315789473685,0.56842105263157894,0.30526315789473685,0.21052631578947367,0.12631578947368421,0.87368421052631584,66.57525634765625,0.30865028500556946,0.11071489751338959,0.88928510248661041]
["PZ018","Worthing Hospital","South Central",119,68.144149780273438,65.579498291015625,8.1505030918671082,"65.6 mmol/mol (8.2%)","65.6 mmol/mol (8.2%)",5.0420168067226892E-2,0.11764705882352941,0.26050420168067229,0.56302521008403361,0.42016806722689076,0.25210084033613445,0.17647058823529413,0.82352941176470584,69.437843322753906,0.23898845911026001,0.20204110443592072,0.79795889556407928]
["PZ019","Basildon University Hospital","East of England",196,62.931911468505859,59,7.5484811053161316,"59 mmol/mol (7.5%)","59 mmol/mol (7.5%)",0.1683673469387755,0.27551020408163263,0.43367346938775508,0.42346938775510207,0.2857142857142857,0.20408163265306123,0.14285714285714285,0.85714285714285721,62.844802856445313,0.43414679169654846,0.14301978051662445,0.85698021948337555]
["PZ020","Diana, Princess of Wales Hospital, Grimsby","Yorkshire and Humber",103,58.917476654052734,56.5,7.3197319059383297,"56.5 mmol/mol (7.3%)","56.5 mmol/mol (7.3%)",0.12621359223300971,0.31067961165048541,0.5436893203883495,0.42718446601941745,0.12621359223300971,7.7669902912621352E-2,2.9126213592233011E-2,0.970873786407767,60.336585998535156,0.50817984342575073,3.641059622168541E-2,0.96358940377831459]
["PZ021","Wexham Park Hospital","South Central",170,61.9058837890625,60,7.6399807850672516,"60 mmol/mol (7.6%)","60 mmol/mol (7.6%)",0.11176470588235295,0.27058823529411763,0.42352941176470588,0.49411764705882355,0.21764705882352942,0.12941176470588237,8.2352941176470587E-2,0.91764705882352937,62.474788665771484,0.409248948097229,8.8950261473655701E-2,0.9110497385263443]
["PZ022","West Cumberland Hospital ","North East and North Cumbria",59,63.279659271240234,60,7.6399807850672516,"60 mmol/mol (7.6%)","60 mmol/mol (7.6%)",0.23728813559322035,0.3728813559322034,0.47457627118644069,0.3728813559322034,0.28813559322033899,0.15254237288135594,0.15254237288135594,0.84745762711864403,63.162570953369141,0.47553718090057373,0.15066932141780853,0.84933067858219147]
["PZ023","St George's Hospital, London","London and South East",136,65.655670166015625,62.5,7.8687299844450536,"62.5 mmol/mol (7.9%)","62.5 mmol/mol (7.9%)",0.11764705882352941,0.23529411764705882,0.39705882352941174,0.45588235294117646,0.31617647058823528,0.19117647058823528,0.14705882352941177,0.8529411764705882,65.080032348632813,0.40601581335067749,0.13276410102844238,0.86723589897155762]
["PZ024","East Kent Hospitals University NHS Foundation Trust","London and South East",348,64.399421691894531,60.5,7.6857306249428117,"60.5 mmol/mol (7.7%)","60.5 mmol/mol (7.7%)",0.11494252873563218,0.25287356321839083,0.40517241379310343,0.47988505747126436,0.29022988505747127,0.16379310344827586,0.11494252873563218,0.88505747126436785,64.008583068847656,0.40933367609977722,0.10749063640832901,0.89250936359167099]
["PZ026","Hull Royal Infirmary","Yorkshire and Humber",229,68.61572265625,64,8.0059795040717354,"64 mmol/mol (8%)","64 mmol/mol (8%)",7.8602620087336247E-2,0.15283842794759825,0.27947598253275108,0.55021834061135366,0.37991266375545851,0.22707423580786026,0.1703056768558952,0.82969432314410474,68.828804016113281,0.27424883842468262,0.17577332258224487,0.82422667741775513]
["PZ027","Friarage Hospital ","North East and North Cumbria",48,61.375,56.5,7.3197319059383297,"56.5 mmol/mol (7.3%)","56.5 mmol/mol (7.3%)",0.16666666666666666,0.39583333333333331,0.5625,0.33333333333333331,0.20833333333333334,0.125,0.10416666666666667,0.89583333333333337,63.614852905273438,0.50491219758987427,0.14082440733909607,0.85917559266090393]
["PZ028","Stoke Mandeville Hospital ","South Central",85,59.658824920654297,59,7.5484811053161316,"59 mmol/mol (7.5%)","59 mmol/mol (7.5%)",0.15294117647058825,0.3411764705882353,0.47058823529411764,0.4823529411764706,0.16470588235294117,8.2352941176470587E-2,4.7058823529411764E-2,0.95294117647058818,62.871349334716797,0.39095580577850342,7.4995756149291992E-2,0.92500424385070801]
["PZ031","St Richard's Hospital ","South Central",102,62.137256622314453,61,7.7314804648183735,"61 mmol/mol (7.7%)","61 mmol/mol (7.7%)",0.10784313725490197,0.21568627450980393,0.33333333333333331,0.58823529411764708,0.23529411764705882,0.10784313725490197,7.8431372549019607E-2,0.92156862745098045,63.280788421630859,0.31359326839447021,9.3409717082977295E-2,0.90659028291702271]
["PZ032","Royal Victoria Infirmary, Newcastle Upon Tyne","North East and North Cumbria",267,65.485015869140625,62.5,7.8687299844450536,"62.5 mmol/mol (7.9%)","62.5 mmol/mol (7.9%)",8.6142322097378279E-2,0.19101123595505617,0.34082397003745318,0.51310861423220977,0.35580524344569286,0.2247191011235955,0.14606741573033707,0.8539325842696629,65.203971862792969,0.33445784449577332,0.13035416603088379,0.86964583396911621]
["PZ033","Queens Hospital, Burton on Trent","West Midlands",136,61.863971710205078,56.25,7.2968569860005488,"56.3 mmol/mol (7.3%)","56.3 mmol/mol (7.3%)",0.16176470588235295,0.36764705882352944,0.53676470588235292,0.33088235294117646,0.22058823529411764,0.13970588235294118,0.13235294117647059,0.86764705882352944,61.573204040527344,0.51639002561569214,0.12004976719617844,0.87995023280382156]
["PZ034","Royal Hampshire County Hospital","South Central",120,63.650001525878906,59.5,7.5942309451916916,"59.5 mmol/mol (7.6%)","59.5 mmol/mol (7.6%)",0.15833333333333333,0.26666666666666666,0.45833333333333331,0.40833333333333333,0.25833333333333336,0.15833333333333333,0.13333333333333333,0.8666666666666667,64.454315185546875,0.41942965984344482,0.14443889260292053,0.85556110739707947]
["PZ035","Royal Berkshire Hospital","South Central",223,62.600898742675781,60,7.6399807850672516,"60 mmol/mol (7.6%)","60 mmol/mol (7.6%)",0.11659192825112108,0.22421524663677131,0.40807174887892378,0.48878923766816146,0.24215246636771301,0.14349775784753363,0.1031390134529148,0.89686098654708524,64.192481994628906,0.36661410331726074,0.12636035680770874,0.87363964319229126]
["PZ036","Whipps Cross University Hospital ","London and South East",148,63.304054260253906,59,7.5484811053161316,"59 mmol/mol (7.5%)","59 mmol/mol (7.5%)",0.10810810810810811,0.27702702702702703,0.4391891891891892,0.46621621621621623,0.23648648648648649,0.14189189189189189,9.45945945945946E-2,0.90540540540540537,62.900562286376953,0.44612658023834229,8.8984586298465729E-2,0.91101541370153427]
["PZ038","Wycombe General Hospital ","South Central",87,57.293102264404297,57,7.3654817458138897,"57 mmol/mol (7.4%)","57 mmol/mol (7.4%)",0.10344827586206896,0.34482758620689657,0.56321839080459768,0.43678160919540232,0.12643678160919541,3.4482758620689655E-2,0,1,61.197639465332031,0.46338039636611938,0,1]
["PZ040","Birmingham Heartlands Hospital","West Midlands",261,70.94061279296875,70,8.5549775825784611,"70 mmol/mol (8.6%)","70 mmol/mol (8.6%)",2.681992337164751E-2,8.4291187739463605E-2,0.15708812260536398,0.61685823754789271,0.52873563218390807,0.33716475095785442,0.22605363984674329,0.77394636015325668,68.446525573730469,0.18533770740032196,0.17277827858924866,0.82722172141075134]
["PZ042","Nottingham Children's Hospital ","East Midlands",318,57.547168731689453,57,7.3654817458138897,"57 mmol/mol (7.4%)","57 mmol/mol (7.4%)",0.18238993710691823,0.37106918238993708,0.55031446540880502,0.42767295597484278,0.13836477987421383,4.716981132075472E-2,2.20125786163522E-2,0.9779874213836478,57.733028411865234,0.54914885759353638,2.2984985262155533E-2,0.97701501473784447]
["PZ045","Whittington Hospital, London","London and South East",84,69.01190185546875,66.25,8.2118537835117582,"66.3 mmol/mol (8.2%)","66.3 mmol/mol (8.2%)",7.1428571428571425E-2,0.19047619047619047,0.29761904761904762,0.51190476190476186,0.4642857142857143,0.27380952380952384,0.19047619047619047,0.80952380952380953,66.658500671386719,0.33782333135604858,0.14478933811187744,0.85521066188812256]
["PZ048","Lincoln County Hospital ","East Midlands",135,69.599998474121094,66.5,8.2347287034495373,"66.5 mmol/mol (8.2%)","66.5 mmol/mol (8.2%)",6.6666666666666666E-2,0.17037037037037037,0.29629629629629628,0.47407407407407409,0.45185185185185184,0.34814814814814815,0.22962962962962963,0.77037037037037037,69.365348815917969,0.29857271909713745,0.21976214647293091,0.78023785352706909]
["PZ049","Warrington Hospital","North West",123,63.967479705810547,61,7.7314804648183735,"61 mmol/mol (7.7%)","61 mmol/mol (7.7%)",8.943089430894309E-2,0.21138211382113822,0.37398373983739835,0.49593495934959347,0.26829268292682928,0.17886178861788618,0.13008130081300814,0.86991869918699183,64.866546630859375,0.36036732792854309,0.14891853928565979,0.85108146071434021]
["PZ050","Epsom & St Helier University Hospitals NHS Trust","London and South East",182,66.458793640136719,64,8.0059795040717354,"64 mmol/mol (8%)","64 mmol/mol (8%)",0.12087912087912088,0.2087912087912088,0.33516483516483514,0.50549450549450547,0.34615384615384615,0.21428571428571427,0.15934065934065933,0.84065934065934067,67.25408935546875,0.31576764583587646,0.17145049571990967,0.82854950428009033]
["PZ052",{"$error":"#N/A"},"Wales",74,70.479728698730469,68,8.3719782230762192,"68 mmol/mol (8.4%)","68 mmol/mol (8.4%)",1.3513513513513514E-2,6.7567567567567571E-2,0.1891891891891892,0.59459459459459463,0.45945945945945948,0.33783783783783783,0.21621621621621623,0.78378378378378377,70.473854064941406,0.18712128698825836,0.22505481541156769,0.77494518458843231]
["PZ053","Scunthorpe General Hospital","Yorkshire and Humber",111,65.6351318359375,61,7.7314804648183735,"61 mmol/mol (7.7%)","61 mmol/mol (7.7%)",8.1081081081081086E-2,0.22522522522522523,0.3783783783783784,0.47747747747747749,0.31531531531531531,0.2072072072072072,0.14414414414414414,0.85585585585585588,65.366455078125,0.38491037487983704,0.14119401574134827,0.85880598425865173]
["PZ054","Poole General Hospital","South Central",202,63.002639770507813,61,7.7314804648183735,"61 mmol/mol (7.7%)","61 mmol/mol (7.7%)",8.4158415841584164E-2,0.20297029702970298,0.34653465346534651,0.57425742574257421,0.26237623762376239,0.15841584158415842,7.9207920792079209E-2,0.92079207920792083,65.345558166503906,0.31034144759178162,0.12358106672763824,0.87641893327236176]
["PZ055","Leicester Royal Infirmary","East Midlands",291,62.124351501464844,61,7.7314804648183735,"61 mmol/mol (7.7%)","61 mmol/mol (7.7%)",9.6219931271477668E-2,0.24054982817869416,0.39862542955326463,0.52920962199312716,0.25429553264604809,0.1134020618556701,7.2164948453608241E-2,0.92783505154639179,64.302047729492188,0.36875510215759277,0.11607583612203598,0.88392416387796402]
["PZ057","Kingston Hospital","London and South East",154,60.051948547363281,60,7.6399807850672516,"60 mmol/mol (7.6%)","60 mmol/mol (7.6%)",0.14285714285714285,0.25974025974025972,0.44805194805194803,0.48051948051948051,0.17532467532467533,9.0909090909090912E-2,7.1428571428571425E-2,0.9285714285714286,61.400241851806641,0.40664049983024597,8.4793500602245331E-2,0.91520649939775467]
["PZ058","Newham University Hospital","London and South East",115,64.552177429199219,63,7.9144798243206154,"63 mmol/mol (7.9%)","63 mmol/mol (7.9%)",0.14782608695652175,0.2608695652173913,0.40869565217391307,0.44347826086956521,0.36521739130434783,0.21739130434782608,0.14782608695652175,0.85217391304347823,61.68060302734375,0.51496368646621704,0.11397361755371094,0.88602638244628906]
["PZ059","The Royal London Hospital ","London and South East",242,63.851238250732422,60,7.6399807850672516,"60 mmol/mol (7.6%)","60 mmol/mol (7.6%)",9.9173553719008267E-2,0.23553719008264462,0.38429752066115702,0.51652892561983466,0.256198347107438,0.128099173553719,9.9173553719008267E-2,0.90082644628099173,60.591220855712891,0.49046340584754944,6.9047026336193085E-2,0.93095297366380692]
["PZ060","Royal Devon and Exeter Hospital","South West",203,69.401481628417969,66,8.1889788635739773,"66 mmol/mol (8.2%)","66 mmol/mol (8.2%)",7.8817733990147784E-2,0.16748768472906403,0.30541871921182268,0.49753694581280788,0.3891625615763547,0.25123152709359609,0.19704433497536947,0.80295566502463056,70.002609252929688,0.28619274497032166,0.19659656286239624,0.80340343713760376]
["PZ062","Croydon University Hospital","London and South East",130,70.303848266601563,64.75,8.0746042638850763,"64.8 mmol/mol (8.1%)","64.8 mmol/mol (8.1%)",8.461538461538462E-2,0.15384615384615385,0.26923076923076922,0.49230769230769234,0.3923076923076923,0.2846153846153846,0.23846153846153847,0.7615384615384615,68.774909973144531,0.29261422157287598,0.19639939069747925,0.80360060930252075]
["PZ064","Chesterfield Royal Hospital","East Midlands",160,62.900001525878906,60,7.6399807850672516,"60 mmol/mol (7.6%)","60 mmol/mol (7.6%)",0.10625,0.26250000000000001,0.40625,0.46250000000000002,0.25624999999999998,0.16875000000000001,0.13125000000000001,0.86875000000000002,62.263648986816406,0.41595736145973206,0.11598604172468185,0.88401395827531815]
["PZ065","County Hospital Stafford","West Midlands",81,64.462959289550781,62,7.8229801445694935,"62 mmol/mol (7.8%)","62 mmol/mol (7.8%)",3.7037037037037035E-2,0.13580246913580246,0.25925925925925924,0.67901234567901236,0.33333333333333331,0.1728395061728395,6.1728395061728392E-2,0.93827160493827155,65.10784912109375,0.24776056408882141,6.8365983664989471E-2,0.93163401633501053]
["PZ067","Royal Cornwall Hospital","South West",204,60.540195465087891,58.5,7.5027312654405716,"58.5 mmol/mol (7.5%)","58.5 mmol/mol (7.5%)",0.13235294117647059,0.27941176470588236,0.46078431372549017,0.46078431372549017,0.17647058823529413,0.10784313725490197,7.8431372549019607E-2,0.92156862745098045,61.279430389404297,0.44776606559753418,9.5061525702476501E-2,0.9049384742975235]
["PZ068","Royal United Hospital","South West",185,65.843246459960938,62.5,7.8687299844450536,"62.5 mmol/mol (7.9%)","62.5 mmol/mol (7.9%)",6.4864864864864868E-2,0.13513513513513514,0.31351351351351353,0.54054054054054057,0.29729729729729731,0.17837837837837839,0.14594594594594595,0.85405405405405399,67.765602111816406,0.28060203790664673,0.20318420231342316,0.79681579768657684]
["PZ069","Stepping Hill Hospital","North West",172,62.241279602050781,57,7.3654817458138897,"57 mmol/mol (7.4%)","57 mmol/mol (7.4%)",0.12790697674418605,0.29651162790697677,0.51162790697674421,0.38953488372093026,0.23837209302325582,0.15697674418604651,9.8837209302325577E-2,0.90116279069767447,62.642848968505859,0.490395188331604,0.10018623620271683,0.89981376379728317]
["PZ072","West Suffolk Hospital, Bury St Edmunds","East of England",139,64.214607238769531,58,7.4569814255650098,"58 mmol/mol (7.5%)","58 mmol/mol (7.5%)",0.1223021582733813,0.30935251798561153,0.49640287769784175,0.37410071942446044,0.23741007194244604,0.15827338129496402,0.12949640287769784,0.87050359712230219,64.910430908203125,0.47305947542190552,0.13497652113437653,0.86502347886562347]
["PZ073","Alexandra Hospital ","West Midlands",86,67.662788391113281,63.75,7.9831045841339545,"63.8 mmol/mol (8%)","63.8 mmol/mol (8%)",5.8139534883720929E-2,0.16279069767441862,0.30232558139534882,0.48837209302325579,0.36046511627906974,0.27906976744186046,0.20930232558139536,0.79069767441860461,68.355186462402344,0.28849372267723083,0.23503193259239197,0.76496806740760803]
["PZ074","Alder Hey Childrens Hospital","North West",399,64.432327270507813,60.5,7.6857306249428117,"60.5 mmol/mol (7.7%)","60.5 mmol/mol (7.7%)",0.13032581453634084,0.23809523809523808,0.36340852130325813,0.49624060150375937,0.2857142857142857,0.17293233082706766,0.14035087719298245,0.85964912280701755,62.538791656494141,0.41388380527496338,0.1114189550280571,0.8885810449719429]
["PZ075","St Mary's Hospital, Isle of Wight","South Central",73,67.102737426757813,63,7.9144798243206154,"63 mmol/mol (7.9%)","63 mmol/mol (7.9%)",6.8493150684931503E-2,0.20547945205479451,0.31506849315068491,0.49315068493150682,0.35616438356164382,0.24657534246575341,0.19178082191780821,0.80821917808219179,68.656455993652344,0.29598209261894226,0.24412383139133453,0.75587616860866547]
["PZ076","Colchester General Hospital","East of England",202,66.413543701171875,62,7.8229801445694935,"62 mmol/mol (7.8%)","62 mmol/mol (7.8%)",0.13861386138613863,0.25247524752475248,0.36138613861386137,0.48514851485148514,0.35148514851485146,0.25247524752475248,0.15346534653465346,0.84653465346534651,66.504203796386719,0.35817432403564453,0.15101279318332672,0.84898720681667328]
["PZ078","Royal Stoke University Hospital","West Midlands",220,65.147727966308594,62,7.8229801445694935,"62 mmol/mol (7.8%)","62 mmol/mol (7.8%)",0.05,0.15454545454545454,0.30909090909090908,0.57727272727272727,0.29090909090909089,0.19545454545454546,0.11363636363636363,0.88636363636363635,65.15460205078125,0.31387743353843689,0.12019138783216476,0.87980861216783524]
["PZ080","Sunderland Royal Hospital","North East and North Cumbria",187,63.473262786865234,60,7.6399807850672516,"60 mmol/mol (7.6%)","60 mmol/mol (7.6%)",0.11764705882352941,0.22459893048128343,0.40106951871657753,0.46524064171122997,0.24598930481283424,0.17647058823529413,0.13368983957219252,0.86631016042780751,62.517616271972656,0.42415454983711243,0.11273309588432312,0.88726690411567688]
["PZ082","Evelina Childrens Hospital","London and South East",88,66.1875,63.5,7.9602296641961754,"63.5 mmol/mol (8%)","63.5 mmol/mol (8%)",0.11363636363636363,0.19318181818181818,0.32954545454545453,0.52272727272727271,0.34090909090909088,0.20454545454545456,0.14772727272727273,0.85227272727272729,65.148422241210938,0.36778455972671509,0.15833428502082825,0.84166571497917175]
["PZ084","Kidderminster Hospital","West Midlands",52,68.798080444335938,66,8.1889788635739773,"66 mmol/mol (8.2%)","66 mmol/mol (8.2%)",5.7692307692307696E-2,0.13461538461538461,0.19230769230769232,0.65384615384615385,0.36538461538461536,0.19230769230769232,0.15384615384615385,0.84615384615384615,68.8565673828125,0.19378575682640076,0.16127464175224304,0.83872535824775696]
["PZ085","Princess Royal University Hospital","London and South East",148,66.543922424316406,62.5,7.8687299844450536,"62.5 mmol/mol (7.9%)","62.5 mmol/mol (7.9%)",7.4324324324324328E-2,0.1891891891891892,0.29729729729729731,0.54054054054054057,0.33783783783783783,0.21621621621621623,0.16216216216216217,0.83783783783783783,67.232109069824219,0.27859175205230713,0.16818542778491974,0.83181457221508026]
["PZ086","Hinchingbrooke Hospital","East of England",96,67.25,64,8.0059795040717354,"64 mmol/mol (8%)","64 mmol/mol (8%)",0.10416666666666667,0.17708333333333334,0.29166666666666669,0.52083333333333337,0.42708333333333331,0.28125,0.1875,0.8125,67.44366455078125,0.28382551670074463,0.18144559860229492,0.81855440139770508]
["PZ088","Royal Surrey County Hospital","London and South East",144,62.350692749023438,60.75,7.7086055448805926,"60.8 mmol/mol (7.7%)","60.8 mmol/mol (7.7%)",6.9444444444444448E-2,0.22222222222222221,0.34027777777777779,0.58333333333333337,0.2013888888888889,0.125,7.6388888888888895E-2,0.92361111111111116,63.866321563720703,0.30394011735916138,9.1808520257472992E-2,0.90819147974252701]
["PZ091","Royal Blackburn Hospital","North West",258,68.112403869628906,65,8.0974791838228573,"65 mmol/mol (8.1%)","65 mmol/mol (8.1%)",9.6899224806201556E-2,0.1744186046511628,0.29069767441860467,0.53875968992248058,0.35658914728682173,0.22480620155038761,0.17054263565891473,0.8294573643410853,66.718757629394531,0.3238033652305603,0.14718939363956451,0.85281060636043549]
["PZ092","Princess of Wales Hospital, Bridgend","Wales",75,64.739997863769531,64,{"$f":"(F68/10.929)+2.15","v":8.0059795040717354},{"$f":"(ROUND(F68,1)&$Y$2&$Y$3&(ROUND(G68,1)&$Y$4&$Y$5))","v":"64 mmol/mol (8%)"},"64 mmol/mol (8%)",0.10666666666666667,0.24,0.34666666666666668,0.52,0.28000000000000003,0.17333333333333334,0.13333333333333333,0.8666666666666667,66.007530212402344,0.32056337594985962,0.16414804756641388,0.83585195243358612]
["PZ094","Princess Royal Hospital","West Midlands",265,66.099998474121094,63,7.9144798243206154,"63 mmol/mol (7.9%)","63 mmol/mol (7.9%)",6.0377358490566038E-2,0.13207547169811321,0.29433962264150942,0.5962264150943396,0.32075471698113206,0.16981132075471697,0.10943396226415095,0.89056603773584908,66.304733276367188,0.28910425305366516,0.10726290196180344,0.89273709803819656]
["PZ097","City Hospital, Birmingham","West Midlands",77,75.253250122070313,70,8.5549775825784611,"70 mmol/mol (8.6%)","70 mmol/mol (8.6%)",9.0909090909090912E-2,0.12987012987012986,0.19480519480519481,0.46753246753246752,0.53246753246753242,0.41558441558441561,0.33766233766233766,0.66233766233766234,70.126533508300781,0.26650643348693848,0.20030628144741058,0.79969371855258942]
["PZ099","East and North Hertfordshire NHS Trust","East of England",266,65.253005981445313,61,7.7314804648183735,"61 mmol/mol (7.7%)","61 mmol/mol (7.7%)",0.12406015037593984,0.26315789473684209,0.35714285714285715,0.47744360902255639,0.28195488721804512,0.19548872180451127,0.16541353383458646,0.83458646616541354,66.431381225585938,0.33034625649452209,0.18577723205089569,0.81422276794910431]
["PZ100","North Devon District Hospital","South West",79,65.253166198730469,62,7.8229801445694935,"62 mmol/mol (7.8%)","62 mmol/mol (7.8%)",0.11392405063291139,0.21518987341772153,0.35443037974683544,0.50632911392405067,0.26582278481012656,0.16455696202531644,0.13924050632911392,0.86075949367088611,65.588188171386719,0.34272301197052002,0.13319456577301025,0.86680543422698975]
["PZ101","Leeds Childrens' Hospital","Yorkshire and Humber",420,65.154762268066406,61,7.7314804648183735,"61 mmol/mol (7.7%)","61 mmol/mol (7.7%)",0.1380952380952381,0.25476190476190474,0.39523809523809522,0.45238095238095238,0.30952380952380953,0.20714285714285716,0.15238095238095239,0.84761904761904761,63.883491516113281,0.41952493786811829,0.12293580174446106,0.87706419825553894]
["PZ102","The Hillingdon Hospital","London and South East",180,64.463890075683594,61,7.7314804648183735,"61 mmol/mol (7.7%)","61 mmol/mol (7.7%)",7.7777777777777779E-2,0.22777777777777777,0.42222222222222222,0.41666666666666669,0.28333333333333333,0.18888888888888888,0.16111111111111112,0.83888888888888891,64.102516174316406,0.43750369548797607,0.15740767121315002,0.84259232878684998]
["PZ104","Royal Albert Edward Infirmary","North West",142,68.69366455078125,63,7.9144798243206154,"63 mmol/mol (7.9%)","63 mmol/mol (7.9%)",9.154929577464789E-2,0.16901408450704225,0.30281690140845069,0.47887323943661969,0.38028169014084506,0.27464788732394368,0.21830985915492956,0.78169014084507049,69.223007202148438,0.29430195689201355,0.24079596996307373,0.75920403003692627]
["PZ105","St Luke's Hospital","Yorkshire and Humber",166,66.771385192871094,63.75,7.9831045841339545,"63.8 mmol/mol (8%)","63.8 mmol/mol (8%)",6.6265060240963861E-2,0.12650602409638553,0.24698795180722891,0.64457831325301207,0.33734939759036142,0.16867469879518071,0.10843373493975904,0.89156626506024095,65.426101684570313,0.29329276084899902,0.10413717478513718,0.89586282521486282]
["PZ106","Victoria Hospital, Blackpool","North West",105,70.352378845214844,65,8.0974791838228573,"65 mmol/mol (8.1%)","65 mmol/mol (8.1%)",4.7619047619047616E-2,0.15238095238095239,0.26666666666666666,0.50476190476190474,0.42857142857142855,0.2857142857142857,0.22857142857142856,0.77142857142857146,70.798927307128906,0.26241773366928101,0.24711735546588898,0.75288264453411102]
["PZ107","Queen Elizabeth Hospital, Gateshead","North East and North Cumbria",113,68.5,64,8.0059795040717354,"64 mmol/mol (8%)","64 mmol/mol (8%)",6.1946902654867256E-2,0.1415929203539823,0.31858407079646017,0.49557522123893805,0.36283185840707965,0.23008849557522124,0.18584070796460178,0.81415929203539816,67.284172058105469,0.33925989270210266,0.15372231602668762,0.84627768397331238]
["PZ108","Birmingham Children's Hospital","West Midlands",265,62.742450714111328,60,7.6399807850672516,"60 mmol/mol (7.6%)","60 mmol/mol (7.6%)",0.10188679245283019,0.25283018867924528,0.41132075471698115,0.47547169811320755,0.21509433962264152,0.13207547169811321,0.11320754716981132,0.8867924528301887,61.100120544433594,0.48181602358818054,9.8174914717674255E-2,0.90182508528232574]
["PZ109","Southampton Children’s Hospital","South Central",237,65.915611267089844,63,7.9144798243206154,"63 mmol/mol (7.9%)","63 mmol/mol (7.9%)",0.12236286919831224,0.22362869198312235,0.33755274261603374,0.49367088607594939,0.33755274261603374,0.21940928270042195,0.16877637130801687,0.83122362869198319,66.726814270019531,0.32193407416343689,0.18193313479423523,0.81806686520576477]
["PZ110","Ormskirk & District General Hospital","North West",123,64.075706481933594,62,7.8229801445694935,"62 mmol/mol (7.8%)","62 mmol/mol (7.8%)",4.878048780487805E-2,9.7560975609756101E-2,0.34959349593495936,0.58536585365853655,0.29268292682926828,0.13008130081300814,6.5040650406504072E-2,0.93495934959349591,64.900871276855469,0.32211053371429443,6.4528867602348328E-2,0.93547113239765167]
["PZ111","Hereford County Hospital","West Midlands",79,61.113925933837891,59,7.5484811053161316,"59 mmol/mol (7.5%)","59 mmol/mol (7.5%)",0.12658227848101267,0.27848101265822783,0.41772151898734178,0.45569620253164556,0.21518987341772153,0.13924050632911392,0.12658227848101267,0.87341772151898733,62.552749633789063,0.38772311806678772,0.17183783650398254,0.82816216349601746]
["PZ112","Scarborough General Hospital","Yorkshire and Humber",81,63.092796325683594,61,7.7314804648183735,"61 mmol/mol (7.7%)","61 mmol/mol (7.7%)",8.6419753086419748E-2,0.20987654320987653,0.29629629629629628,0.62962962962962965,0.24691358024691357,0.13580246913580246,7.407407407407407E-2,0.92592592592592593,62.866165161132813,0.30367669463157654,7.3222994804382324E-2,0.92677700519561768]
["PZ113","University Hospital of Wales","Wales",178,63.870784759521484,61,7.7314804648183735,"61 mmol/mol (7.7%)","61 mmol/mol (7.7%)",0.10674157303370786,0.21348314606741572,0.38202247191011235,0.5,0.2752808988764045,0.1853932584269663,0.11797752808988764,0.8820224719101124,64.944290161132813,0.36181458830833435,0.14083364605903625,0.85916635394096375]
["PZ114","The York Hospital","Yorkshire and Humber",142,70.468307495117188,66.75,8.2576036233873182,"66.8 mmol/mol (8.3%)","66.8 mmol/mol (8.3%)",6.3380281690140844E-2,0.14788732394366197,0.19014084507042253,0.57042253521126762,0.45070422535211269,0.28873239436619719,0.23943661971830985,0.76056338028169013,72.168441772460938,0.17212396860122681,0.30088081955909729,0.69911918044090271]
["PZ118","University Hospital Lewisham","London and South East",110,67.390907287597656,63.25,7.9373547442583945,"63.3 mmol/mol (7.9%)","63.3 mmol/mol (7.9%)",0.13636363636363635,0.23636363636363636,0.36363636363636365,0.41818181818181815,0.4,0.29090909090909089,0.21818181818181817,0.78181818181818186,64.710853576660156,0.41928812861442566,0.16318486630916595,0.83681513369083405]
["PZ119","Darent Valley Hospital, Dartford","London and South East",145,69.427581787109375,67.219001770019531,8.3005171351468139,"67.2 mmol/mol (8.3%)","67.2 mmol/mol (8.3%)",6.2068965517241378E-2,0.1310344827586207,0.2620689655172414,0.51034482758620692,0.43448275862068964,0.31034482758620691,0.22758620689655173,0.77241379310344827,71.785514831542969,0.24246209859848022,0.3487011194229126,0.6512988805770874]
["PZ120","North Tyneside General Hospital","North East and North Cumbria",140,59.760715484619141,59,7.5484811053161316,"59 mmol/mol (7.5%)","59 mmol/mol (7.5%)",0.15,0.31428571428571428,0.44285714285714284,0.49285714285714288,0.20714285714285716,7.857142857142857E-2,6.4285714285714279E-2,0.93571428571428572,60.532619476318359,0.42297649383544922,7.31201171875E-2,0.9268798828125]
["PZ121","George Eliot Hospital","West Midlands",92,67.59075927734375,64.5,8.0517293439472954,"64.5 mmol/mol (8.1%)","64.5 mmol/mol (8.1%)",3.2608695652173912E-2,0.10869565217391304,0.21739130434782608,0.64130434782608692,0.29347826086956524,0.18478260869565216,0.14130434782608695,0.85869565217391308,66.938568115234375,0.22341637313365936,0.1297929435968399,0.8702070564031601]
["PZ122","University Hospital, Coventry ","West Midlands",195,69.5,64.5,8.0517293439472954,"64.5 mmol/mol (8.1%)","64.5 mmol/mol (8.1%)",7.6923076923076927E-2,0.15897435897435896,0.27692307692307694,0.49230769230769234,0.35384615384615387,0.27179487179487177,0.23076923076923078,0.76923076923076916,68.6424560546875,0.28958338499069214,0.21071401238441467,0.78928598761558533]
["PZ125","Maidstone Hospital","London and South East",120,63.549999237060547,61.25,7.7543553847561526,"61.3 mmol/mol (7.8%)","61.3 mmol/mol (7.8%)",7.4999999999999997E-2,0.20833333333333334,0.34166666666666667,0.58333333333333337,0.26666666666666666,0.125,7.4999999999999997E-2,0.92500000000000004,65.194534301757813,0.31463778018951416,9.8507478833198547E-2,0.90149252116680145]
["PZ126","Medway Maritime Hospital","London and South East",251,67.593025207519531,63,7.9144798243206154,"63 mmol/mol (7.9%)","63 mmol/mol (7.9%)",8.3665338645418322E-2,0.1752988047808765,0.30278884462151395,0.53386454183266929,0.35059760956175301,0.23904382470119523,0.16334661354581673,0.8366533864541833,67.032012939453125,0.31240573525428772,0.15071012079715729,0.84928987920284271]
["PZ127","James Paget Hospital","East of England",142,67.834510803222656,65,8.0974791838228573,"65 mmol/mol (8.1%)","65 mmol/mol (8.1%)",8.4507042253521125E-2,0.16901408450704225,0.30985915492957744,0.50704225352112675,0.42253521126760563,0.24647887323943662,0.18309859154929578,0.81690140845070425,66.173416137695313,0.33393466472625732,0.14820559322834015,0.85179440677165985]
["PZ128","Pilgrim Hospital ","East Midlands",90,65.666664123535156,66,8.1889788635739773,"66 mmol/mol (8.2%)","66 mmol/mol (8.2%)",0.1111111111111111,0.21111111111111111,0.31111111111111112,0.55555555555555558,0.3888888888888889,0.16666666666666666,0.13333333333333333,0.8666666666666667,65.518653869628906,0.31710433959960938,0.13427111506462097,0.86572888493537903]
["PZ131","Peterborough City Hospital","East of England",220,66.627273559570313,62,7.8229801445694935,"62 mmol/mol (7.8%)","62 mmol/mol (7.8%)",0.10909090909090909,0.22727272727272727,0.35,0.45909090909090911,0.32272727272727275,0.24090909090909091,0.19090909090909092,0.80909090909090908,67.050872802734375,0.34767398238182068,0.20555928349494934,0.79444071650505066]
["PZ132","Ysbyty Gwynedd Hospital ","Wales",93,59.790321350097656,57,7.3654817458138897,"57 mmol/mol (7.4%)","57 mmol/mol (7.4%)",0.25806451612903225,0.40860215053763443,0.5268817204301075,0.35483870967741937,0.18279569892473119,0.13978494623655913,0.11827956989247312,0.88172043010752688,61.249069213867188,0.4813854992389679,0.14912614226341248,0.85087385773658752]
["PZ133","James Cook University Hospital ","North East and North Cumbria",130,63.734615325927734,63,7.9144798243206154,"63 mmol/mol (7.9%)","63 mmol/mol (7.9%)",9.2307692307692313E-2,0.25384615384615383,0.36153846153846153,0.5461538461538461,0.29230769230769232,0.16153846153846155,9.2307692307692313E-2,0.90769230769230769,65.046463012695313,0.34331625699996948,0.11400395631790161,0.88599604368209839]
["PZ135","Royal Alexandra Hospital, Brighton","London and South East",191,63.450260162353516,62,7.8229801445694935,"62 mmol/mol (7.8%)","62 mmol/mol (7.8%)",9.4240837696335081E-2,0.23036649214659685,0.38219895287958117,0.51832460732984298,0.2879581151832461,0.15706806282722513,9.947643979057591E-2,0.90052356020942415,64.352264404296875,0.35453701019287109,0.10439074784517288,0.89560925215482712]
["PZ136","Central Manchester University Hospitals NHS Foundation Trust","North West",271,67.315498352050781,64,8.0059795040717354,"64 mmol/mol (8%)","64 mmol/mol (8%)",7.3800738007380073E-2,0.17712177121771217,0.28413284132841327,0.52767527675276749,0.36162361623616235,0.25092250922509224,0.18819188191881919,0.81180811808118081,64.180496215820313,0.35145628452301025,0.12896005809307098,0.87103994190692902]
["PZ137","Musgrove Park Hospital","South West",195,65.982048034667969,63.5,7.9602296641961754,"63.5 mmol/mol (8%)","63.5 mmol/mol (8%)",0.10256410256410256,0.2,0.32307692307692309,0.50769230769230766,0.35384615384615387,0.2153846153846154,0.16923076923076924,0.8307692307692307,66.810005187988281,0.30734091997146606,0.18426516652107239,0.81573483347892761]
["PZ138","Warwick Hospital","West Midlands",105,63.638095855712891,62,7.8229801445694935,"62 mmol/mol (7.8%)","62 mmol/mol (7.8%)",0.15238095238095239,0.29523809523809524,0.39047619047619048,0.48571428571428571,0.31428571428571428,0.21904761904761905,0.12380952380952381,0.87619047619047619,66.771591186523438,0.32337003946304321,0.17683412134647369,0.82316587865352631]
["PZ139","Bristol Royal Hospital for Children","South West",428,63.025699615478516,61,7.7314804648183735,"61 mmol/mol (7.7%)","61 mmol/mol (7.7%)",0.13317757009345793,0.26869158878504673,0.41121495327102803,0.46028037383177572,0.29205607476635514,0.17289719626168223,0.12850467289719625,0.87149532710280375,63.460960388183594,0.39994341135025024,0.13473568856716156,0.86526431143283844]
["PZ140","Tameside General Hospital","North West",89,68.471908569335938,65,8.0974791838228573,"65 mmol/mol (8.1%)","65 mmol/mol (8.1%)",8.98876404494382E-2,0.1348314606741573,0.20224719101123595,0.6067415730337079,0.38202247191011235,0.2808988764044944,0.19101123595505617,0.8089887640449438,67.919281005859375,0.21291095018386841,0.19536830484867096,0.80463169515132904]
["PZ141","South Tyneside District Hospital","North East and North Cumbria",55,59.318180084228516,58,7.4569814255650098,"58 mmol/mol (7.5%)","58 mmol/mol (7.5%)",7.2727272727272724E-2,0.27272727272727271,0.49090909090909091,0.49090909090909091,0.14545454545454545,3.6363636363636362E-2,1.8181818181818181E-2,0.98181818181818181,59.761459350585938,0.48729562759399414,2.0532447844743729E-2,0.97946755215525627]
["PZ144","Good Hope Hospital, Sutton Coldfield","West Midlands",133,64.5,63.5,7.9602296641961754,"63.5 mmol/mol (8%)","63.5 mmol/mol (8%)",9.0225563909774431E-2,0.20300751879699247,0.3007518796992481,0.57894736842105265,0.32330827067669171,0.21052631578947367,0.12030075187969924,0.87969924812030076,63.195613861083984,0.32213759422302246,9.8450936377048492E-2,0.90154906362295151]
["PZ145","Milton Keynes Hospital","South Central",126,62.031745910644531,58.75,7.5256061853783507,"58.8 mmol/mol (7.5%)","58.8 mmol/mol (7.5%)",0.13492063492063491,0.20634920634920634,0.42857142857142855,0.49206349206349204,0.23015873015873015,0.12698412698412698,7.9365079365079361E-2,0.92063492063492069,64.055793762207031,0.38629728555679321,0.11532296240329742,0.88467703759670258]
["PZ146","Southend University Hospital","East of England",171,60.581871032714844,60,7.6399807850672516,"60 mmol/mol (7.6%)","60 mmol/mol (7.6%)",0.12865497076023391,0.27485380116959063,0.46783625730994149,0.47953216374269003,0.2046783625730994,9.9415204678362568E-2,5.2631578947368418E-2,0.94736842105263164,61.510948181152344,0.43751057982444763,5.6532207876443863E-2,0.94346779212355614]
["PZ149","Barnsley Hospital","Yorkshire and Humber",126,65.055557250976563,62,7.8229801445694935,"62 mmol/mol (7.8%)","62 mmol/mol (7.8%)",3.1746031746031744E-2,0.11904761904761904,0.2857142857142857,0.59523809523809523,0.24603174603174602,0.19047619047619047,0.11904761904761904,0.88095238095238093,63.631233215332031,0.30708292126655579,9.6932448446750641E-2,0.90306755155324936]
["PZ150","Cumberland Infirmary","North East and North Cumbria",99,62.509849548339844,59,7.5484811053161316,"59 mmol/mol (7.5%)","59 mmol/mol (7.5%)",0.16161616161616163,0.28282828282828282,0.46464646464646464,0.40404040404040403,0.23232323232323232,0.17171717171717171,0.13131313131313133,0.86868686868686873,62.441444396972656,0.45926782488822937,0.12933206558227539,0.87066793441772461]
["PZ151","Queen Elizabeth Hospital, Woolwich","London and South East",101,71.950492858886719,70,8.5549775825784611,"70 mmol/mol (8.6%)","70 mmol/mol (8.6%)",6.9306930693069313E-2,0.12871287128712872,0.21782178217821782,0.5544554455445545,0.53465346534653468,0.31683168316831684,0.22772277227722773,0.7722772277227723,69.920448303222656,0.24309155344963074,0.18195608258247375,0.81804391741752625]
["PZ152","Torbay Hospital","South West",137,70.562042236328125,69,8.4634779028273392,"69 mmol/mol (8.5%)","69 mmol/mol (8.5%)",7.2992700729927001E-2,0.11678832116788321,0.23357664233576642,0.51824817518248179,0.53284671532846717,0.35036496350364965,0.24817518248175183,0.75182481751824815,69.487907409667969,0.24317476153373718,0.20698300004005432,0.79301699995994568]
["PZ153","Whiston Hospital","North West",142,59.337192535400391,56,7.2739820660627679,"56 mmol/mol (7.3%)","56 mmol/mol (7.3%)",0.176056338028169,0.38732394366197181,0.55633802816901412,0.37323943661971831,0.16901408450704225,0.12676056338028169,7.0422535211267609E-2,0.92957746478873238,58.849834442138672,0.58076924085617065,6.9250106811523438E-2,0.93074989318847656]
["PZ156","Queen Elizabeth Hospital, Kings Lynn","East of England",130,72.01153564453125,66.25,8.2118537835117582,"66.3 mmol/mol (8.2%)","66.3 mmol/mol (8.2%)",7.6923076923076927E-2,0.13076923076923078,0.2153846153846154,0.5461538461538461,0.41538461538461541,0.3,0.23846153846153847,0.7615384615384615,70.157676696777344,0.23413564264774323,0.18169061839580536,0.81830938160419464]
["PZ157","Royal Free Hospital","London and South East",47,63.904254913330078,59,7.5484811053161316,"59 mmol/mol (7.5%)","59 mmol/mol (7.5%)",0.14893617021276595,0.25531914893617019,0.42553191489361702,0.42553191489361702,0.2978723404255319,0.19148936170212766,0.14893617021276595,0.85106382978723405,63.247852325439453,0.42923274636268616,0.13344132900238037,0.86655867099761963]
["PZ159","Basingstoke and North Hampshire Hospital","South Central",137,64.040145874023438,60,7.6399807850672516,"60 mmol/mol (7.6%)","60 mmol/mol (7.6%)",8.7591240875912413E-2,0.24087591240875914,0.43795620437956206,0.42335766423357662,0.27007299270072993,0.17518248175182483,0.13868613138686131,0.86131386861313874,66.007781982421875,0.39272135496139526,0.17930275201797485,0.82069724798202515]
["PZ160","Bishop Auckland Hospital","North East and North Cumbria",78,63.724357604980469,61,7.7314804648183735,"61 mmol/mol (7.7%)","61 mmol/mol (7.7%)",0.14102564102564102,0.24358974358974358,0.37179487179487181,0.48717948717948717,0.28205128205128205,0.16666666666666666,0.14102564102564102,0.85897435897435903,62.221187591552734,0.40755045413970947,0.10932406038045883,0.89067593961954117]
["PZ161","Darlington Memorial Hospital","North East and North Cumbria",71,67.610450744628906,66,8.1889788635739773,"66 mmol/mol (8.2%)","66 mmol/mol (8.2%)",8.4507042253521125E-2,0.19718309859154928,0.29577464788732394,0.53521126760563376,0.39436619718309857,0.26760563380281688,0.16901408450704225,0.83098591549295775,67.404693603515625,0.28791305422782898,0.15132582187652588,0.84867417812347412]
["PZ162","University Hospital of North Durham","North East and North Cumbria",114,65.65789794921875,64,8.0059795040717354,"64 mmol/mol (8%)","64 mmol/mol (8%)",9.6491228070175433E-2,0.18421052631578946,0.30701754385964913,0.56140350877192979,0.34210526315789475,0.18421052631578946,0.13157894736842105,0.86842105263157898,65.155502319335938,0.31380832195281982,0.12260390818119049,0.87739609181880951]
["PZ163","University Hospital of North Tees and University Hospital of Hartlepool","North East and North Cumbria",170,67.441177368164063,64,8.0059795040717354,"64 mmol/mol (8%)","64 mmol/mol (8%)",5.2941176470588235E-2,0.13529411764705881,0.20588235294117646,0.64117647058823535,0.38235294117647056,0.25294117647058822,0.15294117647058825,0.84705882352941175,65.613777160644531,0.22783741354942322,0.12074316293001175,0.87925683706998825]
["PZ164","Rotherham Hospital","Yorkshire and Humber",106,66.521591186523438,62.573749542236328,7.8754780439414702,"62.6 mmol/mol (7.9%)","62.6 mmol/mol (7.9%)",8.4905660377358486E-2,0.16037735849056603,0.34905660377358488,0.49056603773584906,0.30188679245283018,0.19811320754716982,0.16037735849056603,0.839622641509434,64.660797119140625,0.38862845301628113,0.12250985950231552,0.87749014049768448]
["PZ167","University Hospitals of Morecambe Bay NHS Foundation Trust ","North West",190,66.560523986816406,62,7.8229801445694935,"62 mmol/mol (7.8%)","62 mmol/mol (7.8%)",5.7894736842105263E-2,0.15789473684210525,0.30526315789473685,0.55263157894736847,0.30526315789473685,0.2,0.14210526315789473,0.85789473684210527,65.870994567871094,0.31391888856887817,0.13400529325008392,0.86599470674991608]
["PZ168","Grantham and District Hospital","East Midlands",49,58.632652282714844,57,7.3654817458138897,"57 mmol/mol (7.4%)","57 mmol/mol (7.4%)",0.20408163265306123,0.36734693877551022,0.51020408163265307,0.44897959183673469,0.22448979591836735,8.1632653061224483E-2,4.0816326530612242E-2,0.95918367346938771,60.736568450927734,0.44583010673522949,5.60157410800457E-2,0.9439842589199543]
["PZ169","Salisbury District Hospital","South Central",126,62.948413848876953,59.75,7.6171058651294725,"59.8 mmol/mol (7.6%)","59.8 mmol/mol (7.6%)",0.14285714285714285,0.29365079365079366,0.41269841269841268,0.47619047619047616,0.2857142857142857,0.16666666666666666,0.1111111111111111,0.88888888888888884,64.605697631835938,0.37015447020530701,0.13647966086864471,0.86352033913135529]
["PZ170","Arrowe Park Hospital","North West",140,66.61785888671875,63.5,7.9602296641961754,"63.5 mmol/mol (8%)","63.5 mmol/mol (8%)",5.7142857142857141E-2,0.1357142857142857,0.3,0.54285714285714282,0.32857142857142857,0.20714285714285716,0.15714285714285714,0.84285714285714286,66.190017700195313,0.31052696704864502,0.15618270635604858,0.84381729364395142]
["PZ171","Broomfield Hospital","East of England",166,59.614517211914063,58,7.4569814255650098,"58 mmol/mol (7.5%)","58 mmol/mol (7.5%)",0.15662650602409639,0.30722891566265059,0.48192771084337349,0.45783132530120479,0.15060240963855423,7.2289156626506021E-2,6.0240963855421686E-2,0.93975903614457834,62.190357208251953,0.41877040266990662,8.7819531559944153E-2,0.91218046844005585]
["PZ172","West Hertfordshire Hospitals NHS Trust ","East of England",176,68.353408813476563,65,8.0974791838228573,"65 mmol/mol (8.1%)","65 mmol/mol (8.1%)",6.8181818181818177E-2,0.16477272727272727,0.28977272727272729,0.51704545454545459,0.39204545454545453,0.25,0.19318181818181818,0.80681818181818188,69.677139282226563,0.27175560593605042,0.23097634315490723,0.76902365684509277]
["PZ173","Yeovil District Hospital","South West",90,66.416664123535156,63.75,7.9831045841339545,"63.8 mmol/mol (8%)","63.8 mmol/mol (8%)",0.1111111111111111,0.2,0.31111111111111112,0.5444444444444444,0.35555555555555557,0.22222222222222221,0.14444444444444443,0.85555555555555562,65.6365966796875,0.31746181845664978,0.12969818711280823,0.87030181288719177]
["PZ174","Kettering General Hospital","East Midlands",178,65.806182861328125,61.75,7.8001052246317144,"61.8 mmol/mol (7.8%)","61.8 mmol/mol (7.8%)",0.1348314606741573,0.25280898876404495,0.39325842696629215,0.4550561797752809,0.33146067415730335,0.19101123595505617,0.15168539325842698,0.848314606741573,65.714935302734375,0.38876363635063171,0.14147196710109711,0.85852803289890289]
["PZ175","Queen Mary's Hospital, Sidcup","London and South East",89,66.303367614746094,63,7.9144798243206154,"63 mmol/mol (7.9%)","63 mmol/mol (7.9%)",7.8651685393258425E-2,0.14606741573033707,0.33707865168539325,0.5056179775280899,0.3146067415730337,0.21348314606741572,0.15730337078651685,0.84269662921348321,65.909461975097656,0.33896994590759277,0.14417339861392975,0.85582660138607025]
["PZ176","St Peter's Hospital","London and South East",186,64.526878356933594,62.25,7.8458550645072744,"62.3 mmol/mol (7.8%)","62.3 mmol/mol (7.8%)",8.6021505376344093E-2,0.20430107526881722,0.34408602150537637,0.57526881720430112,0.27956989247311825,0.14516129032258066,8.0645161290322578E-2,0.91935483870967738,66.213058471679688,0.3130384087562561,9.8967604339122772E-2,0.90103239566087723]
["PZ177","Royal Bolton Hospital","North West",116,64.077583312988281,62,7.8229801445694935,"62 mmol/mol (7.8%)","62 mmol/mol (7.8%)",0.10344827586206896,0.18103448275862069,0.28448275862068967,0.60344827586206895,0.26724137931034481,0.16379310344827586,0.11206896551724138,0.88793103448275867,64.187042236328125,0.29870131611824036,0.12773045897483826,0.87226954102516174]
["PZ178","Manor Hospital, Walsall","West Midlands",138,64.3634033203125,62.75,{"$f":"(F132/10.929)+2.15","v":7.8916049043828345},{"$f":"(ROUND(F132,1)&$Y$2&$Y$3&(ROUND(G132,1)&$Y$4&$Y$5))","v":"62.8 mmol/mol (7.9%)"},"62.8 mmol/mol (7.9%)",0.10869565217391304,0.20289855072463769,0.34782608695652173,0.54347826086956519,0.30434782608695654,0.16666666666666666,0.10869565217391304,0.89130434782608692,62.750759124755859,0.38855773210525513,8.8385596871376038E-2,0.91161440312862396]
["PZ179","Countess of Chester Hospital NHS Trust","North West",153,68.3431396484375,63,7.9144798243206154,"63 mmol/mol (7.9%)","63 mmol/mol (7.9%)",0.13725490196078433,0.21568627450980393,0.36601307189542481,0.41830065359477125,0.39215686274509803,0.30065359477124182,0.21568627450980393,0.78431372549019607,68.636497497558594,0.35080736875534058,0.20095217227935791,0.79904782772064209]
["PZ180","Kings Mill Hospital","East Midlands",163,55.94500732421875,54.649497985839844,7.1504115642638713,"54.6 mmol/mol (7.2%)","54.6 mmol/mol (7.2%)",0.20245398773006135,0.41104294478527609,0.66257668711656437,0.28834355828220859,9.202453987730061E-2,6.1349693251533742E-2,4.9079754601226995E-2,0.95092024539877296,55.300346374511719,0.68078458309173584,4.4886514544487E-2,0.955113485455513]
["PZ181","Ipswich Hospital","East of England",209,70.539840698242188,64.486503601074219,8.0504944277677932,"64.5 mmol/mol (8.1%)","64.5 mmol/mol (8.1%)",7.1770334928229665E-2,0.13397129186602871,0.30622009569377989,0.42583732057416268,0.3923444976076555,0.29665071770334928,0.26794258373205743,0.73205741626794252,70.458427429199219,0.30253291130065918,0.25679793953895569,0.74320206046104431]
["PZ182","West Middlesex University Hospital","London and South East",157,65.41131591796875,64,8.0059795040717354,"64 mmol/mol (8%)","64 mmol/mol (8%)",0.10191082802547771,0.22292993630573249,0.3503184713375796,0.5286624203821656,0.39490445859872614,0.17834394904458598,0.12101910828025478,0.87898089171974525,64.768875122070313,0.36942461133003235,0.11791481822729111,0.88208518177270889]
["PZ183","Royal Preston Hospital","North West",196,66.6505126953125,64.25,8.0288544240095163,"64.3 mmol/mol (8%)","64.3 mmol/mol (8%)",9.1836734693877556E-2,0.1326530612244898,0.27040816326530615,0.58163265306122447,0.35204081632653061,0.19897959183673469,0.14795918367346939,0.85204081632653061,66.430885314941406,0.27257570624351501,0.14795045554637909,0.85204954445362091]
["PZ186","Calderdale & Huddersfield NHS Foundation Trust","Yorkshire and Humber",198,67.260101318359375,64,8.0059795040717354,"64 mmol/mol (8%)","64 mmol/mol (8%)",9.0909090909090912E-2,0.16666666666666666,0.26767676767676768,0.54545454545454541,0.37878787878787878,0.23232323232323232,0.18686868686868688,0.81313131313131315,66.352577209472656,0.28835776448249817,0.17913548648357391,0.82086451351642609]
["PZ187","Wrexham Maelor Hospital","Wales",92,58.456520080566406,56,7.2739820660627679,"56 mmol/mol (7.3%)","56 mmol/mol (7.3%)",0.16304347826086957,0.42391304347826086,0.56521739130434778,0.36956521739130432,0.14130434782608695,7.6086956521739135E-2,6.5217391304347824E-2,0.93478260869565222,59.795345306396484,0.52044355869293213,7.9113736748695374E-2,0.92088626325130463]
["PZ188",{"$error":"#N/A"},"Wales",178,68.424156188964844,66,8.1889788635739773,"66 mmol/mol (8.2%)","66 mmol/mol (8.2%)",4.49438202247191E-2,0.10674157303370786,0.21910112359550563,0.5955056179775281,0.4157303370786517,0.25842696629213485,0.1853932584269663,0.8146067415730337,69.065147399902344,0.22278380393981934,0.22932201623916626,0.77067798376083374]
["PZ189","Royal Glamorgan Hospital","Wales",81,67.851852416992188,65,8.0974791838228573,"65 mmol/mol (8.1%)","65 mmol/mol (8.1%)",0.1111111111111111,0.20987654320987653,0.27160493827160492,0.51851851851851849,0.43209876543209874,0.27160493827160492,0.20987654320987653,0.79012345679012341,67.08837890625,0.28823524713516235,0.19636042416095734,0.80363957583904266]
["PZ191","Ealing Hospital","London and South East",80,74.262496948242188,69,8.4634779028273392,"69 mmol/mol (8.5%)","69 mmol/mol (8.5%)",3.7499999999999999E-2,7.4999999999999997E-2,0.1875,0.48749999999999999,0.52500000000000002,0.4,0.32500000000000001,0.67500000000000004,69.297119140625,0.25685396790504456,0.21221126616001129,0.78778873383998871]
["PZ193","Neath Port Talbot Hospital","Wales",58,66.163795471191406,60,7.6399807850672516,"60 mmol/mol (7.6%)","60 mmol/mol (7.6%)",0.17241379310344829,0.22413793103448276,0.36206896551724138,0.44827586206896552,0.36206896551724138,0.27586206896551724,0.18965517241379309,0.81034482758620685,66.458892822265625,0.3550797700881958,0.21063253283500671,0.78936746716499329]
["PZ196","Great Ormond Street Hospital","London and South East",9,58.277778625488281,61,7.7314804648183735,"61 mmol/mol (7.7%)","61 mmol/mol (7.7%)",0.1111111111111111,0.33333333333333331,0.44444444444444442,0.55555555555555558,0.1111111111111111,0,0,1,59.664085388183594,0.43448838591575623,0,1]
["PZ199","North Middlesex University Hospital","London and South East",144,62,60,7.6399807850672516,"60 mmol/mol (7.6%)","60 mmol/mol (7.6%)",0.15277777777777779,0.2638888888888889,0.39583333333333331,0.49305555555555558,0.24305555555555555,0.14583333333333334,0.1111111111111111,0.88888888888888884,60.260845184326172,0.45452418923377991,9.2461645603179932E-2,0.90753835439682007]
["PZ200","Princess Alexandra Hospital, Harlow (inc Rectory Lane Health Center, Essex) ","East of England",109,61.064220428466797,57.5,7.4112315856894497,"57.5 mmol/mol (7.4%)","57.5 mmol/mol (7.4%)",0.23853211009174313,0.3577981651376147,0.50458715596330272,0.3577981651376147,0.24770642201834864,0.1743119266055046,0.13761467889908258,0.86238532110091737,62.256969451904297,0.45467564463615417,0.14811968803405762,0.85188031196594238]
["PZ202","St Marys Hospital, Imperial College, London","London and South East",121,71.483474731445313,68.5,8.4177280629517792,"68.5 mmol/mol (8.4%)","68.5 mmol/mol (8.4%)",4.9586776859504134E-2,9.0909090909090912E-2,0.23140495867768596,0.52892561983471076,0.49586776859504134,0.31404958677685951,0.23966942148760331,0.76033057851239672,68.175559997558594,0.28161484003067017,0.1699616014957428,0.8300383985042572]
["PZ203","University College London Hospital","London and South East",625,62.071731567382813,58.474998474121094,7.5004436338293612,"58.5 mmol/mol (7.5%)","58.5 mmol/mol (7.5%)",0.16639999999999999,0.31359999999999999,0.48959999999999998,0.39679999999999999,0.2576,0.1648,0.11360000000000001,0.88639999999999997,61.806217193603516,0.50507098436355591,0.11334289610385895,0.88665710389614105]
["PZ206","The Pennine Acute Hospitals NHS Trust","North West",323,72.195549011230469,69,8.4634779028273392,"69 mmol/mol (8.5%)","69 mmol/mol (8.5%)",6.1919504643962849E-2,0.14551083591331268,0.21981424148606812,0.5356037151702786,0.50773993808049533,0.34984520123839008,0.24458204334365324,0.75541795665634681,71.496719360351563,0.235181525349617,0.2432970255613327,0.7567029744386673]
["PZ213","East Surrey Hospital","London and South East",221,66.772621154785156,64,8.0059795040717354,"64 mmol/mol (8%)","64 mmol/mol (8%)",7.2398190045248875E-2,0.15384615384615385,0.23529411764705882,0.62895927601809953,0.33031674208144796,0.19457013574660634,0.13574660633484162,0.86425339366515841,67.939521789550781,0.21893328428268433,0.15629711747169495,0.84370288252830505]
["PZ215","Kings College Hospital, London","London and South East",112,71.289985656738281,64.75,8.0746042638850763,"64.8 mmol/mol (8.1%)","64.8 mmol/mol (8.1%)",9.8214285714285712E-2,0.17857142857142858,0.25892857142857145,0.4732142857142857,0.4107142857142857,0.32142857142857145,0.26785714285714285,0.73214285714285721,67.604637145996094,0.30471906065940857,0.16711995005607605,0.83288004994392395]
["PZ216","Tunbridge Wells Hospital","London and South East",99,63.770595550537109,63,7.9144798243206154,"63 mmol/mol (7.9%)","63 mmol/mol (7.9%)",6.0606060606060608E-2,0.16161616161616163,0.26262626262626265,0.66666666666666663,0.30303030303030304,9.0909090909090912E-2,7.0707070707070704E-2,0.92929292929292928,67.471549987792969,0.2196376770734787,0.12555831670761108,0.87444168329238892]
["PZ218","Frimley Park Hospital ","London and South East",205,64.985366821289063,61,7.7314804648183735,"61 mmol/mol (7.7%)","61 mmol/mol (7.7%)",8.7804878048780483E-2,0.2,0.37560975609756098,0.51219512195121952,0.27317073170731709,0.16097560975609757,0.11219512195121951,0.8878048780487805,67.651565551757813,0.32195839285850525,0.15259715914726257,0.84740284085273743]
["PZ219","Sheffield Childrens Hospital","Yorkshire and Humber",235,59.078723907470703,56.5,7.3197319059383297,"56.5 mmol/mol (7.3%)","56.5 mmol/mol (7.3%)",0.20425531914893616,0.34468085106382979,0.5446808510638298,0.37872340425531914,0.13617021276595745,9.3617021276595741E-2,7.6595744680851063E-2,0.92340425531914894,59.042827606201172,0.56016236543655396,8.2576073706150055E-2,0.91742392629384995]
["PZ220","Bedford Hospital","East of England",131,67.45037841796875,64.5,8.0517293439472954,"64.5 mmol/mol (8.1%)","64.5 mmol/mol (8.1%)",0.12977099236641221,0.22137404580152673,0.3282442748091603,0.49618320610687022,0.36641221374045801,0.29007633587786258,0.17557251908396945,0.82442748091603058,67.936683654785156,0.31617704033851624,0.17896440625190735,0.82103559374809265]
["PZ221","Great Western Hospital","South West",175,63.905715942382813,61,7.7314804648183735,"61 mmol/mol (7.7%)","61 mmol/mol (7.7%)",0.13142857142857142,0.19428571428571428,0.39428571428571429,0.46857142857142858,0.29142857142857143,0.21142857142857144,0.13714285714285715,0.86285714285714288,64.915634155273438,0.37197443842887878,0.15904691815376282,0.84095308184623718]
["PZ222","New Cross Hospital, Wolverhampton","West Midlands",204,66.085784912109375,63,7.9144798243206154,"63 mmol/mol (7.9%)","63 mmol/mol (7.9%)",0.11764705882352941,0.19117647058823528,0.31862745098039214,0.53431372549019607,0.34313725490196079,0.19117647058823528,0.14705882352941177,0.8529411764705882,65.204048156738281,0.34319216012954712,0.13175991177558899,0.86824008822441101]
["PZ223","Sandwell General Hospital","West Midlands",144,64.694442749023438,61,7.7314804648183735,"61 mmol/mol (7.7%)","61 mmol/mol (7.7%)",0.1111111111111111,0.22222222222222221,0.375,0.46527777777777779,0.28472222222222221,0.20833333333333334,0.15972222222222221,0.84027777777777779,62.834568023681641,0.43627995252609253,0.12750580906867981,0.87249419093132019]
["PZ225","Worcestershire Royal Hospital","West Midlands",127,64.564498901367188,61,7.7314804648183735,"61 mmol/mol (7.7%)","61 mmol/mol (7.7%)",0.13385826771653545,0.24409448818897639,0.40157480314960631,0.46456692913385828,0.26771653543307089,0.18110236220472442,0.13385826771653545,0.86614173228346458,65.988807678222656,0.36737218499183655,0.15142239630222321,0.84857760369777679]
["PZ226","Dewsbury & District Hospital","Yorkshire and Humber",107,68.560745239257813,61.5,7.7772303046939335,"61.5 mmol/mol (7.8%)","61.5 mmol/mol (7.8%)",4.6728971962616821E-2,0.14953271028037382,0.31775700934579437,0.49532710280373832,0.35514018691588783,0.22429906542056074,0.18691588785046728,0.81308411214953269,67.001052856445313,0.36972635984420776,0.16494643688201904,0.83505356311798096]
["PZ228","Prince Charles Hospital ","Wales",91,64.862640380859375,62,7.8229801445694935,"62 mmol/mol (7.8%)","62 mmol/mol (7.8%)",7.6923076923076927E-2,0.2087912087912088,0.31868131868131866,0.5494505494505495,0.30769230769230771,0.17582417582417584,0.13186813186813187,0.86813186813186816,63.271255493164063,0.35030978918075562,0.10962609946727753,0.89037390053272247]
["PZ230","East Sussex Healthcare NHS Trust/Conquest Hospital ","London and South East",136,64.95220947265625,61.25,7.7543553847561526,"61.3 mmol/mol (7.8%)","61.3 mmol/mol (7.8%)",0.11764705882352941,0.22058823529411764,0.33823529411764708,0.50735294117647056,0.31617647058823528,0.19117647058823528,0.15441176470588236,0.84558823529411764,66.197441101074219,0.3199370801448822,0.18495665490627289,0.81504334509372711]
["PZ231","Salford Royal Foundation Trust","North West",109,64.14678955078125,60,7.6399807850672516,"60 mmol/mol (7.6%)","60 mmol/mol (7.6%)",0.12844036697247707,0.27522935779816515,0.40366972477064222,0.46788990825688076,0.24770642201834864,0.1743119266055046,0.12844036697247707,0.87155963302752293,63.057598114013672,0.43808296322822571,0.11436785012483597,0.88563214987516403]
["PZ232","BHR University Hospitals NHS Trust ","London and South East",289,64.493080139160156,62,7.8229801445694935,"62 mmol/mol (7.8%)","62 mmol/mol (7.8%)",9.6885813148788927E-2,0.1972318339100346,0.32871972318339099,0.54671280276816614,0.31487889273356401,0.18339100346020762,0.1245674740484429,0.87543252595155707,63.818294525146484,0.35173851251602173,0.12311658263206482,0.87688341736793518]
["PZ238","Queen Alexandra Hospital, Portsmouth","South Central",249,65.765060424804688,63,7.9144798243206154,"63 mmol/mol (7.9%)","63 mmol/mol (7.9%)",5.6224899598393573E-2,0.20080321285140562,0.33734939759036142,0.50602409638554213,0.32128514056224899,0.19277108433734941,0.15662650602409639,0.84337349397590367,66.390022277832031,0.32442325353622437,0.16766461730003357,0.83233538269996643]
["PZ240","Russells Hall Hospital","West Midlands",147,65.826675415039063,65,8.0974791838228573,"65 mmol/mol (8.1%)","65 mmol/mol (8.1%)",6.8027210884353748E-2,0.14965986394557823,0.2857142857142857,0.59863945578231292,0.36734693877551022,0.18367346938775511,0.11564625850340136,0.88435374149659862,64.695877075195313,0.30463343858718872,0.10215893387794495,0.89784106612205505]
["PZ242","Cheltenham General Hospital","South West",249,60.367469787597656,58,7.4569814255650098,"58 mmol/mol (7.5%)","58 mmol/mol (7.5%)",0.1606425702811245,0.33734939759036142,0.49799196787148592,0.40160642570281124,0.18072289156626506,0.12851405622489959,0.10040160642570281,0.89959839357429716,62.260910034179688,0.44686439633369446,0.13627789914608002,0.86372210085391998]
["PZ244","Hywel Dda University Health Board","Wales",167,61.380241394042969,57,7.3654817458138897,"57 mmol/mol (7.4%)","57 mmol/mol (7.4%)",0.1437125748502994,0.32934131736526945,0.52095808383233533,0.3592814371257485,0.25748502994011974,0.16167664670658682,0.11976047904191617,0.88023952095808378,61.924942016601563,0.50146138668060303,0.14077863097190857,0.85922136902809143]
[null,null,"East Midlands",1826,62.2501220703125,59.5,7.5942309451916916,"59.5 mmol/mol (7.6%)","59.5 mmol/mol (7.6%)",0.13088718510405256,0.27929901423877329,0.43756845564074481,0.45947426067907998,0.25191675794085433,0.14403066812705367,0.10295728368017525,0.8970427163198248,62.689846038818359,0.42729529738426208,0.11048439145088196,0.88951560854911804]
[null,null,"East of England",2808,65.38385009765625,61.974998474121094,7.8206925129582849,"62 mmol/mol (7.8%)","62 mmol/mol (7.8%)",0.11467236467236468,0.2272079772079772,0.36645299145299143,0.48290598290598291,0.31303418803418803,0.20619658119658119,0.15064102564102563,0.84935897435897434,65.782600402832031,0.35630586743354797,0.15578418970108032,0.84421581029891968]
[null,null,"London and South East",5682,65.308578491210938,62,7.8229801445694935,"62 mmol/mol (7.8%)","62 mmol/mol (7.8%)",0.10436466033086941,0.21770503343892997,0.35850052798310456,0.50087997184090105,0.31766983456529391,0.19464977120732135,0.14061950017599437,0.85938049982400566,65.03289794921875,0.36390635371208191,0.13619408011436462,0.86380591988563538]
[null,null,"North East and North Cumbria",1531,64.400924682617188,61.5,7.7772303046939335,"61.5 mmol/mol (7.8%)","61.5 mmol/mol (7.8%)",0.10711952971913782,0.22664924885695623,0.36512083605486612,0.50555192684519923,0.30111038536903983,0.18354016982364468,0.12932723709993468,0.87067276290006534,64.091361999511719,0.36886873841285706,0.12006181478500366,0.87993818521499634]
[null,null,"North West",3264,66.250259399414063,63,7.9144798243206154,"63 mmol/mol (7.9%)","63 mmol/mol (7.9%)",9.8345588235294115E-2,0.20036764705882354,0.33609068627450983,0.50428921568627449,0.33302696078431371,0.21875,0.15962009803921567,0.84037990196078427,65.64837646484375,0.35043579339981079,0.1498662531375885,0.8501337468624115]
[null,null,"South Central",2473,63.338043212890625,60.5,7.6857306249428117,"60.5 mmol/mol (7.7%)","60.5 mmol/mol (7.7%)",0.11605337646583097,0.24464213505863325,0.39344925192074404,0.49373230893651437,0.26728669632025881,0.16053376465830974,0.1128184391427416,0.88718156085725841,64.703155517578125,0.36182358860969543,0.13477890193462372,0.86522109806537628]
[null,null,"South West",1945,64.511924743652344,61,7.7314804648183735,"61 mmol/mol (7.7%)","61 mmol/mol (7.7%)",0.11516709511568124,0.22570694087403598,0.37737789203084832,0.47969151670951155,0.3012853470437018,0.19125964010282775,0.14293059125964011,0.85706940874035986,65.259307861328125,0.35939547419548035,0.1567622572183609,0.8432377427816391]
[null,null,"Wales",1324,64.863296508789063,62,7.8229801445694935,"62 mmol/mol (7.8%)","62 mmol/mol (7.8%)",0.11027190332326284,0.23262839879154079,0.36631419939577037,0.48942598187311176,0.31797583081570996,0.19939577039274925,0.14425981873111782,0.85574018126888218,65.297103881835938,0.36018618941307068,0.16203436255455017,0.83796563744544983]
[null,null,"West Midlands",2807,65.989479064941406,63,7.9144798243206154,"63 mmol/mol (7.9%)","63 mmol/mol (7.9%)",8.5144282151763451E-2,0.18631991449946561,0.3167082294264339,0.53473459209120056,0.32846455290345566,0.20805130032062699,0.14855717848236552,0.85144282151763451,65.293716430664063,0.33114704489707947,0.13593320548534393,0.86406679451465607]
[null,null,"Yorkshire and Humber",2461,65.585472106933594,62,7.8229801445694935,"62 mmol/mol (7.8%)","62 mmol/mol (7.8%)",9.995936611133685E-2,0.20357578220235675,0.34660707029662741,0.50954896383583914,0.30475416497358798,0.19341731003657051,0.14384396586753354,0.85615603413246644,64.992927551269531,0.36160793900489807,0.13431729376316071,0.86568270623683929]
[null,null,"England",24797,65.005348205566406,62,7.8229801445694935,"62 mmol/mol (7.8%)","62 mmol/mol (7.8%)",0.10626285437754567,0.21994596120498447,0.36173730693229017,0.49885066741944589,0.30693229019639473,0.19244263418961971,0.13941202564826391,0.86058797435173606,64.980911254882813,0.36204624176025391,0.13854707777500153,0.86145292222499847]
[null,null,"Wales",1324,64.863296508789063,62,7.8229801445694935,"62 mmol/mol (7.8%)","62 mmol/mol (7.8%)",0.11027190332326284,0.23262839879154079,0.36631419939577037,0.48942598187311176,0.31797583081570996,0.19939577039274925,0.14425981873111782,0.85574018126888218,65.297103881835938,0.36018618941307068,0.16203436255455017,0.83796563744544983]
[null,null,"England and Wales",26121,64.998146057128906,62,7.8229801445694935,"62 mmol/mol (7.8%)","62 mmol/mol (7.8%)",0.10646606178936488,0.22058879828490485,0.36196929673442824,0.4983729566249378,0.30749205619999237,0.19279506910148922,0.13965774664063396,0.86034225335936609,64.9967041015625,0.36195045709609985,0.13960452377796173,0.86039547622203827]

{"sheet":"Health checks","index":9,"n_rows":186,"n_cols":15,"rows_kept":186,"cut":false,"hidden":true,"merged":[[0,14,0,16],[0,0,1,0],[0,1,1,1],[0,2,1,2],[0,3,0,6],[0,7,0,13]]}
["Unit code","Unit name","Region","Care processes for young people All ages",null,null,null,"Care processes for young people aged 12+ years",null,null,null,null,null,null,"HbA1c recorded (Type1 and CYoC)"]
[null,null,null,"Denominator (Type 1 full year of care all ages)","HbA1c 1+ in audit","Thyroid","Body mass index","Denominator (Type 1 and aged 12+)","Blood pressure (aged 12+)","Albuminuria (aged 12+)","Eye screening (aged 12+)","Foot examination (aged 12+)","All six (aged 12+)","Health check completion rate","4+ in audit (all ages)"]
["PZ001","Morriston Hospital ","Wales",112,0.9375,0.6339285714285714,0.1875,78,0.12820512820512819,0.57692307692307687,0.46153846153846156,2.564102564102564E-2,2.564102564102564E-2,0.41025641560554504,8.9285714285714281E-3]
["PZ002","Norfolk and Norwich University Hospital","East of England",266,0.98872180451127822,1.1278195488721804E-2,3.7593984962406013E-3,154,0,0.51298701298701299,6.4935064935064939E-3,0,0,0.25324675440788269,0.13157894736842105]
["PZ003","Pinderfields General Hospital and Pontefract General Infirmary","Yorkshire and Humber",171,0.9707602339181286,0.86549707602339176,0.85964912280701755,105,0.8571428571428571,0.76190476190476186,0.2,0.46666666666666667,0.35238095238095241,0.80158728361129761,2.9239766081871343E-2]
["PZ004","Northampton General Hospital","East Midlands",165,0.9939393939393939,0.81818181818181823,0.98181818181818181,99,0.96969696969696972,0.90909090909090906,2.0202020202020204E-2,0.92929292929292928,0.73737373737373735,0.93097645044326782,0.61818181818181817]
["PZ005","Derbyshire Children's Hospital","East Midlands",203,0.97044334975369462,0.7142857142857143,0.96059113300492616,129,0.88372093023255816,0.51937984496124034,1.5503875968992248E-2,0.68992248062015504,0.44961240310077522,0.78682172298431396,9.3596059113300489E-2]
["PZ006","Doncaster Royal Infirmary","Yorkshire and Humber",140,1,1,0.97857142857142854,89,0.9662921348314607,0.9550561797752809,0.30337078651685395,0.9887640449438202,0.9213483146067416,0.97940075397491455,0.95]
["PZ007","John Radcliffe Hospital","South Central",261,0.9923371647509579,0.89272030651340994,0.95019157088122608,165,0.87878787878787878,0.79393939393939394,1.8181818181818181E-2,0.70909090909090911,0.63636363636363635,0.86363637447357178,0.38314176245210729]
["PZ009","Macclesfield District General Hospital","North West",80,1,0.16250000000000001,1,47,0.97872340425531912,2.1276595744680851E-2,0,0,0,0.52482271194458008,0]
["PZ010","Luton and Dunstable Hospital","East of England",138,0.92028985507246375,0.63043478260869568,0.86956521739130432,78,0.73076923076923073,0.32051282051282054,3.8461538461538464E-2,0.17948717948717949,6.4102564102564097E-2,0.60470086336135864,0]
["PZ011","Glan Clwyd District General Hospital ","Wales",109,1,0.82568807339449546,0.86238532110091748,66,0.74242424242424243,0.69696969696969702,0.22727272727272727,0.72727272727272729,0.5757575757575758,0.78535354137420654,8.2568807339449546E-2]
["PZ012","Barnet General Hospital","London and South East",84,0.9642857142857143,0.91666666666666696,0.9285714285714286,52,0.94230769230769229,0.80769230769230771,0.21153846153846154,0.86538461538461542,0.76923076923076927,0.90705126523971558,0.13095238095238096]
["PZ014","Chase Farm Hospital","London and South East",49,1,0.75510204081632648,1,33,0.90909090909090906,0.72727272727272729,0.33333333333333331,0.78787878787878785,0.51515151515151514,0.8737373948097229,0.20408163265306123]
["PZ015","Wythenshawe Hospital","North West",117,0.88034188034188032,0.86324786324786329,0.89743589743589747,63,0.82539682539682535,0.7142857142857143,0.53968253968253965,0.53968253968253965,0.44444444444444442,0.78042328357696533,0]
["PZ016","Bassetlaw District General Hospital","Yorkshire and Humber",64,1,1,0.96875,41,1,0.95121951219512191,0.26829268292682928,1,0.92682926829268297,0.98780488967895508,0.890625]
["PZ017","Dorset County Hospital","South Central",82,0.97560975609756095,0.92682926829268297,0.97560975609756095,50,0.98,0.92,0.44,0,0,0.8033333420753479,0.12195121951219512]
["PZ018","Worthing Hospital","South Central",109,1,0.70642201834862384,0.99082568807339455,71,0.95774647887323938,0.60563380281690138,0.36619718309859156,0.94366197183098588,0.49295774647887325,0.86619716882705688,0.64220183486238536]
["PZ019","Basildon University Hospital","East of England",178,0.4101123595505618,0.2640449438202247,0.5112359550561798,107,0.28971962616822428,0.20560747663551401,0.29906542056074764,0.35514018691588783,7.476635514018691E-2,0.33956387639045715,0]
["PZ020","Diana, Princess of Wales Hospital, Grimsby","Yorkshire and Humber",100,1,0.99,0.94,47,1,0.74468085106382975,0.25531914893617019,1,0.68085106382978722,0.93971633911132813,0.37]
["PZ021","Wexham Park Hospital","South Central",143,0.98601398601398604,0.92307692307692313,0.98601398601398604,76,1,0.81578947368421051,0.39473684210526316,0.78947368421052633,0.67105263157894735,0.91885966062545776,0.16083916083916083]
["PZ022","West Cumberland Hospital ","North East and North Cumbria",54,0.87037037037037035,0.70370370370370372,0.44444444444444442,29,0.31034482758620691,0.51724137931034486,0.17241379310344829,0,0,0.45977011322975159,5.5555555555555552E-2]
["PZ023","St George's Hospital, London","London and South East",114,0.97368421052631582,0.96491228070175439,0.96491228070175439,70,0.91428571428571426,0.91428571428571426,0,0.8,0.7142857142857143,0.91190475225448608,3.5087719298245612E-2]
["PZ024","East Kent Hospitals University NHS Foundation Trust","London and South East",296,0.70608108108108103,0.58108108108108103,0.68581081081081086,183,0.66666666666666663,0.46448087431693991,0.40437158469945356,0.63934426229508201,0.25683060109289618,0.62932604551315308,0]
["PZ026","Hull Royal Infirmary","Yorkshire and Humber",212,0.84905660377358494,0.79245283018867929,0.81132075471698117,131,0.75572519083969469,0.60305343511450382,0.32061068702290074,0.74809160305343514,0.4351145038167939,0.73536896705627441,1.4150943396226415E-2]
["PZ027","Friarage Hospital ","North East and North Cumbria",41,1,1,0.97560975609756095,26,0.92307692307692313,0.88461538461538458,0.11538461538461539,0.88461538461538458,0.80769230769230771,0.94230771064758301,0.53658536585365857]
["PZ028","Stoke Mandeville Hospital ","South Central",84,0.8928571428571429,0.66666666666666663,0.88095238095238093,50,0.66,0.52,0.18,0.66,0.4,0.68000000715255737,7.1428571428571425E-2]
["PZ030","Leighton Hospital","North West",93,0.86021505376344087,0.72043010752688175,0.67741935483870963,46,0.65217391304347827,0.5,0.19565217391304349,0.56521739130434778,0.32608695652173914,0.65942031145095825,0]
["PZ031","St Richard's Hospital ","South Central",102,0.99019607843137258,0.76470588235294112,0.86274509803921573,53,0.56603773584905659,0.60377358490566035,0.37735849056603776,0.83018867924528306,0.30188679245283018,0.77044028043746948,0.36274509803921567]
["PZ032","Royal Victoria Infirmary, Newcastle Upon Tyne","North East and North Cumbria",217,1,0.70967741935483875,0.99539170506912444,135,0.99259259259259258,0.70370370370370372,0.2,0.62222222222222223,0.50370370370370365,0.8481481671333313,0.21658986175115208]
["PZ033","Queens Hospital, Burton on Trent","West Midlands",122,1,1,0.98360655737704916,74,1,0.98648648648648651,0.1891891891891892,1,0.98648648648648651,0.99774771928787231,0.26229508196721313]
["PZ034","Royal Hampshire County Hospital","South Central",98,0.98979591836734693,0.70408163265306123,0.93877551020408168,71,0.88732394366197187,0.6619718309859155,0.18309859154929578,0.46478873239436619,0.323943661971831,0.77934271097183228,0.31632653061224492]
["PZ035","Royal Berkshire Hospital","South Central",199,0.96482412060301503,0.92964824120603018,0.92462311557788945,122,0.88524590163934425,0.89344262295081966,0.15573770491803279,0.67213114754098358,0.62295081967213117,0.87295079231262207,6.030150753768844E-2]
["PZ036","Whipps Cross University Hospital ","London and South East",145,0.64137931034482754,0.39310344827586208,0.60689655172413792,92,0.4891304347826087,0.17391304347826086,0.43478260869565216,0.31521739130434784,7.6086956521739135E-2,0.42572462558746338,1.3793103448275862E-2]
["PZ038","Wycombe General Hospital ","South Central",80,1,0.96250000000000002,1,34,0.94117647058823528,0.91176470588235292,0.41176470588235292,0.88235294117647056,0.79411764705882348,0.94117647409439087,0.88749999999999996]
["PZ040","Birmingham Heartlands Hospital","West Midlands",239,0.7489539748953975,0.58158995815899583,0.22175732217573221,148,0.16216216216216217,0.4391891891891892,0.10810810810810811,0.64864864864864868,8.1081081081081086E-2,0.46734234690666199,0]
["PZ041","Addenbrooke's Hospital","East of England",221,0.86877828054298645,0.14479638009049775,0.79185520361990946,136,0.66176470588235292,8.8235294117647065E-2,0.3014705882352941,0.49264705882352944,2.9411764705882353E-2,0.48897057771682739,5.4298642533936653E-2]
["PZ042","Nottingham Children's Hospital ","East Midlands",297,0.99663299663299665,0.91919191919191923,0.97306397306397308,175,0.90857142857142859,0.75428571428571434,0.14857142857142858,0.44,0.32,0.83333331346511841,0.41414141414141414]
["PZ045","Whittington Hospital, London","London and South East",72,0.91666666666666663,0.77777777777777779,0.81944444444444442,43,0.7441860465116279,0.69767441860465118,0.53488372093023251,0.72093023255813948,0.46511627906976744,0.75968992710113525,0.125]
["PZ047","Airedale General Hospital, Keighley","Yorkshire and Humber",81,0.98765432098765427,0.93827160493827155,0.96296296296296291,55,0.78181818181818186,0.90909090909090906,0.25454545454545452,0.8,0.70909090909090911,0.88787877559661865,3.7037037037037035E-2]
["PZ048","Lincoln County Hospital ","East Midlands",133,1,0.42857142857142855,0.33082706766917291,88,0.22727272727272727,0.26136363636363635,5.6818181818181816E-2,0.15909090909090909,4.5454545454545456E-2,0.39772728085517883,6.7669172932330823E-2]
["PZ049","Warrington Hospital","North West",110,0.86363636363636365,0.88181818181818183,0.88181818181818183,60,0.8666666666666667,0.75,0.16666666666666666,0.76666666666666672,0.6333333333333333,0.82499998807907104,2.7272727272727271E-2]
["PZ050","Epsom & St Helier University Hospitals NHS Trust","London and South East",148,0.9932432432432432,0.9932432432432432,0.9932432432432432,86,0.98837209302325579,0.91860465116279066,0.16279069767441862,0.96511627906976749,0.87209302325581395,0.97286820411682129,6.7567567567567571E-3]
["PZ053","Scunthorpe General Hospital","Yorkshire and Humber",91,1,0.97802197802197799,1,56,0.9642857142857143,0.9821428571428571,0.30357142857142855,0.9821428571428571,0.9285714285714286,0.9851190447807312,0.42857142857142855]
["PZ054","Poole General Hospital","South Central",167,1,0.87425149700598803,0.94610778443113774,86,0.93023255813953487,0.80232558139534882,0.30232558139534882,0.73255813953488369,0.62790697674418605,0.88178294897079468,0.60479041916167664]
["PZ055","Leicester Royal Infirmary","East Midlands",287,0.91637630662020908,0.78745644599303133,0.7909407665505227,135,0.68148148148148147,0.52592592592592591,0,7.4074074074074077E-3,7.4074074074074077E-3,0.59876543283462524,8.7108013937282236E-2]
["PZ057","Kingston Hospital","London and South East",139,0.83453237410071945,0.61870503597122306,0.72661870503597126,95,0.5368421052631579,0.42105263157894735,0.11578947368421053,0.16842105263157894,8.4210526315789472E-2,0.54385966062545776,7.1942446043165471E-3]
["PZ058","Newham University Hospital","London and South East",107,0.67289719626168221,0.52336448598130836,0.55140186915887845,69,0.36231884057971014,0.42028985507246375,0.43478260869565216,0.17391304347826086,0.13043478260869565,0.43719807267189026,0]
["PZ059","The Royal London Hospital ","London and South East",229,0.91703056768558955,0.76419213973799127,0.86026200873362446,147,0.82993197278911568,0.73469387755102045,0.41496598639455784,0.59183673469387754,0.42176870748299322,0.77437639236450195,1.7467248908296942E-2]
["PZ060","Royal Devon and Exeter Hospital","South West",154,0.99350649350649356,0.70129870129870131,0.29870129870129869,98,0.20408163265306123,0.37755102040816324,0.54081632653061229,6.1224489795918366E-2,1.020408163265306E-2,0.4404761791229248,8.4415584415584416E-2]
["PZ062","Croydon University Hospital","London and South East",119,0.98319327731092432,0.89075630252100846,0.96638655462184875,66,0.93939393939393945,0.66666666666666663,0.16666666666666666,0.56060606060606055,0.45454545454545453,0.83080810308456421,9.2436974789915971E-2]
["PZ064","Chesterfield Royal Hospital","East Midlands",133,1,0.96992481203007519,0.99248120300751874,86,0.98837209302325579,0.86046511627906974,0.19767441860465115,0.86046511627906974,0.7558139534883721,0.94573640823364258,0.38345864661654133]
["PZ065","County Hospital Stafford","West Midlands",71,1,0.92957746478873238,0.971830985915493,44,0.95454545454545459,0.88636363636363635,0.18181818181818182,0.86363636363636365,0.75,0.93560606241226196,0.21126760563380281]
["PZ067","Royal Cornwall Hospital","South West",176,0.99431818181818177,0.96590909090909094,0.73295454545454541,90,0.68888888888888888,0.84444444444444444,0.17777777777777778,0.96666666666666667,0.53333333333333333,0.87592589855194092,2.2727272727272728E-2]
["PZ068","Royal United Hospital","South West",174,0.99425287356321834,0.77011494252873558,0.96551724137931039,119,0.91596638655462181,0.67226890756302526,0.13445378151260504,0.67226890756302526,0.42016806722689076,0.82773107290267944,0.26436781609195403]
["PZ069","Stepping Hill Hospital","North West",163,0.95092024539877296,0.90184049079754602,0.90184049079754602,107,0.85981308411214952,0.82242990654205606,0.28037383177570091,0.85046728971962615,0.73831775700934577,0.87694704532623291,0.12269938650306748]
["PZ072","West Suffolk Hospital, Bury St Edmunds","East of England",116,0.89655172413793105,0.81034482758620685,0.66379310344827591,68,0.6470588235294118,0.70588235294117652,0.3235294117647059,0.14705882352941177,8.8235294117647065E-2,0.63970589637756348,1.7241379310344827E-2]
["PZ073","Alexandra Hospital ","West Midlands",81,0.95061728395061729,0.75308641975308643,0.75308641975308643,54,0.66666666666666663,0.61111111111111116,0.20370370370370369,0.42592592592592593,0.31481481481481483,0.70061731338500977,0]
["PZ074","Alder Hey Childrens Hospital","North West",373,0.806970509383378,0.79088471849865949,0.7882037533512064,253,0.75494071146245056,0.75494071146245056,0.15019762845849802,0.54940711462450598,0.46245059288537549,0.73517787456512451,1.3404825737265416E-2]
["PZ075","St Mary's Hospital, Isle of Wight","South Central",72,0.98611111111111116,0.59722222222222221,1,38,0.63157894736842102,0.52631578947368418,0.23684210526315788,0.10526315789473684,7.8947368421052627E-2,0.65350878238677979,0.19444444444444445]
["PZ076","Colchester General Hospital","East of England",178,0.9550561797752809,0.5786516853932584,0.84269662921348309,103,0.77669902912621358,0.42718446601941745,0.28155339805825241,0.37864077669902912,0.30097087378640774,0.64724916219711304,0.15730337078651685]
["PZ078","Royal Stoke University Hospital","West Midlands",190,0.95263157894736838,0.92105263157894735,0.91052631578947374,109,0.84403669724770647,0.8165137614678899,0.15596330275229359,0.8165137614678899,0.7155963302752294,0.8623853325843811,9.4736842105263161E-2]
["PZ080","Sunderland Royal Hospital","North East and North Cumbria",157,0.99363057324840764,0.84713375796178347,0.86624203821656054,93,0.81720430107526887,0.72043010752688175,0.34408602150537637,0.35483870967741937,0.22580645161290322,0.76523298025131226,0.1464968152866242]
["PZ082","Evelina Childrens Hospital","London and South East",76,1,0.97368421052631582,0.98684210526315785,33,0.96969696969696972,0.90909090909090906,0.30303030303030304,0.90909090909090906,0.87878787878787878,0.95454543828964233,0.5]
["PZ084","Kidderminster Hospital","West Midlands",43,0.97674418604651159,0.86046511627906974,0.83720930232558144,22,0.72727272727272729,0.77272727272727271,0,0.5,0.45454545454545453,0.74242424964904785,0.13953488372093023]
["PZ085","Princess Royal University Hospital","London and South East",130,0.9538461538461539,0.82307692307692304,0.92307692307692313,88,0.80681818181818177,0.56818181818181823,0.26136363636363635,0.88636363636363635,0.46590909090909088,0.82196968793869019,1.5384615384615385E-2]
["PZ086","Hinchingbrooke Hospital","East of England",73,1,0.82191780821917804,0.9178082191780822,41,0.78048780487804881,0.78048780487804881,0.34146341463414637,0.90243902439024393,0.6097560975609756,0.86991870403289795,0.39726027397260272]
["PZ088","Royal Surrey County Hospital","London and South East",130,1,0.9538461538461539,0.90769230769230769,87,0.94252873563218387,0.95402298850574707,0.96551724137931039,0.95402298850574707,0.86206896551724133,0.96168583631515503,1.5384615384615385E-2]
["PZ089","Northwick Park Hospital","London and South East",154,0.83766233766233766,0.76623376623376627,0.48051948051948051,79,0.21518987341772153,0.59493670886075944,0.17721518987341772,6.3291139240506333E-2,1.2658227848101266E-2,0.48523205518722534,3.2467532467532464E-2]
["PZ091","Royal Blackburn Hospital","North West",211,0.98104265402843605,0.71563981042654023,0.7109004739336493,124,0.66935483870967738,0.58870967741935487,0.31451612903225806,0.60483870967741937,0.46774193548387094,0.70161288976669312,9.9526066350710901E-2]
["PZ092","Princess of Wales Hospital, Bridgend","Wales",70,1,0.97142857142857142,0.98571428571428577,38,0.97368421052631582,0.92105263157894735,7.8947368421052627E-2,0.92105263157894735,0.89473684210526316,0.96052628755569458,0.44285714285714284]
["PZ094","Princess Royal Hospital","West Midlands",220,0.90454545454545454,0.63636363636363635,0.80454545454545456,126,0.7142857142857143,0.61904761904761907,0.48412698412698413,0.95238095238095233,0.43650793650793651,0.76190477609634399,4.0909090909090909E-2]
["PZ096","Derriford Hospital","South West",189,0.97354497354497349,0.66137566137566139,0.93121693121693117,105,0.81904761904761902,0.55238095238095242,0.10476190476190476,0.55238095238095242,0.29523809523809524,0.73333334922790527,0.13756613756613756]
["PZ097","City Hospital, Birmingham","West Midlands",61,0.96721311475409832,0.85245901639344257,0.95081967213114749,39,0.92307692307692313,0.79487179487179482,0.25641025641025639,0.87179487179487181,0.79487179487179482,0.8888888955116272,0.31147540983606559]
["PZ099","East and North Hertfordshire NHS Trust","East of England",243,0.89711934156378603,0.72839506172839508,0.83539094650205759,141,0.80851063829787229,0.65957446808510634,0.19858156028368795,0.5957446808510638,0.3546099290780142,0.75768321752548218,3.292181069958848E-2]
["PZ100","North Devon District Hospital","South West",61,0.98360655737704916,0.77049180327868849,0.96721311475409832,29,0.86206896551724133,0.62068965517241381,0.51724137931034486,0.48275862068965519,0.31034482758620691,0.75862067937850952,0.11475409836065574]
["PZ101","Leeds Childrens' Hospital","Yorkshire and Humber",360,0.93333333333333335,0.8,0.83888888888888891,231,0.79653679653679654,0.76190476190476186,0.13852813852813853,0.78354978354978355,0.61904761904761907,0.80591630935668945,0.125]
["PZ102","The Hillingdon Hospital","London and South East",171,0.74269005847953218,0.77192982456140347,0.27485380116959063,114,0.13157894736842105,0.45614035087719296,0.21052631578947367,7.8947368421052627E-2,0,0.40058478713035583,5.8479532163742687E-3]
["PZ104","Royal Albert Edward Infirmary","North West",135,1,0.9555555555555556,0.92592592592592593,85,0.82352941176470584,0.83529411764705885,0.36470588235294116,0.51764705882352946,0.4,0.84705883264541626,0.17037037037037037]
["PZ105","St Luke's Hospital","Yorkshire and Humber",151,0.93377483443708609,0.85430463576158944,0.84105960264900659,77,0.80519480519480524,0.79220779220779225,0.11688311688311688,0.88311688311688308,0.63636363636363635,0.83766233921051025,0]
["PZ106","Victoria Hospital, Blackpool","North West",98,0.9285714285714286,0.68367346938775508,0.8571428571428571,53,0.75471698113207553,0.47169811320754718,0.26415094339622641,0.8867924528301887,0.37735849056603776,0.76100629568099976,0]
["PZ107","Queen Elizabeth Hospital, Gateshead","North East and North Cumbria",93,1,0.94623655913978499,0.86021505376344087,50,0.88,0.94,0.04,0.92,0.76,0.93000000715255737,0.32258064516129031]
["PZ108","Birmingham Children's Hospital","West Midlands",245,0.82448979591836735,0.65306122448979587,0.70204081632653059,145,0.68965517241379315,0.33793103448275863,0.23448275862068965,0.50344827586206897,0.25517241379310346,0.60344827175140381,2.0408163265306121E-2]
["PZ109","Southampton Children’s Hospital","South Central",233,0.90128755364806867,0.79399141630901282,0.81545064377682408,145,0.73103448275862071,0.57241379310344831,0.28275862068965518,0.2,0.13793103448275862,0.66896551847457886,5.1502145922746781E-2]
["PZ110","Ormskirk & District General Hospital","North West",123,0.95121951219512191,0.86178861788617889,0.74796747967479671,78,0.70512820512820518,0.69230769230769229,0.16666666666666666,0.70512820512820518,0.44871794871794873,0.78205126523971558,6.5040650406504072E-2]
["PZ111","Hereford County Hospital","West Midlands",81,0.90123456790123457,0.93827160493827155,0.67901234567901236,49,0.51020408163265307,0.7142857142857143,0.16326530612244897,0.26530612244897961,0.16326530612244897,0.64965987205505371,0]
["PZ112","Scarborough General Hospital","Yorkshire and Humber",66,1,0.95454545454545459,0.93939393939393945,36,1,0.91666666666666663,0.33333333333333331,0.88888888888888884,0.77777777777777779,0.94907408952713013,0.68181818181818177]
["PZ113","University Hospital of Wales","Wales",163,1,0.58282208588957052,0.74233128834355833,96,0.53125,0.5,0.125,0.48958333333333331,0.39583333333333331,0.63020831346511841,0.1411042944785276]
["PZ114","The York Hospital","Yorkshire and Humber",126,0.8571428571428571,0.67460317460317465,0.76190476190476186,79,0.82278481012658233,0.74683544303797467,0.48101265822784811,0.72151898734177211,0.54430379746835444,0.80590718984603882,5.5555555555555552E-2]
["PZ118","University Hospital Lewisham","London and South East",95,0.96842105263157896,0.85263157894736841,0.96842105263157896,66,0.95454545454545459,0.81818181818181823,0.13636363636363635,0.9242424242424242,0.75757575757575757,0.91161614656448364,0]
["PZ119","Darent Valley Hospital, Dartford","London and South East",113,0.98230088495575218,0.89380530973451322,0.82300884955752207,46,0.86956521739130432,0.73913043478260865,0.43478260869565216,0.84782608695652173,0.58695652173913049,0.86231881380081177,8.8495575221238937E-3]
["PZ120","North Tyneside General Hospital","North East and North Cumbria",128,0.9921875,0.9375,0.9921875,70,0.84285714285714286,0.87142857142857144,0.14285714285714285,0.55714285714285716,0.44285714285714284,0.86428570747375488,4.6875E-2]
["PZ121","George Eliot Hospital","West Midlands",76,0.97368421052631582,0.94736842105263153,0.71052631578947367,45,0.64444444444444449,0.82222222222222219,0.2,0.62222222222222223,0.51111111111111107,0.78148150444030762,2.6315789473684209E-2]
["PZ122","University Hospital, Coventry ","West Midlands",181,0.95027624309392267,0.7016574585635359,0.77900552486187846,112,0.6607142857142857,0.5,0.16071428571428573,0.5982142857142857,0.35714285714285715,0.6741071343421936,0.13259668508287292]
["PZ125","Maidstone Hospital","London and South East",116,0.94827586206896552,0.91379310344827591,0.89655172413793105,71,0.92957746478873238,0.92957746478873238,0.16901408450704225,0.85915492957746475,0.78873239436619713,0.922535240650177,1.7241379310344827E-2]
["PZ126","Medway Maritime Hospital","London and South East",226,0.97787610619469023,0.82300884955752207,0.9247787610619469,131,0.87786259541984735,0.76335877862595425,0.30534351145038169,0.89312977099236646,0.59541984732824427,0.86895674467086792,1.3274336283185841E-2]
["PZ127","James Paget Hospital","East of England",113,0.92920353982300885,0.79646017699115046,0.51327433628318586,77,0.50649350649350644,0.67532467532467533,0.37662337662337664,0.16883116883116883,0.12987012987012986,0.61471861600875854,0.10619469026548672]
["PZ128","Pilgrim Hospital ","East Midlands",88,0.97727272727272729,0.59090909090909094,0.46590909090909088,54,0.53703703703703709,0.35185185185185186,0.25925925925925924,0.64814814814814814,0.1111111111111111,0.59876543283462524,0.10227272727272728]
["PZ129","Harrogate District Hospital","Yorkshire and Humber",68,0.88235294117647056,0.58823529411764708,0.80882352941176472,52,0.80769230769230771,0.46153846153846156,0.28846153846153844,0.80769230769230771,0.25,0.72756409645080566,1.4705882352941176E-2]
["PZ130","Chelsea and Westminster Hospital","London and South East",152,0.79605263157894735,0.51315789473684215,0.72368421052631582,97,0.4329896907216495,0.31958762886597936,7.2164948453608241E-2,0.20618556701030927,0.13402061855670103,0.51546388864517212,3.2894736842105261E-2]
["PZ131","Peterborough City Hospital","East of England",191,0.87434554973821987,0.89005235602094246,0.87434554973821987,106,0.65094339622641506,0.73584905660377353,0.16037735849056603,0.62264150943396224,0.48113207547169812,0.75943398475646973,1.0471204188481676E-2]
["PZ132","Ysbyty Gwynedd Hospital ","Wales",82,0.97560975609756095,0.92682926829268297,0.95121951219512191,42,0.9285714285714286,0.8571428571428571,0.42857142857142855,2.3809523809523808E-2,2.3809523809523808E-2,0.77380955219268799,1.2195121951219513E-2]
["PZ133","James Cook University Hospital ","North East and North Cumbria",119,0.97478991596638653,0.92436974789915971,0.97478991596638653,53,0.90566037735849059,0.77358490566037741,0.30188679245283018,0.8867924528301887,0.71698113207547165,0.89308178424835205,0.38655462184873951]
["PZ135","Royal Alexandra Hospital, Brighton","London and South East",174,0.92528735632183912,0.70114942528735635,0.87931034482758619,104,0.80769230769230771,0.52884615384615385,7.6923076923076927E-2,0,0,0.63301283121109009,3.4482758620689655E-2]
["PZ136","Central Manchester University Hospitals NHS Foundation Trust","North West",242,0.94628099173553715,0.73553719008264462,0.83471074380165289,157,0.74522292993630568,0.43949044585987262,0.36305732484076431,0.84713375796178347,0.39490445859872614,0.75053077936172485,8.6776859504132234E-2]
["PZ137","Musgrove Park Hospital","South West",178,0.9719101123595506,0.9157303370786517,0.9157303370786517,100,0.87,0.83,0.37,0.72,0.59,0.87000000476837158,3.9325842696629212E-2]
["PZ138","Warwick Hospital","West Midlands",96,0.98958333333333337,0.65625,0.53125,54,0.44444444444444442,0.72222222222222221,0.22222222222222221,0.5,0.18518518518518517,0.62962961196899414,0.25]
["PZ139","Bristol Royal Hospital for Children","South West",411,0.97566909975669103,0.93673965936739656,0.86131386861313863,249,0.79116465863453811,0.84738955823293172,0.25301204819277107,0.82329317269076308,0.65863453815261042,0.86680054664611816,0.11678832116788321]
["PZ140","Tameside General Hospital","North West",79,1,0.92405063291139244,0.97468354430379744,46,0.95652173913043481,0.76086956521739135,0.13043478260869565,0.13043478260869565,0.10869565217391304,0.78985506296157837,0.10126582278481013]
["PZ141","South Tyneside District Hospital","North East and North Cumbria",55,1,0.94545454545454544,1,33,1,0.78787878787878785,0.30303030303030304,0.30303030303030304,0.27272727272727271,0.83333331346511841,1.8181818181818181E-2]
["PZ144","Good Hope Hospital, Sutton Coldfield","West Midlands",114,0.86842105263157898,0.54385964912280704,0.74561403508771928,69,0.72463768115942029,0.33333333333333331,0.14492753623188406,0.91304347826086951,0.27536231884057971,0.69323670864105225,0]
["PZ145","Milton Keynes Hospital","South Central",110,0.97272727272727277,0.87272727272727268,0.97272727272727277,56,0.8035714285714286,0.75,0.26785714285714285,0.8392857142857143,0.5892857142857143,0.875,0.10909090909090909]
["PZ146","Southend University Hospital","East of England",150,0.97333333333333338,0.78666666666666663,0.96,83,0.95180722891566261,0.6987951807228916,0.3493975903614458,0.90361445783132532,0.60240963855421692,0.86345380544662476,9.3333333333333338E-2]
["PZ149","Barnsley Hospital","Yorkshire and Humber",113,0.94690265486725667,0.81415929203539827,0.61946902654867253,78,0.48717948717948717,0.47435897435897434,0.10256410256410256,0.46153846153846156,0.41025641025641024,0.59829062223434448,0.17699115044247787]
["PZ150","Cumberland Infirmary","North East and North Cumbria",85,1,0.97647058823529409,0.90588235294117647,48,0.97916666666666663,0.85416666666666663,0.27083333333333331,1,0.75,0.9513888955116272,0.27058823529411763]
["PZ151","Queen Elizabeth Hospital, Woolwich","London and South East",166,0.98192771084337349,0.78915662650602414,0.97590361445783136,103,0.83495145631067957,0.71844660194174759,0.33980582524271846,0.72815533980582525,0.58252427184466016,0.84466022253036499,0.16265060240963855]
["PZ152","Torbay Hospital","South West",113,0.76991150442477874,0.67256637168141598,0.69911504424778759,71,0.52112676056338025,0.52112676056338025,0.46478873239436619,0.6619718309859155,0.26760563380281688,0.63145542144775391,1.7699115044247787E-2]
["PZ153","Whiston Hospital","North West",118,0.61016949152542377,0.75423728813559321,0.50847457627118642,65,0.24615384615384617,0.6,3.0769230769230771E-2,0.16923076923076924,0.1076923076923077,0.48205128312110901,0]
["PZ156","Queen Elizabeth Hospital, Kings Lynn","East of England",118,0.94915254237288138,0.80508474576271183,0.85593220338983056,73,0.79452054794520544,0.72602739726027399,0.19178082191780821,0.75342465753424659,0.58904109589041098,0.79908674955368042,0.38135593220338981]
["PZ157","Royal Free Hospital","London and South East",42,0.88095238095238093,0.8571428571428571,0.47619047619047616,24,0.54166666666666663,0.875,0.20833333333333334,0.20833333333333334,0.20833333333333334,0.6736111044883728,7.1428571428571425E-2]
["PZ159","Basingstoke and North Hampshire Hospital","South Central",121,0.99173553719008267,0.95041322314049592,0.99173553719008267,65,0.98461538461538467,0.83076923076923082,0.27692307692307694,0.83076923076923082,0.72307692307692306,0.92307692766189575,0.47933884297520662]
["PZ160","Bishop Auckland Hospital","North East and North Cumbria",68,0.98529411764705888,0.88235294117647056,0.98529411764705888,38,0.94736842105263153,0.73684210526315785,0.47368421052631576,0.81578947368421051,0.60526315789473684,0.89473682641983032,4.4117647058823532E-2]
["PZ161","Darlington Memorial Hospital","North East and North Cumbria",61,0.93442622950819676,0.86885245901639341,0.93442622950819676,37,0.89189189189189189,0.70270270270270274,0.48648648648648651,0.70270270270270274,0.45945945945945948,0.8423423171043396,4.9180327868852458E-2]
["PZ162","University Hospital of North Durham","North East and North Cumbria",101,0.8910891089108911,0.78217821782178221,0.93069306930693074,62,0.85483870967741937,0.62903225806451613,0.40322580645161288,0.67741935483870963,0.38709677419354838,0.78225809335708618,6.9306930693069313E-2]
["PZ163","University Hospital of North Tees and University Hospital of Hartlepool","North East and North Cumbria",143,0.99300699300699302,0.99300699300699302,0.93706293706293708,103,0.93203883495145634,0.92233009708737868,0.43689320388349512,0.43689320388349512,0.34951456310679613,0.86407768726348877,6.993006993006993E-3]
["PZ164","Rotherham Hospital","Yorkshire and Humber",90,1,0.68888888888888888,0.74444444444444446,55,0.34545454545454546,0.78181818181818186,0.34545454545454546,0.41818181818181815,0.16363636363636364,0.66060608625411987,0.51111111111111107]
["PZ167","University Hospitals of Morecambe Bay NHS Foundation Trust ","North West",157,0.99363057324840764,0.87261146496815289,0.87261146496815289,103,0.90291262135922334,0.80582524271844658,0.25242718446601942,0.85436893203883491,0.70873786407766992,0.88025891780853271,0.19108280254777071]
["PZ168","Grantham and District Hospital","East Midlands",50,1,0.82,0.48,33,0.36363636363636365,0.66666666666666663,0.36363636363636365,0.33333333333333331,0.18181818181818182,0.59090906381607056,0.42]
["PZ169","Salisbury District Hospital","South Central",123,0.95121951219512191,0.95121951219512191,0.94308943089430897,71,0.73239436619718312,0.88732394366197187,0.21126760563380281,0.70422535211267601,0.6619718309859155,0.85680752992630005,0.13008130081300814]
["PZ170","Arrowe Park Hospital","North West",120,0.9916666666666667,0.96666666666666667,0.97499999999999998,65,0.98461538461538467,0.93846153846153846,0.24615384615384617,0.86153846153846159,0.7846153846153846,0.95384615659713745,0.30833333333333335]
["PZ171","Broomfield Hospital","East of England",152,0.98684210526315785,0.81578947368421051,0.98684210526315785,75,0.94666666666666666,0.57333333333333336,0.49333333333333335,0.61333333333333329,0.34666666666666668,0.82888889312744141,0.34210526315789475]
["PZ172","West Hertfordshire Hospitals NHS Trust ","East of England",171,0.92397660818713445,0.33333333333333331,0.36842105263157893,107,0.27102803738317754,0.20560747663551401,0.17757009345794392,3.7383177570093455E-2,9.3457943925233638E-3,0.3629283607006073,0.10526315789473684]
["PZ173","Yeovil District Hospital","South West",76,1,0.85526315789473684,0.97368421052631582,50,0.98,0.88,0.48,0.94,0.84,0.94999998807907104,0.34210526315789475]
["PZ174","Kettering General Hospital","East Midlands",156,0.97435897435897434,0.79487179487179482,0.72435897435897434,102,0.63725490196078427,0.73529411764705888,0.10784313725490197,0.6470588235294118,0.44117647058823528,0.7549019455909729,6.4102564102564097E-2]
["PZ176","St Peter's Hospital","London and South East",157,0.96815286624203822,0.88535031847133761,0.93630573248407645,84,0.91666666666666663,0.59523809523809523,0.21428571428571427,0.58333333333333337,0.41666666666666669,0.7996031641960144,0.2356687898089172]
["PZ177","Royal Bolton Hospital","North West",96,0.9375,0.89583333333333337,0.91666666666666663,45,0.84444444444444444,0.62222222222222223,0.26666666666666666,0.42222222222222222,0.31111111111111112,0.74444442987442017,5.2083333333333336E-2]
["PZ178","Manor Hospital, Walsall","West Midlands",129,0.79844961240310075,0.78294573643410847,0.65116279069767447,87,0.52873563218390807,0.68965517241379315,0.19540229885057472,0.52873563218390807,0.50574712643678166,0.63793104887008667,0]
["PZ179","Countess of Chester Hospital NHS Trust","North West",130,0.88461538461538458,0.42307692307692307,0.58461538461538465,84,0.42857142857142855,0.38095238095238093,0.27380952380952384,0.35714285714285715,0.25,0.4761904776096344,0]
["PZ180","Kings Mill Hospital","East Midlands",148,0.95270270270270274,0.81756756756756754,0.93918918918918914,99,0.91919191919191923,0.5757575757575758,0.16161616161616163,0.23232323232323232,0.14141414141414141,0.72895622253417969,0.20945945945945946]
["PZ181","Ipswich Hospital","East of England",170,0.97647058823529409,0.81176470588235294,0.91764705882352937,105,0.64761904761904765,0.68571428571428572,0.27619047619047621,0.49523809523809526,0.37142857142857144,0.73968255519866943,0.26470588235294118]
["PZ182","West Middlesex University Hospital","London and South East",136,0.96323529411764708,0.91911764705882348,0.98529411764705888,77,0.90909090909090906,0.88311688311688308,0.23376623376623376,0.88311688311688308,0.83116883116883122,0.91558444499969482,0.24264705882352941]
["PZ183","Royal Preston Hospital","North West",167,1,0.89820359281437123,0.61676646706586824,112,0.5625,0.7232142857142857,0.33035714285714285,0.9910714285714286,0.42857142857142855,0.7976190447807312,0.43712574850299402]
["PZ186","Calderdale & Huddersfield NHS Foundation Trust","Yorkshire and Humber",170,0.95882352941176474,0.93529411764705883,0.88235294117647056,104,0.82692307692307687,0.81730769230769229,0.24038461538461539,0.81730769230769229,0.75961538461538458,0.85096156597137451,3.5294117647058823E-2]
["PZ187","Wrexham Maelor Hospital","Wales",71,1,0.92957746478873238,0.971830985915493,35,0.97142857142857142,0.7142857142857143,0.34285714285714286,0.94285714285714284,0.7142857142857143,0.91904759407043457,5.6338028169014086E-2]
["PZ189","Royal Glamorgan Hospital","Wales",64,1,0.890625,0.90625,36,0.97222222222222221,0.83333333333333337,8.3333333333333329E-2,0.97222222222222221,0.83333333333333337,0.94907408952713013,0.28125]
["PZ191","Ealing Hospital","London and South East",84,0.95238095238095233,0.94047619047619047,0.95238095238095233,66,0.93939393939393945,0.83333333333333337,0.18181818181818182,0.93939393939393945,0.81818181818181823,0.91919189691543579,3.5714285714285712E-2]
["PZ193","Neath Port Talbot Hospital","Wales",49,0.95918367346938771,0.77551020408163263,0.67346938775510201,27,0.48148148148148145,0.59259259259259256,0.48148148148148145,0.33333333333333331,0.25925925925925924,0.59259259700775146,8.1632653061224483E-2]
["PZ196","Great Ormond Street Hospital","London and South East",9,1,0.44444444444444442,0.88888888888888884,3,1,0.33333333333333331,0,0,0,0.6111111044883728,0]
["PZ199","North Middlesex University Hospital","London and South East",139,1,0.97841726618705038,0.97841726618705038,76,0.97368421052631582,0.92105263157894735,0.61842105263157898,0.80263157894736847,0.76315789473684215,0.93859648704528809,0.69064748201438853]
["PZ200","Princess Alexandra Hospital, Harlow (inc Rectory Lane Health Center, Essex) ","East of England",99,0.91919191919191923,0.76767676767676762,0.31313131313131315,60,0.3,0.6166666666666667,0.2,0.23333333333333334,0.13333333333333333,0.53611111640930176,4.0404040404040407E-2]
["PZ202","St Marys Hospital, Imperial College, London","London and South East",104,1,0.83653846153846156,0.75961538461538458,67,0.74626865671641796,0.77611940298507465,0.64179104477611937,1,0.59701492537313428,0.84825873374938965,0.25961538461538464]
["PZ203","University College London Hospital","London and South East",552,8.6956521739130432E-2,0.92210144927536231,0.28623188405797101,358,0.12011173184357542,3.0726256983240222E-2,0.10335195530726257,3.6312849162011177E-2,2.7932960893854749E-3,0.23929236829280853,0]
["PZ206","The Pennine Acute Hospitals NHS Trust","North West",298,0.78523489932885904,0.66107382550335569,0.70469798657718119,178,0.7359550561797753,0.39325842696629215,8.4269662921348312E-2,0.4157303370786517,0.2247191011235955,0.63764047622680664,3.6912751677852351E-2]
["PZ213","East Surrey Hospital","London and South East",191,0.98952879581151831,0.76963350785340312,0.74869109947643975,113,0.16814159292035399,0.69026548672566368,0.12389380530973451,0.83185840707964598,9.7345132743362831E-2,0.69616520404815674,0.59685863874345546]
["PZ215","Kings College Hospital, London","London and South East",108,0.96296296296296291,0.87037037037037035,0.92592592592592593,70,0.87142857142857144,0.81428571428571428,0.2,0.65714285714285714,0.5,0.83333331346511841,7.407407407407407E-2]
["PZ216","Tunbridge Wells Hospital","London and South East",92,0.89130434782608692,0.88043478260869568,0.90217391304347827,51,0.88235294117647056,0.88235294117647056,0.29411764705882354,0.82352941176470584,0.68627450980392157,0.898692786693573,8.6956521739130432E-2]
["PZ218","Frimley Park Hospital ","London and South East",181,0.99447513812154698,0.97790055248618779,0.99447513812154698,109,0.99082568807339455,0.92660550458715596,0.96330275229357798,0.95412844036697253,0.8990825688073395,0.97094804048538208,0.16022099447513813]
["PZ219","Sheffield Childrens Hospital","Yorkshire and Humber",220,0.99545454545454548,0.69545454545454544,0.97727272727272729,120,0.94166666666666665,0.58333333333333337,0.4,0.6166666666666667,0.49166666666666664,0.78888887166976929,0.65]
["PZ220","Bedford Hospital","East of England",68,0.92647058823529416,0.82352941176470584,0.82352941176470584,28,0.6785714285714286,0.5357142857142857,0,0,0,0.6071428656578064,0]
["PZ221","Great Western Hospital","South West",146,0.9178082191780822,0.69863013698630139,0.82191780821917804,90,0.67777777777777781,0.66666666666666663,0.2,0.6333333333333333,0.3888888888888889,0.73148149251937866,7.5342465753424653E-2]
["PZ222","New Cross Hospital, Wolverhampton","West Midlands",208,0.69230769230769229,0.74519230769230771,0.10096153846153846,129,9.3023255813953487E-2,0.49612403100775193,0.13178294573643412,2.3255813953488372E-2,0,0.34496122598648071,4.807692307692308E-3]
["PZ223","Sandwell General Hospital","West Midlands",119,0.97478991596638653,0.80672268907563027,0.62184873949579833,63,0.60317460317460314,0.69841269841269837,0.17460317460317459,0.30158730158730157,0.23809523809523808,0.66137564182281494,7.5630252100840331E-2]
["PZ225","Worcestershire Royal Hospital","West Midlands",111,0.98198198198198194,0.72072072072072069,0.71171171171171166,69,0.59420289855072461,0.60869565217391308,1.4492753623188406E-2,0.3188405797101449,0.18840579710144928,0.64251208305358887,6.3063063063063057E-2]
["PZ226","Dewsbury & District Hospital","Yorkshire and Humber",91,0.94505494505494503,0.84615384615384615,0.76923076923076927,48,0.83333333333333337,0.83333333333333337,0.14583333333333334,0.52083333333333337,0.47916666666666669,0.7951388955116272,4.3956043956043959E-2]
["PZ228","Prince Charles Hospital ","Wales",77,1,0.97402597402597402,0.97402597402597402,41,0.97560975609756095,0.95121951219512191,2.4390243902439025E-2,0,0,0.81300812959671021,0.55844155844155841]
["PZ230","East Sussex Healthcare NHS Trust/Conquest Hospital ","London and South East",120,0.95,0.8666666666666667,0.875,57,0.80701754385964908,0.66666666666666663,0.2982456140350877,0.68421052631578949,0.50877192982456143,0.80701756477355957,0.15833333333333333]
["PZ231","Salford Royal Foundation Trust","North West",101,1,0.99009900990099009,0.99009900990099009,65,0.96923076923076923,0.96923076923076923,0.15384615384615385,0.98461538461538467,0.92307692307692313,0.98461538553237915,0.63366336633663367]
["PZ232","BHR University Hospitals NHS Trust ","London and South East",275,0.47636363636363638,0.42909090909090908,0.53090909090909089,166,0.10240963855421686,0.37349397590361444,0.15662650602409639,0.31927710843373491,4.2168674698795178E-2,0.37349396944046021,3.6363636363636364E-3]
["PZ238","Queen Alexandra Hospital, Portsmouth","South Central",229,1,0.70742358078602618,1,139,0.57553956834532372,0.61870503597122306,0.23741007194244604,0.39568345323741005,0.30215827338129497,0.7158273458480835,0.40174672489082969]
["PZ240","Russells Hall Hospital","West Midlands",125,0.95199999999999996,0.92800000000000005,0.86399999999999999,80,0.88749999999999996,0.75,0.28749999999999998,0.92500000000000004,0.67500000000000004,0.88333332538604736,8.7999999999999995E-2]
["PZ242","Gloucestershire Royal Hospital","South West",215,0.88372093023255816,0.99534883720930234,0.45581395348837211,119,0.43697478991596639,0.38655462184873951,0.3949579831932773,8.4033613445378148E-3,0,0.53221291303634644,6.9767441860465115E-2]
["PZ244","Hywel Dda University Health Board","Wales",131,1,0.9007633587786259,0.95419847328244278,76,0.93421052631578949,0.82894736842105265,0.13157894736842105,0.93421052631578949,0.80263157894736847,0.92324560880661011,0.33587786259541985]
["PZ245","The Grange University Hospital","Wales",245,0.81632653061224492,0.69795918367346943,0.54693877551020409,149,0.44966442953020136,0.63758389261744963,0.28187919463087246,0.12751677852348994,6.0402684563758392E-2,0.54138702154159546,4.0816326530612249E-3]
[null,null,"East Midlands",1660,0.97289156626506024,0.78493975903614455,0.82289156626506021,1000,0.76300000000000001,0.63,0.105,0.48199999999999998,0.32800000000000001,0.7158273458480835,0.24096385542168675]
[null,null,"East of England",2645,0.89905482041587903,0.57731568998109639,0.68431001890359167,1542,0.58236057068741898,0.50907911802853434,0.23086900129701687,0.3981841763942931,0.23151750972762647,0.73766666650772095,0.11568998109640832]
[null,null,"London and South East",5395,0.80370713623725676,0.79240037071362368,0.75662650602409642,3276,0.63736263736263732,0.59401709401709402,0.28785103785103783,0.55555555555555558,0.38675213675213677,0.6013835072517395,9.6941612604263205E-2]
[null,null,"North East and North Cumbria",1322,0.97806354009077157,0.87216338880484112,0.9251134644478064,777,0.89060489060489056,0.77734877734877739,0.28828828828828829,0.61003861003861004,0.46589446589446587,0.68416768312454224,0.16263237518910742]
[null,null,"North West",3011,0.90534706077715044,0.78180006642311528,0.79940219196280304,1836,0.74945533769063177,0.64106753812636164,0.22984749455337691,0.62581699346405228,0.43845315904139431,0.841269850730896,0.10926602457655264]
[null,null,"South Central",2213,0.97379123361952102,0.8346136466335291,0.94306371441482151,1292,0.81656346749226005,0.73065015479876161,0.24226006191950464,0.59442724458204332,0.46362229102167185,0.74745821952819824,0.30049706281066424]
[null,null,"South West",1893,0.95404120443740092,0.83940834653988383,0.77443211833069203,1120,0.7008928571428571,0.6696428571428571,0.29732142857142857,0.60178571428571426,0.40892857142857142,0.81243550777435303,0.10829371368198626]
[null,null,"Wales",1173,0.9522591645353794,0.78857630008525148,0.74765558397271947,684,0.65204678362573099,0.69883040935672514,0.2412280701754386,0.43859649122807015,0.358187134502924,0.75342261791229248,0.1526001705029838]
[null,null,"West Midlands",2512,0.89012738853503182,0.75636942675159236,0.66520700636942676,1518,0.60606060606060608,0.61528326745718054,0.19565217391304349,0.60606060606060608,0.37681159420289856,0.7015107274055481,7.2452229299363055E-2]
[null,null,"Yorkshire and Humber",2314,0.949438202247191,0.83491789109766634,0.86214347450302509,1404,0.81552706552706555,0.74857549857549854,0.25427350427350426,0.74430199430199429,0.58048433048433046,0.67951250076293945,0.25669835782195333]
[null,null,"England",22965,0.90320052253429128,0.77857609405617245,0.78846070106684085,13765,0.70628405375953507,0.64082818743189252,0.24337086814384307,0.57726116963312746,0.40414093715946242,0.81695157289505005,0.14887872849989114]
[null,null,"Wales",1173,0.9522591645353794,0.78857630008525148,0.74765558397271947,684,0.65204678362573099,0.69883040935672514,0.2412280701754386,0.43859649122807015,0.358187134502924,0.7267950177192688,0.1526001705029838]
[null,null,"England and Wales",24138,0.90558455547269867,0.77906205982268617,0.78647775292070599,14449,0.70371652017440656,0.64357394975430826,0.24326943041040902,0.57069693404387845,0.40196553394698598,0.70151072740554798,0.14905957411550252]

{"sheet":"Health checks 1718","index":10,"n_rows":187,"n_cols":15,"rows_kept":187,"cut":false,"hidden":true,"merged":[[0,14,0,16],[0,0,1,0],[0,1,1,1],[0,2,1,2],[0,3,0,6],[0,7,0,13]]}
["Unit code","Unit name","Region","Care processes for young people All ages",null,null,null,"Care processes for young people aged 12+ years",null,null,null,null,null,null,"HbA1c recorded (Type1 and CYoC)"]
[null,null,null,"Denominator (Type 1 full year of care all ages)","HbA1c 1+ in audit","Thyroid","Body mass index","Denominator (Type 1 and aged 12+)","Blood pressure (aged 12+)","Albuminuria (aged 12+)","Eye screening (aged 12+)","Foot examination (aged 12+)","All seven (aged 12+)","Health check completion rate","4+ in audit (all ages)"]
["PZ001","Morriston Hospital, Swansea, Abertawe Bro Morgannwg University Health Board","Wales",111,0.963963963963964,0.84684684684684686,0.963963963963964,56,0.8571428571428571,0.8035714285714286,0.75,0.7857142857142857,0.5,0.83418369999999997,0.40540540540540543]
["PZ002","Norfolk and Norwich University Hospital, Norfolk and Norwich University Hospital Trust","East of England",247,1,0.50607287449392713,0.9919028340080972,134,0.9850746268656716,0.81343283582089554,0.85820895522388063,0.65671641791044777,0.31343283582089554,0.83262259999999999,0.38866396761133604]
["PZ003","Pinderfields General Hospital, Wakefield, The Mid Yorkshire Hospitals NHS Trust","Yorkshire and Humber",149,1,0.83221476510067116,0.98657718120805371,78,0.97435897435897434,0.79487179487179482,0.80769230769230771,0.62820512820512819,0.44871794871794873,0.85897429999999997,0.56375838926174493]
["PZ004","Northampton General Hospital,  Northampton General Hospital NHS Trust ","East Midlands",180,0.98333333333333328,0.77222222222222225,0.97777777777777775,105,0.96190476190476193,0.67619047619047623,0.51428571428571423,0.80952380952380953,0.38095238095238093,0.81088439999999995,0.68333333333333335]
["PZ005","Derbyshire Children's Hospital, Derby Hospitals NHS Foundation Trust","East Midlands",208,1,0.92788461538461542,0.98076923076923073,117,0.9145299145299145,0.87179487179487181,0.95726495726495731,0.92307692307692313,0.82051282051282048,0.9389499,0.65865384615384615]
["PZ006","Doncaster Royal Infirmary, Doncaster & Bassetlaw Hospitals NHS Foundation Trust","Yorkshire and Humber",141,1,1,1,83,1,0.98795180722891562,0.90361445783132532,0.98795180722891562,0.89156626506024095,0.98278829999999995,0.78723404255319152]
["PZ007","John Radcliffe Hospital, Oxford, Oxford Radcliffe Hospitals NHS Trust","South Central",291,1,0.94845360824742264,0.99656357388316152,181,1,0.850828729281768,0.81215469613259672,0.52486187845303867,0.38674033149171272,0.87608520000000001,0.66323024054982815]
["PZ009","Macclesfield District General Hospital, East Cheshire NHS Trust","North West",89,1,0.8314606741573034,1,46,1,0.76086956521739135,0.84782608695652173,0.84782608695652173,0.56521739130434778,0.90683230000000004,0.39325842696629215]
["PZ010","Luton and Dunstable Hospital, Luton and Dunstable Hospital NHS Foundation Trust","East of England",141,1,0.64539007092198586,0.99290780141843971,70,0.97142857142857142,0.6428571428571429,0.72857142857142854,0.62857142857142856,0.25714285714285712,0.8,0.46808510638297873]
["PZ011","Glan Clwyd District General Hospital, Rhyl, Besti Cadwaladr University Health Board","Wales",90,1,0.87777777777777777,1,46,0.86956521739130432,0.73913043478260865,0.82608695652173914,0.86956521739130432,0.56521739130434778,0.88198759999999998,0.24444444444444444]
["PZ012","Barnet General Hospital, Barnet & Chase Farm Hospitals NHS Trust","London and South East",85,0.97647058823529409,0.83529411764705885,0.97647058823529409,49,0.93877551020408168,0.81632653061224492,0.81632653061224492,0.87755102040816324,0.63265306122448983,0.88046650000000004,0.52941176470588236]
["PZ014","Chase Farm Hospital, Barnet & Chase Farm Hospitals NHS Trust","London and South East",45,1,0.8,1,23,1,0.86956521739130432,0.86956521739130432,0.95652173913043481,0.65217391304347827,0.94409940000000003,0.55555555555555558]
["PZ015","Wythenshawe Hospital, University Hospital of South Manchester NHS foundation Trust","North West",88,0.98863636363636365,0.90909090909090906,0.97727272727272729,44,0.88636363636363635,0.93181818181818177,0.75,0.93181818181818177,0.56818181818181823,0.8993506,0.59090909090909094]
["PZ016","Bassetlaw District General Hospital, Doncaster & Bassetlaw Hospitals NHS Foundation Trust","Yorkshire and Humber",57,1,0.91228070175438591,1,28,1,0.8928571428571429,0.6785714285714286,0.9642857142857143,0.6785714285714286,0.9234694,0.66666666666666663]
["PZ017","Dorset County Hospital, Dorset County Hospital NHS Foundation Trust ","South Central",76,1,0.97368421052631582,1,52,1,0.86538461538461542,0.92307692307692313,0.92307692307692313,0.73076923076923073,0.9532967,0.85526315789473684]
["PZ018","Worthing Hospital, Western Sussex Hospitals NHS ","London and South East",94,1,0.76595744680851063,0.98936170212765961,64,0.921875,0.671875,0.875,0.9375,0.53125,0.87723209999999996,0.77659574468085102]
["PZ019","Basildon University Hospital, Basildon and Thurrock University Hospitals NHS Foundation Trust","East of England",185,1,0.82702702702702702,0.98378378378378384,117,0.98290598290598286,0.62393162393162394,0.63247863247863245,0.74358974358974361,0.35897435897435898,0.82539680000000004,0.63783783783783787]
["PZ020","Diana, Princess of Wales Hospital, Grimsby, Northern Lincolnshire and Goole Hospitals NHS Foundation Trust","Yorkshire and Humber",78,1,0.82051282051282048,1,39,1,0.66666666666666663,0.87179487179487181,0.89743589743589747,0.51282051282051277,0.89010990000000001,0.47435897435897434]
["PZ021","Wexham Park Hospital, Frimley Health NHS Foundation Trust","South Central",139,1,0.92805755395683454,1,82,1,0.8902439024390244,0.69512195121951215,0.87804878048780488,0.58536585365853655,0.91463419999999995,0.7769784172661871]
["PZ022","West Cumberland Hospital, Whitehaven, North Cumbria University Hospitals NHS Trust","North East",42,0.97619047619047616,0.90476190476190477,0.95238095238095233,27,0.92592592592592593,0.85185185185185186,1,0.96296296296296291,0.70370370370370372,0.93121699999999996,0.21428571428571427]
["PZ023","St George's Hospital, London, St George's Healthcare NHS Trust","London and South East",98,1,0.87755102040816324,1,57,0.98245614035087714,0.7192982456140351,0.78947368421052633,0.43859649122807015,0.2807017543859649,0.82205519999999999,0.62244897959183676]
["PZ024","East Kent Hospitals , East Kent Hospitals University NHS Foundation Trust","London and South East",295,0.99661016949152548,0.81694915254237288,0.99322033898305084,173,0.98265895953757221,0.78612716763005785,0.75722543352601157,0.63583815028901736,0.40462427745664742,0.85549129999999995,0.49152542372881358]
["PZ026","Hull Royal Infirmary, Hull & East Yorkshire Hospitals NHS Trust","Yorkshire and Humber",193,0.99481865284974091,0.8393782383419689,0.99481865284974091,116,0.99137931034482762,0.49137931034482757,0.81896551724137934,0.87068965517241381,0.42241379310344829,0.85344830000000005,0.38860103626943004]
["PZ027","Friarage Hospital, Northallerton, South Tees Hospitals NHS Trust","North East",34,0.97058823529411764,0.97058823529411764,0.97058823529411764,17,0.94117647058823528,0.76470588235294112,0.94117647058823528,0.88235294117647056,0.70588235294117652,0.90756300000000001,0.5]
["PZ028","Stoke Mandeville Hospital, Aylesbury, Buckinghamshire Hospitals NHS Trust","South Central",81,1,0.96296296296296291,1,48,0.9375,0.85416666666666663,0.89583333333333337,0.83333333333333337,0.72916666666666663,0.92559519999999995,0.79012345679012341]
["PZ030","Leighton Hospital, Crewe, Mid Cheshire Hospitals NHS Trust","North West",76,0.98684210526315785,0.97368421052631582,0.98684210526315785,33,0.96969696969696972,0.87878787878787878,0.87878787878787878,0.93939393939393945,0.72727272727272729,0.93506489999999998,0.48684210526315791]
["PZ031","St Richard's Hospital, Chichester, Western Sussex Hospitals NHS Trust","London and South East",85,1,0.87058823529411766,1,44,0.86363636363636365,0.70454545454545459,0.63636363636363635,0.90909090909090906,0.38636363636363635,0.85714290000000004,0.52941176470588236]
["PZ032","Royal Victoria Infirmary, Newcastle Upon Tyne, The Newcastle Upon Tyne Hospital Trust","North East",240,1,0.8,1,148,0.85810810810810811,0.81756756756756754,0.7567567567567568,0.85135135135135132,0.52702702702702697,0.8774132,0.79166666666666663]
["PZ033","Queen's Hospital, Burton on Trent, Burton Hospitals NHS Trust","West Midlands",118,1,0.98305084745762716,1,74,0.97297297297297303,0.95945945945945943,0.7567567567567568,0.97297297297297303,0.7567567567567568,0.94787650000000001,0.88983050847457623]
["PZ034","Royal Hampshire County Hospital, Winchester, Hampshire Hospitals NHS Foundation Trust","South Central",106,1,0.839622641509434,0.99056603773584906,64,0.90625,0.703125,0.78125,0.6875,0.359375,0.83928570000000002,0.58490566037735847]
["PZ035","Royal Berkshire Hospital, Reading, Royal Berkshire NHS Foundation Trust","South Central",187,1,0.946524064171123,0.99465240641711228,104,1,0.93269230769230771,0.74038461538461542,0.91346153846153844,0.66346153846153844,0.93269230000000003,0.85026737967914434]
["PZ036","Whipps Cross University Hospital, London, Barts and the London NHS Trust","London and South East",123,0.98373983739837401,0.49593495934959347,0.96747967479674801,59,0.88135593220338981,0.32203389830508472,0.72881355932203384,0.3559322033898305,0.16949152542372881,0.68765129999999997,0.2032520325203252]
["PZ038","Wycombe General Hospital, High Wycombe, Buckinghamshire Hospitals NHS Trust","South Central",89,1,0.9887640449438202,1,54,0.94444444444444442,0.90740740740740744,0.92592592592592593,0.87037037037037035,0.72222222222222221,0.94708999999999999,0.898876404494382]
["PZ040","Birmingham Heartlands Hospital, Heart of England NHS Foundation Trust ","West Midlands",205,1,0.7219512195121951,0.99512195121951219,127,0.86614173228346458,0.80314960629921262,0.67716535433070868,0.86614173228346458,0.54330708661417326,0.85039370000000003,0.44390243902439025]
["PZ041","Addenbrooke's Hospital, Cambridge, Cambridge University Hospitals NHS FT","East of England",237,0.93670886075949367,0.84388185654008441,0.93670886075949367,135,0.89629629629629626,0.6074074074074074,0.76296296296296295,0.68148148148148147,0.48148148148148145,0.79788360000000003,0.30379746835443039]
["PZ042","Nottingham Children's Hospital, Nottingham University Hospitals NHS Trust","East Midlands",271,1,0.92619926199261993,1,162,0.93827160493827155,0.87654320987654322,0.73456790123456794,0.98148148148148151,0.5864197530864198,0.92504410000000004,0.88191881918819193]
["PZ045","Whittington Hospital, London, Whittington Hospital NHS Trust","London and South East",69,1,0.98550724637681164,1,42,0.97619047619047616,0.97619047619047616,0.83333333333333337,0.97619047619047616,0.80952380952380953,0.96258500000000002,0.84057971014492749]
["PZ047","Airedale General Hospital, Keighley, Airedale NHS Trust ","Yorkshire and Humber",91,1,0.90109890109890112,1,63,0.92063492063492058,0.84126984126984128,0.66666666666666663,0.87301587301587302,0.5714285714285714,0.88662129999999995,0.43956043956043955]
["PZ048","Lincoln County Hospital, Lincolnshire, United Lincolnshire Hospitals NHS Trust ","East Midlands",109,0.97247706422018354,0.82568807339449546,0.95412844036697253,64,0.78125,0.46875,0.828125,0.546875,0.203125,0.75223209999999996,0.11009174311926606]
["PZ049","Warrington General Hospital, Warrington, Warrington and Halton Hospitals NHS Foundation Trust","North West",114,1,0.99122807017543857,1,65,0.87692307692307692,0.93846153846153846,0.66153846153846152,0.8,0.50769230769230766,0.89450549999999995,0.57894736842105265]
["PZ050","Epsom & St Helier University Hospitals NHS Trust, Epsom & St Helier University Hospitals NHS Trust","London and South East",169,1,0.98224852071005919,1,98,1,0.96938775510204078,0.84693877551020413,1,0.81632653061224492,0.97084550000000003,0.56213017751479288]
["PZ052","Nevill Hall Hospital,Abergavenny, Aneurin Bevan Health Board","Wales",72,0.98611111111111116,0.88888888888888884,0.98611111111111116,41,1,0.97560975609756095,0.75609756097560976,1,0.73170731707317072,0.95818820000000005,0.16666666666666666]
["PZ053","Scunthorpe General Hospital, Northern Lincolnshire and Goole Hospitals NHS Foundation Trust","Yorkshire and Humber",98,0.97959183673469385,1,1,63,1,0.98412698412698407,0.93650793650793651,1,0.90476190476190477,0.98639460000000001,0.66326530612244894]
["PZ054","Poole General Hospital, Poole Hospital NHS Trust","South Central",160,1,0.74375000000000002,1,73,1,0.86301369863013699,0.80821917808219179,0.8904109589041096,0.69863013698630139,0.92367909999999998,0.82499999999999996]
["PZ055","Leicester Royal Infirmary, University Hospitals Leicester NHS Trust","East Midlands",272,1,0.87867647058823528,0.98161764705882348,130,0.7846153846153846,0.57692307692307687,0.68461538461538463,0.89230769230769236,0.3,0.82857139999999996,0.77573529411764708]
["PZ056","West Wales General Hospital,Carmarthen, Hywel Dda Health Board","Wales",86,1,0.93023255813953487,1,55,1,0.83636363636363631,0.72727272727272729,0.65454545454545454,0.34545454545454546,0.88051950000000001,0.30232558139534882]
["PZ057","Kingston Hospital, Kingston Hospital NHS Trust","London and South East",143,0.99300699300699302,0.88811188811188813,0.99300699300699302,75,0.98666666666666669,0.8666666666666667,0.93333333333333335,0.96,0.76,0.94857139999999995,0.57342657342657344]
["PZ058","Newham General Hospital, London, Barts and the London NHS Trust","London and South East",98,0.98979591836734693,0.82653061224489799,1,48,0.9375,0.72916666666666663,0.89583333333333337,0.70833333333333337,0.54166666666666663,0.85714290000000004,0.43877551020408162]
["PZ059","The Royal London Hospital, Whitechapel, Barts and the London NHS Trust","London and South East",217,1,0.87557603686635943,1,116,1,0.85344827586206895,0.88793103448275867,0.84482758620689657,0.7068965517241379,0.91995070000000001,0.4838709677419355]
["PZ060","Royal Devon and Exeter Hospital, Exeter, Royal Devon and Exeter NHS Foundation Trust ","South West",164,1,0.82926829268292679,0.98780487804878048,110,0.79090909090909089,0.52727272727272723,0.83636363636363631,0.60909090909090913,0.30909090909090908,0.78961040000000005,0.46341463414634149]
["PZ062","Croydon University Hospital, Croydon, Croydon Health Services NHS Trust","London and South East",83,1,0.83132530120481929,1,54,1,0.83333333333333337,0.81481481481481477,0.68518518518518523,0.48148148148148145,0.88624340000000001,0.59036144578313254]
["PZ064","Chesterfield Royal Hospital, Derbyshire, Chesterfield Royal Hospital NHS Foundation Trust","East Midlands",139,1,0.93525179856115104,0.98561151079136688,96,0.98958333333333337,0.875,0.79166666666666663,0.98958333333333337,0.65625,0.93898809999999999,0.65467625899280579]
["PZ065","County Hospital Stafford, University Hospitals of North Midlands NHS Trust","West Midlands",76,1,0.75,1,48,1,0.70833333333333337,0.8125,0.77083333333333337,0.5625,0.85714290000000004,6.5789473684210523E-2]
["PZ067","Royal Cornwall Hospital, Truro, Royal Cornwall Hospitals NHS Trust ","South West",156,1,0.97435897435897434,1,81,1,0.88888888888888884,0.8271604938271605,0.95061728395061729,0.72839506172839508,0.94885359999999996,0.90384615384615385]
["PZ068","Royal United Hospital, Bath, Royal United Hospital Bath NHS Trust","South West",161,0.98757763975155277,0.70807453416149069,0.99378881987577639,86,0.97674418604651159,0.58139534883720934,0.65116279069767447,0.67441860465116277,0.30232558139534882,0.79568110000000003,0.60248447204968947]
["PZ069","Stepping Hill Hospital, Stockport, Stockport NHS FT","North West",144,1,0.86805555555555558,1,90,0.97777777777777775,0.8666666666666667,0.76666666666666672,0.5444444444444444,0.35555555555555557,0.86190469999999997,0.5]
["PZ072","West Suffolk Hospital, Bury St Edmunds, West Suffolk Hospital NHS Trust","East of England",128,1,0.921875,1,80,0.96250000000000002,0.82499999999999996,0.83750000000000002,0.92500000000000004,0.67500000000000004,0.92678570000000005,0.59375]
["PZ073","Alexandra Hospital, Redditch, Worcestershire Acute Hospitals NHS Trust","West Midlands",78,1,0.87179487179487181,1,44,0.90909090909090906,0.84090909090909094,0.34090909090909088,1,0.29545454545454547,0.8506494,0.64102564102564108]
["PZ074","Alder Hey Hospital, Alder Hey Children's NHS Foundation Trust","North West",338,0.98520710059171601,0.87573964497041423,0.98224852071005919,181,0.96685082872928174,0.81215469613259672,0.80110497237569056,0.92817679558011046,0.59116022099447518,0.89739539999999995,0.45857988165680474]
["PZ075","St Mary's Hospital, Isle of Wight, Isle of Wight Healthcare NHS Trust","South Central",51,1,0.84313725490196079,1,23,0.91304347826086951,0.91304347826086951,0.82608695652173914,0.65217391304347827,0.56521739130434778,0.87577640000000001,0.80392156862745101]
["PZ076","Colchester General Hospital, Colchester Hospital University NHS Foundation Trust","East of England",166,0.99397590361445787,0.87951807228915657,0.98795180722891562,96,0.98958333333333337,0.80208333333333337,0.8125,0.90625,0.70833333333333337,0.91369040000000001,0.40963855421686746]
["PZ078","Royal Stoke University Hospital, University Hospitals of North Midlands NHS Trust","West Midlands",189,0.98941798941798942,0.85185185185185186,0.98412698412698407,98,0.97959183673469385,0.7142857142857143,0.67346938775510201,0.81632653061224492,0.44897959183673469,0.8498542,0.53968253968253965]
["PZ080","Sunderland Royal Hospital, City Hospitals Sunderland NHS Trust","North East",159,1,0.95597484276729561,0.99371069182389937,93,0.91397849462365588,0.90322580645161288,0.80645161290322576,0.80645161290322576,0.68817204301075274,0.91090629999999995,0.86163522012578619]
["PZ082","Evelina Childrens Hospital at St.Thomas' Hospital, London, Guy's and St Thomas' NHS Foundation Trust ","London and South East",76,1,1,1,31,1,0.83870967741935487,0.87096774193548387,0.90322580645161288,0.64516129032258063,0.94470050000000005,0.88157894736842102]
["PZ084","Kidderminster General Hospital, Worcestershire Acute Hospitals NHS Trust","West Midlands",42,1,0.9285714285714286,0.97619047619047616,23,1,0.73913043478260865,0.78260869565217395,1,0.52173913043478259,0.91925469999999998,0.47619047619047616]
["PZ085","Princess Royal University Hospital, Bromley, South London Healthcare NHS Trust","London and South East",117,1,0.70940170940170943,1,76,0.94736842105263153,0.55263157894736847,0.65789473684210531,0.5,0.14473684210526316,0.76879699999999995,0.47863247863247865]
["PZ086","Cambridgeshire Community Services","East of England",85,1,0.90588235294117647,0.9882352941176471,61,0.91803278688524592,0.77049180327868849,0.88524590163934425,0.85245901639344257,0.60655737704918034,0.90398129999999999,0.75294117647058822]
["PZ088","Royal Surrey County Hospital, The Royal Surrey County Hospital NHS Foundation Trust","London and South East",125,1,0.95199999999999996,1,70,1,0.91428571428571426,0.91428571428571426,0.98571428571428577,0.84285714285714286,0.96530609999999994,0.432]
["PZ089","Northwick Park Hospital, North West London Hospitals NHS Trust","London and South East",196,0.8928571428571429,0.79591836734693877,0.88775510204081631,122,0.78688524590163933,0.64754098360655743,0.74590163934426235,0.46721311475409838,0.28688524590163933,0.73653389999999996,0]
["PZ091","Royal Blackburn Hospital, East Lancashire Hospitals NHS Trust","North West",218,0.99541284403669728,0.91743119266055051,0.98623853211009171,128,0.8984375,0.84375,0.7265625,0.875,0.578125,0.88950890000000005,0.41284403669724773]
["PZ092","Princess of Wales Hospital, Bridgend, Abertawe Bro Morgannwg University Health Board","Wales",65,1,0.89230769230769236,1,38,0.97368421052631582,0.84210526315789469,0.92105263157894735,0.97368421052631582,0.71052631578947367,0.94360900000000003,"*"]
["PZ094","Princess Royal Hospital, Telford, Royal Shrewsbury Hospitals NHS Trust","West Midlands",231,1,0.89177489177489178,1,143,1,0.80419580419580416,0.76923076923076927,0.91608391608391604,0.60139860139860135,0.91408590000000001,0.73160173160173159]
["PZ096","Derriford Hospital, Plymouth Hospitals NHS Trust ","South West",190,1,0.69473684210526321,0.90526315789473688,112,0.7767857142857143,0.44642857142857145,0.49107142857142855,0.5089285714285714,0.19642857142857142,0.6734694,0.13157894736842105]
["PZ097","City Hospital, Birmingham, Sandwell and West Birmingham Hospitals NHS Trust","West Midlands",57,0.98245614035087714,0.92982456140350878,0.94736842105263153,38,0.94736842105263153,0.89473684210526316,0.78947368421052633,0.89473684210526316,0.65789473684210531,0.90601500000000001,0.33333333333333331]
["PZ099","East and North Hertfordshire NHS Trust","East of England",222,1,0.68468468468468469,1,124,1,0.66935483870967738,0.91129032258064513,0.75806451612903225,0.43548387096774194,0.85829489999999997,0.54054054054054057]
["PZ100","North Devon District Hospital, Northern Devon Healthcare NHS Trust ","South West",65,1,0.90769230769230769,1,38,0.89473684210526316,0.86842105263157898,0.81578947368421051,0.76315789473684215,0.52631578947368418,0.89097740000000003,0.55384615384615388]
["PZ101","Leeds Children's Hospital, Leeds Teaching Hospitals NHS Trust","Yorkshire and Humber",349,1,0.81948424068767911,0.98853868194842409,230,1,0.81739130434782614,0.65217391304347827,0.79130434782608694,0.45652173913043476,0.86583849999999996,0.67048710601719197]
["PZ102","The Hillingdon Hospital, Hillingdon Hospital NHS Trust","London and South East",138,0.99275362318840576,0.97101449275362317,1,82,1,0.97560975609756095,0.84146341463414631,0.96341463414634143,0.79268292682926833,0.95993030000000001,0.57246376811594202]
["PZ104","Royal Albert Edward Infirmary, Wigan, Wrightington, Wigan and Leigh NHS Foundation Trust","North West",127,1,0.88188976377952755,1,66,0.81818181818181823,0.75757575757575757,0.84848484848484851,0.68181818181818177,0.48484848484848486,0.8506494,0.28346456692913385]
["PZ105","St Luke's Hospital, Bradford Teaching Hospital (incorporating St. Luke's Hospital), Bradford Teaching Hospitals NHS Trust","Yorkshire and Humber",134,0.9925373134328358,0.77611940298507465,0.9925373134328358,71,0.77464788732394363,0.53521126760563376,0.84507042253521125,0.80281690140845074,0.3380281690140845,0.81086519999999995,0.65671641791044777]
["PZ106","Victoria Hospital, Blackpool, Blackpool, Fylde and Wyre Hospitals NHS Trust","North West",108,1,0.85185185185185186,0.9907407407407407,69,0.89855072463768115,0.72463768115942029,0.57971014492753625,0.92753623188405798,0.37681159420289856,0.85921320000000001,0.84259259259259256]
["PZ107","Queen Elizabeth Hospital, Gateshead, Gateshead Health NHS Foundation Trust","North East",102,1,0.9509803921568627,0.99019607843137258,61,0.95081967213114749,0.93442622950819676,0.70491803278688525,0.83606557377049184,0.54098360655737709,0.91100700000000001,0.66666666666666663]
["PZ108","Birmingham Children's Hospital, Birmingham Children's Hospital NHS Foundation Trust","West Midlands",234,0.99572649572649574,0.73076923076923073,0.99145299145299148,129,0.97674418604651159,0.53488372093023251,0.75193798449612403,0.7441860465116279,0.31007751937984496,0.8139535,0.28632478632478631]
["PZ109","Southampton General Hospital, Southampton University Hospitals NHS Trust","South Central",225,0.99555555555555553,0.90222222222222226,0.99111111111111116,133,0.98496240601503759,0.88721804511278191,0.69172932330827064,0.90225563909774431,0.59398496240601506,0.90655209999999997,0.58666666666666667]
["PZ110","Ormskirk & District General Hospital, Ormskirk, Southport and Ormskirk NHS Trust","North West",103,1,0.95145631067961167,0.970873786407767,58,0.87931034482758619,0.87931034482758619,0.77586206896551724,0.89655172413793105,0.67241379310344829,0.9014778,0.65048543689320393]
["PZ111","Hereford County Hospital, Wye Valley NHS Trust","West Midlands",50,1,0.94,0.98,22,1,0.72727272727272729,0.81818181818181823,1,0.59090909090909083,0.93506493506493504,0.82]
["PZ112","Scarborough General Hospital, Scarborough and North East Yorkshire Healthcare NHS Trust","Yorkshire and Humber",64,1,0.90625,1,34,1,0.91176470588235292,0.76470588235294112,0.44117647058823528,0.38235294117647056,0.85294119999999995,0.953125]
["PZ113","University Hospital of Wales, Cardiff, Cardiff and Vale University Health Board","Wales",147,0.99319727891156462,0.88435374149659862,0.99319727891156462,69,0.85507246376811596,0.78260869565217395,0.89855072463768115,0.86956521739130432,0.69565217391304346,0.89026919999999998,0.36054421768707484]
["PZ114","The York Hospital, York Teaching Hospital NHS Foundation Trust","Yorkshire and Humber",134,1,0.46268656716417911,0.9925373134328358,78,0.98717948717948723,0.66666666666666663,0.78205128205128205,0.52564102564102566,0.20512820512820512,0.79120880000000005,0.43283582089552236]
["PZ118","University Hospital Lewisham, Lewisham Healthcare NHS Trust","London and South East",88,1,0.80681818181818177,1,49,1,0.7142857142857143,0.79591836734693877,1,0.59183673469387754,0.8950437,0.79545454545454541]
["PZ119","Darent Valley Hospital, Dartford, Dartford and Gravesham NHS Trust","London and South East",115,0.9652173913043478,0.84347826086956523,0.9652173913043478,58,0.96551724137931039,0.82758620689655171,0.7931034482758621,0.93103448275862066,0.63793103448275867,0.90394090000000005,0.33913043478260868]
["PZ120","North Tyneside General Hospital, North Shields, Northumbria Healthcare NHS Foundation Trust","North East",106,1,0.95283018867924529,1,57,0.89473684210526316,0.94736842105263153,0.75438596491228072,0.54385964912280704,0.38596491228070173,0.86967419999999995,0.76415094339622647]
["PZ121","George Eliot Hospital, Nuneaston, George Elliot Hospital NHS Trust","West Midlands",77,1,0.8441558441558441,1,49,1,0.7142857142857143,0.8571428571428571,0.89795918367346939,0.63265306122448983,0.89212829999999999,0.63636363636363635]
["PZ122","University Hospital, Coventry (inc. Rugby St. Cross), University Hospitals Coventry and Warwickshire NHS Trust","West Midlands",167,1,0.82035928143712578,0.9880239520958084,96,0.97916666666666663,0.5625,0.69791666666666663,0.58333333333333337,0.28125,0.79761899999999997,0.3532934131736527]
["PZ125","Maidstone Hopsital, Maidstone and  Tunbridge Wells NHS Trust","London and South East",106,1,0.81132075471698117,1,57,0.98245614035087714,0.82456140350877194,0.57894736842105265,0.59649122807017541,0.2807017543859649,0.82706769999999996,0.72641509433962259]
["PZ126","Medway Maritime Hospital, Gillingham, Medway NHS Foundation Trust","London and South East",224,1,0.59375,0.9955357142857143,129,0.96899224806201545,0.48837209302325579,0.76744186046511631,0.67441860465116277,0.17829457364341086,0.78073090000000001,0.24107142857142858]
["PZ127","James Paget Hospital, Great Yarmouth, James Paget University Hospitals NHS Foundation Trust","East of England",113,1,0.7168141592920354,1,70,0.98571428571428577,0.2857142857142857,0.68571428571428572,0.47142857142857142,0.14285714285714285,0.73673469999999996,0.51327433628318586]
["PZ128","Pilgrim Hospital, Boston, United Lincolnshire Hospitals NHS Trust","East Midlands",74,1,0.90540540540540537,1,29,0.7931034482758621,0.75862068965517238,0.93103448275862066,0.82758620689655171,0.55172413793103448,0.89655169999999995,0.43243243243243246]
["PZ129","Harrogate District Hospital, Harrogate and District NHS Foundation Trust","Yorkshire and Humber",80,1,0.75,0.97499999999999998,56,0.8928571428571429,0.6607142857142857,0.75,0.7142857142857143,0.35714285714285715,0.8265306,0.22500000000000001]
["PZ130","Chelsea & Westminster Hospital, London, Chelsea and Westminister Hospital NHS Trust","London and South East",133,1,1,1,65,1,0.9538461538461539,0.98461538461538467,1,0.93846153846153846,0.9912088,0.63909774436090228]
["PZ131","Peterborough City Hospital, Peterborough and Stamford Hospitals NHS Trust","East of England",178,1,0.8370786516853933,0.9943820224719101,101,0.99009900990099009,0.80198019801980203,0.90099009900990101,0.98019801980198018,0.67326732673267331,0.92362089999999997,0.550561797752809]
["PZ132","Ysbyty Gwynedd Hospital, Wales, Besti Cadwaladr University Health Board","Wales",86,1,0.83720930232558144,0.98837209302325579,45,0.8666666666666667,0.71111111111111114,0.64444444444444449,0.6,0.26666666666666666,0.80952380000000002,0.41860465116279072]
["PZ133","James Cook University Hospital, Middlesbrough, South Tees Hospitals NHS Trust","North East",102,1,0.93137254901960786,1,57,0.96491228070175439,0.85964912280701755,0.84210526315789469,0.91228070175438591,0.70175438596491224,0.92731830000000004,0.89215686274509809]
["PZ135","Royal Alexandra Hospital, Brighton, Brighton and Sussex University Hospitals NHS Trust","London and South East",149,1,0.78523489932885904,0.99328859060402686,89,0.8539325842696629,0.6741573033707865,0.84269662921348309,0.651685393258427,0.3258426966292135,0.82343500000000003,0.39597315436241609]
["PZ136","Central Manchester University Hospitals NHS Foundation Trust, Central Manchester University Hospitals NHS Foundation Trust","North West",236,1,0.94491525423728817,0.99576271186440679,157,1,0.77070063694267521,0.74522292993630568,1,0.59872611464968151,0.92629669999999997,0.69491525423728817]
["PZ137","Musgrove Park Hospital, Taunton, Taunton and Somerset NHS Foundation Trust","South West",147,0.98639455782312924,0.85034013605442171,0.98639455782312924,76,0.92105263157894735,0.65789473684210531,0.86842105263157898,0.76315789473684215,0.42105263157894735,0.84962400000000005,0.48299319727891155]
["PZ138","Warwick Hospital, South Warwickshire NHS Foundation Trust","West Midlands",81,1,0.83950617283950613,1,44,0.97727272727272729,0.77272727272727271,0.84090909090909094,0.79545454545454541,0.52272727272727271,0.87987009999999999,0.50617283950617287]
["PZ139","Bristol Royal Hospital for Children, University Hospitals Bristol NHS Foundation Trust ","South West",356,1,0.9129213483146067,1,214,0.98598130841121501,0.80841121495327106,0.81775700934579443,0.87850467289719625,0.57943925233644855,0.91388519999999995,0.5393258426966292]
["PZ140","Tameside General Hospital, Ashton under Lyne, Tameside Hospital NHS Foundation Trust","North West",68,0.98529411764705888,0.98529411764705888,0.98529411764705888,28,1,0.9285714285714286,0.6785714285714286,0.7857142857142857,0.5714285714285714,0.91326529999999995,0.82352941176470584]
["PZ141","South Tyneside District Hospital, South Shields, South Tyneside NHS Foundation Trust","North East",53,1,1,0.98113207547169812,31,1,0.83870967741935487,0.90322580645161288,0.90322580645161288,0.74193548387096775,0.94470050000000005,0.98113207547169812]
["PZ144","Good Hope Hospital, Sutton Coldfield, Heart of England NHS Foundation Trust ","West Midlands",111,1,0.87387387387387383,1,63,1,0.7142857142857143,0.46031746031746029,0.96825396825396826,0.36507936507936506,0.85714290000000004,0.70270270270270274]
["PZ145","Milton Keynes Hospital, Milton Keynes Hospital NHS Foundation Trust","South Central",104,0.99038461538461542,1,0.98076923076923073,42,0.76190476190476186,0.95238095238095233,0.52380952380952384,0.7857142857142857,0.33333333333333331,0.85374150000000004,0.38461538461538464]
["PZ146","Southend University Hospital, Southend University Hospital NHS Foundation Trust ","East of England",137,1,0.86131386861313863,1,82,0.81707317073170727,0.68292682926829273,0.75609756097560976,0.98780487804878048,0.45121951219512196,0.86585369999999995,0.18978102189781021]
["PZ149","Barnsley District General Hospital, Barnsley Hospital NHS Foundation Trust","Yorkshire and Humber",115,1,0.81739130434782614,1,70,0.98571428571428577,0.7857142857142857,0.94285714285714284,0.84285714285714286,0.74285714285714288,0.91632650000000004,0.33043478260869563]
["PZ150","Cumberland Infirmary, Cumbria Partnership NHS Foundation Trust","North East",78,1,0.96153846153846156,1,35,1,1,0.94285714285714284,1,0.94285714285714284,0.99183670000000002,0.62820512820512819]
["PZ151","Queen Elizabeth Hospital, Woolwich, South London Healthcare NHS Trust","London and South East",92,1,0.92391304347826086,1,52,0.92307692307692313,0.90384615384615385,0.63461538461538458,0.96153846153846156,0.51923076923076927,0.90109890000000004,0.56521739130434778]
["PZ152","Torbay Hospital, Torquay, South Devon Healthcare NHS Foundation Trust","South West",109,0.99082568807339455,0.7155963302752294,1,72,0.97222222222222221,0.75,0.875,0.83333333333333337,0.58333333333333337,0.88293650000000001,0.45871559633027525]
["PZ153","Whiston Hospital, Prescott, St Helens and Knowsley Teaching Hospitals NHS Trust","North West",113,1,0.88495575221238942,1,65,1,0.92307692307692313,0.75384615384615383,0.86153846153846159,0.61538461538461542,0.91648350000000001,0.46902654867256638]
["PZ156","Queen Elizabeth Hospital, Kings Lynn, Queen Elizabeth Hospitals NHS Trust","East of England",122,1,0.83606557377049184,1,84,0.98809523809523814,0.88095238095238093,0.79761904761904767,0.94047619047619047,0.6071428571428571,0.920068,0.50819672131147542]
["PZ157","Royal Free London NHS Foundation Trust, Royal Free Hampstead NHS Trust","London and South East",47,1,0.95744680851063835,0.97872340425531912,30,0.9,0.8,0.9,0.8666666666666667,0.8,0.90952379999999999,0.74468085106382975]
["PZ159","Basingstoke and North Hampshire Hospital , Hampshire Hospitals NHS Foundation Trust","South Central",112,1,0.9107142857142857,1,71,0.90140845070422537,0.78873239436619713,0.94366197183098588,0.90140845070422537,0.647887323943662,0.92152920000000005,0.6339285714285714]
["PZ162","County Durham and Darlington NHS Foundation Trust, County Durham and Darlington NHS Foundation Trust","North East",251,0.98406374501992033,0.70517928286852594,0.98007968127490042,159,0.94968553459119498,0.61006289308176098,0.79874213836477992,0.30188679245283018,0.11320754716981132,0.76100630000000002,0.70517928286852594]
["PZ163","University Hosptial of North Tees, North Tees and Hartlepool NHS Trust ","North East",135,1,1,1,83,1,0.91566265060240959,0.83132530120481929,0.83132530120481929,0.77108433734939763,0.93975900000000001,0.61481481481481481]
["PZ164","Rotherham Hospital, The Rotherham NHS Foundation Trust","Yorkshire and Humber",97,0.98969072164948457,0.83505154639175261,0.97938144329896903,62,0.9838709677419355,0.75806451612903225,0.79032258064516125,0.77419354838709675,0.45161290322580644,0.86866359999999998,0.5670103092783505]
["PZ167","University Hospitals of Morecambe Bay NHS Trust, University Hospitals of Morecambe Bay NHS Trust","North West",167,1,0.9640718562874252,0.99401197604790414,107,0.96261682242990654,0.85046728971962615,0.9719626168224299,0.93457943925233644,0.77570093457943923,0.95060080000000002,0.6706586826347305]
["PZ168","Grantham and District Hospital, United Lincolnshire Hospitals NHS Trust","East Midlands",45,1,0.9555555555555556,0.97777777777777775,22,1,0.77272727272727271,0.77272727272727271,0.90909090909090906,0.59090909090909094,0.91558439999999996,0.42222222222222222]
["PZ169","Salisbury District Hospital, Salisbury NHS Foundation Trust","South Central",102,1,0.92156862745098034,1,55,0.87272727272727268,0.87272727272727268,0.78181818181818186,0.87272727272727268,0.65454545454545454,0.89610389999999995,0.62745098039215685]
["PZ170","Arrowe Park Hospital, Upton, Wirral University Teaching Hospital NHS Foundation Trust","North West",114,1,0.75438596491228072,1,58,0.82758620689655171,0.53448275862068961,0.77586206896551724,0.77586206896551724,0.37931034482758619,0.80295570000000005,0.64035087719298245]
["PZ171 ","Broomfield Hospital, Chelmsford, Mid Essex Hospital Services NHS Trust","East of England",153,1,0.85620915032679734,1,89,1,0.5393258426966292,0.84269662921348309,0.12359550561797752,0.12359550561797752,0.77046550000000003,0.80392156862745101]
["PZ172","Watford General Hospital  & Peace Children’s Services, West Herts Hospitals NHS Trust and Herthfordshire Community NHS trust","East of England",150,1,0.71333333333333337,1,76,1,0.71052631578947367,0.25,0.69736842105263153,0.14473684210526316,0.76691730000000002,0.76666666666666672]
["PZ173","Yeovil District Hospital, Yeovil District Hospital NHS Foundation Trust ","South West",88,1,0.96590909090909094,0.97727272727272729,60,0.98333333333333328,0.8666666666666667,0.83333333333333337,0.96666666666666667,0.75,0.9428571,0.65909090909090906]
["PZ174","Kettering General Hospital, Kettering General Hospital Trust","East Midlands",150,0.99333333333333329,0.96666666666666667,1,106,0.99056603773584906,0.839622641509434,0.70754716981132071,0.94339622641509435,0.59433962264150941,0.91913750000000005,0.48666666666666669]
["PZ175","Queen Mary's Hospital, Sidcup, South London Healthcare NHS Trust","London and South East",88,0.96590909090909094,0.625,0.96590909090909094,61,0.85245901639344257,0.5901639344262295,0.68852459016393441,0.78688524590163933,0.37704918032786883,0.78220140000000005,0.52272727272727271]
["PZ176","St Peter's Hospital, Chertsey, Ashford and St Peter's Hospitals NHS Trust","London and South East",167,1,0.87425149700598803,0.99401197604790414,93,0.86021505376344087,0.69892473118279574,0.55913978494623651,0.84946236559139787,0.27956989247311825,0.83102920000000002,0.57485029940119758]
["PZ177","Royal Bolton Hospital, Bolton Hospital NHS Foundation Trust","North West",92,1,0.95652173913043481,0.98913043478260865,41,1,0.90243902439024393,0.92682926829268297,0.97560975609756095,0.82926829268292679,0.96167250000000004,0.80434782608695654]
["PZ178","Manor Hospital, Walsall, Walsall Healthcare NHS Trust","West Midlands",113,0.99115044247787609,0.78761061946902655,0.98230088495575218,76,0.97368421052631582,0.5,0.96052631578947367,0.80263157894736847,0.36842105263157893,0.85338349999999996,0.53982300884955747]
["PZ179","Countess of Chester Hospital NHS Trust, Countess Of Chester Hospital NHS Foundation Trust","North West",129,0.99224806201550386,0.94573643410852715,0.99224806201550386,81,0.97530864197530864,0.86419753086419748,0.66666666666666663,0.61728395061728392,0.38271604938271603,0.86243389999999998,0.40310077519379844]
["PZ180","Kings Mill Hospital, Sutton-in-Ashfield, Sherwood Forest Hospitals NHS Foundation Trust","East Midlands",139,0.98561151079136688,0.79136690647482011,0.98561151079136688,89,0.7752808988764045,0.6179775280898876,0.7078651685393258,0.7865168539325843,0.550561797752809,0.79935800000000001,0.26618705035971224]
["PZ181","Ipswich Hospital, The Ipswich Hospital NHS Trust","East of England",180,0.97222222222222221,0.94444444444444442,1,111,0.90990990990990994,0.90090090090090091,0.7927927927927928,0.94594594594594594,0.61261261261261257,0.92020590000000002,0.60555555555555551]
["PZ182","West Middlesex University Hospital, London, West Middlesex University Hospital NHS Trust ","London and South East",124,0.99193548387096775,0.967741935483871,0.99193548387096775,67,0.94029850746268662,0.92537313432835822,0.9850746268656716,0.9850746268656716,0.92537313432835822,0.96375270000000002,0.38709677419354838]
["PZ183","Royal Preston Hospital, Lancashire Teaching Hospitals NHS Foundation Trust","North West",167,1,0.90419161676646709,0.99401197604790414,93,1,0.79569892473118276,0.90322580645161288,0.978494623655914,0.68817204301075274,0.94162829999999997,0.3473053892215569]
["PZ185","Bronglais General Hospital, Wales, Hywel Dda Local Health Board","Wales",23,1,0.95652173913043481,1,15,1,0.93333333333333335,0.6,1,0.53333333333333333,0.92380949999999995,0.47826086956521741]
["PZ186","Calderdale & Huddersfiled NHS Foundation Trust, Calderdale & Huddersfield NHS Foundation Trust","Yorkshire and Humber",176,0.97727272727272729,0.69886363636363635,0.90909090909090906,103,0.93203883495145634,0.47572815533980584,0.75728155339805825,0.39805825242718446,0.28155339805825241,0.72538139999999995,0.23863636363636365]
["PZ187","Wrexham Maelor Hospital, Besti Cadwaladr University Health Board","Wales",84,1,0.97619047619047616,1,48,1,0.97916666666666663,0.79166666666666663,1,0.77083333333333337,0.96428570000000002,0.51190476190476186]
["PZ188","Royal Gwent Hospital, Aneurin Bevan Health Board","Wales",146,0.99315068493150682,0.86301369863013699,0.98630136986301364,79,0.98734177215189878,0.82278481012658233,0.72151898734177211,0.94936708860759489,0.55696202531645567,0.89692590000000005,0.19178082191780821]
["PZ189","Royal Glamorgan Hospital, Cwm Taf Health Board","Wales",71,0.88732394366197187,0.78873239436619713,0.87323943661971826,45,0.82222222222222219,0.75555555555555554,0.44444444444444442,1,0.22222222222222221,0.77142860000000002,0.43661971830985913]
["PZ190","Withybush General Hospital, Hywel Dda Health Board","Wales",48,1,0.83333333333333337,1,22,1,0.63636363636363635,0.72727272727272729,0.77272727272727271,0.45454545454545453,0.85714290000000004,0.5]
["PZ191","Ealing Hospital, Ealing Hospital NHS Trust","London and South East",98,0.93877551020408168,0.67346938775510201,0.94897959183673475,66,0.90909090909090906,0.46969696969696972,0.65151515151515149,0.5757575757575758,0.43939393939393939,0.71428570000000002,0.32653061224489793]
["PZ193","Neath Port Talbot Hospital, Abertawe Bro Morgannwg University Health Board","Wales",46,1,0.93478260869565222,1,31,0.93548387096774188,0.87096774193548387,0.87096774193548387,0.93548387096774188,0.80645161290322576,0.93087560000000003,0.2608695652173913]
["PZ196","Great Ormond Street Hospital, London, Great Ormond Street Hospital for Childen NHS Trust","London and South East",7,1,1,1,2,"*","*","*","*","*",0.92857140000000005,"*"]
["PZ199","North Middlesex University Hospital, North Middlesex University Hospital NHS Trust","London and South East",117,0.95726495726495731,0.90598290598290598,0.94871794871794868,62,0.90322580645161288,0.72580645161290325,0.72580645161290325,0.74193548387096775,0.56451612903225812,0.82488479999999997,0.6495726495726496]
["PZ200","Princess Alexandra Hospital, Harlow (inc Rectory Lane Health Center, Essex and Florence Nightingale clinic, Harlow) (submitting with Herts & Essex), The Princess Alexandra Hospital NHS Trust  and Herthfordshire community NHS trust","East of England",73,0.98630136986301364,0.73972602739726023,0.98630136986301364,47,1,0.55319148936170215,0.68085106382978722,0.80851063829787229,0.23404255319148937,0.82978730000000001,0.32876712328767121]
["PZ202","St Marys Hospital, Imperial College, London, Imperial College Heathcare NHS Trust","London and South East",95,1,1,1,53,1,0.92452830188679247,1,1,0.92452830188679247,0.98921840000000005,0.94736842105263153]
["PZ203","University College London Hospital, London, University College London Hospitals NHS Foundation Trust","London and South East",493,1,0.26572008113590262,0.99797160243407712,288,0.98958333333333337,0.16666666666666666,7.9861111111111105E-2,"*","*",0.49652780000000002,0.38539553752535499]
["PZ206","The Pennine Acute Hospitals NHS Trust, The Pennine Acute Hospitals NHS Trust","North West",261,0.9885057471264368,0.74712643678160917,0.99616858237547889,136,0.98529411764705888,0.50735294117647056,0.72058823529411764,0.80882352941176472,0.38235294117647056,0.81932769999999999,0.30268199233716475]
["PZ213","East Surrey Hospital, Surrey and Sussex NHS Trust","London and South East",206,0.98058252427184467,0.74271844660194175,0.97572815533980584,128,0.953125,0.5625,0.609375,0.71875,0.296875,0.78013390000000005,0.62621359223300976]
["PZ215","Kings College Hospital, London, King's College Hospital NHS Trust","London and South East",97,1,0.85567010309278346,0.98969072164948457,68,0.98529411764705888,0.69117647058823528,0.55882352941176472,0.70588235294117652,0.30882352941176472,0.82352939999999997,0.72164948453608246]
["PZ216","Tunbridge Wells Hospital (formerly Pembury Hospital) , Maidstone and Tunbridge Wells Area and NHS Trust ","London and South East",92,0.98913043478260865,0.91304347826086951,0.98913043478260865,46,0.82608695652173914,0.91304347826086951,0.78260869565217395,0.78260869565217395,0.45652173913043476,0.89441000000000004,0.63043478260869568]
["PZ218","Frimley Park Hospital, Camberley, Frimley Park Hospital NHS Trust","London and South East",171,1,0.83625730994152048,1,101,0.96039603960396036,0.73267326732673266,0.67326732673267331,0.99009900990099009,0.54455445544554459,0.88401700000000005,0.71345029239766078]
["PZ219","Sheffield Childrens Hospital, Sheffield Children's NHS Foundation Trust","Yorkshire and Humber",179,1,0.98882681564245811,1,83,1,0.95180722891566261,0.83132530120481929,0.89156626506024095,0.74698795180722888,0.95008610000000004,0.83798882681564246]
["PZ220","Bedford Hospital, Bedford Hospital NHS Trust","East of England",102,1,0.89215686274509809,1,73,0.93150684931506844,0.65753424657534243,0.8904109589041096,0.90410958904109584,0.49315068493150682,0.89823869999999995,0.59803921568627449]
["PZ221","Great Western Hospital, Swindon, Great Western Hospitals NHS Foundation Trust","South West",149,1,0.95973154362416102,0.99328859060402686,84,0.94047619047619047,0.90476190476190477,0.6785714285714286,0.95238095238095233,0.59523809523809523,0.920068,0.6912751677852349]
["PZ222","New Cross Hospital, Wolverhampton, The Royal Wolverhampton Hospitals NHS Trust ","West Midlands",162,1,0.90740740740740744,0.99382716049382713,93,0.978494623655914,0.82795698924731187,0.956989247311828,0.93548387096774188,0.76344086021505375,0.93701990000000002,0.41975308641975306]
["PZ223","Sandwell General Hospital, West Bromwich, Sandwell and West Birmingham Hospitals NHS Trust","West Midlands",108,1,0.87037037037037035,1,68,1,0.8529411764705882,0.8529411764705882,0.98529411764705888,0.67647058823529416,0.94117649999999997,0.58333333333333337]
["PZ225","Worcestershire Royal Hospital, Worcestershire Acute Hospitals NHS Trust","West Midlands",105,1,0.95238095238095233,1,64,0.90625,0.765625,0.78125,0.953125,0.578125,0.90625,0.43809523809523809]
["PZ226","Dewsbury & District Hospital, The Mid Yorkshire Hospitals NHS Trust","Yorkshire and Humber",98,1,0.79591836734693877,0.98979591836734693,52,1,0.71153846153846156,0.78846153846153844,0.73076923076923073,0.53846153846153844,0.86538459999999995,0.30612244897959184]
["PZ228","Prince Charles Hospital, Merthyr Tydfil, Cwm Taf Health Board","Wales",75,1,1,1,46,1,1,0.58695652173913049,1,0.58695652173913049,0.94099379999999999,0.97333333333333338]
["PZ230","East Sussex Healthcare NHS Trust, East Sussex Healthcare NHS Trust ","London and South East",99,1,0.87878787878787878,1,52,1,0.90384615384615385,0.86538461538461542,0.82692307692307687,0.65384615384615385,0.92032970000000003,0.71717171717171713]
["PZ231","Salford Royal Hospital, Salford Royal NHS Foundation Trust","North West",85,1,1,1,47,1,0.97872340425531912,0.80851063829787229,0.95744680851063835,0.78723404255319152,0.96352579999999999,0.71764705882352942]
["PZ232","BHR , Barking University Hospitals NHS Trust, Havering & Redbridge University Hospitals NHS Trust","London and South East",266,0.98872180451127822,0.76691729323308266,0.98120300751879697,147,0.95918367346938771,0.70068027210884354,0.6462585034013606,0.83673469387755106,0.39455782312925169,0.83284740000000002,0.35714285714285715]
["PZ238","Queen Alexandra Hospital, Portsmouth, Portsmouth Hospitals NHS Trust","South Central",216,1,0.71296296296296291,1,119,0.69747899159663862,0.69747899159663862,0.89075630252100846,0.7142857142857143,0.49579831932773111,0.82232890000000003,0.83333333333333337]
["PZ240","Russells Hall Hospital, The Dudley Group of Hospitals NHS Foundation Trust","West Midlands",136,0.97058823529411764,0.66176470588235292,0.99264705882352944,95,0.9263157894736842,5.2631578947368418E-2,0.69473684210526321,0,0,0.60451129999999997,7.3529411764705885E-2]
["PZ242","Cheltenham and Gloucester Hospital, Gloucestershire Hospitals NHS Trust ","South West",207,1,0.99516908212560384,0.99516908212560384,112,0.9910714285714286,0.5089285714285714,0.9821428571428571,0.6339285714285714,0.33035714285714285,0.87244900000000003,0.67149758454106279]
[null,null,"East of England",2619,0.99159984726995032,0.78846888125238646,0.9900725467735777,1550,0.96,0.70258064516129037,0.77548387096774196,0.76322580645161286,0.44064516129032261,0.85290319999999997,0.51775486827033224]
[null,null,"East Midlands",1587,0.99432892249527405,0.88657844990548207,0.98550724637681164,920,0.89782608695652177,0.74673913043478257,0.74456521739130432,0.88260869565217392,0.52934782608695652,0.87562110000000004,0.61373660995589163]
[null,null,"London and South East",5330,0.98949343339587237,0.77992495309568477,0.98724202626641655,3046,0.94977019041365729,0.69271175311884436,0.70387393302692058,0.71240971766250816,0.45535128036769534,0.82670480000000002,0.50731707317073171]
[null,null,"North East",1302,0.99539170506912444,0.88172043010752688,0.99155145929339483,768,0.93359375,0.82682291666666663,0.80859375,0.72395833333333337,0.52864583333333337,0.88039429999999996,0.73271889400921664]
[null,null,"North West",2837,0.99541769474797326,0.89601691928093052,0.99189284455410642,1593,0.9504080351537979,0.80037664783427498,0.77715003138731953,0.85938480853735089,0.55932203389830504,0.89409019999999995,0.52273528375044065]
[null,null,"South Central",1939,0.99896854048478601,0.89221248066013414,0.99638989169675085,1101,0.93097184377838327,0.84741144414168934,0.79927338782924617,0.79109900090826524,0.56312443233424159,0.8955495,0.7173800928313564]
[null,null,"South West",1792,0.9972098214285714,0.8677455357142857,0.9849330357142857,1045,0.93110047846889954,0.69377990430622005,0.78660287081339708,0.76842105263157889,0.46985645933014353,0.85809979999999997,0.5513392857142857]
[null,null,"West Midlands",2341,0.99572832123024346,0.83425886373344726,0.99231097821443826,1395,0.96344086021505382,0.68817204301075274,0.74982078853046596,0.80358422939068097,0.48100358422939066,0.85755250000000005,0.48868005126014524]
[null,null,"Yorkshire and Humber",2233,0.99596954769368562,0.82669055082848186,0.98656515897895203,1309,0.96944232238349881,0.74866310160427807,0.78609625668449201,0.76928953399541633,0.50954927425515661,0.86816539999999998,0.54814151365875508]
[null,null,"England",21980,0.99399454049135583,0.83726114649681527,0.98939945404913554,12727,0.94672742987349734,0.73811581676750215,0.75956627642020902,0.77724522668342888,0.49524632670700086,0.86128479999999996,0.55586897179253869]
[null,null,"Wales",1150,0.9869565217391304,0.88782608695652177,0.98434782608695648,636,0.93396226415094341,0.83333333333333337,0.74056603773584906,0.88050314465408808,0.55188679245283023,0.88903860000000001,0.36521739130434783]
[null,null,"England and Wales",23130,0.99364461738002596,0.83977518374405535,0.98914829226113277,13363,0.94611988325974705,0.74264760906981964,0.7586619771009504,0.78215969467933844,0.4979420788745042,0.862605702312355,0.54638996973627318]

{"sheet":"7procesess","index":11,"n_rows":315,"n_cols":24,"rows_kept":315,"cut":false,"hidden":true,"merged":[]}
[null,null,"Unit plots",null,null,null,"regional plots",null,"Selected unit",null,null,null,"Funnels"]
["Unit code","Region","Numerator","Denominator","Percentage","To plot","Denominator","Percentage","Denominator","Percentage",null,null,"x-axis","Lower 2SD","Upper 2SD","Lower 3SD","Upper 3SD","National mean (E&W)"]
["*PZ001*","Wales",40,58,0.68965518474578857,{"$f":"IF(C3=0,0,IF(D3<5,1.1,E3))","v":0.68965518474578857},{"$f":"IF(B3='Unit list'!$D$1,'7procesess'!D3,-1)","v":-1},{"$f":"IF(B3='Unit list'!$D$1,'7procesess'!F3,1.1)","v":1.1000000000000001},{"$f":"IF(A3='Unit list'!$A$1,'7procesess'!D3,-1)","v":-1},{"$f":"IF(A3='Unit list'!$A$1,'7procesess'!F3,1.1)","v":1.1000000000000001},null,1,1,null,null,null,null,{"$f":"IF(M3=\"\",\"\",$U$7)","v":0.55720490973870196},null,"2sd",0.95]
["*PZ002*","East of England",45,145,0.31034481525421143,{"$f":"IF(C4=0,0,IF(D4<5,1.1,E4))","v":0.31034481525421143},{"$f":"IF(B4='Unit list'!$D$1,'7procesess'!D4,-1)","v":145},{"$f":"IF(B4='Unit list'!$D$1,'7procesess'!F4,1.1)","v":0.31034481525421143},{"$f":"IF(A4='Unit list'!$A$1,'7procesess'!D4,-1)","v":-1},{"$f":"IF(A4='Unit list'!$A$1,'7procesess'!F4,1.1)","v":1.1000000000000001},null,{"$f":"L3+1","v":2},2,null,null,null,null,0.55720490973870196,null,"3sd",0.998]
["*PZ003*","Yorkshire and Humber",39,88,0.44318181276321411,0.44318181276321411,{"$f":"IF(B5='Unit list'!$D$1,'7procesess'!D5,-1)","v":-1},{"$f":"IF(B5='Unit list'!$D$1,'7procesess'!F5,1.1)","v":1.1000000000000001},{"$f":"IF(A5='Unit list'!$A$1,'7procesess'!D5,-1)","v":-1},{"$f":"IF(A5='Unit list'!$A$1,'7procesess'!F5,1.1)","v":1.1000000000000001},null,3,3,{"$f":"MAX(0,(($R$3*($M5/NORMSINV((1-U$3)/2)^2+1)-SQRT((-8*$R$3*($M5/NORMSINV((1-U$3)/2)^2+1))^2-64*(1/NORMSINV((1-U$3)/2)^2+1/$M5)*$R$3*($M5*($R$3*($M5/NORMSINV((1-U$3)/2)^2+2)-1)+NORMSINV((1-U$3)/2)^2*($R$3-1)))/8)/(1/NORMSINV((1-U$3)/2)^2+1/$M5)/$M5))","v":0},{"$f":"MIN(1,(($R$3*($M5/NORMSINV((1-U$3)/2)^2+1)+SQRT((-8*$R$3*($M5/NORMSINV((1-U$3)/2)^2+1))^2-64*(1/NORMSINV((1-U$3)/2)^2+1/$M5)*$R$3*($M5*($R$3*($M5/NORMSINV((1-U$3)/2)^2+2)-1)+NORMSINV((1-U$3)/2)^2*($R$3-1)))/8)/(1/NORMSINV((1-U$3)/2)^2+1/$M5)/$M5))","v":1},null,null,0.55720490973870196]
["*PZ004*","East Midlands",59,102,0.57843136787414551,0.57843136787414551,{"$f":"IF(B6='Unit list'!$D$1,'7procesess'!D6,-1)","v":-1},{"$f":"IF(B6='Unit list'!$D$1,'7procesess'!F6,1.1)","v":1.1000000000000001},{"$f":"IF(A6='Unit list'!$A$1,'7procesess'!D6,-1)","v":-1},{"$f":"IF(A6='Unit list'!$A$1,'7procesess'!F6,1.1)","v":1.1000000000000001},null,4,4,7.0431371837072571E-2,1,null,null,0.55720490973870196]
["*PZ005*","East Midlands",95,114,0.83333331346511841,0.83333331346511841,{"$f":"IF(B7='Unit list'!$D$1,'7procesess'!D7,-1)","v":-1},{"$f":"IF(B7='Unit list'!$D$1,'7procesess'!F7,1.1)","v":1.1000000000000001},{"$f":"IF(A7='Unit list'!$A$1,'7procesess'!D7,-1)","v":-1},{"$f":"IF(A7='Unit list'!$A$1,'7procesess'!F7,1.1)","v":1.1000000000000001},null,5,5,0.12182142158025655,0.99258839789714748,null,null,0.55720490973870196,null,"Mean",0.55720490973870196]
["*PZ006*","Yorkshire and Humber",70,82,0.85365855693817139,0.85365855693817139,{"$f":"IF(B8='Unit list'!$D$1,'7procesess'!D8,-1)","v":-1},{"$f":"IF(B8='Unit list'!$D$1,'7procesess'!F8,1.1)","v":1.1000000000000001},{"$f":"IF(A8='Unit list'!$A$1,'7procesess'!D8,-1)","v":-1},{"$f":"IF(A8='Unit list'!$A$1,'7procesess'!F8,1.1)","v":1.1000000000000001},null,6,6,0.15975598035592878,0.95465383912147506,null,null,0.55720490973870196,null,"Max n",301]
["*PZ007*","South Central",40,172,0.23255814611911774,0.23255814611911774,{"$f":"IF(B9='Unit list'!$D$1,'7procesess'!D9,-1)","v":-1},{"$f":"IF(B9='Unit list'!$D$1,'7procesess'!F9,1.1)","v":1.1000000000000001},{"$f":"IF(A9='Unit list'!$A$1,'7procesess'!D9,-1)","v":-1},{"$f":"IF(A9='Unit list'!$A$1,'7procesess'!F9,1.1)","v":1.1000000000000001},null,7,7,0.18923870228304904,0.92517111719435474,null,null,0.55720490973870196]
["*PZ009*","North West",21,45,0.46666666865348816,0.46666666865348816,{"$f":"IF(B10='Unit list'!$D$1,'7procesess'!D10,-1)","v":-1},{"$f":"IF(B10='Unit list'!$D$1,'7procesess'!F10,1.1)","v":1.1000000000000001},{"$f":"IF(A10='Unit list'!$A$1,'7procesess'!D10,-1)","v":-1},{"$f":"IF(A10='Unit list'!$A$1,'7procesess'!F10,1.1)","v":1.1000000000000001},null,8,8,0.21300404018629282,0.90140577929111099,null,null,0.55720490973870196]
["*PZ010*","East of England",63,71,0.88732391595840454,0.88732391595840454,{"$f":"IF(B11='Unit list'!$D$1,'7procesess'!D11,-1)","v":71},{"$f":"IF(B11='Unit list'!$D$1,'7procesess'!F11,1.1)","v":0.88732391595840454},{"$f":"IF(A11='Unit list'!$A$1,'7procesess'!D11,-1)","v":-1},{"$f":"IF(A11='Unit list'!$A$1,'7procesess'!F11,1.1)","v":1.1000000000000001},null,9,9,0.23268921780428226,0.88172060167312183,{"$f":"MAX(0,(($R$3*($M11/NORMSINV((1-U$4)/2)^2+1)-SQRT((-8*$R$3*($M11/NORMSINV((1-U$4)/2)^2+1))^2-64*(1/NORMSINV((1-U$4)/2)^2+1/$M11)*$R$3*($M11*($R$3*($M11/NORMSINV((1-U$4)/2)^2+2)-1)+NORMSINV((1-U$4)/2)^2*($R$3-1)))/8)/(1/NORMSINV((1-U$4)/2)^2+1/$M11)/$M11))","v":4.554812268326041E-2},{"$f":"MIN(1,(($R$3*($M11/NORMSINV((1-U$4)/2)^2+1)+SQRT((-8*$R$3*($M11/NORMSINV((1-U$4)/2)^2+1))^2-64*(1/NORMSINV((1-U$4)/2)^2+1/$M11)*$R$3*($M11*($R$3*($M11/NORMSINV((1-U$4)/2)^2+2)-1)+NORMSINV((1-U$4)/2)^2*($R$3-1)))/8)/(1/NORMSINV((1-U$4)/2)^2+1/$M11)/$M11))","v":1},0.55720490973870196]
["*PZ011*","Wales",30,48,0.625,0.625,{"$f":"IF(B12='Unit list'!$D$1,'7procesess'!D12,-1)","v":-1},{"$f":"IF(B12='Unit list'!$D$1,'7procesess'!F12,1.1)","v":1.1000000000000001},{"$f":"IF(A12='Unit list'!$A$1,'7procesess'!D12,-1)","v":-1},{"$f":"IF(A12='Unit list'!$A$1,'7procesess'!F12,1.1)","v":1.1000000000000001},null,10,10,0.24934229284521234,0.86506752663219155,7.1804661525016231E-2,1,0.55720490973870196]
["*PZ012*","London and South East",27,51,0.52941179275512695,0.52941179275512695,{"$f":"IF(B13='Unit list'!$D$1,'7procesess'!D13,-1)","v":-1},{"$f":"IF(B13='Unit list'!$D$1,'7procesess'!F13,1.1)","v":1.1000000000000001},{"$f":"IF(A13='Unit list'!$A$1,'7procesess'!D13,-1)","v":-1},{"$f":"IF(A13='Unit list'!$A$1,'7procesess'!F13,1.1)","v":1.1000000000000001},null,11,11,0.26366942190351139,0.85074039757389253,9.4393932256427948E-2,1,0.55720490973870196]
["*PZ014*","London and South East",13,23,0.56521737575531006,0.56521737575531006,{"$f":"IF(B14='Unit list'!$D$1,'7procesess'!D14,-1)","v":-1},{"$f":"IF(B14='Unit list'!$D$1,'7procesess'!F14,1.1)","v":1.1000000000000001},{"$f":"IF(A14='Unit list'!$A$1,'7procesess'!D14,-1)","v":-1},{"$f":"IF(A14='Unit list'!$A$1,'7procesess'!F14,1.1)","v":1.1000000000000001},null,12,12,0.2761660765968097,0.83824374288059433,0.11409713412996464,1,0.55720490973870196]
["*PZ015*","North West",6,51,0.11764705926179886,0.11764705926179886,{"$f":"IF(B15='Unit list'!$D$1,'7procesess'!D15,-1)","v":-1},{"$f":"IF(B15='Unit list'!$D$1,'7procesess'!F15,1.1)","v":1.1000000000000001},{"$f":"IF(A15='Unit list'!$A$1,'7procesess'!D15,-1)","v":-1},{"$f":"IF(A15='Unit list'!$A$1,'7procesess'!F15,1.1)","v":1.1000000000000001},null,13,13,0.28719153274741926,0.82721828672998476,0.13148072946926637,0.98292909000813722,0.55720490973870196]
["*PZ016*","Yorkshire and Humber",28,35,0.80000001192092896,0.80000001192092896,{"$f":"IF(B16='Unit list'!$D$1,'7procesess'!D16,-1)","v":-1},{"$f":"IF(B16='Unit list'!$D$1,'7procesess'!F16,1.1)","v":1.1000000000000001},{"$f":"IF(A16='Unit list'!$A$1,'7procesess'!D16,-1)","v":-1},{"$f":"IF(A16='Unit list'!$A$1,'7procesess'!F16,1.1)","v":1.1000000000000001},null,14,14,0.29701350919931385,0.81739631027809001,0.14696682471462741,0.96744299476277662,0.55720490973870196]
["*PZ017*","South Central",31,50,0.62000000476837158,0.62000000476837158,{"$f":"IF(B17='Unit list'!$D$1,'7procesess'!D17,-1)","v":-1},{"$f":"IF(B17='Unit list'!$D$1,'7procesess'!F17,1.1)","v":1.1000000000000001},{"$f":"IF(A17='Unit list'!$A$1,'7procesess'!D17,-1)","v":-1},{"$f":"IF(A17='Unit list'!$A$1,'7procesess'!F17,1.1)","v":1.1000000000000001},null,15,15,0.3058361356497053,0.80857368382769867,0.16087726669075797,0.95353255278664573,0.55720490973870196]
["*PZ018*","London and South East",29,57,0.50877195596694946,0.50877195596694946,{"$f":"IF(B18='Unit list'!$D$1,'7procesess'!D18,-1)","v":-1},{"$f":"IF(B18='Unit list'!$D$1,'7procesess'!F18,1.1)","v":1.1000000000000001},{"$f":"IF(A18='Unit list'!$A$1,'7procesess'!D18,-1)","v":-1},{"$f":"IF(A18='Unit list'!$A$1,'7procesess'!F18,1.1)","v":1.1000000000000001},null,16,16,0.31381814078788722,0.80059167868951675,0.17346231944712087,0.94094750003028305,0.55720490973870196]
["*PZ019*","East of England",63,111,0.56756758689880371,0.56756758689880371,{"$f":"IF(B19='Unit list'!$D$1,'7procesess'!D19,-1)","v":111},{"$f":"IF(B19='Unit list'!$D$1,'7procesess'!F19,1.1)","v":0.56756758689880371},{"$f":"IF(A19='Unit list'!$A$1,'7procesess'!D19,-1)","v":-1},{"$f":"IF(A19='Unit list'!$A$1,'7procesess'!F19,1.1)","v":1.1000000000000001},null,17,17,0.32108506120646424,0.79332475827093984,0.18491991378098155,0.92948990569642242,0.55720490973870196]
["*PZ020*","Yorkshire and Humber",32,44,0.72727274894714355,0.72727274894714355,{"$f":"IF(B20='Unit list'!$D$1,'7procesess'!D20,-1)","v":-1},{"$f":"IF(B20='Unit list'!$D$1,'7procesess'!F20,1.1)","v":1.1000000000000001},{"$f":"IF(A20='Unit list'!$A$1,'7procesess'!D20,-1)","v":-1},{"$f":"IF(A20='Unit list'!$A$1,'7procesess'!F20,1.1)","v":1.1000000000000001},null,18,18,0.32773766337042942,0.7866721561069745,0.19540892597167786,0.91900089350572622,0.55720490973870196]
["*PZ021*","South Central",67,88,0.76136362552642822,0.76136362552642822,{"$f":"IF(B21='Unit list'!$D$1,'7procesess'!D21,-1)","v":-1},{"$f":"IF(B21='Unit list'!$D$1,'7procesess'!F21,1.1)","v":1.1000000000000001},{"$f":"IF(A21='Unit list'!$A$1,'7procesess'!D21,-1)","v":-1},{"$f":"IF(A21='Unit list'!$A$1,'7procesess'!F21,1.1)","v":1.1000000000000001},null,19,19,0.33385789288575779,0.78055192659164607,0.20505855786216834,0.90935126161523527,0.55720490973870196,null,null,null,null,0.59090909090909083,0.93506493506493504]
["*PZ022*","East of England",12,29,0.41379311680793762,0.41379311680793762,{"$f":"IF(B22='Unit list'!$D$1,'7procesess'!D22,-1)","v":29},{"$f":"IF(B22='Unit list'!$D$1,'7procesess'!F22,1.1)","v":0.41379311680793762},{"$f":"IF(A22='Unit list'!$A$1,'7procesess'!D22,-1)","v":-1},{"$f":"IF(A22='Unit list'!$A$1,'7procesess'!F22,1.1)","v":1.1000000000000001},null,20,20,0.33951316565947931,0.77489665381792472,0.21397510263717151,0.90043471684023246,0.55720490973870196]
["*PZ023*","London and South East",31,63,0.4920634925365448,0.4920634925365448,{"$f":"IF(B23='Unit list'!$D$1,'7procesess'!D23,-1)","v":-1},{"$f":"IF(B23='Unit list'!$D$1,'7procesess'!F23,1.1)","v":1.1000000000000001},{"$f":"IF(A23='Unit list'!$A$1,'7procesess'!D23,-1)","v":-1},{"$f":"IF(A23='Unit list'!$A$1,'7procesess'!F23,1.1)","v":1.1000000000000001},null,21,21,0.34475952081149508,0.76965029866590895,0.22224691595020735,0.89216290352719663,0.55720490973870196]
["*PZ024*","London and South East",49,190,0.25789472460746765,0.25789472460746765,{"$f":"IF(B24='Unit list'!$D$1,'7procesess'!D24,-1)","v":-1},{"$f":"IF(B24='Unit list'!$D$1,'7procesess'!F24,1.1)","v":1.1000000000000001},{"$f":"IF(A24='Unit list'!$A$1,'7procesess'!D24,-1)","v":-1},{"$f":"IF(A24='Unit list'!$A$1,'7procesess'!F24,1.1)","v":1.1000000000000001},null,22,22,0.34964397577153739,0.76476584370586653,0.22994812915341151,0.88446169032399236,0.55720490973870196]
["*PZ026*","Yorkshire and Humber",42,122,0.34426230192184448,0.34426230192184448,{"$f":"IF(B25='Unit list'!$D$1,'7procesess'!D25,-1)","v":-1},{"$f":"IF(B25='Unit list'!$D$1,'7procesess'!F25,1.1)","v":1.1000000000000001},{"$f":"IF(A25='Unit list'!$A$1,'7procesess'!D25,-1)","v":-1},{"$f":"IF(A25='Unit list'!$A$1,'7procesess'!F25,1.1)","v":1.1000000000000001},null,23,23,0.35420631167060707,0.7602035078067968,0.23714146428512944,0.87726835519227453,0.55720490973870196]
["*PZ027*","North East and North Cumbria",11,18,0.6111111044883728,0.6111111044883728,{"$f":"IF(B26='Unit list'!$D$1,'7procesess'!D26,-1)","v":-1},{"$f":"IF(B26='Unit list'!$D$1,'7procesess'!F26,1.1)","v":1.1000000000000001},{"$f":"IF(A26='Unit list'!$A$1,'7procesess'!D26,-1)","v":-1},{"$f":"IF(A26='Unit list'!$A$1,'7procesess'!F26,1.1)","v":1.1000000000000001},null,24,24,0.35848044504731541,0.75592937443008845,0.24388039680927678,0.87052942266812716,0.55720490973870196]
["*PZ028*","South Central",38,48,0.79166668653488159,0.79166668653488159,{"$f":"IF(B27='Unit list'!$D$1,'7procesess'!D27,-1)","v":-1},{"$f":"IF(B27='Unit list'!$D$1,'7procesess'!F27,1.1)","v":1.1000000000000001},{"$f":"IF(A27='Unit list'!$A$1,'7procesess'!D27,-1)","v":-1},{"$f":"IF(A27='Unit list'!$A$1,'7procesess'!F27,1.1)","v":1.1000000000000001},null,25,25,0.36249549457804997,0.75191432489935406,0.25021083750543704,0.86419898197196687,0.55720490973870196]
["*PZ030*","North West",23,43,0.53488373756408691,0.53488373756408691,{"$f":"IF(B28='Unit list'!$D$1,'7procesess'!D28,-1)","v":-1},{"$f":"IF(B28='Unit list'!$D$1,'7procesess'!F28,1.1)","v":1.1000000000000001},{"$f":"IF(A28='Unit list'!$A$1,'7procesess'!D28,-1)","v":-1},{"$f":"IF(A28='Unit list'!$A$1,'7procesess'!F28,1.1)","v":1.1000000000000001},null,26,26,0.36627661985708654,0.74813319962031732,0.25617245495509977,0.85823736452230415,0.55720490973870196]
["*PZ031*","London and South East",23,40,0.57499998807907104,0.57499998807907104,{"$f":"IF(B29='Unit list'!$D$1,'7procesess'!D29,-1)","v":-1},{"$f":"IF(B29='Unit list'!$D$1,'7procesess'!F29,1.1)","v":1.1000000000000001},{"$f":"IF(A29='Unit list'!$A$1,'7procesess'!D29,-1)","v":-1},{"$f":"IF(A29='Unit list'!$A$1,'7procesess'!F29,1.1)","v":1.1000000000000001},null,27,27,0.36984568764410725,0.74456413183329673,0.26179972599954388,0.85261009347785988,0.55720490973870196]
["*PZ032*","North East and North Cumbria",67,147,0.45578232407569885,0.45578232407569885,{"$f":"IF(B30='Unit list'!$D$1,'7procesess'!D30,-1)","v":-1},{"$f":"IF(B30='Unit list'!$D$1,'7procesess'!F30,1.1)","v":1.1000000000000001},{"$f":"IF(A30='Unit list'!$A$1,'7procesess'!D30,-1)","v":-1},{"$f":"IF(A30='Unit list'!$A$1,'7procesess'!F30,1.1)","v":1.1000000000000001},null,28,28,0.37322180601087573,0.74118801346652818,0.26712277791719546,0.84728704156020851,0.55720490973870196]
["*PZ033*","West Midlands",46,60,0.76666665077209473,0.76666665077209473,{"$f":"IF(B31='Unit list'!$D$1,'7procesess'!D31,-1)","v":-1},{"$f":"IF(B31='Unit list'!$D$1,'7procesess'!F31,1.1)","v":1.1000000000000001},{"$f":"IF(A31='Unit list'!$A$1,'7procesess'!D31,-1)","v":-1},{"$f":"IF(A31='Unit list'!$A$1,'7procesess'!F31,1.1)","v":1.1000000000000001},null,29,29,0.37642175626613583,0.73798806321126831,0.27216806943016986,0.84224175004723401,0.55720490973870196]
["*PZ034*","South Central",47,67,0.7014925479888916,0.7014925479888916,{"$f":"IF(B32='Unit list'!$D$1,'7procesess'!D32,-1)","v":-1},{"$f":"IF(B32='Unit list'!$D$1,'7procesess'!F32,1.1)","v":1.1000000000000001},{"$f":"IF(A32='Unit list'!$A$1,'7procesess'!D32,-1)","v":-1},{"$f":"IF(A32='Unit list'!$A$1,'7procesess'!F32,1.1)","v":1.1000000000000001},null,30,30,0.37946034500182318,0.7349494744755809,0.27695894576781921,0.8374508737095846,0.55720490973870196]
["*PZ035*","South Central",85,114,0.74561405181884766,0.74561405181884766,{"$f":"IF(B33='Unit list'!$D$1,'7procesess'!D33,-1)","v":-1},{"$f":"IF(B33='Unit list'!$D$1,'7procesess'!F33,1.1)","v":1.1000000000000001},{"$f":"IF(A33='Unit list'!$A$1,'7procesess'!D33,-1)","v":-1},{"$f":"IF(A33='Unit list'!$A$1,'7procesess'!F33,1.1)","v":1.1000000000000001},null,31,31,0.38235069315177433,0.73205912632562953,0.28151609441927639,0.83289372505812764,0.55720490973870196]
["*PZ036*","London and South East",27,68,0.39705881476402283,0.39705881476402283,{"$f":"IF(B34='Unit list'!$D$1,'7procesess'!D34,-1)","v":-1},{"$f":"IF(B34='Unit list'!$D$1,'7procesess'!F34,1.1)","v":1.1000000000000001},{"$f":"IF(A34='Unit list'!$A$1,'7procesess'!D34,-1)","v":-1},{"$f":"IF(A34='Unit list'!$A$1,'7procesess'!F34,1.1)","v":1.1000000000000001},null,32,32,0.38510447496249756,0.72930534451490647,0.28585792191343395,0.82855189756397007,0.55720490973870196]
["*PZ038*","South Central",46,48,0.95833331346511841,0.95833331346511841,{"$f":"IF(B35='Unit list'!$D$1,'7procesess'!D35,-1)","v":-1},{"$f":"IF(B35='Unit list'!$D$1,'7procesess'!F35,1.1)","v":1.1000000000000001},{"$f":"IF(A35='Unit list'!$A$1,'7procesess'!D35,-1)","v":-1},{"$f":"IF(A35='Unit list'!$A$1,'7procesess'!F35,1.1)","v":1.1000000000000001},null,33,33,0.38773211682034664,0.72667770265705722,0.29000086730539715,0.82440895217200694,0.55720490973870196]
["*PZ040*","West Midlands",49,121,0.40495866537094116,0.40495866537094116,{"$f":"IF(B36='Unit list'!$D$1,'7procesess'!D36,-1)","v":-1},{"$f":"IF(B36='Unit list'!$D$1,'7procesess'!F36,1.1)","v":1.1000000000000001},{"$f":"IF(A36='Unit list'!$A$1,'7procesess'!D36,-1)","v":-1},{"$f":"IF(A36='Unit list'!$A$1,'7procesess'!F36,1.1)","v":1.1000000000000001},null,{"$f":"L35+1","v":34},34,0.39024296366881639,0.72416685580858764,0.2939596645629915,0.82045015491441231,0.55720490973870196]
["*PZ041*","East of England",71,121,0.58677685260772705,0.58677685260772705,{"$f":"IF(B37='Unit list'!$D$1,'7procesess'!D37,-1)","v":121},{"$f":"IF(B37='Unit list'!$D$1,'7procesess'!F37,1.1)","v":0.58677685260772705},{"$f":"IF(A37='Unit list'!$A$1,'7procesess'!D37,-1)","v":121},{"$f":"IF(A37='Unit list'!$A$1,'7procesess'!F37,1.1)","v":0.58677685260772705},null,35,35,0.39264541907997608,0.72176440039742795,0.29774756341432457,0.81666225606307941,0.55720490973870196]
["*PZ042*","East Midlands",107,164,0.65243899822235107,0.65243899822235107,{"$f":"IF(B38='Unit list'!$D$1,'7procesess'!D38,-1)","v":-1},{"$f":"IF(B38='Unit list'!$D$1,'7procesess'!F38,1.1)","v":1.1000000000000001},{"$f":"IF(A38='Unit list'!$A$1,'7procesess'!D38,-1)","v":-1},{"$f":"IF(A38='Unit list'!$A$1,'7procesess'!F38,1.1)","v":1.1000000000000001},null,36,36,0.39494706377149219,0.71946275570591178,0.3013765162109811,0.81303330326642298,0.55720490973870196]
["*PZ045*","London and South East",31,43,0.72093021869659424,0.72093021869659424,{"$f":"IF(B39='Unit list'!$D$1,'7procesess'!D39,-1)","v":-1},{"$f":"IF(B39='Unit list'!$D$1,'7procesess'!F39,1.1)","v":1.1000000000000001},{"$f":"IF(A39='Unit list'!$A$1,'7procesess'!D39,-1)","v":-1},{"$f":"IF(A39='Unit list'!$A$1,'7procesess'!F39,1.1)","v":1.1000000000000001},null,37,37,0.39715475638255426,0.71725506309484965,0.30485733681921962,0.80955248265818414,0.55720490973870196]
["*PZ047*","Yorkshire and Humber",37,60,0.61666667461395264,0.61666667461395264,{"$f":"IF(B40='Unit list'!$D$1,'7procesess'!D40,-1)","v":-1},{"$f":"IF(B40='Unit list'!$D$1,'7procesess'!F40,1.1)","v":1.1000000000000001},{"$f":"IF(A40='Unit list'!$A$1,'7procesess'!D40,-1)","v":-1},{"$f":"IF(A40='Unit list'!$A$1,'7procesess'!F40,1.1)","v":1.1000000000000001},null,38,38,0.3992747195641993,0.71513509991320445,0.3081998363567009,0.80620998312070302,0.55720490973870196]
["*PZ048*","East Midlands",22,70,0.31428572535514832,0.31428572535514832,{"$f":"IF(B41='Unit list'!$D$1,'7procesess'!D41,-1)","v":-1},{"$f":"IF(B41='Unit list'!$D$1,'7procesess'!F41,1.1)","v":1.1000000000000001},{"$f":"IF(A41='Unit list'!$A$1,'7procesess'!D41,-1)","v":-1},{"$f":"IF(A41='Unit list'!$A$1,'7procesess'!F41,1.1)","v":1.1000000000000001},null,39,39,0.40131261384798489,0.71309720562941903,0.31141293965961059,0.80299687981779344,0.55720490973870196]
["*PZ049*","North West",38,58,0.65517240762710571,0.65517240762710571,{"$f":"IF(B42='Unit list'!$D$1,'7procesess'!D42,-1)","v":-1},{"$f":"IF(B42='Unit list'!$D$1,'7procesess'!F42,1.1)","v":1.1000000000000001},{"$f":"IF(A42='Unit list'!$A$1,'7procesess'!D42,-1)","v":-1},{"$f":"IF(A42='Unit list'!$A$1,'7procesess'!F42,1.1)","v":1.1000000000000001},null,40,40,0.40327360129195711,0.7111362181854467,0.31450478563185913,0.79990503384554468,0.55720490973870196]
["*PZ050*","London and South East",71,101,0.70297032594680786,0.70297032594680786,{"$f":"IF(B43='Unit list'!$D$1,'7procesess'!D43,-1)","v":-1},{"$f":"IF(B43='Unit list'!$D$1,'7procesess'!F43,1.1)","v":1.1000000000000001},{"$f":"IF(A43='Unit list'!$A$1,'7procesess'!D43,-1)","v":-1},{"$f":"IF(A43='Unit list'!$A$1,'7procesess'!F43,1.1)","v":1.1000000000000001},null,41,41,0.4051624005348553,0.70924741894254839,0.31748281404784467,0.79692700542955897,0.55720490973870196]
["*PZ052*","Wales",26,33,0.78787881135940552,0.78787881135940552,{"$f":"IF(B44='Unit list'!$D$1,'7procesess'!D44,-1)","v":-1},{"$f":"IF(B44='Unit list'!$D$1,'7procesess'!F44,1.1)","v":1.1000000000000001},{"$f":"IF(A44='Unit list'!$A$1,'7procesess'!D44,-1)","v":-1},{"$f":"IF(A44='Unit list'!$A$1,'7procesess'!F44,1.1)","v":1.1000000000000001},null,42,42,0.40698333459646058,0.70742648488094362,0.320353840918216,0.79405597855918808,0.55720490973870196]
["*PZ053*","Yorkshire and Humber",48,59,0.81355929374694824,0.81355929374694824,{"$f":"IF(B45='Unit list'!$D$1,'7procesess'!D45,-1)","v":-1},{"$f":"IF(B45='Unit list'!$D$1,'7procesess'!F45,1.1)","v":1.1000000000000001},{"$f":"IF(A45='Unit list'!$A$1,'7procesess'!D45,-1)","v":-1},{"$f":"IF(A45='Unit list'!$A$1,'7procesess'!F45,1.1)","v":1.1000000000000001},null,43,43,0.40874037252721696,0.70566944695018707,0.32312412415791569,0.79128569531948834,0.55720490973870196]
["*PZ054*","South Central",62,90,0.68888890743255615,0.68888890743255615,{"$f":"IF(B46='Unit list'!$D$1,'7procesess'!D46,-1)","v":-1},{"$f":"IF(B46='Unit list'!$D$1,'7procesess'!F46,1.1)","v":1.1000000000000001},{"$f":"IF(A46='Unit list'!$A$1,'7procesess'!D46,-1)","v":-1},{"$f":"IF(A46='Unit list'!$A$1,'7procesess'!F46,1.1)","v":1.1000000000000001},null,44,44,0.41043716582110679,0.70397265365629713,0.32579942099756481,0.78861039847983916,0.55720490973870196]
["*PZ055*","East Midlands",81,116,0.6982758641242981,0.6982758641242981,{"$f":"IF(B47='Unit list'!$D$1,'7procesess'!D47,-1)","v":-1},{"$f":"IF(B47='Unit list'!$D$1,'7procesess'!F47,1.1)","v":1.1000000000000001},{"$f":"IF(A47='Unit list'!$A$1,'7procesess'!D47,-1)","v":-1},{"$f":"IF(A47='Unit list'!$A$1,'7procesess'!F47,1.1)","v":1.1000000000000001},null,45,45,0.41207708035255342,0.70233273912485061,0.3283850383376814,0.78602478113972263,0.55720490973870196]
["*PZ056*","Wales",25,42,0.5952380895614624,0.5952380895614624,{"$f":"IF(B48='Unit list'!$D$1,'7procesess'!D48,-1)","v":-1},{"$f":"IF(B48='Unit list'!$D$1,'7procesess'!F48,1.1)","v":1.1000000000000001},{"$f":"IF(A48='Unit list'!$A$1,'7procesess'!D48,-1)","v":-1},{"$f":"IF(A48='Unit list'!$A$1,'7procesess'!F48,1.1)","v":1.1000000000000001},null,46,46,0.4136632244733896,0.70074659500401448,0.33088587704854994,0.78352394242885393,0.55720490973870196]
["*PZ057*","London and South East",51,76,0.67105263471603394,0.67105263471603394,{"$f":"IF(B49='Unit list'!$D$1,'7procesess'!D49,-1)","v":-1},{"$f":"IF(B49='Unit list'!$D$1,'7procesess'!F49,1.1)","v":1.1000000000000001},{"$f":"IF(A49='Unit list'!$A$1,'7procesess'!D49,-1)","v":-1},{"$f":"IF(A49='Unit list'!$A$1,'7procesess'!F49,1.1)","v":1.1000000000000001},null,47,47,0.41519847380385944,0.69921134567354459,0.33330647105765587,0.78110334841974816,0.55720490973870196]
["*PZ058*","London and South East",37,53,0.69811320304870605,0.69811320304870605,{"$f":"IF(B50='Unit list'!$D$1,'7procesess'!D50,-1)","v":-1},{"$f":"IF(B50='Unit list'!$D$1,'7procesess'!F50,1.1)","v":1.1000000000000001},{"$f":"IF(A50='Unit list'!$A$1,'7procesess'!D50,-1)","v":-1},{"$f":"IF(A50='Unit list'!$A$1,'7procesess'!F50,1.1)","v":1.1000000000000001},null,48,48,0.41668549316775572,0.6977243263096482,0.33565102193433333,0.77875879754307065,0.55720490973870196]
["*PZ059*","London and South East",82,123,0.66666668653488159,0.66666668653488159,{"$f":"IF(B51='Unit list'!$D$1,'7procesess'!D51,-1)","v":-1},{"$f":"IF(B51='Unit list'!$D$1,'7procesess'!F51,1.1)","v":1.1000000000000001},{"$f":"IF(A51='Unit list'!$A$1,'7procesess'!D51,-1)","v":-1},{"$f":"IF(A51='Unit list'!$A$1,'7procesess'!F51,1.1)","v":1.1000000000000001},null,49,49,0.41812675605252203,0.69628306342488189,0.33792342957208427,0.77648638990531949,0.55720490973870196]
["*PZ060*","South West",58,114,0.50877195596694946,0.50877195596694946,{"$f":"IF(B52='Unit list'!$D$1,'7procesess'!D52,-1)","v":-1},{"$f":"IF(B52='Unit list'!$D$1,'7procesess'!F52,1.1)","v":1.1000000000000001},{"$f":"IF(A52='Unit list'!$A$1,'7procesess'!D52,-1)","v":-1},{"$f":"IF(A52='Unit list'!$A$1,'7procesess'!F52,1.1)","v":1.1000000000000001},null,50,50,0.41952456191773835,0.69488525755966568,0.34012731947848762,0.7742824999989163,0.55720490973870196]
["*PZ062*","London and South East",32,57,0.56140351295471191,0.56140351295471191,{"$f":"IF(B53='Unit list'!$D$1,'7procesess'!D53,-1)","v":-1},{"$f":"IF(B53='Unit list'!$D$1,'7procesess'!F53,1.1)","v":1.1000000000000001},{"$f":"IF(A53='Unit list'!$A$1,'7procesess'!D53,-1)","v":-1},{"$f":"IF(A53='Unit list'!$A$1,'7procesess'!F53,1.1)","v":1.1000000000000001},null,51,51,0.42088105162760087,0.69352876784980311,0.34226606710725344,0.77214375237015032,0.55720490973870196]
["*PZ064*","East Midlands",59,86,0.6860465407371521,0.6860465407371521,{"$f":"IF(B54='Unit list'!$D$1,'7procesess'!D54,-1)","v":-1},{"$f":"IF(B54='Unit list'!$D$1,'7procesess'!F54,1.1)","v":1.1000000000000001},{"$f":"IF(A54='Unit list'!$A$1,'7procesess'!D54,-1)","v":-1},{"$f":"IF(A54='Unit list'!$A$1,'7procesess'!F54,1.1)","v":1.1000000000000001},null,52,52,0.42219822124306056,0.69221159823434353,0.34434281960398416,0.77006699987341976,0.55720490973870196]
["*PZ065*","West Midlands",33,46,0.71739131212234497,0.71739131212234497,{"$f":"IF(B55='Unit list'!$D$1,'7procesess'!D55,-1)","v":-1},{"$f":"IF(B55='Unit list'!$D$1,'7procesess'!F55,1.1)","v":1.1000000000000001},{"$f":"IF(A55='Unit list'!$A$1,'7procesess'!D55,-1)","v":-1},{"$f":"IF(A55='Unit list'!$A$1,'7procesess'!F55,1.1)","v":1.1000000000000001},null,53,53,0.42347793437576925,0.6909318851016345,0.34636051528437273,0.76804930419303108,0.55720490973870196]
["*PZ067*","South West",62,82,0.75609755516052246,0.75609755516052246,{"$f":"IF(B56='Unit list'!$D$1,'7procesess'!D56,-1)","v":-1},{"$f":"IF(B56='Unit list'!$D$1,'7procesess'!F56,1.1)","v":1.1000000000000001},{"$f":"IF(A56='Unit list'!$A$1,'7procesess'!D56,-1)","v":-1},{"$f":"IF(A56='Unit list'!$A$1,'7procesess'!F56,1.1)","v":1.1000000000000001},null,54,54,0.42472193327777746,0.68968788619962651,0.34832190111908501,0.76608791835831891,0.55720490973870196]
["*PZ068*","South West",46,95,0.48421052098274231,0.48421052098274231,{"$f":"IF(B57='Unit list'!$D$1,'7procesess'!D57,-1)","v":-1},{"$f":"IF(B57='Unit list'!$D$1,'7procesess'!F57,1.1)","v":1.1000000000000001},{"$f":"IF(A57='Unit list'!$A$1,'7procesess'!D57,-1)","v":-1},{"$f":"IF(A57='Unit list'!$A$1,'7procesess'!F57,1.1)","v":1.1000000000000001},null,55,55,0.42593184881709217,0.6884779706603118,0.35022954846200399,0.76418027101539987,0.55720490973870196]
["*PZ069*","North West",43,94,0.45744681358337402,0.45744681358337402,{"$f":"IF(B58='Unit list'!$D$1,'7procesess'!D58,-1)","v":-1},{"$f":"IF(B58='Unit list'!$D$1,'7procesess'!F58,1.1)","v":1.1000000000000001},{"$f":"IF(A58='Unit list'!$A$1,'7procesess'!D58,-1)","v":-1},{"$f":"IF(A58='Unit list'!$A$1,'7procesess'!F58,1.1)","v":1.1000000000000001},null,56,56,0.42710920946900771,0.68730061000839615,0.35208586722666463,0.76232395225073912,0.55720490973870196]
["*PZ072*","East of England",57,79,0.72151899337768555,0.72151899337768555,{"$f":"IF(B59='Unit list'!$D$1,'7procesess'!D59,-1)","v":79},{"$f":"IF(B59='Unit list'!$D$1,'7procesess'!F59,1.1)","v":0.72151899337768555},{"$f":"IF(A59='Unit list'!$A$1,'7procesess'!D59,-1)","v":-1},{"$f":"IF(A59='Unit list'!$A$1,'7procesess'!F59,1.1)","v":1.1000000000000001},null,57,57,0.42825544943595467,0.68615437004144941,0.35389311868864065,0.76051670078876321,0.55720490973870196]
["*PZ073*","West Midlands",32,45,0.71111112833023071,0.71111112833023071,{"$f":"IF(B60='Unit list'!$D$1,'7procesess'!D60,-1)","v":-1},{"$f":"IF(B60='Unit list'!$D$1,'7procesess'!F60,1.1)","v":1.1000000000000001},{"$f":"IF(A60='Unit list'!$A$1,'7procesess'!D60,-1)","v":-1},{"$f":"IF(A60='Unit list'!$A$1,'7procesess'!F60,1.1)","v":1.1000000000000001},null,58,58,0.42937191599396207,0.68503790348344196,0.3556534270685518,0.75875639240885218,0.55720490973870196]
["*PZ074*","North West",120,187,0.64171123504638672,0.64171123504638672,{"$f":"IF(B61='Unit list'!$D$1,'7procesess'!D61,-1)","v":-1},{"$f":"IF(B61='Unit list'!$D$1,'7procesess'!F61,1.1)","v":1.1000000000000001},{"$f":"IF(A61='Unit list'!$A$1,'7procesess'!D61,-1)","v":-1},{"$f":"IF(A61='Unit list'!$A$1,'7procesess'!F61,1.1)","v":1.1000000000000001},null,59,59,0.43045987615131004,0.68394994332609371,0.35736879003061628,0.75704102944678775,0.55720490973870196]
["*PZ075*","South Central",13,31,0.41935482621192932,0.41935482621192932,{"$f":"IF(B62='Unit list'!$D$1,'7procesess'!D62,-1)","v":-1},{"$f":"IF(B62='Unit list'!$D$1,'7procesess'!F62,1.1)","v":1.1000000000000001},{"$f":"IF(A62='Unit list'!$A$1,'7procesess'!D62,-1)","v":-1},{"$f":"IF(A62='Unit list'!$A$1,'7procesess'!F62,1.1)","v":1.1000000000000001},null,60,60,0.43152052269420371,0.68288929678320021,0.3590410882147298,0.75536873126267412,0.55720490973870196]
["*PZ076*","East of England",65,106,0.61320751905441284,0.61320751905441284,{"$f":"IF(B63='Unit list'!$D$1,'7procesess'!D63,-1)","v":106},{"$f":"IF(B63='Unit list'!$D$1,'7procesess'!F63,1.1)","v":0.61320751905441284},{"$f":"IF(A63='Unit list'!$A$1,'7procesess'!D63,-1)","v":-1},{"$f":"IF(A63='Unit list'!$A$1,'7procesess'!F63,1.1)","v":1.1000000000000001},null,61,61,0.43255497968505813,0.68185483979234585,0.36067209390549526,0.75373772557190855,0.55720490973870196]
["*PZ078*","West Midlands",64,112,0.57142859697341919,0.57142859697341919,{"$f":"IF(B64='Unit list'!$D$1,'7procesess'!D64,-1)","v":-1},{"$f":"IF(B64='Unit list'!$D$1,'7procesess'!F64,1.1)","v":1.1000000000000001},{"$f":"IF(A64='Unit list'!$A$1,'7procesess'!D64,-1)","v":-1},{"$f":"IF(A64='Unit list'!$A$1,'7procesess'!F64,1.1)","v":1.1000000000000001},null,62,62,0.43356430747102381,0.68084551200638044,0.36226347892905042,0.75214634054835361,0.55720490973870196]
["*PZ080*","North East and North Cumbria",68,91,0.74725276231765747,0.74725276231765747,{"$f":"IF(B65='Unit list'!$D$1,'7procesess'!D65,-1)","v":-1},{"$f":"IF(B65='Unit list'!$D$1,'7procesess'!F65,1.1)","v":1.1000000000000001},{"$f":"IF(A65='Unit list'!$A$1,'7procesess'!D65,-1)","v":-1},{"$f":"IF(A65='Unit list'!$A$1,'7procesess'!F65,1.1)","v":1.1000000000000001},null,63,63,0.43454950725348468,0.67986031222391918,0.36381682185769765,0.75059299761970599,0.55720490973870196]
["*PZ082*","London and South East",26,28,0.92857140302658081,0.92857140302658081,{"$f":"IF(B66='Unit list'!$D$1,'7procesess'!D66,-1)","v":-1},{"$f":"IF(B66='Unit list'!$D$1,'7procesess'!F66,1.1)","v":1.1000000000000001},{"$f":"IF(A66='Unit list'!$A$1,'7procesess'!D66,-1)","v":-1},{"$f":"IF(A66='Unit list'!$A$1,'7procesess'!F66,1.1)","v":1.1000000000000001},null,64,64,0.43551152526329484,0.67889829421410919,0.36533361459291147,0.74907620488449245,0.55720490973870196]
["*PZ084*","West Midlands",18,26,0.69230771064758301,0.69230771064758301,{"$f":"IF(B67='Unit list'!$D$1,'7procesess'!D67,-1)","v":-1},{"$f":"IF(B67='Unit list'!$D$1,'7procesess'!F67,1.1)","v":1.1000000000000001},{"$f":"IF(A67='Unit list'!$A$1,'7procesess'!D67,-1)","v":-1},{"$f":"IF(A67='Unit list'!$A$1,'7procesess'!F67,1.1)","v":1.1000000000000001},null,65,65,0.43645125658134454,0.6779585628960596,0.36681526838913558,0.74759455108826833,{"$f":"IF(M67=\"\",\"\",$U$7)","v":0.55720490973870196}]
["*PZ085*","London and South East",25,76,0.32894736528396606,{"$f":"IF(C68=0,0,IF(D68<5,1.1,E68))","v":0.32894736528396606},{"$f":"IF(B68='Unit list'!$D$1,'7procesess'!D68,-1)","v":-1},{"$f":"IF(B68='Unit list'!$D$1,'7procesess'!F68,1.1)","v":1.1000000000000001},{"$f":"IF(A68='Unit list'!$A$1,'7procesess'!D68,-1)","v":-1},{"$f":"IF(A68='Unit list'!$A$1,'7procesess'!F68,1.1)","v":1.1000000000000001},null,{"$f":"L67+1","v":66},66,0.43736954863950928,0.67704027083789464,0.3682631193736543,0.74614670010374951,0.55720490973870196]
["*PZ086*","East of England",35,58,0.60344827175140381,0.60344827175140381,{"$f":"IF(B69='Unit list'!$D$1,'7procesess'!D69,-1)","v":58},{"$f":"IF(B69='Unit list'!$D$1,'7procesess'!F69,1.1)","v":0.60344827175140381},{"$f":"IF(A69='Unit list'!$A$1,'7procesess'!D69,-1)","v":-1},{"$f":"IF(A69='Unit list'!$A$1,'7procesess'!F69,1.1)","v":1.1000000000000001},null,67,67,{"$f":"MAX(0,(($R$3*($M69/NORMSINV((1-U$3)/2)^2+1)-SQRT((-8*$R$3*($M69/NORMSINV((1-U$3)/2)^2+1))^2-64*(1/NORMSINV((1-U$3)/2)^2+1/$M69)*$R$3*($M69*($R$3*($M69/NORMSINV((1-U$3)/2)^2+2)-1)+NORMSINV((1-U$3)/2)^2*($R$3-1)))/8)/(1/NORMSINV((1-U$3)/2)^2+1/$M69)/$M69))","v":0.43826720443311229},{"$f":"MIN(1,(($R$3*($M69/NORMSINV((1-U$3)/2)^2+1)+SQRT((-8*$R$3*($M69/NORMSINV((1-U$3)/2)^2+1))^2-64*(1/NORMSINV((1-U$3)/2)^2+1/$M69)*$R$3*($M69*($R$3*($M69/NORMSINV((1-U$3)/2)^2+2)-1)+NORMSINV((1-U$3)/2)^2*($R$3-1)))/8)/(1/NORMSINV((1-U$3)/2)^2+1/$M69)/$M69))","v":0.67614261504429174},0.36967843361161495,0.7447313858657888,0.55720490973870196]
["*PZ088*","London and South East",33,84,0.3928571343421936,0.3928571343421936,{"$f":"IF(B70='Unit list'!$D$1,'7procesess'!D70,-1)","v":-1},{"$f":"IF(B70='Unit list'!$D$1,'7procesess'!F70,1.1)","v":1.1000000000000001},{"$f":"IF(A70='Unit list'!$A$1,'7procesess'!D70,-1)","v":-1},{"$f":"IF(A70='Unit list'!$A$1,'7procesess'!F70,1.1)","v":1.1000000000000001},null,68,68,0.43914498547258285,0.67526483400482129,0.37106241175984195,0.74334740771756191,0.55720490973870196]
["*PZ089*","London and South East",9,101,8.9108914136886597E-2,8.9108914136886597E-2,{"$f":"IF(B71='Unit list'!$D$1,'7procesess'!D71,-1)","v":-1},{"$f":"IF(B71='Unit list'!$D$1,'7procesess'!F71,1.1)","v":1.1000000000000001},{"$f":"IF(A71='Unit list'!$A$1,'7procesess'!D71,-1)","v":-1},{"$f":"IF(A71='Unit list'!$A$1,'7procesess'!F71,1.1)","v":1.1000000000000001},null,69,69,0.44000361449897091,0.67440620497843295,0.37241619334832271,0.74199362612908104,0.55720490973870196]
["*PZ091*","North West",76,130,0.58461540937423706,0.58461540937423706,{"$f":"IF(B72='Unit list'!$D$1,'7procesess'!D72,-1)","v":-1},{"$f":"IF(B72='Unit list'!$D$1,'7procesess'!F72,1.1)","v":1.1000000000000001},{"$f":"IF(A72='Unit list'!$A$1,'7procesess'!D72,-1)","v":-1},{"$f":"IF(A72='Unit list'!$A$1,'7procesess'!F72,1.1)","v":1.1000000000000001},null,70,70,0.4408437779853126,0.67356604149209132,0.37374086072406831,0.7406689587533356,0.55720490973870196]
["*PZ092*","Wales",29,38,0.76315790414810181,0.76315790414810181,{"$f":"IF(B73='Unit list'!$D$1,'7procesess'!D73,-1)","v":-1},{"$f":"IF(B73='Unit list'!$D$1,'7procesess'!F73,1.1)","v":1.1000000000000001},{"$f":"IF(A73='Unit list'!$A$1,'7procesess'!D73,-1)","v":-1},{"$f":"IF(A73='Unit list'!$A$1,'7procesess'!F73,1.1)","v":1.1000000000000001},null,71,71,0.44166612844354475,0.67274369103385945,0.37503744268836303,0.73937237678904089,0.55720490973870196]
["*PZ094*","West Midlands",76,137,0.55474454164505005,0.55474454164505005,{"$f":"IF(B74='Unit list'!$D$1,'7procesess'!D74,-1)","v":-1},{"$f":"IF(B74='Unit list'!$D$1,'7procesess'!F74,1.1)","v":1.1000000000000001},{"$f":"IF(A74='Unit list'!$A$1,'7procesess'!D74,-1)","v":-1},{"$f":"IF(A74='Unit list'!$A$1,'7procesess'!F74,1.1)","v":1.1000000000000001},null,72,72,0.44247128655456558,0.67193853292283834,0.37630691785518983,0.73810290162221426,0.55720490973870196]
["*PZ096*","South West",28,90,0.31111112236976624,0.31111112236976624,{"$f":"IF(B75='Unit list'!$D$1,'7procesess'!D75,-1)","v":-1},{"$f":"IF(B75='Unit list'!$D$1,'7procesess'!F75,1.1)","v":1.1000000000000001},{"$f":"IF(A75='Unit list'!$A$1,'7procesess'!D75,-1)","v":-1},{"$f":"IF(A75='Unit list'!$A$1,'7procesess'!F75,1.1)","v":1.1000000000000001},null,73,73,0.44325984313725025,0.67114997634015372,{"$f":"MAX(0,(($R$3*($M75/NORMSINV((1-U$4)/2)^2+1)-SQRT((-8*$R$3*($M75/NORMSINV((1-U$4)/2)^2+1))^2-64*(1/NORMSINV((1-U$4)/2)^2+1/$M75)*$R$3*($M75*($R$3*($M75/NORMSINV((1-U$4)/2)^2+2)-1)+NORMSINV((1-U$4)/2)^2*($R$3-1)))/8)/(1/NORMSINV((1-U$4)/2)^2+1/$M75)/$M75))","v":0.37755021775573649},{"$f":"MIN(1,(($R$3*($M75/NORMSINV((1-U$4)/2)^2+1)+SQRT((-8*$R$3*($M75/NORMSINV((1-U$4)/2)^2+1))^2-64*(1/NORMSINV((1-U$4)/2)^2+1/$M75)*$R$3*($M75*($R$3*($M75/NORMSINV((1-U$4)/2)^2+2)-1)+NORMSINV((1-U$4)/2)^2*($R$3-1)))/8)/(1/NORMSINV((1-U$4)/2)^2+1/$M75)/$M75))","v":0.73685960172166765},0.55720490973870196]
["*PZ097*","West Midlands",29,44,0.65909093618392944,0.65909093618392944,{"$f":"IF(B76='Unit list'!$D$1,'7procesess'!D76,-1)","v":-1},{"$f":"IF(B76='Unit list'!$D$1,'7procesess'!F76,1.1)","v":1.1000000000000001},{"$f":"IF(A76='Unit list'!$A$1,'7procesess'!D76,-1)","v":-1},{"$f":"IF(A76='Unit list'!$A$1,'7procesess'!F76,1.1)","v":1.1000000000000001},null,74,74,0.44403236097062287,0.6703774585067811,0.37876822971136948,0.73564158976603455,0.55720490973870196]
["*PZ099*","East of England",46,121,0.38016527891159058,0.38016527891159058,{"$f":"IF(B77='Unit list'!$D$1,'7procesess'!D77,-1)","v":121},{"$f":"IF(B77='Unit list'!$D$1,'7procesess'!F77,1.1)","v":0.38016527891159058},{"$f":"IF(A77='Unit list'!$A$1,'7procesess'!D77,-1)","v":-1},{"$f":"IF(A77='Unit list'!$A$1,'7procesess'!F77,1.1)","v":1.1000000000000001},null,75,75,0.44478937648194505,0.66962044299545898,0.37996179949520698,0.73444801998219689,0.55720490973870196]
["*PZ100*","South West",25,37,0.67567569017410278,0.67567569017410278,{"$f":"IF(B78='Unit list'!$D$1,'7procesess'!D78,-1)","v":-1},{"$f":"IF(B78='Unit list'!$D$1,'7procesess'!F78,1.1)","v":1.1000000000000001},{"$f":"IF(A78='Unit list'!$A$1,'7procesess'!D78,-1)","v":-1},{"$f":"IF(A78='Unit list'!$A$1,'7procesess'!F78,1.1)","v":1.1000000000000001},null,76,76,0.44553140131222979,0.66887841816517424,0.38113173380043536,0.73327808567696839,0.55720490973870196]
["*PZ101*","Yorkshire and Humber",117,219,0.53424656391143799,0.53424656391143799,{"$f":"IF(B79='Unit list'!$D$1,'7procesess'!D79,-1)","v":-1},{"$f":"IF(B79='Unit list'!$D$1,'7procesess'!F79,1.1)","v":1.1000000000000001},{"$f":"IF(A79='Unit list'!$A$1,'7procesess'!D79,-1)","v":-1},{"$f":"IF(A79='Unit list'!$A$1,'7procesess'!F79,1.1)","v":1.1000000000000001},null,77,77,0.44625892376956761,0.66815089570783659,0.38227880253172919,0.73213101694567451,0.55720490973870196]
["*PZ102*","London and South East",66,79,0.83544301986694336,0.83544301986694336,{"$f":"IF(B80='Unit list'!$D$1,'7procesess'!D80,-1)","v":-1},{"$f":"IF(B80='Unit list'!$D$1,'7procesess'!F80,1.1)","v":1.1000000000000001},{"$f":"IF(A80='Unit list'!$A$1,'7procesess'!D80,-1)","v":-1},{"$f":"IF(A80='Unit list'!$A$1,'7procesess'!F80,1.1)","v":1.1000000000000001},null,78,78,0.44697241017963635,0.66743740929776763,0.38340374093457563,0.73100607854282829,0.55720490973870196]
["*PZ104*","North West",33,75,0.43999999761581421,0.43999999761581421,{"$f":"IF(B81='Unit list'!$D$1,'7procesess'!D81,-1)","v":-1},{"$f":"IF(B81='Unit list'!$D$1,'7procesess'!F81,1.1)","v":1.1000000000000001},{"$f":"IF(A81='Unit list'!$A$1,'7procesess'!D81,-1)","v":-1},{"$f":"IF(A81='Unit list'!$A$1,'7procesess'!F81,1.1)","v":1.1000000000000001},null,79,79,0.44767230614188613,0.66673751333551778,0.38450725157587418,0.72990256790152974,0.55720490973870196]
["*PZ105*","Yorkshire and Humber",62,70,0.88571429252624512,0.88571429252624512,{"$f":"IF(B82='Unit list'!$D$1,'7procesess'!D82,-1)","v":-1},{"$f":"IF(B82='Unit list'!$D$1,'7procesess'!F82,1.1)","v":1.1000000000000001},{"$f":"IF(A82='Unit list'!$A$1,'7procesess'!D82,-1)","v":-1},{"$f":"IF(A82='Unit list'!$A$1,'7procesess'!F82,1.1)","v":1.1000000000000001},null,80,80,0.44835903769909075,0.66605078177831323,0.38559000618793676,0.7288198132894671,0.55720490973870196]
["*PZ106*","North West",36,50,0.72000002861022949,0.72000002861022949,{"$f":"IF(B83='Unit list'!$D$1,'7procesess'!D83,-1)","v":-1},{"$f":"IF(B83='Unit list'!$D$1,'7procesess'!F83,1.1)","v":1.1000000000000001},{"$f":"IF(A83='Unit list'!$A$1,'7procesess'!D83,-1)","v":-1},{"$f":"IF(A83='Unit list'!$A$1,'7procesess'!F83,1.1)","v":1.1000000000000001},null,81,81,0.44903301242722887,0.6653768070501751,0.38665264738688809,0.7277571720905156,0.55720490973870196]
["*PZ107*","North East and North Cumbria",47,61,0.77049177885055542,0.77049177885055542,{"$f":"IF(B84='Unit list'!$D$1,'7procesess'!D84,-1)","v":-1},{"$f":"IF(B84='Unit list'!$D$1,'7procesess'!F84,1.1)","v":1.1000000000000001},{"$f":"IF(A84='Unit list'!$A$1,'7procesess'!D84,-1)","v":-1},{"$f":"IF(A84='Unit list'!$A$1,'7procesess'!F84,1.1)","v":1.1000000000000001},null,82,82,0.44969462045204356,0.66471519902536036,0.38769579027544637,0.7267140292019576,0.55720490973870196]
["*PZ108*","West Midlands",61,124,0.49193549156188965,0.49193549156188965,{"$f":"IF(B85='Unit list'!$D$1,'7procesess'!D85,-1)","v":-1},{"$f":"IF(B85='Unit list'!$D$1,'7procesess'!F85,1.1)","v":1.1000000000000001},{"$f":"IF(A85='Unit list'!$A$1,'7procesess'!D85,-1)","v":-1},{"$f":"IF(A85='Unit list'!$A$1,'7procesess'!F85,1.1)","v":1.1000000000000001},null,83,83,0.45034423539803042,0.66406558407937355,0.38872002393917254,0.72568979553823132,0.55720490973870196]
["*PZ109*","South Central",65,116,0.56034481525421143,0.56034481525421143,{"$f":"IF(B86='Unit list'!$D$1,'7procesess'!D86,-1)","v":-1},{"$f":"IF(B86='Unit list'!$D$1,'7procesess'!F86,1.1)","v":1.1000000000000001},{"$f":"IF(A86='Unit list'!$A$1,'7procesess'!D86,-1)","v":-1},{"$f":"IF(A86='Unit list'!$A$1,'7procesess'!F86,1.1)","v":1.1000000000000001},null,84,84,0.45098221527509841,0.66342760420230551,0.38972591284445474,0.72468390663294913,0.55720490973870196]
["*PZ110*","North West",38,62,0.61290323734283447,0.61290323734283447,{"$f":"IF(B87='Unit list'!$D$1,'7procesess'!D87,-1)","v":-1},{"$f":"IF(B87='Unit list'!$D$1,'7procesess'!F87,1.1)","v":1.1000000000000001},{"$f":"IF(A87='Unit list'!$A$1,'7procesess'!D87,-1)","v":-1},{"$f":"IF(A87='Unit list'!$A$1,'7procesess'!F87,1.1)","v":1.1000000000000001},null,85,85,0.45160890330769377,0.66280091616971015,0.39071399814576258,0.72369582133164134,0.55720490973870196]
["*PZ111*","West Midlands",25,31,0.80645161867141724,0.80645161867141724,{"$f":"IF(B88='Unit list'!$D$1,'7procesess'!D88,-1)","v":-1},{"$f":"IF(B88='Unit list'!$D$1,'7procesess'!F88,1.1)","v":1.1000000000000001},{"$f":"IF(A88='Unit list'!$A$1,'7procesess'!D88,-1)","v":-1},{"$f":"IF(A88='Unit list'!$A$1,'7procesess'!F88,1.1)","v":1.1000000000000001},null,86,86,0.45222462871073871,0.66218519076666527,0.39168479890905378,0.7227250205683502,0.55720490973870196]
["*PZ112*","Yorkshire and Humber",24,28,0.8571428656578064,0.8571428656578064,{"$f":"IF(B89='Unit list'!$D$1,'7procesess'!D89,-1)","v":-1},{"$f":"IF(B89='Unit list'!$D$1,'7procesess'!F89,1.1)","v":1.1000000000000001},{"$f":"IF(A89='Unit list'!$A$1,'7procesess'!D89,-1)","v":-1},{"$f":"IF(A89='Unit list'!$A$1,'7procesess'!F89,1.1)","v":1.1000000000000001},null,87,87,0.45282970741636613,0.66158011206103795,0.39263881325761063,0.7217710062197934,0.55720490973870196]
["*PZ113*","Wales",63,71,0.88732391595840454,0.88732391595840454,{"$f":"IF(B90='Unit list'!$D$1,'7procesess'!D90,-1)","v":-1},{"$f":"IF(B90='Unit list'!$D$1,'7procesess'!F90,1.1)","v":1.1000000000000001},{"$f":"IF(A90='Unit list'!$A$1,'7procesess'!D90,-1)","v":-1},{"$f":"IF(A90='Unit list'!$A$1,'7procesess'!F90,1.1)","v":1.1000000000000001},null,88,88,0.45342444275511934,0.66098537672228475,0.39357651944605682,0.72083330003134705,0.55720490973870196]
["*PZ114*","Yorkshire and Humber",27,95,0.28421053290367126,0.28421053290367126,{"$f":"IF(B91='Unit list'!$D$1,'7procesess'!D91,-1)","v":-1},{"$f":"IF(B91='Unit list'!$D$1,'7procesess'!F91,1.1)","v":1.1000000000000001},{"$f":"IF(A91='Unit list'!$A$1,'7procesess'!D91,-1)","v":-1},{"$f":"IF(A91='Unit list'!$A$1,'7procesess'!F91,1.1)","v":1.1000000000000001},null,89,89,0.45400912609491706,0.66040069338248697,0.39449837686781214,0.71991144260959161,0.55720490973870196]
["*PZ118*","London and South East",36,57,0.63157892227172852,0.63157892227172852,{"$f":"IF(B92='Unit list'!$D$1,'7procesess'!D92,-1)","v":-1},{"$f":"IF(B92='Unit list'!$D$1,'7procesess'!F92,1.1)","v":1.1000000000000001},{"$f":"IF(A92='Unit list'!$A$1,'7procesess'!D92,-1)","v":-1},{"$f":"IF(A92='Unit list'!$A$1,'7procesess'!F92,1.1)","v":1.1000000000000001},null,90,90,0.454584037440872,0.65982578203653197,0.39540482700080692,0.71900499247659688,0.55720490973870196]
["*PZ119*","London and South East",39,61,0.63934427499771118,0.63934427499771118,{"$f":"IF(B93='Unit list'!$D$1,'7procesess'!D93,-1)","v":-1},{"$f":"IF(B93='Unit list'!$D$1,'7procesess'!F93,1.1)","v":1.1000000000000001},{"$f":"IF(A93='Unit list'!$A$1,'7procesess'!D93,-1)","v":-1},{"$f":"IF(A93='Unit list'!$A$1,'7procesess'!F93,1.1)","v":1.1000000000000001},null,91,91,0.45514944599874957,0.6592603734786544,0.39629629429587959,0.71811352518152427,0.55720490973870196]
["*PZ120*","North East and North Cumbria",36,61,0.5901639461517334,0.5901639461517334,{"$f":"IF(B94='Unit list'!$D$1,'7procesess'!D94,-1)","v":-1},{"$f":"IF(B94='Unit list'!$D$1,'7procesess'!F94,1.1)","v":1.1000000000000001},{"$f":"IF(A94='Unit list'!$A$1,'7procesess'!D94,-1)","v":-1},{"$f":"IF(A94='Unit list'!$A$1,'7procesess'!F94,1.1)","v":1.1000000000000001},null,92,92,0.45570561070465426,0.65870420877274971,0.39717318701191595,0.71723663246548786,0.55720490973870196]
["*PZ121*","West Midlands",19,51,0.37254902720451355,0.37254902720451355,{"$f":"IF(B95='Unit list'!$D$1,'7procesess'!D95,-1)","v":-1},{"$f":"IF(B95='Unit list'!$D$1,'7procesess'!F95,1.1)","v":1.1000000000000001},{"$f":"IF(A95='Unit list'!$A$1,'7procesess'!D95,-1)","v":-1},{"$f":"IF(A95='Unit list'!$A$1,'7procesess'!F95,1.1)","v":1.1000000000000001},null,93,93,0.45625278072329795,0.65815703875410614,0.39803589800146277,0.71637392147594103,0.55720490973870196]
["*PZ122*","West Midlands",20,96,0.2083333283662796,0.2083333283662796,{"$f":"IF(B96='Unit list'!$D$1,'7procesess'!D96,-1)","v":-1},{"$f":"IF(B96='Unit list'!$D$1,'7procesess'!F96,1.1)","v":1.1000000000000001},{"$f":"IF(A96='Unit list'!$A$1,'7procesess'!D96,-1)","v":-1},{"$f":"IF(A96='Unit list'!$A$1,'7procesess'!F96,1.1)","v":1.1000000000000001},null,94,94,0.45679119591704204,0.65761862356036183,0.39888480545025384,0.71552501402715007,0.55720490973870196]
["*PZ125*","London and South East",36,59,0.61016947031021118,0.61016947031021118,{"$f":"IF(B97='Unit list'!$D$1,'7procesess'!D97,-1)","v":-1},{"$f":"IF(B97='Unit list'!$D$1,'7procesess'!F97,1.1)","v":1.1000000000000001},{"$f":"IF(A97='Unit list'!$A$1,'7procesess'!D97,-1)","v":-1},{"$f":"IF(A97='Unit list'!$A$1,'7procesess'!F97,1.1)","v":1.1000000000000001},null,95,95,0.45732108728770721,0.65708873218969688,0.39972027357380391,0.7146895459035999,0.55720490973870196]
["*PZ126*","London and South East",53,122,0.43442621827125549,0.43442621827125549,{"$f":"IF(B98='Unit list'!$D$1,'7procesess'!D98,-1)","v":-1},{"$f":"IF(B98='Unit list'!$D$1,'7procesess'!F98,1.1)","v":1.1000000000000001},{"$f":"IF(A98='Unit list'!$A$1,'7procesess'!D98,-1)","v":-1},{"$f":"IF(A98='Unit list'!$A$1,'7procesess'!F98,1.1)","v":1.1000000000000001},null,96,96,0.45784267739300838,0.65656714208439559,0.40054265327398969,0.71386716620341417,0.55720490973870196]
["*PZ127*","East of England",5,76,6.5789476037025452E-2,6.5789476037025452E-2,{"$f":"IF(B99='Unit list'!$D$1,'7procesess'!D99,-1)","v":76},{"$f":"IF(B99='Unit list'!$D$1,'7procesess'!F99,1.1)","v":6.5789476037025452E-2},{"$f":"IF(A99='Unit list'!$A$1,'7procesess'!D99,-1)","v":-1},{"$f":"IF(A99='Unit list'!$A$1,'7procesess'!F99,1.1)","v":1.1000000000000001},null,97,97,0.45835618073931328,0.65605363873809053,0.40135228275830276,0.71305753671910099,0.55720490973870196]
["*PZ128*","East Midlands",23,41,0.56097561120986938,0.56097561120986938,{"$f":"IF(B100='Unit list'!$D$1,'7procesess'!D100,-1)","v":-1},{"$f":"IF(B100='Unit list'!$D$1,'7procesess'!F100,1.1)","v":1.1000000000000001},{"$f":"IF(A100='Unit list'!$A$1,'7procesess'!D100,-1)","v":-1},{"$f":"IF(A100='Unit list'!$A$1,'7procesess'!F100,1.1)","v":1.1000000000000001},null,98,98,0.4588618041522991,0.65554801532510487,0.4021494881242631,0.71226033135314082,0.55720490973870196]
["*PZ129*","Yorkshire and Humber",43,61,0.7049180269241333,0.7049180269241333,{"$f":"IF(B101='Unit list'!$D$1,'7procesess'!D101,-1)","v":-1},{"$f":"IF(B101='Unit list'!$D$1,'7procesess'!F101,1.1)","v":1.1000000000000001},{"$f":"IF(A101='Unit list'!$A$1,'7procesess'!D101,-1)","v":-1},{"$f":"IF(A101='Unit list'!$A$1,'7procesess'!F101,1.1)","v":1.1000000000000001},null,99,99,0.45935974712697164,0.65505007235043233,0.40293458391127723,0.7114752355661268,0.55720490973870196]
["*PZ130*","London and South East",51,77,0.66233766078948975,0.66233766078948975,{"$f":"IF(B102='Unit list'!$D$1,'7procesess'!D102,-1)","v":-1},{"$f":"IF(B102='Unit list'!$D$1,'7procesess'!F102,1.1)","v":1.1000000000000001},{"$f":"IF(A102='Unit list'!$A$1,'7procesess'!D102,-1)","v":-1},{"$f":"IF(A102='Unit list'!$A$1,'7procesess'!F102,1.1)","v":1.1000000000000001},null,100,100,0.45985020215837624,0.65455961731902779,0.40370787362206934,0.71070194585533475,0.55720490973870196]
["*PZ131*","East of England",49,99,0.49494948983192444,0.49494948983192444,{"$f":"IF(B103='Unit list'!$D$1,'7procesess'!D103,-1)","v":99},{"$f":"IF(B103='Unit list'!$D$1,'7procesess'!F103,1.1)","v":0.49494948983192444},{"$f":"IF(A103='Unit list'!$A$1,'7procesess'!D103,-1)","v":-1},{"$f":"IF(A103='Unit list'!$A$1,'7procesess'!F103,1.1)","v":1.1000000000000001},null,null,101,0.46033335505425937,0.6540764644231446,0.40446965021564685,0.70994016926175718,0.55720490973870196]
["*PZ132*","Wales",23,40,0.57499998807907104,0.57499998807907104,{"$f":"IF(B104='Unit list'!$D$1,'7procesess'!D104,-1)","v":-1},{"$f":"IF(B104='Unit list'!$D$1,'7procesess'!F104,1.1)","v":1.1000000000000001},{"$f":"IF(A104='Unit list'!$A$1,'7procesess'!D104,-1)","v":-1},{"$f":"IF(A104='Unit list'!$A$1,'7procesess'!F104,1.1)","v":1.1000000000000001},null,null,102,0.4608093852308292,0.65360043424657477,0.40522019657361669,0.70918962290378695,0.55720490973870196]
["*PZ133*","North East and North Cumbria",35,47,0.74468082189559937,0.74468082189559937,{"$f":"IF(B105='Unit list'!$D$1,'7procesess'!D105,-1)","v":-1},{"$f":"IF(B105='Unit list'!$D$1,'7procesess'!F105,1.1)","v":1.1000000000000001},{"$f":"IF(A105='Unit list'!$A$1,'7procesess'!D105,-1)","v":-1},{"$f":"IF(A105='Unit list'!$A$1,'7procesess'!F105,1.1)","v":1.1000000000000001},null,null,103,0.46127846599268357,0.6531313534847204,0.40595978594154225,0.70845003353586156,0.55720490973870196]
["*PZ135*","London and South East",23,94,0.24468085169792175,0.24468085169792175,{"$f":"IF(B106='Unit list'!$D$1,'7procesess'!D106,-1)","v":-1},{"$f":"IF(B106='Unit list'!$D$1,'7procesess'!F106,1.1)","v":1.1000000000000001},{"$f":"IF(A106='Unit list'!$A$1,'7procesess'!D106,-1)","v":-1},{"$f":"IF(A106='Unit list'!$A$1,'7procesess'!F106,1.1)","v":1.1000000000000001},null,null,104,0.46174076479789389,0.65266905467951009,0.40668868234690109,0.70772113713050266,0.55720490973870196]
["*PZ136*","North West",90,167,0.53892213106155396,0.53892213106155396,{"$f":"IF(B107='Unit list'!$D$1,'7procesess'!D107,-1)","v":-1},{"$f":"IF(B107='Unit list'!$D$1,'7procesess'!F107,1.1)","v":1.1000000000000001},{"$f":"IF(A107='Unit list'!$A$1,'7procesess'!D107,-1)","v":-1},{"$f":"IF(A107='Unit list'!$A$1,'7procesess'!F107,1.1)","v":1.1000000000000001},null,null,105,0.46219644350917871,0.65221337596822515,0.40740714099509712,0.70700267848230658,0.55720490973870196]
["*PZ137*","South West",44,72,0.6111111044883728,0.6111111044883728,{"$f":"IF(B108='Unit list'!$D$1,'7procesess'!D108,-1)","v":-1},{"$f":"IF(B108='Unit list'!$D$1,'7procesess'!F108,1.1)","v":1.1000000000000001},{"$f":"IF(A108='Unit list'!$A$1,'7procesess'!D108,-1)","v":-1},{"$f":"IF(A108='Unit list'!$A$1,'7procesess'!F108,1.1)","v":1.1000000000000001},null,null,106,0.4626456586320058,0.65176416084539812,0.4081154086448745,0.70629441083252931,0.55720490973870196]
["*PZ138*","West Midlands",14,46,0.30434781312942505,0.30434781312942505,{"$f":"IF(B109='Unit list'!$D$1,'7procesess'!D109,-1)","v":-1},{"$f":"IF(B109='Unit list'!$D$1,'7procesess'!F109,1.1)","v":1.1000000000000001},{"$f":"IF(A109='Unit list'!$A$1,'7procesess'!D109,-1)","v":-1},{"$f":"IF(A109='Unit list'!$A$1,'7procesess'!F109,1.1)","v":1.1000000000000001},null,null,107,0.4630885615404301,0.65132125793697404,0.40881372396439342,0.7055960955130105,0.55720490973870196]
["*PZ139*","South West",166,211,0.78672987222671509,0.78672987222671509,{"$f":"IF(B110='Unit list'!$D$1,'7procesess'!D110,-1)","v":-1},{"$f":"IF(B110='Unit list'!$D$1,'7procesess'!F110,1.1)","v":1.1000000000000001},{"$f":"IF(A110='Unit list'!$A$1,'7procesess'!D110,-1)","v":-1},{"$f":"IF(A110='Unit list'!$A$1,'7procesess'!F110,1.1)","v":1.1000000000000001},null,null,108,0.46352529869140457,0.65088452078599934,0.40950231786912283,0.70490750160828108,0.55720490973870196]
["*PZ140*","North West",14,34,0.4117647111415863,0.4117647111415863,{"$f":"IF(B111='Unit list'!$D$1,'7procesess'!D111,-1)","v":-1},{"$f":"IF(B111='Unit list'!$D$1,'7procesess'!F111,1.1)","v":1.1000000000000001},{"$f":"IF(A111='Unit list'!$A$1,'7procesess'!D111,-1)","v":-1},{"$f":"IF(A111='Unit list'!$A$1,'7procesess'!F111,1.1)","v":1.1000000000000001},null,null,109,0.46395601182824642,0.65045380764915772,0.410181413842651,0.70422840563475286,0.55720490973870196]
["*PZ141*","North East and North Cumbria",24,30,0.80000001192092896,0.80000001192092896,{"$f":"IF(B112='Unit list'!$D$1,'7procesess'!D112,-1)","v":-1},{"$f":"IF(B112='Unit list'!$D$1,'7procesess'!F112,1.1)","v":1.1000000000000001},{"$f":"IF(A112='Unit list'!$A$1,'7procesess'!D112,-1)","v":-1},{"$f":"IF(A112='Unit list'!$A$1,'7procesess'!F112,1.1)","v":1.1000000000000001},null,null,110,0.46438083817391734,0.65002898130348652,0.4108512282414134,0.70355859123599029,0.55720490973870196]
["*PZ144*","West Midlands",45,66,0.68181818723678589,0.68181818723678589,{"$f":"IF(B113='Unit list'!$D$1,'7procesess'!D113,-1)","v":-1},{"$f":"IF(B113='Unit list'!$D$1,'7procesess'!F113,1.1)","v":1.1000000000000001},{"$f":"IF(A113='Unit list'!$A$1,'7procesess'!D113,-1)","v":-1},{"$f":"IF(A113='Unit list'!$A$1,'7procesess'!F113,1.1)","v":1.1000000000000001},null,null,111,0.46479991061468928,0.64960990886271475,0.41151197058429023,0.70289784889311357,0.55720490973870196]
["*PZ145*","South Central",24,44,0.54545456171035767,0.54545456171035767,{"$f":"IF(B114='Unit list'!$D$1,'7procesess'!D114,-1)","v":-1},{"$f":"IF(B114='Unit list'!$D$1,'7procesess'!F114,1.1)","v":1.1000000000000001},{"$f":"IF(A114='Unit list'!$A$1,'7procesess'!D114,-1)","v":-1},{"$f":"IF(A114='Unit list'!$A$1,'7procesess'!F114,1.1)","v":1.1000000000000001},null,null,112,0.46521335787478851,0.64919646160261535,0.41216384382794852,0.70224597564945557,0.55720490973870196]
["*PZ146*","East of England",59,80,0.73750001192092896,0.73750001192092896,{"$f":"IF(B115='Unit list'!$D$1,'7procesess'!D115,-1)","v":80},{"$f":"IF(B115='Unit list'!$D$1,'7procesess'!F115,1.1)","v":0.73750001192092896},{"$f":"IF(A115='Unit list'!$A$1,'7procesess'!D115,-1)","v":-1},{"$f":"IF(A115='Unit list'!$A$1,'7procesess'!F115,1.1)","v":1.1000000000000001},null,null,113,0.46562130468250629,0.64878851479489774,0.412807044628755,0.70160277484864897,0.55720490973870196]
["*PZ149*","Yorkshire and Humber",49,65,0.75384616851806641,0.75384616851806641,{"$f":"IF(B116='Unit list'!$D$1,'7procesess'!D116,-1)","v":-1},{"$f":"IF(B116='Unit list'!$D$1,'7procesess'!F116,1.1)","v":1.1000000000000001},{"$f":"IF(A116='Unit list'!$A$1,'7procesess'!D116,-1)","v":-1},{"$f":"IF(A116='Unit list'!$A$1,'7procesess'!F116,1.1)","v":1.1000000000000001},null,null,114,0.46602387192828398,0.64838594754912005,0.41344176359202123,0.7009680558853828,0.55720490973870196]
["*PZ150*","North East and North Cumbria",35,40,0.875,0.875,{"$f":"IF(B117='Unit list'!$D$1,'7procesess'!D117,-1)","v":-1},{"$f":"IF(B117='Unit list'!$D$1,'7procesess'!F117,1.1)","v":1.1000000000000001},{"$f":"IF(A117='Unit list'!$A$1,'7procesess'!D117,-1)","v":-1},{"$f":"IF(A117='Unit list'!$A$1,'7procesess'!F117,1.1)","v":1.1000000000000001},null,null,115,0.46642117681521827,0.64798864266218581,0.41406818550930496,0.70034163396809901,0.55720490973870196]
["*PZ151*","London and South East",33,47,0.70212763547897339,0.70212763547897339,{"$f":"IF(B118='Unit list'!$D$1,'7procesess'!D118,-1)","v":-1},{"$f":"IF(B118='Unit list'!$D$1,'7procesess'!F118,1.1)","v":1.1000000000000001},{"$f":"IF(A118='Unit list'!$A$1,'7procesess'!D118,-1)","v":-1},{"$f":"IF(A118='Unit list'!$A$1,'7procesess'!F118,1.1)","v":1.1000000000000001},null,null,116,0.46681333300241917,0.64759648647498469,0.41468648958443599,0.69972332989296782,0.55720490973870196]
["*PZ152*","South West",45,77,0.58441555500030518,0.58441555500030518,{"$f":"IF(B119='Unit list'!$D$1,'7procesess'!D119,-1)","v":-1},{"$f":"IF(B119='Unit list'!$D$1,'7procesess'!F119,1.1)","v":1.1000000000000001},{"$f":"IF(A119='Unit list'!$A$1,'7procesess'!D119,-1)","v":-1},{"$f":"IF(A119='Unit list'!$A$1,'7procesess'!F119,1.1)","v":1.1000000000000001},null,null,117,0.46720045074160743,0.64720936873579671,0.41529684964889041,0.69911296982851334,0.55720490973870196]
["*PZ153*","North West",40,66,0.60606062412261963,0.60606062412261963,{"$f":"IF(B120='Unit list'!$D$1,'7procesess'!D120,-1)","v":-1},{"$f":"IF(B120='Unit list'!$D$1,'7procesess'!F120,1.1)","v":1.1000000000000001},{"$f":"IF(A120='Unit list'!$A$1,'7procesess'!D120,-1)","v":-1},{"$f":"IF(A120='Unit list'!$A$1,'7procesess'!F120,1.1)","v":1.1000000000000001},null,null,118,0.4675826370073401,0.64682718247006399,0.41589943436710786,0.69851038511029595,0.55720490973870196]
["*PZ156*","East of England",52,72,0.72222220897674561,0.72222220897674561,{"$f":"IF(B121='Unit list'!$D$1,'7procesess'!D121,-1)","v":72},{"$f":"IF(B121='Unit list'!$D$1,'7procesess'!F121,1.1)","v":0.72222220897674561},{"$f":"IF(A121='Unit list'!$A$1,'7procesess'!D121,-1)","v":-1},{"$f":"IF(A121='Unit list'!$A$1,'7procesess'!F121,1.1)","v":1.1000000000000001},null,null,119,0.46795999562119633,0.64644982385620764,0.41649440743229982,0.6979154120451041,0.55720490973870196]
["*PZ157*","London and South East",18,33,0.54545456171035767,0.54545456171035767,{"$f":"IF(B122='Unit list'!$D$1,'7procesess'!D122,-1)","v":-1},{"$f":"IF(B122='Unit list'!$D$1,'7procesess'!F122,1.1)","v":1.1000000000000001},{"$f":"IF(A122='Unit list'!$A$1,'7procesess'!D122,-1)","v":-1},{"$f":"IF(A122='Unit list'!$A$1,'7procesess'!F122,1.1)","v":1.1000000000000001},null,null,120,0.46833262737026254,0.64607719210714121,0.41708192775326053,0.69732789172414333,0.55720490973870196]
["*PZ159*","South Central",48,69,0.69565218687057495,0.69565218687057495,{"$f":"IF(B123='Unit list'!$D$1,'7procesess'!D123,-1)","v":-1},{"$f":"IF(B123='Unit list'!$D$1,'7procesess'!F123,1.1)","v":1.1000000000000001},{"$f":"IF(A123='Unit list'!$A$1,'7procesess'!D123,-1)","v":-1},{"$f":"IF(A123='Unit list'!$A$1,'7procesess'!F123,1.1)","v":1.1000000000000001},null,null,121,0.468700630120224,0.64570918935717969,0.41766214963267251,0.69674766984473135,0.55720490973870196]
["*PZ160*","North East and North Cumbria",6,35,0.17142857611179352,0.17142857611179352,{"$f":"IF(B124='Unit list'!$D$1,'7procesess'!D124,-1)","v":-1},{"$f":"IF(B124='Unit list'!$D$1,'7procesess'!F124,1.1)","v":1.1000000000000001},{"$f":"IF(A124='Unit list'!$A$1,'7procesess'!D124,-1)","v":-1},{"$f":"IF(A124='Unit list'!$A$1,'7procesess'!F124,1.1)","v":1.1000000000000001},null,null,122,0.4690640989233415,0.64534572055406259,0.41823522293735477,0.6961745965400491,0.55720490973870196]
["*PZ161*","North East and North Cumbria",11,48,0.2291666716337204,0.2291666716337204,{"$f":"IF(B125='Unit list'!$D$1,'7procesess'!D125,-1)","v":-1},{"$f":"IF(B125='Unit list'!$D$1,'7procesess'!F125,1.1)","v":1.1000000000000001},{"$f":"IF(A125='Unit list'!$A$1,'7procesess'!D125,-1)","v":-1},{"$f":"IF(A125='Unit list'!$A$1,'7procesess'!F125,1.1)","v":1.1000000000000001},null,null,123,0.46942312612159465,0.64498669335580949,0.41880129326088428,0.69560852621651947,0.55720490973870196]
["*PZ162*","North East and North Cumbria",6,67,8.9552238583564758E-2,8.9552238583564758E-2,{"$f":"IF(B126='Unit list'!$D$1,'7procesess'!D126,-1)","v":-1},{"$f":"IF(B126='Unit list'!$D$1,'7procesess'!F126,1.1)","v":1.1000000000000001},{"$f":"IF(A126='Unit list'!$A$1,'7procesess'!D126,-1)","v":-1},{"$f":"IF(A126='Unit list'!$A$1,'7procesess'!F126,1.1)","v":1.1000000000000001},null,null,124,0.46977780144523806,0.64463201803216585,0.41936050207898928,0.69504931739841458,0.55720490973870196]
["*PZ163*","North East and North Cumbria",75,98,0.76530611515045166,0.76530611515045166,{"$f":"IF(B127='Unit list'!$D$1,'7procesess'!D127,-1)","v":-1},{"$f":"IF(B127='Unit list'!$D$1,'7procesess'!F127,1.1)","v":1.1000000000000001},{"$f":"IF(A127='Unit list'!$A$1,'7procesess'!D127,-1)","v":-1},{"$f":"IF(A127='Unit list'!$A$1,'7procesess'!F127,1.1)","v":1.1000000000000001},null,null,125,0.47012821210701305,0.64428160737039086,0.41991298689809003,0.69449683257931405,0.55720490973870196]
["*PZ164*","Yorkshire and Humber",32,58,0.5517241358757019,0.5517241358757019,{"$f":"IF(B128='Unit list'!$D$1,'7procesess'!D128,-1)","v":-1},{"$f":"IF(B128='Unit list'!$D$1,'7procesess'!F128,1.1)","v":1.1000000000000001},{"$f":"IF(A128='Unit list'!$A$1,'7procesess'!D128,-1)","v":-1},{"$f":"IF(A128='Unit list'!$A$1,'7procesess'!F128,1.1)","v":1.1000000000000001},null,null,126,0.47047444289223916,0.64393537658516464,0.42045888139734355,0.69395093808006025,0.55720490973870196]
["*PZ167*","North West",70,103,0.67961162328720093,0.67961162328720093,{"$f":"IF(B129='Unit list'!$D$1,'7procesess'!D129,-1)","v":-1},{"$f":"IF(B129='Unit list'!$D$1,'7procesess'!F129,1.1)","v":1.1000000000000001},{"$f":"IF(A129='Unit list'!$A$1,'7procesess'!D129,-1)","v":-1},{"$f":"IF(A129='Unit list'!$A$1,'7procesess'!F129,1.1)","v":1.1000000000000001},null,null,127,0.47081657624499745,0.64359324323240663,0.42099831556452771,0.69341150391287609,0.55720490973870196]
["*PZ168*","East Midlands",12,28,0.4285714328289032,0.4285714328289032,{"$f":"IF(B130='Unit list'!$D$1,'7procesess'!D130,-1)","v":-1},{"$f":"IF(B130='Unit list'!$D$1,'7procesess'!F130,1.1)","v":1.1000000000000001},{"$f":"IF(A130='Unit list'!$A$1,'7procesess'!D130,-1)","v":-1},{"$f":"IF(A130='Unit list'!$A$1,'7procesess'!F130,1.1)","v":1.1000000000000001},null,null,128,0.4711546923505997,0.64325512712680422,0.42153141582606807,0.69287840365133579,0.55720490973870196]
["*PZ169*","South Central",43,57,0.75438594818115234,0.75438594818115234,{"$f":"IF(B131='Unit list'!$D$1,'7procesess'!D131,-1)","v":-1},{"$f":"IF(B131='Unit list'!$D$1,'7procesess'!F131,1.1)","v":1.1000000000000001},{"$f":"IF(A131='Unit list'!$A$1,'7procesess'!D131,-1)","v":-1},{"$f":"IF(A131='Unit list'!$A$1,'7procesess'!F131,1.1)","v":1.1000000000000001},null,null,129,0.47148886921453764,0.64292095026286644,0.42205830517151599,0.69235151430588782,{"$f":"IF(M131=\"\",\"\",$U$7)","v":0.55720490973870196}]
["*PZ170*","North West",27,58,0.46551725268363953,{"$f":"IF(C132=0,0,IF(D132<5,1.1,E132))","v":0.46551725268363953},{"$f":"IF(B132='Unit list'!$D$1,'7procesess'!D132,-1)","v":-1},{"$f":"IF(B132='Unit list'!$D$1,'7procesess'!F132,1.1)","v":1.1000000000000001},{"$f":"IF(A132='Unit list'!$A$1,'7procesess'!D132,-1)","v":-1},{"$f":"IF(A132='Unit list'!$A$1,'7procesess'!F132,1.1)","v":1.1000000000000001},null,null,130,0.47181918273808648,0.64259063673931738,0.42257910327274883,0.69183071620465508,0.55720490973870196]
["*PZ171 *","East of England",3,90,3.3333335071802139E-2,3.3333335071802139E-2,{"$f":"IF(B133='Unit list'!$D$1,'7procesess'!D133,-1)","v":90},{"$f":"IF(B133='Unit list'!$D$1,'7procesess'!F133,1.1)","v":3.3333335071802139E-2},{"$f":"IF(A133='Unit list'!$A$1,'7procesess'!D133,-1)","v":-1},{"$f":"IF(A133='Unit list'!$A$1,'7procesess'!F133,1.1)","v":1.1000000000000001},null,null,131,{"$f":"MAX(0,(($R$3*($M133/NORMSINV((1-U$3)/2)^2+1)-SQRT((-8*$R$3*($M133/NORMSINV((1-U$3)/2)^2+1))^2-64*(1/NORMSINV((1-U$3)/2)^2+1/$M133)*$R$3*($M133*($R$3*($M133/NORMSINV((1-U$3)/2)^2+2)-1)+NORMSINV((1-U$3)/2)^2*($R$3-1)))/8)/(1/NORMSINV((1-U$3)/2)^2+1/$M133)/$M133))","v":0.47214570679072287},{"$f":"MIN(1,(($R$3*($M133/NORMSINV((1-U$3)/2)^2+1)+SQRT((-8*$R$3*($M133/NORMSINV((1-U$3)/2)^2+1))^2-64*(1/NORMSINV((1-U$3)/2)^2+1/$M133)*$R$3*($M133*($R$3*($M133/NORMSINV((1-U$3)/2)^2+2)-1)+NORMSINV((1-U$3)/2)^2*($R$3-1)))/8)/(1/NORMSINV((1-U$3)/2)^2+1/$M133)/$M133))","v":0.64226411268668104},0.42309392659815448,0.69131589287924933,0.55720490973870196]
["*PZ172*","North East and North Cumbria",37,83,0.44578313827514648,0.44578313827514648,{"$f":"IF(B134='Unit list'!$D$1,'7procesess'!D134,-1)","v":-1},{"$f":"IF(B134='Unit list'!$D$1,'7procesess'!F134,1.1)","v":1.1000000000000001},{"$f":"IF(A134='Unit list'!$A$1,'7procesess'!D134,-1)","v":-1},{"$f":"IF(A134='Unit list'!$A$1,'7procesess'!F134,1.1)","v":1.1000000000000001},null,null,132,0.47246851327952422,0.64194130619787981,0.42360288852204947,0.6908069309553545,0.55720490973870196]
["*PZ173*","South West",43,59,0.72881358861923218,0.72881358861923218,{"$f":"IF(B135='Unit list'!$D$1,'7procesess'!D135,-1)","v":-1},{"$f":"IF(B135='Unit list'!$D$1,'7procesess'!F135,1.1)","v":1.1000000000000001},{"$f":"IF(A135='Unit list'!$A$1,'7procesess'!D135,-1)","v":-1},{"$f":"IF(A135='Unit list'!$A$1,'7procesess'!F135,1.1)","v":1.1000000000000001},null,null,133,0.47278767221569568,0.64162214726170841,0.42410609942956584,0.69030372004783802,0.55720490973870196]
["*PZ174*","East Midlands",44,90,0.48888888955116272,0.48888888955116272,{"$f":"IF(B136='Unit list'!$D$1,'7procesess'!D136,-1)","v":-1},{"$f":"IF(B136='Unit list'!$D$1,'7procesess'!F136,1.1)","v":1.1000000000000001},{"$f":"IF(A136='Unit list'!$A$1,'7procesess'!D136,-1)","v":-1},{"$f":"IF(A136='Unit list'!$A$1,'7procesess'!F136,1.1)","v":1.1000000000000001},null,null,134,0.47310325177835233,0.64130656769905159,0.42460366681722123,0.68980615266018286,0.55720490973870196]
["*PZ175*","London and South East",10,55,0.18181818723678589,0.18181818723678589,{"$f":"IF(B137='Unit list'!$D$1,'7procesess'!D137,-1)","v":-1},{"$f":"IF(B137='Unit list'!$D$1,'7procesess'!F137,1.1)","v":1.1000000000000001},{"$f":"IF(A137='Unit list'!$A$1,'7procesess'!D137,-1)","v":-1},{"$f":"IF(A137='Unit list'!$A$1,'7procesess'!F137,1.1)","v":1.1000000000000001},null,null,135,0.47341531837570283,0.6409945011017012,0.42509569538938763,0.68931412408801607,0.55720490973870196]
["*PZ176*","London and South East",54,92,0.58695650100708008,0.58695650100708008,{"$f":"IF(B138='Unit list'!$D$1,'7procesess'!D138,-1)","v":-1},{"$f":"IF(B138='Unit list'!$D$1,'7procesess'!F138,1.1)","v":1.1000000000000001},{"$f":"IF(A138='Unit list'!$A$1,'7procesess'!D138,-1)","v":-1},{"$f":"IF(A138='Unit list'!$A$1,'7procesess'!F138,1.1)","v":1.1000000000000001},null,null,136,0.47372393670375912,0.64068588277364491,0.42558228715084639,0.68882753232655747,0.55720490973870196]
["*PZ177*","North West",28,41,0.68292683362960815,0.68292683362960815,{"$f":"IF(B139='Unit list'!$D$1,'7procesess'!D139,-1)","v":-1},{"$f":"IF(B139='Unit list'!$D$1,'7procesess'!F139,1.1)","v":1.1000000000000001},{"$f":"IF(A139='Unit list'!$A$1,'7procesess'!D139,-1)","v":-1},{"$f":"IF(A139='Unit list'!$A$1,'7procesess'!F139,1.1)","v":1.1000000000000001},null,null,137,0.47402916980267462,0.6403806496747293,{"$f":"MAX(0,(($R$3*($M139/NORMSINV((1-U$4)/2)^2+1)-SQRT((-8*$R$3*($M139/NORMSINV((1-U$4)/2)^2+1))^2-64*(1/NORMSINV((1-U$4)/2)^2+1/$M139)*$R$3*($M139*($R$3*($M139/NORMSINV((1-U$4)/2)^2+2)-1)+NORMSINV((1-U$4)/2)^2*($R$3-1)))/8)/(1/NORMSINV((1-U$4)/2)^2+1/$M139)/$M139))","v":0.42606354149563114},{"$f":"MIN(1,(($R$3*($M139/NORMSINV((1-U$4)/2)^2+1)+SQRT((-8*$R$3*($M139/NORMSINV((1-U$4)/2)^2+1))^2-64*(1/NORMSINV((1-U$4)/2)^2+1/$M139)*$R$3*($M139*($R$3*($M139/NORMSINV((1-U$4)/2)^2+2)-1)+NORMSINV((1-U$4)/2)^2*($R$3-1)))/8)/(1/NORMSINV((1-U$4)/2)^2+1/$M139)/$M139))","v":0.68834627798177273},0.55720490973870196]
["*PZ178*","West Midlands",25,84,0.2976190447807312,0.2976190447807312,{"$f":"IF(B140='Unit list'!$D$1,'7procesess'!D140,-1)","v":-1},{"$f":"IF(B140='Unit list'!$D$1,'7procesess'!F140,1.1)","v":1.1000000000000001},{"$f":"IF(A140='Unit list'!$A$1,'7procesess'!D140,-1)","v":-1},{"$f":"IF(A140='Unit list'!$A$1,'7procesess'!F140,1.1)","v":1.1000000000000001},null,null,138,0.47433107911084099,0.64007874036656309,0.42653955529230708,0.68787026418509678,0.55720490973870196]
["*PZ179*","North West",30,81,0.37037035822868347,0.37037035822868347,{"$f":"IF(B141='Unit list'!$D$1,'7procesess'!D141,-1)","v":-1},{"$f":"IF(B141='Unit list'!$D$1,'7procesess'!F141,1.1)","v":1.1000000000000001},{"$f":"IF(A141='Unit list'!$A$1,'7procesess'!D141,-1)","v":-1},{"$f":"IF(A141='Unit list'!$A$1,'7procesess'!F141,1.1)","v":1.1000000000000001},null,null,139,0.47462972451683849,0.63978009496056554,0.42701042296588776,0.68739939651151616,0.55720490973870196]
["*PZ180*","East Midlands",27,79,0.34177213907241821,0.34177213907241821,{"$f":"IF(B142='Unit list'!$D$1,'7procesess'!D142,-1)","v":-1},{"$f":"IF(B142='Unit list'!$D$1,'7procesess'!F142,1.1)","v":1.1000000000000001},{"$f":"IF(A142='Unit list'!$A$1,'7procesess'!D142,-1)","v":-1},{"$f":"IF(A142='Unit list'!$A$1,'7procesess'!F142,1.1)","v":1.1000000000000001},null,null,140,0.47492516440933863,0.6394846550680654,0.4274762365765134,0.68693358290089046,0.55720490973870196]
["*PZ181*","East of England",75,105,0.71428573131561279,0.71428573131561279,{"$f":"IF(B143='Unit list'!$D$1,'7procesess'!D143,-1)","v":105},{"$f":"IF(B143='Unit list'!$D$1,'7procesess'!F143,1.1)","v":0.71428573131561279},{"$f":"IF(A143='Unit list'!$A$1,'7procesess'!D143,-1)","v":-1},{"$f":"IF(A143='Unit list'!$A$1,'7procesess'!F143,1.1)","v":1.1000000000000001},null,null,141,0.4752174557250618,0.63919236375234212,0.42793708589506319,0.68647273358234062,0.55720490973870196]
["*PZ182*","London and South East",48,67,0.71641790866851807,0.71641790866851807,{"$f":"IF(B144='Unit list'!$D$1,'7procesess'!D144,-1)","v":-1},{"$f":"IF(B144='Unit list'!$D$1,'7procesess'!F144,1.1)","v":1.1000000000000001},{"$f":"IF(A144='Unit list'!$A$1,'7procesess'!D144,-1)","v":-1},{"$f":"IF(A144='Unit list'!$A$1,'7procesess'!F144,1.1)","v":1.1000000000000001},null,null,142,0.47550665399486702,0.63890316548253712,0.42839305847583053,0.68601676100157327,0.55720490973870196]
["*PZ183*","North West",68,101,0.67326730489730835,0.67326730489730835,{"$f":"IF(B145='Unit list'!$D$1,'7procesess'!D145,-1)","v":-1},{"$f":"IF(B145='Unit list'!$D$1,'7procesess'!F145,1.1)","v":1.1000000000000001},{"$f":"IF(A145='Unit list'!$A$1,'7procesess'!D145,-1)","v":-1},{"$f":"IF(A145='Unit list'!$A$1,'7procesess'!F145,1.1)","v":1.1000000000000001},null,null,143,0.47579281338807777,0.63861700608932626,0.42884423972639835,0.68556557975100552,0.55720490973870196]
["*PZ185*","Wales",10,17,0.58823531866073608,0.58823531866073608,{"$f":"IF(B146='Unit list'!$D$1,'7procesess'!D146,-1)","v":-1},{"$f":"IF(B146='Unit list'!$D$1,'7procesess'!F146,1.1)","v":1.1000000000000001},{"$f":"IF(A146='Unit list'!$A$1,'7procesess'!D146,-1)","v":-1},{"$f":"IF(A146='Unit list'!$A$1,'7procesess'!F146,1.1)","v":1.1000000000000001},null,null,144,0.47607598675509671,0.63833383272230737,0.42929071297484178,0.68511910650256214,0.55720490973870196]
["*PZ186*","Yorkshire and Humber",42,103,0.40776699781417847,0.40776699781417847,{"$f":"IF(B147='Unit list'!$D$1,'7procesess'!D147,-1)","v":-1},{"$f":"IF(B147='Unit list'!$D$1,'7procesess'!F147,1.1)","v":1.1000000000000001},{"$f":"IF(A147='Unit list'!$A$1,'7procesess'!D147,-1)","v":-1},{"$f":"IF(A147='Unit list'!$A$1,'7procesess'!F147,1.1)","v":1.1000000000000001},null,null,145,0.47635622566841479,0.63805359380898929,0.42973255953437622,0.68467725994302753,0.55720490973870196]
["*PZ187*","Wales",32,42,0.76190477609634399,0.76190477609634399,{"$f":"IF(B148='Unit list'!$D$1,'7procesess'!D148,-1)","v":-1},{"$f":"IF(B148='Unit list'!$D$1,'7procesess'!F148,1.1)","v":1.1000000000000001},{"$f":"IF(A148='Unit list'!$A$1,'7procesess'!D148,-1)","v":-1},{"$f":"IF(A148='Unit list'!$A$1,'7procesess'!F148,1.1)","v":1.1000000000000001},null,null,146,0.47663358046206256,0.63777623901534153,0.43016985876556674,0.68423996071183724,0.55720490973870196]
["*PZ188*","Wales",53,80,0.66250002384185791,0.66250002384185791,{"$f":"IF(B149='Unit list'!$D$1,'7procesess'!D149,-1)","v":-1},{"$f":"IF(B149='Unit list'!$D$1,'7procesess'!F149,1.1)","v":1.1000000000000001},{"$f":"IF(A149='Unit list'!$A$1,'7procesess'!D149,-1)","v":-1},{"$f":"IF(A149='Unit list'!$A$1,'7procesess'!F149,1.1)","v":1.1000000000000001},null,null,147,0.47690810026959041,0.6375017192078134,0.43060268813620584,0.68380713134119786,0.55720490973870196]
["*PZ189*","Wales",32,35,0.91428571939468384,0.91428571939468384,{"$f":"IF(B150='Unit list'!$D$1,'7procesess'!D150,-1)","v":-1},{"$f":"IF(B150='Unit list'!$D$1,'7procesess'!F150,1.1)","v":1.1000000000000001},{"$f":"IF(A150='Unit list'!$A$1,'7procesess'!D150,-1)","v":-1},{"$f":"IF(A150='Unit list'!$A$1,'7procesess'!F150,1.1)","v":1.1000000000000001},null,null,148,0.47717983306062822,0.63722998641677586,0.43103112327896104,0.68337869619844294,0.55720490973870196]
["*PZ190*","Wales",6,15,0.40000000596046448,0.40000000596046448,{"$f":"IF(B151='Unit list'!$D$1,'7procesess'!D151,-1)","v":-1},{"$f":"IF(B151='Unit list'!$D$1,'7procesess'!F151,1.1)","v":1.1000000000000001},{"$f":"IF(A151='Unit list'!$A$1,'7procesess'!D151,-1)","v":-1},{"$f":"IF(A151='Unit list'!$A$1,'7procesess'!F151,1.1)","v":1.1000000000000001},null,null,149,0.47744882567610214,0.63696099380130189,0.43145523804689295,0.68295458143051091,0.55720490973870196]
["*PZ191*","London and South East",39,60,0.64999997615814209,0.64999997615814209,{"$f":"IF(B152='Unit list'!$D$1,'7procesess'!D152,-1)","v":-1},{"$f":"IF(B152='Unit list'!$D$1,'7procesess'!F152,1.1)","v":1.1000000000000001},{"$f":"IF(A152='Unit list'!$A$1,'7procesess'!D152,-1)","v":-1},{"$f":"IF(A152='Unit list'!$A$1,'7procesess'!F152,1.1)","v":1.1000000000000001},null,null,150,0.47771512386214726,0.63669469561525682,0.43187510456693207,0.6825347149104718,0.55720490973870196]
["*PZ193*","Wales",25,28,0.8928571343421936,0.8928571343421936,{"$f":"IF(B153='Unit list'!$D$1,'7procesess'!D153,-1)","v":-1},{"$f":"IF(B153='Unit list'!$D$1,'7procesess'!F153,1.1)","v":1.1000000000000001},{"$f":"IF(A153='Unit list'!$A$1,'7procesess'!D153,-1)","v":-1},{"$f":"IF(A153='Unit list'!$A$1,'7procesess'!F153,1.1)","v":1.1000000000000001},null,null,151,0.47797877230279129,0.63643104717461285,0.43229079329140685,0.68211902618599696,0.55720490973870196]
["*PZ196*","London and South East",0,2,0,1.1000000000000001,{"$f":"IF(B154='Unit list'!$D$1,'7procesess'!D154,-1)","v":-1},{"$f":"IF(B154='Unit list'!$D$1,'7procesess'!F154,1.1)","v":1.1000000000000001},{"$f":"IF(A154='Unit list'!$A$1,'7procesess'!D154,-1)","v":-1},{"$f":"IF(A154='Unit list'!$A$1,'7procesess'!F154,1.1)","v":1.1000000000000001},null,null,152,0.47823981465145077,0.63617000482595298,0.43270237304770126,0.6817074464297026,0.55720490973870196]
["*PZ199*","London and South East",51,57,0.89473682641983032,0.89473682641983032,{"$f":"IF(B155='Unit list'!$D$1,'7procesess'!D155,-1)","v":-1},{"$f":"IF(B155='Unit list'!$D$1,'7procesess'!F155,1.1)","v":1.1000000000000001},{"$f":"IF(A155='Unit list'!$A$1,'7procesess'!D155,-1)","v":-1},{"$f":"IF(A155='Unit list'!$A$1,'7procesess'!F155,1.1)","v":1.1000000000000001},null,null,153,0.47849829356128948,0.63591152591611455,0.43310991108612856,0.68129990839127519,0.55720490973870196]
["*PZ200*","East of England",17,52,0.32692307233810425,0.32692307233810425,{"$f":"IF(B156='Unit list'!$D$1,'7procesess'!D156,-1)","v":52},{"$f":"IF(B156='Unit list'!$D$1,'7procesess'!F156,1.1)","v":0.32692307233810425},{"$f":"IF(A156='Unit list'!$A$1,'7procesess'!D156,-1)","v":-1},{"$f":"IF(A156='Unit list'!$A$1,'7procesess'!F156,1.1)","v":1.1000000000000001},null,null,154,0.47875425071449984,0.63565556876290419,0.43351347312608629,0.68089634635131757,0.55720490973870196]
["*PZ202*","London and South East",51,56,0.91071426868438721,0.91071426868438721,{"$f":"IF(B157='Unit list'!$D$1,'7procesess'!D157,-1)","v":-1},{"$f":"IF(B157='Unit list'!$D$1,'7procesess'!F157,1.1)","v":1.1000000000000001},{"$f":"IF(A157='Unit list'!$A$1,'7procesess'!D157,-1)","v":-1},{"$f":"IF(A157='Unit list'!$A$1,'7procesess'!F157,1.1)","v":1.1000000000000001},null,null,155,0.4790077268505335,0.63540209262687031,0.43391312340057758,0.68049669607682639,0.55720490973870196]
["*PZ203*","London and South East",47,301,0.15614618360996246,0.15614618360996246,{"$f":"IF(B158='Unit list'!$D$1,'7procesess'!D158,-1)","v":-1},{"$f":"IF(B158='Unit list'!$D$1,'7procesess'!F158,1.1)","v":1.1000000000000001},{"$f":"IF(A158='Unit list'!$A$1,'7procesess'!D158,-1)","v":-1},{"$f":"IF(A158='Unit list'!$A$1,'7procesess'!F158,1.1)","v":1.1000000000000001},null,null,156,0.47925876179334309,0.6351510576840611,0.43430892469915633,0.68010089477824764,0.55720490973870196]
["*PZ206*","North West",112,157,0.71337580680847168,0.71337580680847168,{"$f":"IF(B159='Unit list'!$D$1,'7procesess'!D159,-1)","v":-1},{"$f":"IF(B159='Unit list'!$D$1,'7procesess'!F159,1.1)","v":1.1000000000000001},{"$f":"IF(A159='Unit list'!$A$1,'7procesess'!D159,-1)","v":-1},{"$f":"IF(A159='Unit list'!$A$1,'7procesess'!F159,1.1)","v":1.1000000000000001},null,null,157,0.47950739447766266,0.63490242499974137,0.43470093840936458,0.67970888106803939,0.55720490973870196]
["*PZ213*","London and South East",50,101,0.49504950642585754,0.49504950642585754,{"$f":"IF(B160='Unit list'!$D$1,'7procesess'!D160,-1)","v":-1},{"$f":"IF(B160='Unit list'!$D$1,'7procesess'!F160,1.1)","v":1.1000000000000001},{"$f":"IF(A160='Unit list'!$A$1,'7procesess'!D160,-1)","v":-1},{"$f":"IF(A160='Unit list'!$A$1,'7procesess'!F160,1.1)","v":1.1000000000000001},null,null,158,0.47975366297437566,0.63465615650302831,0.43508922455672977,0.6793205949206742,0.55720490973870196]
["*PZ215*","London and South East",31,76,0.40789473056793213,0.40789473056793213,{"$f":"IF(B161='Unit list'!$D$1,'7procesess'!D161,-1)","v":-1},{"$f":"IF(B161='Unit list'!$D$1,'7procesess'!F161,1.1)","v":1.1000000000000001},{"$f":"IF(A161='Unit list'!$A$1,'7procesess'!D161,-1)","v":-1},{"$f":"IF(A161='Unit list'!$A$1,'7procesess'!F161,1.1)","v":1.1000000000000001},null,null,159,0.47999760451499862,0.63441221496240541,0.43547384184337146,0.67893597763403257,0.55720490973870196]
["*PZ216*","London and South East",26,35,0.74285715818405151,0.74285715818405151,{"$f":"IF(B162='Unit list'!$D$1,'7procesess'!D162,-1)","v":-1},{"$f":"IF(B162='Unit list'!$D$1,'7procesess'!F162,1.1)","v":1.1000000000000001},{"$f":"IF(A162='Unit list'!$A$1,'7procesess'!D162,-1)","v":-1},{"$f":"IF(A162='Unit list'!$A$1,'7procesess'!F162,1.1)","v":1.1000000000000001},null,null,160,0.48023925551532914,0.63417056396207505,0.43585484768528077,0.6785549717921231,0.55720490973870196]
["*PZ218*","London and South East",46,102,0.45098039507865906,0.45098039507865906,{"$f":"IF(B163='Unit list'!$D$1,'7procesess'!D163,-1)","v":-1},{"$f":"IF(B163='Unit list'!$D$1,'7procesess'!F163,1.1)","v":1.1000000000000001},{"$f":"IF(A163='Unit list'!$A$1,'7procesess'!D163,-1)","v":-1},{"$f":"IF(A163='Unit list'!$A$1,'7procesess'!F163,1.1)","v":1.1000000000000001},null,null,161,0.48047865159828229,0.63393116787912163,0.43623229824832505,0.67817752122907871,0.55720490973870196]
["*PZ219*","Yorkshire and Humber",67,98,0.6836734414100647,0.6836734414100647,{"$f":"IF(B164='Unit list'!$D$1,'7procesess'!D164,-1)","v":-1},{"$f":"IF(B164='Unit list'!$D$1,'7procesess'!F164,1.1)","v":1.1000000000000001},{"$f":"IF(A164='Unit list'!$A$1,'7procesess'!D164,-1)","v":-1},{"$f":"IF(A164='Unit list'!$A$1,'7procesess'!F164,1.1)","v":1.1000000000000001},null,null,162,0.48071582761594372,0.63369399186146047,0.43660624848302737,0.67780357099437638,0.55720490973870196]
["*PZ220*","East of England",40,73,0.54794520139694214,0.54794520139694214,{"$f":"IF(B165='Unit list'!$D$1,'7procesess'!D165,-1)","v":73},{"$f":"IF(B165='Unit list'!$D$1,'7procesess'!F165,1.1)","v":0.54794520139694214},{"$f":"IF(A165='Unit list'!$A$1,'7procesess'!D165,-1)","v":-1},{"$f":"IF(A165='Unit list'!$A$1,'7procesess'!F165,1.1)","v":1.1000000000000001},null,null,163,0.48095081767088976,0.63345900180651427,0.43697675215817039,0.67743306731923358,0.55720490973870196]
["*PZ221*","South West",26,81,0.32098764181137085,0.32098764181137085,{"$f":"IF(B166='Unit list'!$D$1,'7procesess'!D166,-1)","v":-1},{"$f":"IF(B166='Unit list'!$D$1,'7procesess'!F166,1.1)","v":1.1000000000000001},{"$f":"IF(A166='Unit list'!$A$1,'7procesess'!D166,-1)","v":-1},{"$f":"IF(A166='Unit list'!$A$1,'7procesess'!F166,1.1)","v":1.1000000000000001},null,null,164,0.48118365513677841,0.63322616434062551,0.43734386189327351,0.67706595758413024,0.55720490973870196]
["*PZ222*","West Midlands",64,94,0.6808510422706604,0.6808510422706604,{"$f":"IF(B167='Unit list'!$D$1,'7procesess'!D167,-1)","v":-1},{"$f":"IF(B167='Unit list'!$D$1,'7procesess'!F167,1.1)","v":1.1000000000000001},{"$f":"IF(A167='Unit list'!$A$1,'7procesess'!D167,-1)","v":-1},{"$f":"IF(A167='Unit list'!$A$1,'7procesess'!F167,1.1)","v":1.1000000000000001},null,null,165,0.48141437267826453,0.63299544679913955,0.43770762918998046,0.6767021902874234,0.55720490973870196]
["*PZ223*","West Midlands",48,66,0.72727274894714355,0.72727274894714355,{"$f":"IF(B168='Unit list'!$D$1,'7procesess'!D168,-1)","v":-1},{"$f":"IF(B168='Unit list'!$D$1,'7procesess'!F168,1.1)","v":1.1000000000000001},{"$f":"IF(A168='Unit list'!$A$1,'7procesess'!D168,-1)","v":-1},{"$f":"IF(A168='Unit list'!$A$1,'7procesess'!F168,1.1)","v":1.1000000000000001},null,null,166,0.48164300227024565,0.63276681720715822,0.43806810446241373,0.67634171501499007,0.55720490973870196]
["*PZ225*","West Midlands",39,58,0.67241376638412476,0.67241376638412476,{"$f":"IF(B169='Unit list'!$D$1,'7procesess'!D169,-1)","v":-1},{"$f":"IF(B169='Unit list'!$D$1,'7procesess'!F169,1.1)","v":1.1000000000000001},{"$f":"IF(A169='Unit list'!$A$1,'7procesess'!D169,-1)","v":-1},{"$f":"IF(A169='Unit list'!$A$1,'7procesess'!F169,1.1)","v":1.1000000000000001},null,null,167,0.48186957521647822,0.63254024426092581,0.43842533706652076,0.67598448241088305,0.55720490973870196]
["*PZ226*","Yorkshire and Humber",31,49,0.63265305757522583,0.63265305757522583,{"$f":"IF(B170='Unit list'!$D$1,'7procesess'!D170,-1)","v":-1},{"$f":"IF(B170='Unit list'!$D$1,'7procesess'!F170,1.1)","v":1.1000000000000001},{"$f":"IF(A170='Unit list'!$A$1,'7procesess'!D170,-1)","v":-1},{"$f":"IF(A170='Unit list'!$A$1,'7procesess'!F170,1.1)","v":1.1000000000000001},null,null,168,0.48209412216758063,0.63231569730982351,0.43877937532845918,0.67563044414894458,0.55720490973870196]
["*PZ228*","Wales",47,51,0.92156863212585449,0.92156863212585449,{"$f":"IF(B171='Unit list'!$D$1,'7procesess'!D171,-1)","v":-1},{"$f":"IF(B171='Unit list'!$D$1,'7procesess'!F171,1.1)","v":1.1000000000000001},{"$f":"IF(A171='Unit list'!$A$1,'7procesess'!D171,-1)","v":-1},{"$f":"IF(A171='Unit list'!$A$1,'7procesess'!F171,1.1)","v":1.1000000000000001},null,null,169,0.48231667313845117,0.63209314633895308,0.43913026657206183,0.67527955290534192,0.55720490973870196]
["*PZ230*","London and South East",34,58,0.58620691299438477,0.58620691299438477,{"$f":"IF(B172='Unit list'!$D$1,'7procesess'!D172,-1)","v":-1},{"$f":"IF(B172='Unit list'!$D$1,'7procesess'!F172,1.1)","v":1.1000000000000001},{"$f":"IF(A172='Unit list'!$A$1,'7procesess'!D172,-1)","v":-1},{"$f":"IF(A172='Unit list'!$A$1,'7procesess'!F172,1.1)","v":1.1000000000000001},null,null,170,0.4825372575251185,0.63187256195228547,0.43947805714540478,0.67493176233199914,0.55720490973870196]
["*PZ231*","North West",32,45,0.71111112833023071,0.71111112833023071,{"$f":"IF(B173='Unit list'!$D$1,'7procesess'!D173,-1)","v":-1},{"$f":"IF(B173='Unit list'!$D$1,'7procesess'!F173,1.1)","v":1.1000000000000001},{"$f":"IF(A173='Unit list'!$A$1,'7procesess'!D173,-1)","v":-1},{"$f":"IF(A173='Unit list'!$A$1,'7procesess'!F173,1.1)","v":1.1000000000000001},null,null,171,0.4827559041210534,0.63165391535635051,0.43982279244652434,0.67458702703087936,0.55720490973870196]
["*PZ232*","London and South East",45,141,0.31914892792701721,0.31914892792701721,{"$f":"IF(B174='Unit list'!$D$1,'7procesess'!D174,-1)","v":-1},{"$f":"IF(B174='Unit list'!$D$1,'7procesess'!F174,1.1)","v":1.1000000000000001},{"$f":"IF(A174='Unit list'!$A$1,'7procesess'!D174,-1)","v":-1},{"$f":"IF(A174='Unit list'!$A$1,'7procesess'!F174,1.1)","v":1.1000000000000001},null,null,172,0.48297264113295935,0.63143717834444468,0.44016451694830888,0.67424530252909509,0.55720490973870196]
["*PZ238*","South Central",48,115,0.41739130020141602,0.41739130020141602,{"$f":"IF(B175='Unit list'!$D$1,'7procesess'!D175,-1)","v":-1},{"$f":"IF(B175='Unit list'!$D$1,'7procesess'!F175,1.1)","v":1.1000000000000001},{"$f":"IF(A175='Unit list'!$A$1,'7procesess'!D175,-1)","v":-1},{"$f":"IF(A175='Unit list'!$A$1,'7procesess'!F175,1.1)","v":1.1000000000000001},null,null,173,0.48318749619605122,0.63122232328135275,0.44050327422259888,0.67390654525480498,0.55720490973870196]
["*PZ240*","West Midlands",21,90,0.23333333432674408,0.23333333432674408,{"$f":"IF(B176='Unit list'!$D$1,'7procesess'!D176,-1)","v":-1},{"$f":"IF(B176='Unit list'!$D$1,'7procesess'!F176,1.1)","v":1.1000000000000001},{"$f":"IF(A176='Unit list'!$A$1,'7procesess'!D176,-1)","v":-1},{"$f":"IF(A176='Unit list'!$A$1,'7procesess'!F176,1.1)","v":1.1000000000000001},null,null,174,0.48340049638886062,0.63100932308854341,0.44083910696352285,0.67357071251388101,0.55720490973870196]
["*PZ242*","South West",57,115,0.49565216898918152,0.49565216898918152,{"$f":"IF(B177='Unit list'!$D$1,'7procesess'!D177,-1)","v":-1},{"$f":"IF(B177='Unit list'!$D$1,'7procesess'!F177,1.1)","v":1.1000000000000001},{"$f":"IF(A177='Unit list'!$A$1,'7procesess'!D177,-1)","v":-1},{"$f":"IF(A177='Unit list'!$A$1,'7procesess'!F177,1.1)","v":1.1000000000000001},null,null,175,0.48361166824757074,0.63079815122983329,0.44117205701009943,0.67323776246730449,0.55720490973870196]
[null,null,null,null,null,null,null,null,null,null,null,null,176,0.48382103777990443,0.63058878169749955,0.44150216536813358,0.67290765410927034,0.55720490973870196]
[null,null,null,null,{"$f":"IF(VLOOKUP('Unit list'!$A$1,'7procesess'!$A$3:$F$177,6,0)=1.1,\"less than five\",IF(VLOOKUP('Unit list'!$A$1,'7procesess'!$A$3:$F$177,6,0)=0,\"no\",F179&\"% of\"))","v":"58.7% of"},{"$f":"ROUND(VLOOKUP('Unit list'!$A$1,'7procesess'!$A$3:$F$177,6,0)*100,1)","v":58.7},{"$f":"IF(B176='Unit list'!$D$1,'7procesess'!D179,-1)","v":-1},null,null,null,null,null,177,0.48402863047857325,0.63038118899883067,0.44182947223142843,0.67258034724597537,0.55720490973870196]
[null,null,null,null,{"$f":"IF(ISERROR(C180/D180),\"\",C180/D180)","v":""},null,null,null,null,null,null,null,178,0.4842344713343219,0.63017534814308207,0.44215401700234352,0.67225580247506034,0.55720490973870196]
[null,null,{"$f":"D181*E181","v":0},null,{"$f":"U7","v":0.55720490973870196},null,null,null,null,null,null,null,179,0.48443858484856295,0.62997123462884108,0.44247583831171938,0.67193398116568459,0.55720490973870196]
[null,null,null,null,null,null,null,null,null,null,null,null,180,0.48464099504562752,0.62976882443177662,0.44279497403819151,0.67161484543921257,0.55720490973870196]
[null,null,null,{"$f":"MAX(D2:D179)","v":301},{"$f":"COUNTIF(E3:E179,0)","v":1},null,null,null,null,null,null,null,181,0.48484172548464144,0.62956809399276259,0.44311146132691925,0.67129835815048478,0.55720490973870196]
[null,null,null,null,null,null,null,null,null,null,null,null,182,0.48504079927104443,0.62936902020635954,0.44342533660774347,0.67098448286966061,0.55720490973870196]
[null,null,null,{"$f":"MAX(D3:D179)","v":301},{"$f":"MAX(E3:E179)","v":0.95833331346511841},null,null,null,null,null,null,null,183,0.4852382390677627,0.62917158040964127,0.44373663561280491,0.67067318386459895,0.55720490973870196]
[null,null,null,null,null,null,null,null,null,null,null,null,184,0.4854340671060457,0.62897575237135828,0.44404539339362592,0.670364426083778,0.55720490973870196]
[null,null,null,null,null,"E&W",null,null,null,null,null,null,185,0.4856283051959796,0.62878151428142437,0.44435164433769242,0.67005817513971155,0.55720490973870196]
[null,null,null,null,"Denominator",{"$f":"VLOOKUP('Unit list'!$A$1,'7procesess'!$A$3:$F$177,4,0)","v":121},null,null,null,null,null,null,186,0.48582097473669034,0.62858884474071386,0.44465542218453874,0.66975439729286523,0.55720490973870196]
[null,null,null,null,"LCI",{"$f":"VLOOKUP($F$188,$M$3:$R$315,2,0)","v":0.468700630120224},null,null,null,null,null,null,187,0.4860120967262494,0.62839772275115446,0.44495676004136242,0.66945305943604128,0.55720490973870196]
[null,null,null,null,"UCI",{"$f":"VLOOKUP($F$188,$M$3:$R$315,3,0)","v":0.64570918935717969},null,null,null,null,null,null,188,0.48620169177128064,0.62820812770612333,0.44525569039817864,0.66915412907922556,0.55720490973870196]
[null,null,null,null,null,null,null,null,null,null,null,null,189,0.48638978009629946,0.62802003938110462,0.44555224514253666,0.66885757433486737,0.55720490973870196]
[null,null,null,null,null,{"$f":"IF(VLOOKUP('Unit list'!$A$1,$A$2:$F$177,6,FALSE)=1.1,\"Your unit's result cannot be reported due to small numbers.\",IF(VLOOKUP('Unit list'!$A$1,$A$3:$F$177,6,0)<F189,\"Your unit's result is significantly lower than the national mean.\",IF(VLOOKUP('Unit list'!$A$1,$A$3:$F$177,6,0)>F190,\"Your unit's result is significantly higher than the national mean.\",\"This result is similar to the national mean.\")))","v":"This result is similar to the national mean."},null,null,null,null,null,null,190,0.48657638155277011,0.62783343792463375,0.4458464555738067,0.66856336390359705,0.55720490973870196]
[null,null,null,null,null,null,null,null,null,null,null,null,191,0.48676151562790826,0.62764830384949577,0.44613835241705319,0.66827146706035057,0.55720490973870196]
[null,null,null,null,null,null,null,null,null,null,null,null,192,0.486945201453229,0.62746461802417497,0.44642796583651784,0.66798185364088603,0.55720490973870196]
[null,null,null,null,null,null,null,null,null,null,null,null,193,0.48712745781285016,0.62728236166455376,0.44671532544870879,0.66769449402869496,{"$f":"IF(M195=\"\",\"\",$U$7)","v":0.55720490973870196}]
[null,null,null,null,null,null,null,null,null,null,null,null,194,0.48730830315156271,0.62710151632584132,0.44700046033512431,0.6674093591422795,0.55720490973870196]
[null,null,null,null,null,null,null,null,null,null,null,null,195,{"$f":"MAX(0,(($R$3*($M197/NORMSINV((1-U$3)/2)^2+1)-SQRT((-8*$R$3*($M197/NORMSINV((1-U$3)/2)^2+1))^2-64*(1/NORMSINV((1-U$3)/2)^2+1/$M197)*$R$3*($M197*($R$3*($M197/NORMSINV((1-U$3)/2)^2+2)-1)+NORMSINV((1-U$3)/2)^2*($R$3-1)))/8)/(1/NORMSINV((1-U$3)/2)^2+1/$M197)/$M197))","v":0.48748775558267121},{"$f":"MIN(1,(($R$3*($M197/NORMSINV((1-U$3)/2)^2+1)+SQRT((-8*$R$3*($M197/NORMSINV((1-U$3)/2)^2+1))^2-64*(1/NORMSINV((1-U$3)/2)^2+1/$M197)*$R$3*($M197*($R$3*($M197/NORMSINV((1-U$3)/2)^2+2)-1)+NORMSINV((1-U$3)/2)^2*($R$3-1)))/8)/(1/NORMSINV((1-U$3)/2)^2+1/$M197)/$M197))","v":0.62692206389473293},0.44728339905461356,0.66712642042279013,0.55720490973870196]
[null,null,null,null,null,null,null,null,null,null,null,null,196,0.48766583289561222,0.62674398658179187,0.44756416965539308,0.66684564982201056,0.55720490973870196]
[null,null,null,null,null,null,null,null,null,null,null,null,197,0.48784255256336406,0.62656726691403986,0.44784279968672519,0.66656701979067867,0.55720490973870196]
[null,null,null,null,null,null,null,null,null,null,null,null,198,0.48801793174964714,0.62639188772775689,0.44811931621027196,0.6662905032671318,0.55720490973870196]
[null,null,null,null,null,null,null,null,null,null,null,null,199,0.48819198731592683,0.62621783216147708,0.44839374581113534,0.66601607366626869,0.55720490973870196]
[null,null,null,null,null,null,null,null,null,null,null,null,200,0.48836473582822043,0.62604508364918343,0.44866611460859462,0.66574370486880918,0.55720490973870196]
[null,null,null,null,null,null,null,null,null,null,null,null,201,0.48853619356372319,0.6258736259136809,{"$f":"MAX(0,(($R$3*($M203/NORMSINV((1-U$4)/2)^2+1)-SQRT((-8*$R$3*($M203/NORMSINV((1-U$4)/2)^2+1))^2-64*(1/NORMSINV((1-U$4)/2)^2+1/$M203)*$R$3*($M203*($R$3*($M203/NORMSINV((1-U$4)/2)^2+2)-1)+NORMSINV((1-U$4)/2)^2*($R$3-1)))/8)/(1/NORMSINV((1-U$4)/2)^2+1/$M203)/$M203))","v":0.44893644826654605},{"$f":"MIN(1,(($R$3*($M203/NORMSINV((1-U$4)/2)^2+1)+SQRT((-8*$R$3*($M203/NORMSINV((1-U$4)/2)^2+1))^2-64*(1/NORMSINV((1-U$4)/2)^2+1/$M203)*$R$3*($M203*($R$3*($M203/NORMSINV((1-U$4)/2)^2+2)-1)+NORMSINV((1-U$4)/2)^2*($R$3-1)))/8)/(1/NORMSINV((1-U$4)/2)^2+1/$M203)/$M203))","v":0.6654733712108577},0.55720490973870196]
[null,null,null,null,null,null,null,null,null,null,null,null,202,0.4887063765172493,0.62570344296015479,0.44920477200366232,0.66520504747374143,0.55720490973870196]
[null,null,null,null,null,null,null,null,null,null,null,null,203,0.48887530040749727,0.62553451906990676,0.44947111060327249,0.66493870887413142,0.55720490973870196]
[null,null,null,null,null,null,null,null,null,null,null,null,204,0.48904298068315138,0.62536683879425259,0.44973548842297745,0.66467433105442641,0.55720490973870196]
[null,null,null,null,null,null,null,null,null,null,null,null,205,0.48920943252881427,0.6252003869485897,0.44999792940400846,0.66441189007339552,0.55720490973870196]
[null,null,null,null,null,null,null,null,null,null,null,null,206,0.48937467087078235,0.62503514860662157,0.45025845708033108,0.66415136239707295,0.55720490973870196]
[null,null,null,null,null,null,null,null,null,null,null,null,207,0.48953871038267027,0.62487110909473365,0.45051709458751099,0.66389272488989304,0.55720490973870196]
[null,null,null,null,null,null,null,null,null,null,null,null,208,0.48970156549088084,0.6247082539865233,0.45077386467134295,0.66363595480606108,0.55720490973870196]
[null,null,null,null,null,null,null,null,null,null,null,null,209,0.48986325037993872,0.62454656909746509,0.45102878969625398,0.66338102978114999,0.55720490973870196]
[null,null,null,null,null,null,null,null,null,null,null,null,210,0.49002377899767302,0.6243860404797309,0.4512818916534842,0.66312792782391961,0.55720490973870196]
[null,null,null,null,null,null,null,null,null,null,null,null,211,0.49018316506027898,0.6242266544171251,0.45153319216905657,0.66287662730834718,0.55720490973870196]
[null,null,null,null,null,null,null,null,null,null,null,null,212,0.49034142205723569,0.6240683974201684,0.45178271251153723,0.66262710696586669,0.55720490973870196]
[null,null,null,null,null,null,null,null,null,null,null,null,213,0.49049856325610169,0.62391125622130239,0.45203047359959608,0.662379345877808,0.55720490973870196]
[null,null,null,null,null,null,null,null,null,null,null,null,214,0.49065460170718977,0.62375521777021425,0.45227649600937514,0.66213332346802889,0.55720490973870196]
[null,null,null,null,null,null,null,null,null,null,null,null,215,0.49080955024811657,0.62360026922928735,0.45252079998166356,0.66188901949574042,0.55720490973870196]
[null,null,null,null,null,null,null,null,null,null,null,null,216,0.49096342150823991,0.6234463979691639,0.45276340542889348,0.66164641404851021,0.55720490973870196]
[null,null,null,null,null,null,null,null,null,null,null,null,217,0.49111622791298215,0.62329359156442199,0.45300433194195738,0.66140548753544648,0.55720490973870196]
[null,null,null,null,null,null,null,null,null,null,null,null,218,0.49126798168804836,0.62314183778935528,0.45324359879685155,0.6611662206805522,0.55720490973870196]
[null,null,null,null,null,null,null,null,null,null,null,null,219,0.49141869486352413,0.62299112461387984,0.45348122496115778,0.66092859451624608,0.55720490973870196]
[null,null,null,null,null,null,null,null,null,null,null,null,220,0.49156837927789615,0.62284144019950805,0.453717229100353,0.66069259037705075,0.55720490973870196]
[null,null,null,null,null,null,null,null,null,null,null,null,221,0.4917170465819497,0.62269277289545444,0.45395162958397423,0.66045818989342953,0.55720490973870196]
[null,null,null,null,null,null,null,null,null,null,null,null,222,0.49186470824257522,0.62254511123482881,0.45418444449161821,0.66022537498578571,0.55720490973870196]
[null,null,null,null,null,null,null,null,null,null,null,null,223,0.49201137554648905,0.62239844393091504,0.45441569161880446,0.65999412785859946,0.55720490973870196]
[null,null,null,null,null,null,null,null,null,null,null,null,224,0.4921570596038542,0.62225275987354978,0.45464538848268343,0.65976443099472049,0.55720490973870196]
[null,null,null,null,null,null,null,null,null,null,null,null,225,0.49230177135181774,0.62210804812558651,0.45487355232761362,0.6595362671497903,0.55720490973870196]
[null,null,null,null,null,null,null,null,null,null,null,null,226,0.49244552155795562,0.62196429791944841,0.45510020013059821,0.65930961934680576,0.55720490973870196]
[null,null,null,null,null,null,null,null,null,null,null,null,227,0.4925883208236409,0.62182149865376313,0.45532534860659024,0.65908447087081357,0.55720490973870196]
[null,null,null,null,null,null,null,null,null,null,null,null,228,0.49273017958732818,0.62167963989007569,0.45554901421367133,0.65886080526373259,0.55720490973870196]
[null,null,null,null,null,null,null,null,null,null,null,null,229,0.49287110812775614,0.62153871134964789,0.45577121315810465,0.65863860631929916,0.55720490973870196]
[null,null,null,null,null,null,null,null,null,null,null,null,230,0.49301111656707841,0.62139870291032562,0.45599196139926662,0.65841785807813735,0.55720490973870196]
[null,null,null,null,null,null,null,null,null,null,null,null,231,0.49315021487391464,0.62125960460348917,0.45621127465446282,0.65819854482294105,0.55720490973870196]
[null,null,null,null,null,null,null,null,null,null,null,null,232,0.49328841286633174,0.62112140661107251,0.45642916840362685,0.65798065107377712,0.55720490973870196]
[null,null,null,null,null,null,null,null,null,null,null,null,233,0.4934257202147605,0.62098409926264364,0.45664565789391104,0.65776416158349282,0.55720490973870196]
[null,null,null,null,null,null,null,null,null,null,null,null,234,0.4935621464448291,0.62084767303257504,0.45686075814416766,0.6575490613332361,0.55720490973870196]
[null,null,null,null,null,null,null,null,null,null,null,null,235,0.49369770094014731,0.62071211853725661,0.45707448394932415,0.65733533552807966,0.55720490973870196]
[null,null,null,null,null,null,null,null,null,null,null,null,236,0.49383239294500558,0.62057742653239845,0.45728684988465912,0.65712296959274463,0.55720490973870196]
[null,null,null,null,null,null,null,null,null,null,null,null,237,0.49396623156704,0.62044358791036414,0.45749787030997496,0.65691194916742879,0.55720490973870196]
[null,null,null,null,null,null,null,null,null,null,null,null,238,0.49409922577980198,0.62031059369760222,0.45770755937367941,0.65670226010372457,0.55720490973870196]
[null,null,null,null,null,null,null,null,null,null,null,null,239,0.49423138442529951,0.62017843505210435,0.45791593101676775,0.65649388846063628,0.55720490973870196]
[null,null,null,null,null,null,null,null,null,null,null,null,240,0.49436271621645284,0.62004710326095125,0.45812299897671577,0.65628682050068821,0.55720490973870196]
[null,null,null,null,null,null,null,null,null,null,null,null,241,0.49449322973951948,0.61991658973788466,0.45832877679128514,0.65608104268611878,0.55720490973870196]
[null,null,null,null,null,null,null,null,null,null,null,null,242,0.49462293345644509,0.61978688602095888,0.45853327780224085,0.65587654167516307,0.55720490973870196]
[null,null,null,null,null,null,null,null,null,null,null,null,243,0.49475183570717013,0.61965798377023384,0.45873651515898251,0.6556733043184213,0.55720490973870196]
[null,null,null,null,null,null,null,null,null,null,null,null,244,0.49487994471187952,0.61952987476552468,0.45893850182209889,0.65547131765530475,0.55720490973870196]
[null,null,null,null,null,null,null,null,null,null,null,null,245,0.49500726857320931,0.61940255090419483,0.45913925056683641,0.65527056891056723,0.55720490973870196]
[null,null,null,null,null,null,null,null,null,null,null,null,246,0.49513381527839623,0.61927600419900752,0.45933877398649486,0.65507104549090889,0.55720490973870196]
[null,null,null,null,null,null,null,null,null,null,null,null,247,0.49525959270137798,0.61915022677602605,0.45953708449574615,0.65487273498165777,0.55720490973870196]
[null,null,null,null,null,null,null,null,null,null,null,null,248,0.49538460860486294,0.61902521087254103,0.45973419433387613,0.65467562514352773,0.55720490973870196]
[null,null,null,null,null,null,null,null,null,null,null,null,249,0.49550887064233012,0.61890094883507396,0.45993011556796054,0.65447970390944343,0.55720490973870196]
[null,null,null,null,null,null,null,null,null,null,null,null,250,0.49563238636000401,0.61877743311739986,0.46012486009596493,0.65428495938143882,0.55720490973870196]
[null,null,null,null,null,null,null,null,null,null,null,null,251,0.49575516319877605,0.61865465627862815,0.4603184396497822,0.65409137982762167,0.55720490973870196]
[null,null,null,null,null,null,null,null,null,null,null,null,252,0.49587720849609324,0.61853261098131085,0.46051086579819994,0.65389895367920381,0.55720490973870196]
[null,null,null,null,null,null,null,null,null,null,null,null,253,0.49599852948778916,0.61841128998961481,0.46070214994980374,0.65370766952760007,0.55720490973870196]
[null,null,null,null,null,null,null,null,null,null,null,null,254,0.49611913330989837,0.61829068616750582,0.46089230335581932,0.65351751612158449,0.55720490973870196]
[null,null,null,null,null,null,null,null,null,null,null,null,255,0.4962390270004105,0.61817079247699358,0.46108133711289234,0.65332848236451158,0.55720490973870196]
[null,null,null,null,null,null,null,null,null,null,null,null,256,0.49635821750099834,0.61805160197640563,0.46126926216580644,0.65314055731159759,0.55720490973870196]
[null,null,null,null,null,null,null,null,null,null,null,null,257,0.49647671165870699,0.61793310781869715,0.46145608931014809,0.65295373016725577,{"$f":"IF(M259=\"\",\"\",$U$7)","v":0.55720490973870196}]
[null,null,null,null,null,null,null,null,null,null,null,null,258,0.49659451622760564,0.61781530324979828,0.46164182919490748,0.65276799028249644,0.55720490973870196]
[null,null,null,null,null,null,null,null,null,null,null,null,259,{"$f":"MAX(0,(($R$3*($M261/NORMSINV((1-U$3)/2)^2+1)-SQRT((-8*$R$3*($M261/NORMSINV((1-U$3)/2)^2+1))^2-64*(1/NORMSINV((1-U$3)/2)^2+1/$M261)*$R$3*($M261*($R$3*($M261/NORMSINV((1-U$3)/2)^2+2)-1)+NORMSINV((1-U$3)/2)^2*($R$3-1)))/8)/(1/NORMSINV((1-U$3)/2)^2+1/$M261)/$M261))","v":0.49671163787039929},{"$f":"MIN(1,(($R$3*($M261/NORMSINV((1-U$3)/2)^2+1)+SQRT((-8*$R$3*($M261/NORMSINV((1-U$3)/2)^2+1))^2-64*(1/NORMSINV((1-U$3)/2)^2+1/$M261)*$R$3*($M261*($R$3*($M261/NORMSINV((1-U$3)/2)^2+2)-1)+NORMSINV((1-U$3)/2)^2*($R$3-1)))/8)/(1/NORMSINV((1-U$3)/2)^2+1/$M261)/$M261))","v":0.61769818160700474},0.46182649232503242,0.65258332715237144,0.55720490973870196]
[null,null,null,null,null,null,null,null,null,null,null,null,260,0.49682808316002286,0.61758173631738122,0.46201008906391855,0.65239973041348531,0.55720490973870196]
[null,null,null,null,null,null,null,null,null,null,null,null,261,0.49694385858117923,0.61746596089622496,0.46219262963585767,0.65221718984154609,0.55720490973870196]
[null,null,null,null,null,null,null,null,null,null,null,null,262,0.49705897053186232,0.61735084894554149,0.46237412412842588,0.65203569534897798,0.55720490973870196]
[null,null,null,null,null,null,null,null,null,null,null,null,263,0.49717342532483827,0.61723639415256604,0.46255458249482523,0.65185523698257852,0.55720490973870196]
[null,null,null,null,null,null,null,null,null,null,null,null,264,0.49728722918910584,0.61712259028829819,0.46273401455617802,0.65167580492122601,0.55720490973870196]
[null,null,null,null,null,null,null,null,null,null,null,null,265,0.49740038827131045,0.61700943120609342,{"$f":"MAX(0,(($R$3*($M267/NORMSINV((1-U$4)/2)^2+1)-SQRT((-8*$R$3*($M267/NORMSINV((1-U$4)/2)^2+1))^2-64*(1/NORMSINV((1-U$4)/2)^2+1/$M267)*$R$3*($M267*($R$3*($M267/NORMSINV((1-U$4)/2)^2+2)-1)+NORMSINV((1-U$4)/2)^2*($R$3-1)))/8)/(1/NORMSINV((1-U$4)/2)^2+1/$M267)/$M267))","v":0.46291243000377019},{"$f":"MIN(1,(($R$3*($M267/NORMSINV((1-U$4)/2)^2+1)+SQRT((-8*$R$3*($M267/NORMSINV((1-U$4)/2)^2+1))^2-64*(1/NORMSINV((1-U$4)/2)^2+1/$M267)*$R$3*($M267*($R$3*($M267/NORMSINV((1-U$4)/2)^2+2)-1)+NORMSINV((1-U$4)/2)^2*($R$3-1)))/8)/(1/NORMSINV((1-U$4)/2)^2+1/$M267)/$M267))","v":0.65149738947363367},0.55720490973870196]
[null,null,null,null,null,null,null,null,null,null,null,null,266,0.49751290863714814,0.61689691084025611,0.46308983840125034,0.65131998107615363,0.55720490973870196]
[null,null,null,null,null,null,null,null,null,null,null,null,267,0.4976247962727281,0.61678502320467588,0.46326624918678283,0.65114357029062098,0.55720490973870196]
[null,null,null,null,null,null,null,null,null,null,null,null,268,0.49773605708590735,0.61667376239149663,0.46344167167515887,0.65096814780224488,0.55720490973870196]
[null,null,null,null,null,null,null,null,null,null,null,null,269,0.49784669690760258,0.6165631225698015,0.46361611505985739,0.65079370441754647,0.55720490973870196]
[null,null,null,null,null,null,null,null,null,null,null,null,270,0.4979567214930759,0.61645309798432801,0.46378958841507417,0.65062023106232958,0.55720490973870196]
[null,null,null,null,null,null,null,null,null,null,null,null,271,0.49806613652319043,0.6163436829542136,0.46396210069770222,0.65044771877970142,0.55720490973870196]
[null,null,null,null,null,null,null,null,null,null,null,null,272,0.49817494760564229,0.61623487187176185,0.46413366074927143,0.65027615872813249,0.55720490973870196]
[null,null,null,null,null,null,null,null,null,null,null,null,273,0.49828316027616815,0.61612665920123588,0.46430427729785811,0.65010554217954597,0.55720490973870196]
[null,null,null,null,null,null,null,null,null,null,null,null,274,0.49839077999972808,0.61601903947767578,0.4644739589599437,0.64993586051746022,0.55720490973870196]
[null,null,null,null,null,null,null,null,null,null,null,null,275,0.49849781217166422,0.61591200730573958,0.46464271424224673,0.64976710523515724,0.55720490973870196]
[null,null,null,null,null,null,null,null,null,null,null,null,276,0.49860426211883635,0.61580555735856768,0.46481055154351203,0.64959926793389189,0.55720490973870196]
[null,null,null,null,null,null,null,null,null,null,null,null,277,0.49871013510073864,0.61569968437666522,0.46497747915626703,0.64943234032113706,0.55720490973870196]
[null,null,null,null,null,null,null,null,null,null,null,null,278,0.49881543631058639,0.61559438316681792,0.46514350526854253,0.64926631420886127,0.55720490973870196]
[null,null,null,null,null,null,null,null,null,null,null,null,279,0.49892017087639212,0.61548964860101185,0.46530863796555993,0.64910118151184393,0.55720490973870196]
[null,null,null,null,null,null,null,null,null,null,null,null,280,0.49902434386200789,0.61538547561539603,0.4654728852313848,0.64893693424601906,0.55720490973870196]
[null,null,null,null,null,null,null,null,null,null,null,null,281,0.49912796026815409,0.61528185920925005,0.46563625495054822,0.64877356452685564,0.55720490973870196]
[null,null,null,null,null,null,null,null,null,null,null,null,282,0.4992310250334363,0.61517879444396761,0.46579875490963679,0.64861106456776707,0.55720490973870196]
[null,null,null,null,null,null,null,null,null,null,null,null,283,0.49933354303532351,0.61507627644208041,0.46596039279885049,0.64844942667855354,0.55720490973870196]
[null,null,null,null,null,null,null,null,null,null,null,null,284,0.49943551909112305,0.61497430038628098,0.46612117621353205,0.64828864326387181,0.55720490973870196]
[null,null,null,null,null,null,null,null,null,null,null,null,285,0.4995369579589311,0.61487286151847287,0.4662811126556678,0.64812870682173607,0.55720490973870196]
[null,null,null,null,null,null,null,null,null,null,null,null,286,0.49963786433856283,0.61477195513884109,0.46644020953535303,0.64796960994205077,0.55720490973870196]
[null,null,null,null,null,null,null,null,null,null,null,null,287,0.49973824287247037,0.61467157660493354,0.46659847417223987,0.64781134530516415,0.55720490973870196]
[null,null,null,null,null,null,null,null,null,null,null,null,288,0.4998380981466331,0.61457172133077098,0.46675591379694631,0.64765390568045755,0.55720490973870196]
[null,null,null,null,null,null,null,null,null,null,null,null,289,0.4999374346914513,0.61447238478595267,0.46691253555244777,0.64749728392495609,0.55720490973870196]
[null,null,null,null,null,null,null,null,null,null,null,null,290,0.50003625698259258,0.61437356249481145,0.46706834649543666,0.6473414729819672,0.55720490973870196]
[null,null,null,null,null,null,null,null,null,null,null,null,291,0.50013456944185219,0.61427525003555183,0.46722335359765838,0.64718646587974549,0.55720490973870196]
[null,null,null,null,null,null,null,null,null,null,null,null,292,0.50023237643797624,0.61417744303942745,0.46737756374721973,0.64703225573018408,0.55720490973870196]
[null,null,null,null,null,null,null,null,null,null,null,null,293,0.50032968228747965,0.61408013718992438,0.46753098374987639,0.64687883572752758,0.55720490973870196]
[null,null,null,null,null,null,null,null,null,null,null,null,294,0.50042649125544847,0.61398332822195545,0.46768362033029487,0.64672619914710883,0.55720490973870196]
[null,null,null,null,null,null,null,null,null,null,null,null,295,0.50052280755632117,0.61388701192108286,0.46783548013328896,0.64657433934411479,0.55720490973870196]
[null,null,null,null,null,null,null,null,null,null,null,null,296,0.50061863535466233,0.61379118412274158,0.46798656972503611,0.64642324975236765,0.55720490973870196]
[null,null,null,null,null,null,null,null,null,null,null,null,297,0.50071397876591683,0.61369584071148708,0.46813689559426758,0.6462729238831364,0.55720490973870196]
[null,null,null,null,null,null,null,null,null,null,null,null,298,0.50080884185715335,0.61360097762025068,0.46828646415344105,0.64612335532396292,0.55720490973870196]
[null,null,null,null,null,null,null,null,null,null,null,null,299,0.50090322864779302,0.61350659082961112,0.46843528173989213,0.64597453773751168,0.55720490973870196]
[null,null,null,null,null,null,null,null,null,null,null,null,300,0.50099714311032328,0.61341267636708063,0.46858335461695411,0.64582646486044992,0.55720490973870196]
[null,null,null,null,null,null,null,null,null,null,null,null,301,0.50109058917100469,0.61331923030639923,0.46873068897507392,0.64567913050233017,0.55720490973870196]
[null,null,null,null,null,null,null,null,null,null,null,null,302,0.50118357071055186,0.61322624876685217,0.46887729093289343,0.64553252854451049,0.55720490973870196]
[null,null,null,null,null,null,null,null,null,null,null,null,303,0.50127609156482145,0.61313372791258269,0.46902316653831894,0.6453866529390847,0.55720490973870196]
[null,null,null,null,null,null,null,null,null,null,null,null,304,0.50136815552546588,0.61304166395193815,0.46916832176956808,0.6452414977078359,0.55720490973870196]
[null,null,null,null,null,null,null,null,null,null,null,null,305,0.50145976634059364,0.61295005313681039,0.46931276253620202,0.64509705694120179,0.55720490973870196]
[null,null,null,null,null,null,null,null,null,null,null,null,306,0.50155092771540666,0.61285889176199737,0.46945649468013212,0.64495332479727141,0.55720490973870196]
[null,null,null,null,null,null,null,null,null,null,null,null,307,0.50164164331283112,0.61276817616457291,0.46959952397661109,0.64481029550079283,0.55720490973870196]
[null,null,null,null,null,null,null,null,null,null,null,null,308,0.5017319167541342,0.61267790272326994,0.46974185613521607,0.64466796334218757,0.55720490973870196]
[null,null,null,null,null,null,null,null,null,null,null,null,309,0.50182175161953557,0.61258806785786835,0.46988349680079344,0.64452632267661036,0.55720490973870196]
[null,null,null,null,null,null,null,null,null,null,null,null,310,0.50191115144879339,0.61249866802861053,0.47002445155441136,0.6443853679229925,0.55720490973870196]
[null,null,null,null,null,null,null,null,null,null,null,null,311,0.50200011974180458,0.61240969973559944,0.47016472591427561,0.64424509356312831,0.55720490973870196]
[null,null,null,null,null,null,null,null,null,null,null,null,312,0.50208865995916896,0.61232115951823518,0.47030432533663913,0.64410549414076468,0.55720490973870196]
[null,null,null,null,null,null,null,null,null,null,null,null,313,0.50217677552275952,0.61223304395464451,0.47044325521669283,0.64396656426071108,0.55720490973870196]

{"sheet":"HbA1c-1718","index":12,"n_rows":187,"n_cols":25,"rows_kept":187,"cut":false,"hidden":true,"merged":[[0,0,1,0],[0,1,1,1],[0,2,1,2],[0,4,0,15],[0,17,0,19]]}
["Unit code","Unit name","Region",null,"Unadjusted HbA1c figures (Type 1 diabetes only)",null,null,null,null,null,null,null,null,null,null,null,null,"Adjusted HbA1c figures (Type 1 diabetes only)"]
[null,null,null,"Denominator","Mean","Median","DCCT","Full text",null,"% ≤48 mmol/mol","% ≤53 mmol/mol","% <58 mmol/mol","% 58-80mmol/mol","% ≥69mmol/mol","% >75mmol/mol","% >80mmol/mol","< 80","Mean","% <58mmol/mol","% >80mmol/mol","pdu_last","% < 80",null,null," mmol/mol "]
["PZ001","Morriston Hospital, Swansea, Abertawe Bro Morgannwg University Health Board","Wales",126,73.440475463867188,70.25,{"$f":"(F3/10.929)+2.15","v":8.5778525025162402},{"$f":"(ROUND(F3,1)&$Y$2&$Y$3&(ROUND(G3,1)&$Y$4&$Y$5))","v":"70.3 mmol/mol (8.6%)"},"70.3 mmol/mol (8.6%)",7.1428571428571425E-2,0.1111111111111111,0.20634920634920634,0.51587301587301593,0.53174603174603174,0.34920634920634919,0.27777777777777779,0.72222222222222221,73.783230000000003,0.21101635694503784,0.3205112,1,null,null,null,"("]
["PZ002","Norfolk and Norwich University Hospital, Norfolk and Norwich University Hospital Trust","East of England",275,63.310817718505859,62,{"$f":"(F4/10.929)+2.15","v":7.8229801445694935},{"$f":"(ROUND(F4,1)&$Y$2&$Y$3&(ROUND(G4,1)&$Y$4&$Y$5))","v":"62 mmol/mol (7.8%)"},"62 mmol/mol (7.8%)",9.4545454545454544E-2,0.18909090909090909,0.33090909090909093,0.5636363636363636,0.25090909090909091,0.14181818181818182,0.10545454545454545,0.89454545454545453,63.936999999999998,0.32646650075912476,0.11860709999999999,2,null,null,null,"%"]
["PZ003","Pinderfields General Hospital, Wakefield, The Mid Yorkshire Hospitals NHS Trust","Yorkshire and Humber",168,68.485122680664063,63,7.9144798243206154,"63 mmol/mol (7.9%)","63 mmol/mol (7.9%)",4.1666666666666664E-2,0.10119047619047619,0.26785714285714285,0.54761904761904767,0.34523809523809523,0.24404761904761904,0.18452380952380953,0.81547619047619047,69.107500000000002,0.26346170902252197,0.2063584,3,null,null,null,")"]
["PZ004","Northampton General Hospital,  Northampton General Hospital NHS Trust ","East Midlands",203,65.036949157714844,61.5,7.7772303046939335,"61.5 mmol/mol (7.8%)","61.5 mmol/mol (7.8%)",7.3891625615763554E-2,0.21674876847290642,0.34975369458128081,0.51231527093596063,0.33497536945812806,0.18719211822660098,0.13793103448275862,0.86206896551724133,65.547330000000002,0.34067615866661072,0.15190310000000001,4]
["PZ005","Derbyshire Children's Hospital, Derby Hospitals NHS Foundation Trust","East Midlands",255,64.216567993164063,61,7.7314804648183735,"61 mmol/mol (7.7%)","61 mmol/mol (7.7%)",7.0588235294117646E-2,0.17647058823529413,0.32549019607843138,0.5607843137254902,0.2627450980392157,0.16862745098039217,0.11372549019607843,0.88627450980392153,65.012,0.30599972605705261,0.12358669999999999,5]
["PZ006","Doncaster Royal Infirmary, Doncaster & Bassetlaw Hospitals NHS Foundation Trust","Yorkshire and Humber",157,66.907646179199219,62.5,7.8687299844450536,"62.5 mmol/mol (7.9%)","62.5 mmol/mol (7.9%)",5.0955414012738856E-2,0.17834394904458598,0.30573248407643311,0.53503184713375795,0.31210191082802546,0.24203821656050956,0.15923566878980891,0.84076433121019112,66.152919999999995,0.32283729314804077,0.14457329999999999,6]
["PZ007","John Radcliffe Hospital, Oxford, Oxford Radcliffe Hospitals NHS Trust","South Central",354,61.169490814208984,59,7.5484811053161316,"59 mmol/mol (7.5%)","59 mmol/mol (7.5%)",0.1440677966101695,0.29096045197740111,0.4463276836158192,0.47457627118644069,0.22033898305084745,0.12429378531073447,7.909604519774012E-2,0.92090395480225984,62.196770000000001,0.4106965959072113,9.1902800000000007E-2,7]
["PZ009","Macclesfield District General Hospital, East Cheshire NHS Trust","North West",107,66.018692016601563,62,7.8229801445694935,"62 mmol/mol (7.8%)","62 mmol/mol (7.8%)","*",0.14953271028037382,0.28037383177570091,0.56074766355140182,0.26168224299065418,0.15887850467289719,0.15887850467289719,0.84112149532710279,68.280330000000006,0.24413281679153442,0.2059511,9]
["PZ010","Luton and Dunstable Hospital, Luton and Dunstable Hospital NHS Foundation Trust","East of England",164,71.057113647460938,69.951492309570313,8.5505391444386785,"70 mmol/mol (8.6%)","70 mmol/mol (8.6%)",3.6585365853658534E-2,7.3170731707317069E-2,0.17682926829268292,0.6097560975609756,0.54268292682926833,0.31707317073170732,0.21341463414634146,0.78658536585365857,71.396100000000004,0.17483815550804138,0.23820469999999999,10]
["PZ011","Glan Clwyd District General Hospital, Rhyl, Besti Cadwaladr University Health Board","Wales",110,69.227272033691406,65.5,8.1432290236984173,"65.5 mmol/mol (8.1%)","65.5 mmol/mol (8.1%)",5.4545454545454543E-2,0.15454545454545454,0.2818181818181818,0.54545454545454541,0.36363636363636365,0.24545454545454545,0.17272727272727273,0.82727272727272727,70.306269999999998,0.28095501661300659,0.20967340000000001,11]
["PZ012","Barnet General Hospital, Barnet & Chase Farm Hospitals NHS Trust","London and South East",104,73.134613037109375,69.5,8.5092277427029011,"69.5 mmol/mol (8.5%)","69.5 mmol/mol (8.5%)","*",0.10576923076923077,0.20192307692307693,0.52884615384615385,0.50961538461538458,0.40384615384615385,0.26923076923076922,0.73076923076923084,72.531009999999995,0.20690011978149414,0.2491603,12]
["PZ014","Chase Farm Hospital, Barnet & Chase Farm Hospitals NHS Trust","London and South East",56,79.321426391601563,76,9.1039756610851867,"76 mmol/mol (9.1%)","76 mmol/mol (9.1%)","*","*",8.9285714285714288E-2,0.5178571428571429,0.625,0.5357142857142857,0.39285714285714285,0.60714285714285721,78.894210000000001,9.4025745987892151E-2,0.3584524,14]
["PZ015","Wythenshawe Hospital, University Hospital of South Manchester NHS foundation Trust","North West",105,67.785713195800781,64,8.0059795040717354,"64 mmol/mol (8%)","64 mmol/mol (8.0%)",0.10476190476190476,0.2,0.33333333333333331,0.48571428571428571,0.39047619047619048,0.23809523809523808,0.18095238095238095,0.81904761904761902,69.46163,0.30417072772979736,0.21957170000000001,15]
["PZ016","Bassetlaw District General Hospital, Doncaster & Bassetlaw Hospitals NHS Foundation Trust","Yorkshire and Humber",64,65.1640625,63,7.9144798243206154,"63 mmol/mol (7.9%)","63 mmol/mol (7.9%)","*",0.109375,0.21875,0.703125,0.28125,0.15625,7.8125E-2,0.921875,66.079459999999997,0.20185588300228119,9.1443700000000003E-2,16]
["PZ017","Dorset County Hospital, Dorset County Hospital NHS Foundation Trust ","South Central",89,67.09619140625,66.125999450683594,8.2005077729603428,"66.1 mmol/mol (8.2%)","66.1 mmol/mol (8.2%)","*",8.98876404494382E-2,0.2696629213483146,0.6067415730337079,0.38202247191011235,0.21348314606741572,0.12359550561797752,0.8764044943820225,66.193600000000004,0.28639009594917297,0.11704199999999999,17]
["PZ018","Worthing Hospital, Western Sussex Hospitals NHS ","London and South East",121,69.287567138671875,66.125999450683594,8.2005077729603428,"66.1 mmol/mol (8.2%)","66.1 mmol/mol (8.2%)","*",4.9586776859504134E-2,0.20661157024793389,0.62809917355371903,0.4049586776859504,0.21487603305785125,0.16528925619834711,0.83471074380165289,69.862949999999998,0.19661720097064972,0.17071159999999999,18]
["PZ019","Basildon University Hospital, Basildon and Thurrock University Hospitals NHS Foundation Trust","East of England",216,64.701385498046875,61.25,7.7543553847561526,"61.3 mmol/mol (7.8%)","61.3 mmol/mol (7.8%)",0.1111111111111111,0.2361111111111111,0.34722222222222221,0.50462962962962965,0.30092592592592593,0.21296296296296297,0.14814814814814814,0.85185185185185186,64.256110000000007,0.35676473379135132,0.142512,19]
["PZ020","Diana, Princess of Wales Hospital, Grimsby, Northern Lincolnshire and Goole Hospitals NHS Foundation Trust","Yorkshire and Humber",86,64.255813598632813,61.75,7.8001052246317144,"61.8 mmol/mol (7.8%)","61.8 mmol/mol (7.8%)","*",0.18604651162790697,0.33720930232558138,0.58139534883720934,0.23255813953488372,0.13953488372093023,8.1395348837209308E-2,0.91860465116279066,65.419700000000006,0.32770124077796936,0.10572670000000001,20]
["PZ021","Wexham Park Hospital, Frimley Health NHS Foundation Trust","South Central",166,68.400604248046875,65,8.0974791838228573,"65 mmol/mol (8.1%)","65 mmol/mol (8.1%)",4.8192771084337352E-2,0.12048192771084337,0.22289156626506024,0.64457831325301207,0.36144578313253012,0.1746987951807229,0.13253012048192772,0.86746987951807231,69.005880000000005,0.21983061730861664,0.14012050000000001,21]
["PZ022","West Cumberland Hospital, Whitehaven, North Cumbria University Hospitals NHS Trust","North East",53,63.396415710449219,60,7.6399807850672516,"60 mmol/mol (7.6%)","60 mmol/mol (7.6%)",0.18867924528301888,0.30188679245283018,0.43396226415094341,0.39622641509433965,0.24528301886792453,0.18867924528301888,0.16981132075471697,0.83018867924528306,63.560070000000003,0.42157095670700073,0.17144999999999999,22]
["PZ023","St George's Hospital, London, St George's Healthcare NHS Trust","London and South East",128,71.3984375,65,8.0974791838228573,"65 mmol/mol (8.1%)","65 mmol/mol (8.1%)",7.8125E-2,0.171875,0.2890625,0.4765625,0.4296875,0.3125,0.234375,0.765625,69.806280000000001,0.30942511558532715,0.18876019999999999,23]
["PZ024","East Kent Hospitals , East Kent Hospitals University NHS Foundation Trust","London and South East",343,67.304664611816406,64,8.0059795040717354,"64 mmol/mol (8%)","64 mmol/mol (8.0%)",5.2478134110787174E-2,0.15160349854227406,0.26822157434402333,0.5714285714285714,0.35276967930029157,0.20116618075801748,0.16034985422740525,0.83965014577259478,67.664609999999996,0.25842964649200439,0.1712902,24]
["PZ026","Hull Royal Infirmary, Hull & East Yorkshire Hospitals NHS Trust","Yorkshire and Humber",233,72.94635009765625,69,8.4634779028273392,"69 mmol/mol (8.5%)","69 mmol/mol (8.5%)",2.1459227467811159E-2,7.2961373390557943E-2,0.14592274678111589,0.6094420600858369,0.50214592274678116,0.31330472103004292,0.24463519313304721,0.75536480686695273,72.490840000000006,0.14807847142219543,0.2262769,26]
["PZ027","Friarage Hospital, Northallerton, South Tees Hospitals NHS Trust","North East",40,67.3125,63.75,7.9831045841339545,"63.8 mmol/mol (8%)","63.8 mmol/mol (8.0%)","*",0.125,0.27500000000000002,0.6,0.32500000000000001,0.25,0.125,0.875,66.840879999999999,0.28361126780509949,0.1205493,27]
["PZ028","Stoke Mandeville Hospital, Aylesbury, Buckinghamshire Hospitals NHS Trust","South Central",97,61.664947509765625,59,7.5484811053161316,"59 mmol/mol (7.5%)","59 mmol/mol (7.5%)",7.2164948453608241E-2,0.26804123711340205,0.4329896907216495,0.51546391752577314,0.22680412371134021,0.15463917525773196,5.1546391752577317E-2,0.94845360824742264,64.146259999999998,0.34990695118904114,5.7346099999999997E-2,28]
["PZ030","Leighton Hospital, Crewe, Mid Cheshire Hospitals NHS Trust","North West",94,65.2872314453125,61.75,7.8001052246317144,"61.8 mmol/mol (7.8%)","61.8 mmol/mol (7.8%)",7.4468085106382975E-2,0.1702127659574468,0.34042553191489361,0.53191489361702127,0.28723404255319152,0.18085106382978725,0.1276595744680851,0.87234042553191493,66.963840000000005,0.31110590696334839,0.16841349999999999,30]
["PZ031","St Richard's Hospital, Chichester, Western Sussex Hospitals NHS Trust","London and South East",108,66.166481018066406,63.666748046875,7.9754870570843632,"63.7 mmol/mol (8%)","63.7 mmol/mol (8.0%)",4.6296296296296294E-2,0.18518518518518517,0.30555555555555558,0.54629629629629628,0.33333333333333331,0.20370370370370369,0.14814814814814814,0.85185185185185186,67.460669999999993,0.2771574854850769,0.1764279,31]
["PZ032","Royal Victoria Infirmary, Newcastle Upon Tyne, The Newcastle Upon Tyne Hospital Trust","North East",281,66.416366577148438,64,8.0059795040717354,"64 mmol/mol (8%)","64 mmol/mol (8.0%)",9.6085409252669035E-2,0.1708185053380783,0.29893238434163699,0.54092526690391463,0.35231316725978645,0.20640569395017794,0.16014234875444841,0.83985765124555156,65.363810000000001,0.32585960626602173,0.14340240000000001,32]
["PZ033","Queen's Hospital, Burton on Trent, Burton Hospitals NHS Trust","West Midlands",135,67.884445190429688,63,7.9144798243206154,"63 mmol/mol (7.9%)","63 mmol/mol (7.9%)",5.185185185185185E-2,0.11851851851851852,0.29629629629629628,0.562962962962963,0.31851851851851853,0.22962962962962963,0.14074074074074075,0.85925925925925928,67.406589999999994,0.29694530367851257,0.1221415,33]
["PZ034","Royal Hampshire County Hospital, Winchester, Hampshire Hospitals NHS Foundation Trust","South Central",127,68.207687377929688,64,8.0059795040717354,"64 mmol/mol (8%)","64 mmol/mol (8.0%)",6.2992125984251968E-2,0.2125984251968504,0.29133858267716534,0.53543307086614178,0.34645669291338582,0.23622047244094488,0.17322834645669291,0.82677165354330706,69.806849999999997,0.25292021036148071,0.20056589999999999,34]
["PZ035","Royal Berkshire Hospital, Reading, Royal Berkshire NHS Foundation Trust","South Central",222,64.86260986328125,62,7.8229801445694935,"62 mmol/mol (7.8%)","62 mmol/mol (7.8%)",9.45945945945946E-2,0.2072072072072072,0.33783783783783783,0.5495495495495496,0.26126126126126126,0.16216216216216217,0.11261261261261261,0.88738738738738743,66.245249999999999,0.30674430727958679,0.12850210000000001,35]
["PZ036","Whipps Cross University Hospital, London, Barts and the London NHS Trust","London and South East",134,67.125312805175781,63,7.9144798243206154,"63 mmol/mol (7.9%)","63 mmol/mol (7.9%)",6.7164179104477612E-2,0.20149253731343283,0.32089552238805968,0.53731343283582089,0.32835820895522388,0.19402985074626866,0.1417910447761194,0.85820895522388063,66.308980000000005,0.333160400390625,0.1338387,36]
["PZ038","Wycombe General Hospital, High Wycombe, Buckinghamshire Hospitals NHS Trust","South Central",102,61.469383239746094,59.25,7.5713560252539107,"59.3 mmol/mol (7.6%)","59.3 mmol/mol (7.6%)",7.8431372549019607E-2,0.33333333333333331,0.43137254901960786,0.5,0.17647058823529413,0.11764705882352941,6.8627450980392163E-2,0.93137254901960786,63.775239999999997,0.37733879685401917,9.9986000000000005E-2,38]
["PZ040","Birmingham Heartlands Hospital, Heart of England NHS Foundation Trust ","West Midlands",235,72.231842041015625,70,8.5549775825784611,"70 mmol/mol (8.6%)","70 mmol/mol (8.6%)",3.8297872340425532E-2,8.9361702127659579E-2,0.15319148936170213,0.60851063829787233,0.52765957446808509,0.34042553191489361,0.23829787234042554,0.76170212765957446,70.11909,0.17498379945755005,0.19050339999999999,40]
["PZ041","Addenbrooke's Hospital, Cambridge, Cambridge University Hospitals NHS FT","East of England",246,61.447856903076172,59,7.5484811053161316,"59 mmol/mol (7.5%)","59 mmol/mol (7.5%)",0.14227642276422764,0.27642276422764228,0.43902439024390244,0.45528455284552843,0.21544715447154472,0.13008130081300814,0.10569105691056911,0.89430894308943087,63.140250000000002,0.39974063634872437,0.12810179999999999,41]
["PZ042","Nottingham Children's Hospital, Nottingham University Hospitals NHS Trust","East Midlands",289,59.008651733398438,57,7.3654817458138897,"57 mmol/mol (7.4%)","57 mmol/mol (7.4%)",0.15224913494809689,0.32871972318339099,0.51557093425605538,0.44290657439446368,0.17993079584775087,6.9204152249134954E-2,4.1522491349480967E-2,0.95847750865051906,58.983559999999997,0.52538049221038818,4.3148600000000002E-2,42]
["PZ045","Whittington Hospital, London, Whittington Hospital NHS Trust","London and South East",82,71.932533264160156,68.25,8.3948531430139983,"68.3 mmol/mol (8.4%)","68.3 mmol/mol (8.4%)","*",9.7560975609756101E-2,0.24390243902439024,0.54878048780487809,0.48780487804878048,0.32926829268292684,0.2073170731707317,0.79268292682926833,67.430980000000005,0.31046852469444275,0.13553989999999999,45]
["PZ047","Airedale General Hospital, Keighley, Airedale NHS Trust ","Yorkshire and Humber",91,68.384613037109375,67,8.2804785433250974,"67 mmol/mol (8.3%)","67 mmol/mol (8.3%)","*",7.6923076923076927E-2,0.15384615384615385,0.7142857142857143,0.39560439560439559,0.23076923076923078,0.13186813186813187,0.86813186813186816,67.971239999999995,0.14831453561782837,0.1167599,47]
["PZ048","Lincoln County Hospital, Lincolnshire, United Lincolnshire Hospitals NHS Trust ","East Midlands",115,69.5565185546875,65,8.0974791838228573,"65 mmol/mol (8.1%)","65 mmol/mol (8.1%)",6.9565217391304349E-2,0.1391304347826087,0.25217391304347825,0.54782608695652169,0.38260869565217392,0.22608695652173913,0.2,0.8,70.97963,0.23415049910545349,0.2500076,48]
["PZ049","Warrington General Hospital, Warrington, Warrington and Halton Hospitals NHS Foundation Trust","North West",136,63.113971710205078,60.75,7.7086055448805926,"60.8 mmol/mol (7.7%)","60.8 mmol/mol (7.7%)",6.6176470588235295E-2,0.21323529411764705,0.43382352941176472,0.43382352941176472,0.27205882352941174,0.16911764705882354,0.13235294117647059,0.86764705882352944,63.513129999999997,0.4341893196105957,0.1407515,49]
["PZ050","Epsom & St Helier University Hospitals NHS Trust, Epsom & St Helier University Hospitals NHS Trust","London and South East",202,71.923263549804688,68,8.3719782230762192,"68 mmol/mol (8.4%)","68 mmol/mol (8.4%)",3.9603960396039604E-2,0.12376237623762376,0.23762376237623761,0.51980198019801982,0.49009900990099009,0.36138613861386137,0.24257425742574257,0.75742574257425743,72.946690000000004,0.21246077120304108,0.25319000000000003,50]
["PZ052","Nevill Hall Hospital,Abergavenny, Aneurin Bevan Health Board","Wales",84,67.839286804199219,67.75,8.3491033031384383,"67.8 mmol/mol (8.3%)","67.8 mmol/mol (8.3%)",7.1428571428571425E-2,0.13095238095238096,0.22619047619047619,0.6071428571428571,0.47619047619047616,0.21428571428571427,0.16666666666666666,0.83333333333333337,67.840239999999994,0.2223249226808548,0.17279639999999999,52]
["PZ053","Scunthorpe General Hospital, Northern Lincolnshire and Goole Hospitals NHS Foundation Trust","Yorkshire and Humber",105,68.109527587890625,63,7.9144798243206154,"63 mmol/mol (7.9%)","63 mmol/mol (7.9%)","*",0.11428571428571428,0.2857142857142857,0.48571428571428571,0.3619047619047619,0.25714285714285712,0.22857142857142856,0.77142857142857146,68.668360000000007,0.26166054606437683,0.24458569999999999,53]
["PZ054","Poole General Hospital, Poole Hospital NHS Trust","South Central",209,62.499412536621094,60,7.6399807850672516,"60 mmol/mol (7.6%)","60 mmol/mol (7.6%)",7.6555023923444973E-2,0.22009569377990432,0.3923444976076555,0.50239234449760761,0.23444976076555024,0.15789473684210525,0.10526315789473684,0.89473684210526316,64.519170000000003,0.35466441512107849,0.1491826,54]
["PZ055","Leicester Royal Infirmary, University Hospitals Leicester NHS Trust","East Midlands",336,65.049064636230469,64,8.0059795040717354,"64 mmol/mol (8%)","64 mmol/mol (8.0%)",5.0595238095238096E-2,0.14583333333333334,0.27976190476190477,0.6071428571428571,0.30952380952380953,0.17559523809523808,0.1130952380952381,0.88690476190476186,66.456230000000005,0.26454108953475952,0.1431277,55]
["PZ056","West Wales General Hospital,Carmarthen, Hywel Dda Health Board","Wales",96,66.994789123535156,65.75,8.1661039436361964,"65.8 mmol/mol (8.2%)","65.8 mmol/mol (8.2%)",0.10416666666666667,0.16666666666666666,0.32291666666666669,0.5625,0.40625,0.25,0.11458333333333333,0.88541666666666663,67.850960000000001,0.30977344512939453,0.1256777,56]
["PZ057","Kingston Hospital, Kingston Hospital NHS Trust","London and South East",164,64.125030517578125,61,7.7314804648183735,"61 mmol/mol (7.7%)","61 mmol/mol (7.7%)",0.10365853658536585,0.23170731707317074,0.3902439024390244,0.48170731707317072,0.25,0.18902439024390244,0.12804878048780488,0.87195121951219512,65.813479999999998,0.33759436011314392,0.1482957,57]
["PZ058","Newham General Hospital, London, Barts and the London NHS Trust","London and South East",107,69.321914672851563,65,8.0974791838228573,"65 mmol/mol (8.1%)","65 mmol/mol (8.1%)",9.3457943925233641E-2,0.15887850467289719,0.25233644859813081,0.57943925233644855,0.41121495327102803,0.27102803738317754,0.16822429906542055,0.83177570093457942,66.898759999999996,0.30718091130256653,0.14365259999999999,58]
["PZ059","The Royal London Hospital, Whitechapel, Barts and the London NHS Trust","London and South East",247,66.809715270996094,63,7.9144798243206154,"63 mmol/mol (7.9%)","63 mmol/mol (7.9%)",8.9068825910931168E-2,0.17408906882591094,0.31983805668016196,0.51821862348178138,0.32793522267206476,0.19838056680161945,0.16194331983805668,0.83805668016194335,63.691560000000003,0.42755815386772156,0.11805400000000001,59]
["PZ060","Royal Devon and Exeter Hospital, Exeter, Royal Devon and Exeter NHS Foundation Trust ","South West",193,66.397506713867188,62.5,7.8687299844450536,"62.5 mmol/mol (7.9%)","62.5 mmol/mol (7.9%)",9.3264248704663211E-2,0.18652849740932642,0.33678756476683935,0.51295336787564771,0.29533678756476683,0.20207253886010362,0.15025906735751296,0.84974093264248707,66.292389999999997,0.32540768384933472,0.1410517,60]
["PZ062","Croydon University Hospital, Croydon, Croydon Health Services NHS Trust","London and South East",104,71.009613037109375,67.25,8.3033534632628783,"67.3 mmol/mol (8.3%)","67.3 mmol/mol (8.3%)",4.807692307692308E-2,0.14423076923076922,0.27884615384615385,0.50961538461538458,0.47115384615384615,0.28846153846153844,0.21153846153846154,0.78846153846153844,69.452309999999997,0.29263919591903687,0.16825000000000001,62]
["PZ064","Chesterfield Royal Hospital, Derbyshire, Chesterfield Royal Hospital NHS Foundation Trust","East Midlands",151,61.829620361328125,61,7.7314804648183735,"61 mmol/mol (7.7%)","61 mmol/mol (7.7%)",0.11258278145695365,0.23841059602649006,0.37086092715231789,0.5629139072847682,0.26490066225165565,0.13907284768211919,6.6225165562913912E-2,0.93377483443708609,61.484549999999999,0.37647643685340881,6.3886100000000001E-2,64]
["PZ065","County Hospital Stafford, University Hospitals of North Midlands NHS Trust","West Midlands",86,70.622093200683594,67,8.2804785433250974,"67 mmol/mol (8.3%)","67 mmol/mol (8.3%)","*",6.9767441860465115E-2,0.16279069767441862,0.63953488372093026,0.46511627906976744,0.32558139534883723,0.19767441860465115,0.80232558139534882,71.239739999999998,0.15455973148345947,0.21185870000000001,65]
["PZ067","Royal Cornwall Hospital, Truro, Royal Cornwall Hospitals NHS Trust ","South West",189,61.698413848876953,59,7.5484811053161316,"59 mmol/mol (7.5%)","59 mmol/mol (7.5%)",0.10582010582010581,0.26455026455026454,0.44444444444444442,0.48677248677248675,0.21693121693121692,0.12169312169312169,6.8783068783068779E-2,0.93121693121693117,61.445160000000001,0.46897172927856445,7.60237E-2,67]
["PZ068","Royal United Hospital, Bath, Royal United Hospital Bath NHS Trust","South West",170,67.888236999511719,67,8.2804785433250974,"67 mmol/mol (8.3%)","67 mmol/mol (8.3%)",5.2941176470588235E-2,9.4117647058823528E-2,0.22352941176470589,0.6470588235294118,0.43529411764705883,0.22941176470588234,0.12941176470588237,0.87058823529411766,69.875500000000002,0.20168569684028625,0.1668326,68]
["PZ069","Stepping Hill Hospital, Stockport, Stockport NHS FT","North West",166,64.415664672851563,61.5,7.7772303046939335,"61.5 mmol/mol (7.8%)","61.5 mmol/mol (7.8%)",7.8313253012048195E-2,0.19879518072289157,0.35542168674698793,0.54819277108433739,0.26506024096385544,0.18674698795180722,9.6385542168674704E-2,0.90361445783132532,64.736050000000006,0.34540396928787231,0.1001281,69]
["PZ072","West Suffolk Hospital, Bury St Edmunds, West Suffolk Hospital NHS Trust","East of England",155,65.774192810058594,62,7.8229801445694935,"62 mmol/mol (7.8%)","62 mmol/mol (7.8%)",8.387096774193549E-2,0.14193548387096774,0.29677419354838708,0.58709677419354833,0.31612903225806449,0.18064516129032257,0.11612903225806452,0.88387096774193552,65.684100000000001,0.29818311333656311,0.1123432,72]
["PZ073","Alexandra Hospital, Redditch, Worcestershire Acute Hospitals NHS Trust","West Midlands",87,71.839080810546875,68.5,8.4177280629517792,"68.5 mmol/mol (8.4%)","68.5 mmol/mol (8.4%)",5.7471264367816091E-2,0.13793103448275862,0.20689655172413793,0.52873563218390807,0.48275862068965519,0.32183908045977011,0.26436781609195403,0.73563218390804597,72.451899999999995,0.19738923013210297,0.28066459999999999,73]
["PZ074","Alder Hey Hospital, Alder Hey Children's NHS Foundation Trust","North West",396,66.359848022460938,64,8.0059795040717354,"64 mmol/mol (8%)","64 mmol/mol (8.0%)",0.10858585858585859,0.20202020202020202,0.32575757575757575,0.51767676767676762,0.34848484848484851,0.1994949494949495,0.15656565656565657,0.84343434343434343,64.865889999999993,0.3653072714805603,0.13537850000000001,74]
["PZ075","St Mary's Hospital, Isle of Wight, Isle of Wight Healthcare NHS Trust","South Central",67,65.850746154785156,63,7.9144798243206154,"63 mmol/mol (7.9%)","63 mmol/mol (7.9%)",0.11940298507462686,0.16417910447761194,0.28358208955223879,0.62686567164179108,0.38805970149253732,0.19402985074626866,8.9552238805970144E-2,0.91044776119402981,66.577809999999999,0.27528509497642517,0.1011605,75]
["PZ076","Colchester General Hospital, Colchester Hospital University NHS Foundation Trust","East of England",189,70.105819702148438,65.5,8.1432290236984173,"65.5 mmol/mol (8.1%)","65.5 mmol/mol (8.1%)",4.2328042328042326E-2,0.12698412698412698,0.2275132275132275,0.59259259259259256,0.42328042328042326,0.26455026455026454,0.17989417989417988,0.82010582010582012,70.105360000000005,0.22859115898609161,0.18345049999999999,76]
["PZ078","Royal Stoke University Hospital, University Hospitals of North Midlands NHS Trust","West Midlands",222,67.918922424316406,64,8.0059795040717354,"64 mmol/mol (8%)","64 mmol/mol (8.0%)",3.1531531531531529E-2,0.13513513513513514,0.26126126126126126,0.59009009009009006,0.35135135135135137,0.21621621621621623,0.14864864864864866,0.85135135135135132,67.803219999999996,0.25822934508323669,0.15019469999999999,78]
["PZ080","Sunderland Royal Hospital, City Hospitals Sunderland NHS Trust","North East",179,62.494415283203125,62,7.8229801445694935,"62 mmol/mol (7.8%)","62 mmol/mol (7.8%)",7.2625698324022353E-2,0.16759776536312848,0.34636871508379891,0.57541899441340782,0.25139664804469275,0.1005586592178771,7.8212290502793297E-2,0.92178770949720668,61.437309999999997,0.3713151216506958,7.04066E-2,80]
["PZ082","Evelina Childrens Hospital at St.Thomas' Hospital, London, Guy's and St Thomas' NHS Foundation Trust ","London and South East",92,76.190216064453125,70.5,8.6007274224540211,"70.5 mmol/mol (8.6%)","70.5 mmol/mol (8.6%)",0,7.6086956521739135E-2,0.14130434782608695,0.56521739130434778,0.55434782608695654,0.35869565217391303,0.29347826086956524,0.70652173913043481,74.762780000000006,0.14950814843177795,0.27487430000000002,82]
["PZ084","Kidderminster General Hospital, Worcestershire Acute Hospitals NHS Trust","West Midlands",48,74.354164123535156,70.25,8.5778525025162402,"70.3 mmol/mol (8.6%)","70.3 mmol/mol (8.6%)","*","*","*",0.66666666666666663,0.58333333333333337,0.33333333333333331,0.25,0.75,74.627520000000004,8.7503537535667419E-2,0.28475139999999999,84]
["PZ085","Princess Royal University Hospital, Bromley, South London Healthcare NHS Trust","London and South East",125,71.531997680664063,66.5,{"$f":"(F68/10.929)+2.15","v":8.2347287034495373},{"$f":"(ROUND(F68,1)&$Y$2&$Y$3&(ROUND(G68,1)&$Y$4&$Y$5))","v":"66.5 mmol/mol (8.2%)"},"66.5 mmol/mol (8.2%)",5.6000000000000001E-2,9.6000000000000002E-2,0.192,0.6,0.42399999999999999,0.28799999999999998,0.20799999999999999,0.79200000000000004,72.532449999999997,0.17923913896083832,0.21766669999999999,85]
["PZ086","Cambridgeshire Community Services","East of England",98,66.576530456542969,63.25,7.9373547442583945,"63.3 mmol/mol (7.9%)","63.3 mmol/mol (7.9%)",5.1020408163265307E-2,0.15306122448979592,0.32653061224489793,0.51020408163265307,0.33673469387755101,0.25510204081632654,0.16326530612244897,0.83673469387755106,66.674589999999995,0.3111099898815155,0.1571564,86]
["PZ088","Royal Surrey County Hospital, The Royal Surrey County Hospital NHS Foundation Trust","London and South East",135,64.002037048339844,61.5,7.7772303046939335,"61.5 mmol/mol (7.8%)","61.5 mmol/mol (7.8%)",9.6296296296296297E-2,0.19259259259259259,0.31851851851851853,0.57037037037037042,0.32592592592592595,0.14814814814814814,0.1111111111111111,0.88888888888888884,67.293980000000005,0.26042252779006958,0.15998180000000001,88]
["PZ089","Northwick Park Hospital, North West London Hospitals NHS Trust","London and South East",190,71.326316833496094,67,8.2804785433250974,"67 mmol/mol (8.3%)","67 mmol/mol (8.3%)",7.3684210526315783E-2,0.13157894736842105,0.22631578947368422,0.53157894736842104,0.4263157894736842,0.3,0.24210526315789474,0.75789473684210529,68.243530000000007,0.26248636841773987,0.17172109999999999,89]
["PZ091","Royal Blackburn Hospital, East Lancashire Hospitals NHS Trust","North West",259,70.830116271972656,67.5,8.3262283832006592,"67.5 mmol/mol (8.3%)","67.5 mmol/mol (8.3%)",2.3166023166023165E-2,9.6525096525096526E-2,0.18146718146718147,0.61003861003861004,0.45559845559845558,0.26254826254826252,0.20849420849420849,0.79150579150579148,69.237369999999999,0.20427775382995605,0.17578369999999999,91]
["PZ092","Princess of Wales Hospital, Bridgend, Abertawe Bro Morgannwg University Health Board","Wales",76,72.151313781738281,71.5,8.6922271022051412,"71.5 mmol/mol (8.7%)","71.5 mmol/mol (8.7%)","*",0.13157894736842105,0.23684210526315788,0.53947368421052633,0.52631578947368418,0.34210526315789475,0.22368421052631579,0.77631578947368418,73.259309999999999,0.22592423856258392,0.25067260000000002,92]
["PZ094","Princess Royal Hospital, Telford, Royal Shrewsbury Hospitals NHS Trust","West Midlands",280,64.925003051757813,63,7.9144798243206154,"63 mmol/mol (7.9%)","63 mmol/mol (7.9%)",6.4285714285714279E-2,0.16071428571428573,0.2857142857142857,0.61071428571428577,0.27857142857142858,0.13928571428571429,0.10357142857142858,0.89642857142857146,65.028880000000001,0.2835361659526825,0.10437639999999999,94]
["PZ096","Derriford Hospital, Plymouth Hospitals NHS Trust ","South West",223,63.107624053955078,61,7.7314804648183735,"61 mmol/mol (7.7%)","61 mmol/mol (7.7%)",0.13452914798206278,0.22869955156950672,0.35874439461883406,0.547085201793722,0.26008968609865468,0.13901345291479822,9.417040358744394E-2,0.905829596412556,62.198619999999998,0.37446936964988708,7.6668100000000003E-2,96]
["PZ097","City Hospital, Birmingham, Sandwell and West Birmingham Hospitals NHS Trust","West Midlands",67,73.164176940917969,69,8.4634779028273392,"69 mmol/mol (8.5%)","69 mmol/mol (8.5%)",0.1044776119402985,0.14925373134328357,0.22388059701492538,0.47761194029850745,0.52238805970149249,0.35820895522388058,0.29850746268656714,0.70149253731343286,68.681340000000006,0.30744132399559021,0.18993550000000001,97]
["PZ099","East and North Hertfordshire NHS Trust","East of England",260,65.349227905273438,61.650001525878906,7.7909553962740326,"61.7 mmol/mol (7.8%)","61.7 mmol/mol (7.8%)",0.13846153846153847,0.23076923076923078,0.38076923076923075,0.48076923076923078,0.3,0.18076923076923077,0.13846153846153847,0.86153846153846159,66.655339999999995,0.3504922091960907,0.15778310000000001,99]
["PZ100","North Devon District Hospital, Northern Devon Healthcare NHS Trust ","South West",81,67.975311279296875,65,8.0974791838228573,"65 mmol/mol (8.1%)","65 mmol/mol (8.1%)","*",0.14814814814814814,0.30864197530864196,0.53086419753086422,0.30864197530864196,0.18518518518518517,0.16049382716049382,0.83950617283950613,67.4268,0.32961434125900269,0.14715719999999999,100]
["PZ101","Leeds Children's Hospital, Leeds Teaching Hospitals NHS Trust","Yorkshire and Humber",401,69.084785461425781,65,8.0974791838228573,"65 mmol/mol (8.1%)","65 mmol/mol (8.1%)",7.4812967581047385E-2,0.15211970074812967,0.29426433915211969,0.486284289276808,0.41147132169576062,0.28428927680798005,0.21945137157107231,0.78054862842892769,67.292820000000006,0.32116803526878357,0.17410249999999999,101]
["PZ102","The Hillingdon Hospital, Hillingdon Hospital NHS Trust","London and South East",160,68.803123474121094,67.25,8.3033534632628783,"67.3 mmol/mol (8.3%)","67.3 mmol/mol (8.3%)",7.4999999999999997E-2,0.16250000000000001,0.26250000000000001,0.53125,0.44374999999999998,0.28749999999999998,0.20624999999999999,0.79374999999999996,69.624070000000003,0.23423831164836884,0.2017574,102]
["PZ104","Royal Albert Edward Infirmary, Wigan, Wrightington, Wigan and Leigh NHS Foundation Trust","North West",147,74.714286804199219,68,8.3719782230762192,"68 mmol/mol (8.4%)","68 mmol/mol (8.4%)","*",7.4829931972789115E-2,0.14285714285714285,0.5714285714285714,0.46258503401360546,0.34693877551020408,0.2857142857142857,0.7142857142857143,76.196020000000004,0.13304810225963593,0.33610380000000001,104]
["PZ105","St Luke's Hospital, Bradford Teaching Hospital (incorporating St. Luke's Hospital), Bradford Teaching Hospitals NHS Trust","Yorkshire and Humber",153,73.54248046875,70,8.5549775825784611,"70 mmol/mol (8.6%)","70 mmol/mol (8.6%)","*",6.535947712418301E-2,0.1111111111111111,0.67320261437908502,0.54248366013071891,0.30065359477124182,0.21568627450980393,0.78431372549019607,72.560130000000001,0.12136588990688324,0.21179139999999999,105]
["PZ106","Victoria Hospital, Blackpool, Blackpool, Fylde and Wyre Hospitals NHS Trust","North West",124,74.391128540039063,70.75,8.623602342391802,"70.8 mmol/mol (8.6%)","70.8 mmol/mol (8.6%)",6.4516129032258063E-2,0.12096774193548387,0.20967741935483872,0.49193548387096775,0.54032258064516125,0.38709677419354838,0.29838709677419356,0.70161290322580649,72.819739999999996,0.22924971580505371,0.2491101,106]
["PZ107","Queen Elizabeth Hospital, Gateshead, Gateshead Health NHS Foundation Trust","North East",118,69.952964782714844,64.5,8.0517293439472954,"64.5 mmol/mol (8.1%)","64.5 mmol/mol (8.1%)",5.9322033898305086E-2,0.11864406779661017,0.25423728813559321,0.50847457627118642,0.36440677966101692,0.28813559322033899,0.23728813559322035,0.76271186440677963,69.473560000000006,0.25374805927276611,0.2161642,107]
["PZ108","Birmingham Children's Hospital, Birmingham Children's Hospital NHS Foundation Trust","West Midlands",281,68.197235107421875,64.5,8.0517293439472954,"64.5 mmol/mol (8.1%)","64.5 mmol/mol (8.1%)",8.1850533807829182E-2,0.1708185053380783,0.28825622775800713,0.53380782918149461,0.3487544483985765,0.24911032028469751,0.17793594306049823,0.8220640569395018,65.999889999999994,0.35511243343353271,0.14927609999999999,108]
["PZ109","Southampton General Hospital, Southampton University Hospitals NHS Trust","South Central",254,69.702362060546875,65.25,8.1203541037606364,"65.3 mmol/mol (8.1%)","65.3 mmol/mol (8.1%)",8.2677165354330714E-2,0.14566929133858267,0.25196850393700787,0.55511811023622049,0.39763779527559057,0.24803149606299213,0.19291338582677164,0.80708661417322836,70.727199999999996,0.23345562815666199,0.19721910000000001,109]
["PZ110","Ormskirk & District General Hospital, Ormskirk, Southport and Ormskirk NHS Trust","North West",118,67.037261962890625,63,7.9144798243206154,"63 mmol/mol (7.9%)","63 mmol/mol (7.9%)","*",9.3220338983050849E-2,0.23728813559322035,0.63559322033898302,0.33898305084745761,0.20338983050847459,0.1271186440677966,0.8728813559322034,67.523799999999994,0.23435130715370178,0.1308434,110]
["PZ111","Hereford County Hospital, Wye Valley NHS Trust","West Midlands",57,62.587718963623047,63,7.9144798243206154,"63 mmol/mol (7.9%)","63 mmol/mol (7.9%)",0.14035087719298245,0.26315789473684209,0.36842105263157893,0.52631578947368418,0.21052631578947367,0.10526315789473684,0.10526315789473684,0.89473684210526316,64.869140000000002,0.33082109689712524,0.15826460000000001,111]
["PZ112","Scarborough General Hospital, Scarborough and North East Yorkshire Healthcare NHS Trust","Yorkshire and Humber",81,65.370368957519531,64,8.0059795040717354,"64 mmol/mol (8%)","64 mmol/mol (8.0%)","*",0.12345679012345678,0.24691358024691357,0.64197530864197527,0.29629629629629628,0.1728395061728395,0.1111111111111111,0.88888888888888884,65.288780000000003,0.25721332430839539,0.10962760000000001,112]
["PZ113","University Hospital of Wales, Cardiff, Cardiff and Vale University Health Board","Wales",178,69.185394287109375,65.75,8.1661039436361964,"65.8 mmol/mol (8.2%)","65.8 mmol/mol (8.2%)",5.6179775280898875E-2,0.1348314606741573,0.24157303370786518,0.5898876404494382,0.4101123595505618,0.24157303370786518,0.16853932584269662,0.8314606741573034,69.459460000000007,0.24513444304466248,0.17767720000000001,113]
["PZ114","The York Hospital, York Teaching Hospital NHS Foundation Trust","Yorkshire and Humber",149,68.577178955078125,65,8.0974791838228573,"65 mmol/mol (8.1%)","65 mmol/mol (8.1%)",6.7114093959731544E-2,0.13422818791946309,0.28859060402684567,0.51006711409395977,0.42281879194630873,0.28187919463087246,0.20134228187919462,0.79865771812080544,70.98021,0.24774546921253204,0.26345099999999999,114]
["PZ118","University Hospital Lewisham, Lewisham Healthcare NHS Trust","London and South East",109,73.7935791015625,69.5,8.5092277427029011,"69.5 mmol/mol (8.5%)","69.5 mmol/mol (8.5%)",6.4220183486238536E-2,0.11009174311926606,0.1834862385321101,0.54128440366972475,0.54128440366972475,0.33027522935779818,0.27522935779816515,0.72477064220183485,70.64743,0.22551825642585754,0.2128573,118]
["PZ119","Darent Valley Hospital, Dartford, Dartford and Gravesham NHS Trust","London and South East",127,66.366973876953125,65.033004760742188,8.1004991088610296,"65 mmol/mol (8.1%)","65 mmol/mol (8.1%)",7.0866141732283464E-2,0.14960629921259844,0.25196850393700787,0.63779527559055116,0.38582677165354329,0.17322834645669291,0.11023622047244094,0.88976377952755903,68.646019999999993,0.22298361361026764,0.16122639999999999,119]
["PZ120","North Tyneside General Hospital, North Shields, Northumbria Healthcare NHS Foundation Trust","North East",123,58.256095886230469,58,7.4569814255650098,"58 mmol/mol (7.5%)","58 mmol/mol (7.5%)",0.21138211382113822,0.33333333333333331,0.47154471544715448,0.49593495934959347,0.16260162601626016,8.1300813008130079E-2,"*",0.96747967479674801,59.105690000000003,0.44876405596733093,3.01125E-2,120]
["PZ121","George Eliot Hospital, Nuneaston, George Elliot Hospital NHS Trust","West Midlands",84,70.964286804199219,67.25,8.3033534632628783,"67.3 mmol/mol (8.3%)","67.3 mmol/mol (8.3%)",0,7.1428571428571425E-2,0.13095238095238096,0.63095238095238093,0.44047619047619047,0.29761904761904762,0.23809523809523808,0.76190476190476186,70.879019999999997,0.13863527774810791,0.2577757,121]
["PZ122","University Hospital, Coventry (inc. Rugby St. Cross), University Hospitals Coventry and Warwickshire NHS Trust","West Midlands",202,69.990097045898438,66.75,8.2576036233873182,"66.8 mmol/mol (8.3%)","66.8 mmol/mol (8.3%)",6.4356435643564358E-2,0.12871287128712872,0.22772277227722773,0.5544554455445545,0.44554455445544555,0.29702970297029702,0.21782178217821782,0.78217821782178221,69.156040000000004,0.24597208201885223,0.20324909999999999,122]
["PZ125","Maidstone Hopsital, Maidstone and  Tunbridge Wells NHS Trust","London and South East",115,67.730438232421875,65.5,8.1432290236984173,"65.5 mmol/mol (8.1%)","65.5 mmol/mol (8.1%)","*",6.9565217391304349E-2,0.16521739130434782,0.69565217391304346,0.36521739130434783,0.25217391304347825,0.1391304347826087,0.86086956521739133,70.433109999999999,0.15018452703952789,0.2013114,125]
["PZ126","Medway Maritime Hospital, Gillingham, Medway NHS Foundation Trust","London and South East",264,71.600379943847656,67.5,8.3262283832006592,"67.5 mmol/mol (8.3%)","67.5 mmol/mol (8.3%)",4.5454545454545456E-2,0.125,0.20075757575757575,0.59469696969696972,0.47727272727272729,0.27651515151515149,0.20454545454545456,0.79545454545454541,70.632999999999996,0.20744483172893524,0.1750794,126]
["PZ127","James Paget Hospital, Great Yarmouth, James Paget University Hospitals NHS Foundation Trust","East of England",126,71.157272338867188,67.219001770019531,8.3005171351468139,"67.2 mmol/mol (8.3%)","67.2 mmol/mol (8.3%)",4.7619047619047616E-2,8.7301587301587297E-2,0.16666666666666666,0.63492063492063489,0.42063492063492064,0.26190476190476192,0.1984126984126984,0.80158730158730163,70.191599999999994,0.16428296267986298,0.18132309999999999,127]
["PZ128","Pilgrim Hospital, Boston, United Lincolnshire Hospitals NHS Trust","East Midlands",79,63.696201324462891,63,7.9144798243206154,"63 mmol/mol (7.9%)","63 mmol/mol (7.9%)",7.5949367088607597E-2,0.16455696202531644,0.30379746835443039,0.620253164556962,0.27848101265822783,0.16455696202531644,7.5949367088607597E-2,0.92405063291139244,65.246430000000004,0.28552034497261047,0.1011229,128]
["PZ129","Harrogate District Hospital, Harrogate and District NHS Foundation Trust","Yorkshire and Humber",87,70.258621215820313,65,8.0974791838228573,"65 mmol/mol (8.1%)","65 mmol/mol (8.1%)","*",0.14942528735632185,0.26436781609195403,0.4942528735632184,0.41379310344827586,0.31034482758620691,0.2413793103448276,0.75862068965517238,71.982420000000005,0.23112863302230835,0.2834488,129]
["PZ130","Chelsea & Westminster Hospital, London, Chelsea and Westminister Hospital NHS Trust","London and South East",155,70.557174682617188,68.311996459960938,8.4005257992461289,"68.3 mmol/mol (8.4%)","68.3 mmol/mol (8.4%)",7.0967741935483872E-2,0.12258064516129032,0.2129032258064516,0.54838709677419351,0.4838709677419355,0.32258064516129031,0.23870967741935484,0.76129032258064511,69.933400000000006,0.22586868703365326,0.23264370000000001,130]
["PZ131","Peterborough City Hospital, Peterborough and Stamford Hospitals NHS Trust","East of England",211,72.142181396484375,66,8.1889788635739773,"66 mmol/mol (8.2%)","66 mmol/mol (8.2%)",6.1611374407582936E-2,0.11848341232227488,0.20853080568720378,0.52606635071090047,0.41706161137440756,0.31753554502369669,0.26540284360189575,0.73459715639810419,72.292090000000002,0.21473135054111481,0.2725745,131]
["PZ132","Ysbyty Gwynedd Hospital, Wales, Besti Cadwaladr University Health Board","Wales",100,70.459999084472656,66.75,8.2576036233873182,"66.8 mmol/mol (8.3%)","66.8 mmol/mol (8.3%)",7.0000000000000007E-2,0.17,0.25,0.52,0.41,0.26,0.23,0.77,71.300759999999997,0.233274906873703,0.24665339999999999,132]
["PZ133","James Cook University Hospital, Middlesbrough, South Tees Hospitals NHS Trust","North East",124,70.066802978515625,67,8.2804785433250974,"67 mmol/mol (8.3%)","67 mmol/mol (8.3%)","*",7.2580645161290328E-2,0.17741935483870969,0.66935483870967738,0.44354838709677419,0.22580645161290322,0.15322580645161291,0.84677419354838712,69.914910000000006,0.19191201031208038,0.1583794,133]
["PZ135","Royal Alexandra Hospital, Brighton, Brighton and Sussex University Hospitals NHS Trust","London and South East",195,67.889739990234375,64,8.0059795040717354,"64 mmol/mol (8%)","64 mmol/mol (8.0%)",5.6410256410256411E-2,0.11794871794871795,0.23076923076923078,0.62051282051282053,0.35384615384615387,0.21025641025641026,0.14871794871794872,0.85128205128205126,68.023799999999994,0.20889571309089661,0.1539143,135]
["PZ136","Central Manchester University Hospitals NHS Foundation Trust, Central Manchester University Hospitals NHS Foundation Trust","North West",267,69.382774353027344,67,8.2804785433250974,"67 mmol/mol (8.3%)","67 mmol/mol (8.3%)",6.741573033707865E-2,0.12734082397003746,0.2247191011235955,0.59176029962546817,0.44194756554307119,0.28464419475655428,0.18352059925093633,0.81647940074906367,65.932209999999998,0.29071933031082153,0.12775929999999999,136]
["PZ137","Musgrove Park Hospital, Taunton, Taunton and Somerset NHS Foundation Trust","South West",178,64.044944763183594,62,7.8229801445694935,"62 mmol/mol (7.8%)","62 mmol/mol (7.8%)",9.5505617977528087E-2,0.24157303370786518,0.3595505617977528,0.5056179775280899,0.29213483146067415,0.16853932584269662,0.1348314606741573,0.8651685393258427,64.828460000000007,0.35328689217567444,0.1543264,137]
["PZ138","Warwick Hospital, South Warwickshire NHS Foundation Trust","West Midlands",94,62.797870635986328,59.75,7.6171058651294725,"59.8 mmol/mol (7.6%)","59.8 mmol/mol (7.6%)",0.13829787234042554,0.25531914893617019,0.45744680851063829,0.43617021276595747,0.26595744680851063,0.18085106382978725,0.10638297872340426,0.8936170212765957,65.603449999999995,0.38986396789550781,0.16165560000000001,138]
["PZ139","Bristol Royal Hospital for Children, University Hospitals Bristol NHS Foundation Trust ","South West",418,66.065788269042969,62.5,7.8687299844450536,"62.5 mmol/mol (7.9%)","62.5 mmol/mol (7.9%)",9.8086124401913874E-2,0.20334928229665072,0.3133971291866029,0.53110047846889952,0.36124401913875598,0.22248803827751196,0.15550239234449761,0.84449760765550241,66.234800000000007,0.30886474251747131,0.1626254,139]
["PZ140","Tameside General Hospital, Ashton under Lyne, Tameside Hospital NHS Foundation Trust","North West",90,68.622222900390625,65.5,8.1432290236984173,"65.5 mmol/mol (8.1%)","65.5 mmol/mol (8.1%)",7.7777777777777779E-2,0.14444444444444443,0.24444444444444444,0.5444444444444444,0.37777777777777777,0.26666666666666666,0.21111111111111111,0.78888888888888886,69.323899999999995,0.24151043593883514,0.25251620000000002,140]
["PZ141","South Tyneside District Hospital, South Shields, South Tyneside NHS Foundation Trust","North East",59,56.949153900146484,57,7.3654817458138897,"57 mmol/mol (7.4%)","57 mmol/mol (7.4%)",0.20338983050847459,0.28813559322033899,0.55932203389830504,0.42372881355932202,8.4745762711864403E-2,"*","*",0.98305084745762716,56.545189999999998,0.57198941707611084,1.69126E-2,141]
["PZ144","Good Hope Hospital, Sutton Coldfield, Heart of England NHS Foundation Trust ","West Midlands",127,64.177162170410156,63,7.9144798243206154,"63 mmol/mol (7.9%)","63 mmol/mol (7.9%)",6.2992125984251968E-2,0.18110236220472442,0.29921259842519687,0.62204724409448819,0.32283464566929132,0.12598425196850394,7.874015748031496E-2,0.92125984251968507,64.074590000000001,0.30278059840202332,7.7995700000000001E-2,144]
["PZ145","Milton Keynes Hospital, Milton Keynes Hospital NHS Foundation Trust","South Central",128,61.7578125,60,7.6399807850672516,"60 mmol/mol (7.6%)","60 mmol/mol (7.6%)",7.03125E-2,0.1953125,0.3671875,0.578125,0.171875,8.59375E-2,5.46875E-2,0.9453125,64.897649999999999,0.30607756972312927,8.8456499999999993E-2,145]
["PZ146","Southend University Hospital, Southend University Hospital NHS Foundation Trust ","East of England",156,65.304489135742188,62,7.8229801445694935,"62 mmol/mol (7.8%)","62 mmol/mol (7.8%)",6.4102564102564097E-2,0.16025641025641027,0.32051282051282054,0.53846153846153844,0.30769230769230771,0.17948717948717949,0.14102564102564102,0.85897435897435903,65.829509999999999,0.30470839142799377,0.13970379999999999,146]
["PZ149","Barnsley District General Hospital, Barnsley Hospital NHS Foundation Trust","Yorkshire and Humber",125,68.872001647949219,66,8.1889788635739773,"66 mmol/mol (8.2%)","66 mmol/mol (8.2%)","*",7.1999999999999995E-2,0.16,0.68799999999999994,0.38400000000000001,0.23200000000000001,0.152,0.84799999999999998,68.06635,0.17051923274993896,0.13473019999999999,149]
["PZ150","Cumberland Infirmary, Cumbria Partnership NHS Foundation Trust","North East",107,66.738319396972656,62.5,7.8687299844450536,"62.5 mmol/mol (7.9%)","62.5 mmol/mol (7.9%)",0.10280373831775701,0.20560747663551401,0.37383177570093457,0.45794392523364486,0.3644859813084112,0.19626168224299065,0.16822429906542055,0.83177570093457942,67.581370000000007,0.34966236352920532,0.1818525,150]
["PZ151","Queen Elizabeth Hospital, Woolwich, South London Healthcare NHS Trust","London and South East",111,71.93243408203125,69.5,8.5092277427029011,"69.5 mmol/mol (8.5%)","69.5 mmol/mol (8.5%)",4.5045045045045043E-2,0.11711711711711711,0.1891891891891892,0.56756756756756754,0.52252252252252251,0.36036036036036034,0.24324324324324326,0.7567567567567568,70.315349999999995,0.19143581390380859,0.19448589999999999,151]
["PZ152","Torbay Hospital, Torquay, South Devon Healthcare NHS Foundation Trust","South West",126,73.198410034179688,68.5,8.4177280629517792,"68.5 mmol/mol (8.4%)","68.5 mmol/mol (8.4%)",4.7619047619047616E-2,9.5238095238095233E-2,0.15873015873015872,0.58730158730158732,0.49206349206349204,0.36507936507936506,0.25396825396825395,0.74603174603174605,72.236630000000005,0.16118821501731873,0.2251089,152]
["PZ153","Whiston Hospital, Prescott, St Helens and Knowsley Teaching Hospitals NHS Trust","North West",140,65.667854309082031,62,7.8229801445694935,"62 mmol/mol (7.8%)","62 mmol/mol (7.8%)",6.4285714285714279E-2,0.22142857142857142,0.33571428571428569,0.50714285714285712,0.30714285714285716,0.18571428571428572,0.15714285714285714,0.84285714285714286,65.010760000000005,0.3599528968334198,0.15325749999999999,153]
["PZ156","Queen Elizabeth Hospital, Kings Lynn, Queen Elizabeth Hospitals NHS Trust","East of England",139,71.384895324707031,68,8.3719782230762192,"68 mmol/mol (8.4%)","68 mmol/mol (8.4%)",8.6330935251798566E-2,0.14388489208633093,0.23741007194244604,0.50359712230215825,0.49640287769784175,0.33812949640287771,0.25899280575539568,0.74100719424460437,68.909909999999996,0.28095617890357971,0.18885199999999999,156]
["PZ157","Royal Free London NHS Foundation Trust, Royal Free Hampstead NHS Trust","London and South East",59,69.771186828613281,65,8.0974791838228573,"65 mmol/mol (8.1%)","65 mmol/mol (8.1%)",0.11864406779661017,0.20338983050847459,0.25423728813559321,0.50847457627118642,0.4576271186440678,0.3559322033898305,0.23728813559322035,0.76271186440677963,68.12473,0.28171929717063904,0.19442909999999999,157]
["PZ159","Basingstoke and North Hampshire Hospital , Hampshire Hospitals NHS Foundation Trust","South Central",139,65.410438537597656,61.754001617431641,7.8004713713451945,"61.8 mmol/mol (7.8%)","61.8 mmol/mol (7.8%)",7.9136690647482008E-2,0.14388489208633093,0.35251798561151076,0.51798561151079137,0.26618705035971224,0.17266187050359713,0.12949640287769784,0.87050359712230219,67.072779999999995,0.32084867358207703,0.1596514,159]
["PZ162","County Durham and Darlington NHS Foundation Trust, County Durham and Darlington NHS Foundation Trust","North East",281,68.431632995605469,66,8.1889788635739773,"66 mmol/mol (8.2%)","66 mmol/mol (8.2%)",4.9822064056939501E-2,0.11743772241992882,0.23131672597864769,0.59074733096085408,0.3914590747330961,0.24555160142348753,0.17793594306049823,0.8220640569395018,67.331590000000006,0.23943059146404266,0.15255859999999999,162]
["PZ163","University Hosptial of North Tees, North Tees and Hartlepool NHS Trust ","North East",156,65.780044555664063,64.5,8.0517293439472954,"64.5 mmol/mol (8.1%)","64.5 mmol/mol (8.1%)",7.6923076923076927E-2,0.16025641025641027,0.27564102564102566,0.62179487179487181,0.40384615384615385,0.1858974358974359,0.10256410256410256,0.89743589743589747,65.018240000000006,0.30355226993560791,9.94564E-2,163]
["PZ164","Rotherham Hospital, The Rotherham NHS Foundation Trust","Yorkshire and Humber",126,70.814620971679688,66.399253845214844,8.2255104625505382,"66.4 mmol/mol (8.2%)","66.4 mmol/mol (8.2%)","*",7.9365079365079361E-2,0.15079365079365079,0.65873015873015872,0.43650793650793651,0.25396825396825395,0.19047619047619047,0.80952380952380953,68.422799999999995,0.17516264319419861,0.14037479999999999,164]
["PZ167","University Hospitals of Morecambe Bay NHS Trust, University Hospitals of Morecambe Bay NHS Trust","North West",196,69.875,67.75,8.3491033031384383,"67.8 mmol/mol (8.3%)","67.8 mmol/mol (8.3%)",4.5918367346938778E-2,0.10204081632653061,0.21428571428571427,0.59693877551020413,0.42857142857142855,0.26020408163265307,0.18877551020408162,0.81122448979591844,70.342730000000003,0.20401972532272339,0.20224800000000001,167]
["PZ168","Grantham and District Hospital, United Lincolnshire Hospitals NHS Trust","East Midlands",46,58.489131927490234,57,7.3654817458138897,"57 mmol/mol (7.4%)","57 mmol/mol (7.4%)",0.15217391304347827,0.32608695652173914,0.52173913043478259,0.43478260869565216,0.15217391304347827,0.10869565217391304,"*",0.95652173913043481,60.86795,0.43203061819076538,6.1141300000000003E-2,168]
["PZ169","Salisbury District Hospital, Salisbury NHS Foundation Trust","South Central",118,64.762710571289063,62.5,7.8687299844450536,"62.5 mmol/mol (7.9%)","62.5 mmol/mol (7.9%)",6.7796610169491525E-2,0.16949152542372881,0.33050847457627119,0.55932203389830504,0.28813559322033899,0.1440677966101695,0.11016949152542373,0.88983050847457623,65.664619999999999,0.33104103803634644,0.1213825,169]
["PZ170","Arrowe Park Hospital, Upton, Wirral University Teaching Hospital NHS Foundation Trust","North West",137,70.416061401367188,68,8.3719782230762192,"68 mmol/mol (8.4%)","68 mmol/mol (8.4%)",3.6496350364963501E-2,0.12408759124087591,0.20437956204379562,0.6058394160583942,0.47445255474452552,0.29197080291970801,0.18978102189781021,0.81021897810218979,71.064940000000007,0.20511464774608612,0.2168059,170]
["PZ171 ","Broomfield Hospital, Chelmsford, Mid Essex Hospital Services NHS Trust","East of England",160,63.067138671875,59.25,7.5713560252539107,"59.3 mmol/mol (7.6%)","59.3 mmol/mol (7.6%)",0.11874999999999999,0.24374999999999999,0.41875000000000001,0.46875,0.25624999999999998,0.19375000000000001,0.1125,0.88749999999999996,65.102519999999998,0.38359004259109497,0.1519471,171]
["PZ172","Watford General Hospital  & Peace Children’s Services, West Herts Hospitals NHS Trust and Herthfordshire Community NHS trust","East of England",174,67.10919189453125,65,{"$f":"(F132/10.929)+2.15","v":8.0974791838228573},{"$f":"(ROUND(F132,1)&$Y$2&$Y$3&(ROUND(G132,1)&$Y$4&$Y$5))","v":"65 mmol/mol (8.1%)"},"65 mmol/mol (8.1%)",6.8965517241379309E-2,0.16091954022988506,0.3045977011494253,0.51724137931034486,0.36781609195402298,0.21264367816091953,0.17816091954022989,0.82183908045977017,68.969750000000005,0.27249053120613098,0.2360198,172]
["PZ173","Yeovil District Hospital, Yeovil District Hospital NHS Foundation Trust ","South West",101,67.623764038085938,63.5,7.9602296641961754,"63.5 mmol/mol (8%)","63.5 mmol/mol (8.0%)",9.9009900990099015E-2,0.17821782178217821,0.27722772277227725,0.53465346534653468,0.37623762376237624,0.23762376237623761,0.18811881188118812,0.81188118811881194,66.645139999999998,0.2851816713809967,0.16685320000000001,173]
["PZ174","Kettering General Hospital, Kettering General Hospital Trust","East Midlands",173,66.095375061035156,62,7.8229801445694935,"62 mmol/mol (7.8%)","62 mmol/mol (7.8%)",7.5144508670520235E-2,0.23121387283236994,0.3583815028901734,0.45086705202312138,0.34104046242774566,0.24277456647398843,0.19075144508670519,0.80924855491329484,65.628010000000003,0.35711604356765747,0.17817839999999999,174]
["PZ175","Queen Mary's Hospital, Sidcup, South London Healthcare NHS Trust","London and South East",100,63.400001525878906,62.5,7.8687299844450536,"62.5 mmol/mol (7.9%)","62.5 mmol/mol (7.9%)",0.1,0.2,0.32,0.56999999999999995,0.32,0.16,0.11,0.89,63.19941,0.32333612442016602,0.1051319,175]
["PZ176","St Peter's Hospital, Chertsey, Ashford and St Peter's Hospitals NHS Trust","London and South East",193,67.091712951660156,64,8.0059795040717354,"64 mmol/mol (8%)","64 mmol/mol (8.0%)",7.7720207253886009E-2,0.14507772020725387,0.28497409326424872,0.58549222797927458,0.36787564766839376,0.21761658031088082,0.12953367875647667,0.8704663212435233,69.221950000000007,0.24500569701194763,0.16048799999999999,176]
["PZ177","Royal Bolton Hospital, Bolton Hospital NHS Foundation Trust","North West",114,66.364036560058594,64,8.0059795040717354,"64 mmol/mol (8%)","64 mmol/mol (8.0%)",4.3859649122807015E-2,9.6491228070175433E-2,0.15789473684210525,0.77192982456140347,0.36842105263157893,0.13157894736842105,7.0175438596491224E-2,0.92982456140350878,66.824929999999995,0.16169029474258423,7.1139499999999994E-2,177]
["PZ178","Manor Hospital, Walsall, Walsall Healthcare NHS Trust","West Midlands",138,69.068840026855469,64.75,8.0746042638850763,"64.8 mmol/mol (8.1%)","64.8 mmol/mol (8.1%)",6.5217391304347824E-2,0.17391304347826086,0.29710144927536231,0.51449275362318836,0.39855072463768115,0.25362318840579712,0.18840579710144928,0.81159420289855078,66.346109999999996,0.36247742176055908,0.13469999999999999,178]
["PZ179","Countess of Chester Hospital NHS Trust, Countess Of Chester Hospital NHS Foundation Trust","North West",153,72.294120788574219,67,8.2804785433250974,"67 mmol/mol (8.3%)","67 mmol/mol (8.3%)",3.2679738562091505E-2,0.12418300653594772,0.21568627450980393,0.52941176470588236,0.45098039215686275,0.33333333333333331,0.25490196078431371,0.74509803921568629,71.934309999999996,0.2152225524187088,0.23078969999999999,179]
["PZ180","Kings Mill Hospital, Sutton-in-Ashfield, Sherwood Forest Hospitals NHS Foundation Trust","East Midlands",160,63.103172302246094,59.568000793457031,7.6004529960158322,"59.6 mmol/mol (7.6%)","59.6 mmol/mol (7.6%)",0.11874999999999999,0.25,0.45,0.4375,0.28749999999999998,0.16875000000000001,0.1125,0.88749999999999996,62.266620000000003,0.467633455991745,0.10400710000000001,180]
["PZ181","Ipswich Hospital, The Ipswich Hospital NHS Trust","East of England",198,70.743804931640625,66.126007080078125,8.2005084710474989,"66.1 mmol/mol (8.2%)","66.1 mmol/mol (8.2%)",8.0808080808080815E-2,0.11616161616161616,0.23232323232323232,0.51010101010101006,0.45454545454545453,0.3383838383838384,0.25757575757575757,0.74242424242424243,70.38673,0.23406994342803955,0.2434462,181]
["PZ182","West Middlesex University Hospital, London, West Middlesex University Hospital NHS Trust ","London and South East",140,65.721427917480469,64.25,8.0288544240095163,"64.3 mmol/mol (8%)","64.3 mmol/mol (8.0%)",9.285714285714286E-2,0.20714285714285716,0.34285714285714286,0.52142857142857146,0.35,0.20714285714285716,0.1357142857142857,0.86428571428571432,65.081280000000007,0.36023774743080139,0.12763740000000001,182]
["PZ183","Royal Preston Hospital, Lancashire Teaching Hospitals NHS Foundation Trust","North West",194,74.074745178222656,71,8.6464772623295811,"71 mmol/mol (8.6%)","71 mmol/mol (8.6%)",3.608247422680412E-2,8.7628865979381437E-2,0.15979381443298968,0.59278350515463918,0.5670103092783505,0.35051546391752575,0.24742268041237114,0.75257731958762886,74.720650000000006,0.15182097256183624,0.27015699999999998,183]
["PZ185","Bronglais General Hospital, Wales, Hywel Dda Local Health Board","Wales",31,71,64,8.0059795040717354,"64 mmol/mol (8%)","64 mmol/mol (8.0%)","*",0.16129032258064516,0.29032258064516131,0.45161290322580644,0.41935483870967744,0.32258064516129031,0.25806451612903225,0.74193548387096775,71.007760000000005,0.30317190289497375,0.27603529999999998,185]
["PZ186","Calderdale & Huddersfiled NHS Foundation Trust, Calderdale & Huddersfield NHS Foundation Trust","Yorkshire and Humber",201,69.448753356933594,67,8.2804785433250974,"67 mmol/mol (8.3%)","67 mmol/mol (8.3%)",6.965174129353234E-2,0.13930348258706468,0.23880597014925373,0.56218905472636815,0.45771144278606968,0.27860696517412936,0.19900497512437812,0.80099502487562191,68.517949999999999,0.2537122368812561,0.1863523,186]
["PZ187","Wrexham Maelor Hospital, Besti Cadwaladr University Health Board","Wales",104,63.774040222167969,60,7.6399807850672516,"60 mmol/mol (7.6%)","60 mmol/mol (7.6%)",0.13461538461538461,0.20192307692307693,0.41346153846153844,0.43269230769230771,0.27884615384615385,0.20192307692307693,0.15384615384615385,0.84615384615384615,64.143069999999994,0.40460994839668274,0.1629408,187]
["PZ188","Royal Gwent Hospital, Aneurin Bevan Health Board","Wales",175,65.494117736816406,63,7.9144798243206154,"63 mmol/mol (7.9%)","63 mmol/mol (7.9%)",6.8571428571428575E-2,0.14285714285714285,0.2742857142857143,0.58285714285714285,0.32,0.19428571428571428,0.14285714285714285,0.85714285714285721,66.308300000000003,0.26620766520500183,0.17064219999999999,188]
["PZ189","Royal Glamorgan Hospital, Cwm Taf Health Board","Wales",68,66.169120788574219,65,8.0974791838228573,"65 mmol/mol (8.1%)","65 mmol/mol (8.1%)",0.13235294117647059,0.20588235294117646,0.3235294117647059,0.5,0.39705882352941174,0.23529411764705882,0.17647058823529413,0.82352941176470584,65.615200000000002,0.34408736228942871,0.17260590000000001,189]
["PZ190","Withybush General Hospital, Hywel Dda Health Board","Wales",52,61.990383148193359,62,7.8229801445694935,"62 mmol/mol (7.8%)","62 mmol/mol (7.8%)",0.19230769230769232,0.30769230769230771,0.42307692307692307,0.48076923076923078,0.30769230769230771,0.17307692307692307,9.6153846153846159E-2,0.90384615384615385,63.444879999999998,0.38668012619018555,0.11942029999999999,190]
["PZ191","Ealing Hospital, Ealing Hospital NHS Trust","London and South East",95,75.826316833496094,73,8.829476621831823,"73 mmol/mol (8.8%)","73 mmol/mol (8.8%)","*",7.3684210526315783E-2,0.12631578947368421,0.61052631578947369,0.64210526315789473,0.36842105263157893,0.26315789473684209,0.73684210526315796,70.585819999999998,0.18821226060390472,0.1766539,191]
["PZ193","Neath Port Talbot Hospital, Abertawe Bro Morgannwg University Health Board","Wales",55,73.181816101074219,65,8.0974791838228573,"65 mmol/mol (8.1%)","65 mmol/mol (8.1%)","*",0.10909090909090909,0.16363636363636364,0.6,0.38181818181818183,0.36363636363636365,0.23636363636363636,0.76363636363636367,73.877459999999999,0.13973382115364075,0.25359799999999999,193]
["PZ196","Great Ormond Street Hospital, London, Great Ormond Street Hospital for Childen NHS Trust","London and South East",7,62.785713195800781,59.5,7.5942309451916916,"59.5 mmol/mol (7.6%)","59.5 mmol/mol (7.6%)",0,0,"*",0.7142857142857143,"*",0,0,1,61.783290000000001,0.34930244088172913,0,196]
["PZ199","North Middlesex University Hospital, North Middlesex University Hospital NHS Trust","London and South East",131,67.877861022949219,62,7.8229801445694935,"62 mmol/mol (7.8%)","62 mmol/mol (7.8%)",9.1603053435114504E-2,0.20610687022900764,0.32061068702290074,0.48091603053435117,0.33587786259541985,0.22900763358778625,0.19847328244274809,0.80152671755725191,64.351929999999996,0.4179023802280426,0.13311780000000001,199]
["PZ200","Princess Alexandra Hospital, Harlow (inc Rectory Lane Health Center, Essex and Florence Nightingale clinic, Harlow) (submitting with Herts & Essex), The Princess Alexandra Hospital NHS Trust  and Herthfordshire community NHS trust","East of England",92,68.15325927734375,62.5,7.8687299844450536,"62.5 mmol/mol (7.9%)","62.5 mmol/mol (7.9%)",0.11956521739130435,0.2391304347826087,0.40217391304347827,0.38043478260869568,0.33695652173913043,0.28260869565217389,0.21739130434782608,0.78260869565217395,68.989519999999999,0.36107739806175232,0.2135145,200]
["PZ202","St Marys Hospital, Imperial College, London, Imperial College Heathcare NHS Trust","London and South East",107,68.186912536621094,64,8.0059795040717354,"64 mmol/mol (8%)","64 mmol/mol (8.0%)",5.6074766355140186E-2,0.13084112149532709,0.23364485981308411,0.57943925233644855,0.35514018691588783,0.25233644859813081,0.18691588785046728,0.81308411214953269,64.953739999999996,0.2999299168586731,0.1383549,202]
["PZ203","University College London Hospital, London, University College London Hospitals NHS Foundation Trust","London and South East",529,64.650718688964844,61.207500457763672,7.7504666902519599,"61.2 mmol/mol (7.8%)","61.2 mmol/mol (7.8%)",7.1833648393194713E-2,0.18714555765595464,0.39130434782608697,0.47826086956521741,0.28544423440453687,0.18525519848771266,0.13043478260869565,0.86956521739130432,64.438720000000004,0.41081753373146057,0.1358973,203]
["PZ206","The Pennine Acute Hospitals NHS Trust, The Pennine Acute Hospitals NHS Trust","North West",278,74.164688110351563,69,8.4634779028273392,"69 mmol/mol (8.5%)","69 mmol/mol (8.5%)",2.5179856115107913E-2,7.5539568345323743E-2,0.17266187050359713,0.5539568345323741,0.52158273381294962,0.35611510791366907,0.2733812949640288,0.72661870503597115,74.076840000000004,0.17178857326507568,0.28550039999999999,206]
["PZ213","East Surrey Hospital, Surrey and Sussex NHS Trust","London and South East",218,69.590080261230469,67.209999084472656,8.299693392302375,"67.2 mmol/mol (8.3%)","67.2 mmol/mol (8.3%)",2.2935779816513763E-2,7.7981651376146793E-2,0.14220183486238533,0.69266055045871555,0.47247706422018348,0.27981651376146788,0.16513761467889909,0.83486238532110091,70.841650000000001,0.13274842500686646,0.17850070000000001,213]
["PZ215","Kings College Hospital, London, King's College Hospital NHS Trust","London and South East",104,71.49981689453125,68.5,8.4177280629517792,"68.5 mmol/mol (8.4%)","68.5 mmol/mol (8.4%)",8.6538461538461536E-2,0.17307692307692307,0.26923076923076922,0.45192307692307693,0.5,0.32692307692307693,0.27884615384615385,0.72115384615384615,67.265100000000004,0.33476266264915466,0.172593,215]
["PZ216","Tunbridge Wells Hospital (formerly Pembury Hospital) , Maidstone and Tunbridge Wells Area and NHS Trust ","London and South East",105,69.998710632324219,67,8.2804785433250974,"67 mmol/mol (8.3%)","67 mmol/mol (8.3%)",4.7619047619047616E-2,8.5714285714285715E-2,0.20952380952380953,0.6,0.43809523809523809,0.25714285714285712,0.19047619047619047,0.80952380952380953,73.478970000000004,0.17521782219409943,0.29004360000000001,216]
["PZ218","Frimley Park Hospital, Camberley, Frimley Park Hospital NHS Trust","London and South East",197,70.31268310546875,66,8.1889788635739773,"66 mmol/mol (8.2%)","66 mmol/mol (8.2%)",7.6142131979695438E-2,0.12690355329949238,0.24365482233502539,0.52284263959390864,0.41116751269035534,0.27918781725888325,0.233502538071066,0.76649746192893398,73.882480000000001,0.19029189646244049,0.30862529999999999,218]
["PZ219","Sheffield Childrens Hospital, Sheffield Children's NHS Foundation Trust","Yorkshire and Humber",214,63.654205322265625,62.25,7.8458550645072744,"62.3 mmol/mol (7.8%)","62.3 mmol/mol (7.8%)",9.8130841121495324E-2,0.25233644859813081,0.36915887850467288,0.53738317757009346,0.32710280373831774,0.16355140186915887,9.3457943925233641E-2,0.90654205607476634,64.210030000000003,0.37318301200866699,0.11271680000000001,219]
["PZ220","Bedford Hospital, Bedford Hospital NHS Trust","East of England",123,69.516258239746094,66,8.1889788635739773,"66 mmol/mol (8.2%)","66 mmol/mol (8.2%)",5.6910569105691054E-2,0.13821138211382114,0.26829268292682928,0.52845528455284552,0.42276422764227645,0.29268292682926828,0.2032520325203252,0.7967479674796748,69.568569999999994,0.25277242064476013,0.192354,220]
["PZ221","Great Western Hospital, Swindon, Great Western Hospitals NHS Foundation Trust","South West",166,66.710845947265625,63,7.9144798243206154,"63 mmol/mol (7.9%)","63 mmol/mol (7.9%)",8.4337349397590355E-2,0.20481927710843373,0.36144578313253012,0.45180722891566266,0.36746987951807231,0.25301204819277107,0.18674698795180722,0.81325301204819278,68.187479999999994,0.33000344038009644,0.22514870000000001,221]
["PZ222","New Cross Hospital, Wolverhampton, The Royal Wolverhampton Hospitals NHS Trust ","West Midlands",186,71.174728393554688,68.25,8.3948531430139983,"68.3 mmol/mol (8.4%)","68.3 mmol/mol (8.4%)",5.3763440860215055E-2,0.12903225806451613,0.22043010752688172,0.54838709677419351,0.489247311827957,0.30645161290322581,0.23118279569892472,0.76881720430107525,70.199100000000001,0.24099673330783844,0.2087357,222]
["PZ223","Sandwell General Hospital, West Bromwich, Sandwell and West Birmingham Hospitals NHS Trust","West Midlands",128,65.546875,63.5,7.9602296641961754,"63.5 mmol/mol (8%)","63.5 mmol/mol (8.0%)",7.8125E-2,0.15625,0.34375,0.5546875,0.3359375,0.1796875,0.1015625,0.8984375,63.673560000000002,0.39488089084625244,8.3996699999999994E-2,223]
["PZ225","Worcestershire Royal Hospital, Worcestershire Acute Hospitals NHS Trust","West Midlands",115,68.030433654785156,65.5,8.1432290236984173,"65.5 mmol/mol (8.1%)","65.5 mmol/mol (8.1%)",8.6956521739130432E-2,0.16521739130434782,0.2608695652173913,0.6,0.39130434782608697,0.21739130434782608,0.1391304347826087,0.86086956521739133,69.033100000000005,0.23612223565578461,0.14338409999999999,225]
["PZ226","Dewsbury & District Hospital, The Mid Yorkshire Hospitals NHS Trust","Yorkshire and Humber",105,70.533332824707031,65.5,8.1432290236984173,"65.5 mmol/mol (8.1%)","65.5 mmol/mol (8.1%)",6.6666666666666666E-2,0.10476190476190476,0.2,0.62857142857142856,0.41904761904761906,0.2857142857142857,0.17142857142857143,0.82857142857142851,69.754059999999996,0.20996889472007751,0.16205149999999999,226]
["PZ228","Prince Charles Hospital, Merthyr Tydfil, Cwm Taf Health Board","Wales",93,60.962364196777344,61,7.7314804648183735,"61 mmol/mol (7.7%)","61 mmol/mol (7.7%)",8.6021505376344093E-2,0.18279569892473119,0.39784946236559138,0.56989247311827962,0.13978494623655913,7.5268817204301078E-2,"*",0.967741935483871,59.808750000000003,0.43713179230690002,2.95173E-2,228]
["PZ230","East Sussex Healthcare NHS Trust, East Sussex Healthcare NHS Trust ","London and South East",114,69.640350341796875,66,8.1889788635739773,"66 mmol/mol (8.2%)","66 mmol/mol (8.2%)",4.3859649122807015E-2,0.11403508771929824,0.16666666666666666,0.64912280701754388,0.40350877192982454,0.23684210526315788,0.18421052631578946,0.81578947368421051,71.099450000000004,0.15434682369232178,0.23172309999999999,230]
["PZ231","Salford Royal Hospital, Salford Royal NHS Foundation Trust","North West",104,70.509613037109375,66.75,8.2576036233873182,"66.8 mmol/mol (8.3%)","66.8 mmol/mol (8.3%)","*",5.7692307692307696E-2,0.21153846153846154,0.58653846153846156,0.40384615384615385,0.27884615384615385,0.20192307692307693,0.79807692307692313,69.246049999999997,0.21092914044857025,0.1664824,231]
["PZ232","BHR , Barking University Hospitals NHS Trust, Havering & Redbridge University Hospitals NHS Trust","London and South East",290,65.917243957519531,63,7.9144798243206154,"63 mmol/mol (7.9%)","63 mmol/mol (7.9%)",0.1,0.19655172413793104,0.3,0.55172413793103448,0.33103448275862069,0.20689655172413793,0.14827586206896551,0.85172413793103452,64.874759999999995,0.32721447944641113,0.14459749999999999,232]
["PZ238","Queen Alexandra Hospital, Portsmouth, Portsmouth Hospitals NHS Trust","South Central",257,68.677040100097656,64,8.0059795040717354,"64 mmol/mol (8%)","64 mmol/mol (8.0%)",5.0583657587548639E-2,0.12062256809338522,0.28793774319066145,0.53307392996108949,0.37354085603112841,0.23735408560311283,0.17898832684824903,0.82101167315175094,70.041460000000001,0.25888508558273315,0.2010914,238]
["PZ240","Russells Hall Hospital, The Dudley Group of Hospitals NHS Foundation Trust","West Midlands",142,66.811477661132813,64,8.0059795040717354,"64 mmol/mol (8%)","64 mmol/mol (8.0%)","*",0.13380281690140844,0.25352112676056338,0.66901408450704225,0.34507042253521125,0.20422535211267606,7.746478873239436E-2,0.92253521126760596,65.384060000000005,0.27482196688652039,6.8207599999999993E-2,240]
["PZ242","Cheltenham and Gloucester Hospital, Gloucestershire Hospitals NHS Trust ","South West",255,62.805881500244141,59,7.5484811053161316,"59 mmol/mol (7.5%)","59 mmol/mol (7.5%)",0.13333333333333333,0.29803921568627451,0.45098039215686275,0.43137254901960786,0.26666666666666666,0.16470588235294117,0.11764705882352941,0.88235294117647056,64.051109999999994,0.42113798856735229,0.1383674,242]
[null,null,"East of England",2982,67.072181701660156,63.5,7.9602296641961754,"63.5 mmol/mol (8%)","63.5 mmol/mol (8.0%)",8.6854460093896718E-2,0.17236753856472167,0.30415828303152248,0.52481556002682761,0.35278336686787393,0.23172367538564723,0.17102615694164991,null,67.476249999999993,0.29619319999999999,0.17738960000000001]
[null,null,"East Midlands",1807,63.683727264404297,61,7.7314804648183735,"61 mmol/mol (7.7%)","61 mmol/mol (7.7%)",9.0758162700608741E-2,0.21748754842280021,0.36745987825124515,0.52241283895960156,0.28168234643054785,0.16270060874377421,0.11012728278915329,null,64.135620000000003,0.35885980000000001,0.1193486]
[null,null,"London and South East",6067,68.735824584960938,65,8.0974791838228573,"65 mmol/mol (8.1%)","65 mmol/mol (8.1%)",6.4282182297675947E-2,0.14570627987473217,0.26108455579363771,0.55513433327839135,0.39953848689632437,0.25366738091313662,0.183781110927971,null,68.405010000000004,0.26294830000000002,0.17560509999999999]
[null,null,"North East and North Cumbria",1521,65.7476806640625,63,7.9144798243206154,"63 mmol/mol (7.9%)","63 mmol/mol (7.9%)",8.941485864562787E-2,0.17094017094017094,0.30966469428007892,0.55292570677186059,0.33201840894148588,0.19066403681788296,0.13740959894806049,null,65.17953,0.32282759999999999,0.12914819999999999]
[null,null,"North West",3325,69.329734802246094,66,8.1889788635739773,"66 mmol/mol (8.2%)","66 mmol/mol (8.2%)",5.473684210526316E-2,0.13413533834586466,0.24571428571428572,0.56270676691729327,0.40902255639097745,0.25924812030075189,0.19157894736842104,null,69.001980000000003,0.25232939999999998,0.1859797]
[null,null,"South Central",2329,65.161506652832031,62,7.8229801445694935,"62 mmol/mol (7.8%)","62 mmol/mol (7.8%)",8.2868183769858314E-2,0.19493344783168742,0.33963074280807215,0.53971661657363679,0.29154143409188493,0.17475311292400172,0.12065264061829112,null,66.589190000000002,0.31018050000000003,0.14154269999999999]
[null,null,"South West",2100,65.597007751464844,62.5,7.8687299844450536,"62.5 mmol/mol (7.9%)","62.5 mmol/mol (7.9%)",9.6190476190476187E-2,0.2061904761904762,0.33809523809523812,0.5195238095238095,0.32714285714285712,0.20190476190476189,0.14238095238095239,null,65.909229999999994,0.33198440000000001,0.14909259999999999]
[null,null,"West Midlands",2714,68.365707397460938,65,8.0974791838228573,"65 mmol/mol (8.1%)","65 mmol/mol (8.1%)",6.0058953574060429E-2,0.14333087693441415,0.25681650700073694,0.5744288872512896,0.3883566691230656,0.24207811348563008,0.16875460574797346,null,67.613979999999998,0.27121109999999998,0.1555222]
[null,null,"Yorkshire and Humber",2546,68.804733276367188,65,8.0974791838228573,"65 mmol/mol (8.1%)","65 mmol/mol (8.1%)",5.0274941084053421E-2,0.12961508248232523,0.24430479183032208,0.57384131971720342,0.39905734485467398,0.25412411626080128,0.18185388845247447,null,68.468800000000002,0.24999869999999999,0.1754597]
[null,null,"England",25391,67.459564208984375,64,8.0059795040717354,"64 mmol/mol (8%)","64 mmol/mol (8.0%)",7.1560789256035609E-2,0.16159269032334292,0.28604623685557873,0.54968295852861249,0.3657201370564373,0.22886061990469064,0.16427080461580876,null,67.435640000000006,0.28618589999999999,0.16348950000000001]
[null,null,"Wales",1348,67.919486999511719,65,8.0974791838228573,"65 mmol/mol (8.1%)","65 mmol/mol (8.1%)",8.1602373887240356E-2,0.15801186943620177,0.28412462908011871,0.54451038575667654,0.38204747774480713,0.24109792284866469,0.17136498516320475,null,68.355130000000003,0.28175440000000002,0.18709890000000001]
[null,null,"England and Wales",26739,67.482749938964844,64,8.0059795040717354,"64 mmol/mol (8%)","64 mmol/mol (8.0%)",7.2067018213096981E-2,0.16141216949025769,0.2859493623546131,0.54942219230337708,0.36654325143049477,0.22947754216687236,0.16462844534200979]

{"sheet":"HbA1c-1819","index":13,"n_rows":189,"n_cols":24,"rows_kept":189,"cut":false,"hidden":true,"merged":[[0,0,1,0],[0,1,1,1],[0,2,1,2],[0,4,0,15],[0,17,0,19]]}
["Unit code","Unit name","Region",null,"Unadjusted HbA1c figures (Type 1 diabetes only)",null,null,null,null,null,null,null,null,null,null,null,null,"Adjusted HbA1c figures (Type 1 diabetes only)"]
[null,null,null,"Denominator","Mean","Median","DCCT","Full text",null,"% ≤48 mmol/mol","% ≤53 mmol/mol","% <58 mmol/mol","% 58-80mmol/mol","% ≥69mmol/mol","% >75mmol/mol","% >80mmol/mol","< 80","Mean","% <58mmol/mol","% >80mmol/mol","pdu_last","% < 80",null," mmol/mol "]
["PZ001","Morriston Hospital ","Wales",126,70.575393676757813,66,{"$f":"(F3/10.929)+2.15","v":8.1889788635739773},{"$f":"(ROUND(F3,1)&$X$2&$X$3&(ROUND(G3,1)&$X$4&$X$5))","v":"66 mmol/mol (8.2%)"},"66 mmol/mol (8.2%)",9.5238095238095233E-2,0.15873015873015872,0.22222222222222221,0.56349206349206349,0.41269841269841268,0.26190476190476192,0.21428571428571427,{"$f":"1-P3","v":0.7857142857142857},70.870147705078125,0.22321337461471558,0.25310623645782471,null,null,null,"("]
["PZ002","Norfolk and Norwich University Hospital","East of England",281,62.840568542480469,60.5,{"$f":"(F4/10.929)+2.15","v":7.6857306249428117},"60.5 mmol/mol (7.7%)","60.5 mmol/mol (7.7%)",8.8967971530249115E-2,0.18861209964412812,0.35231316725978645,0.55516014234875444,0.24911032028469751,0.13167259786476868,9.2526690391459068E-2,{"$f":"1-P4","v":0.90747330960854089},63.347183227539063,0.34505292773246765,0.1045742928981781,null,null,null,"%"]
["PZ003","Pinderfields General Hospital and Pontefract General Infirmary","Yorkshire and Humber",188,66.313827514648438,62,7.8229801445694935,"62 mmol/mol (7.8%)","62 mmol/mol (7.8%)",0.10106382978723404,0.20744680851063829,0.36170212765957449,0.44680851063829785,0.32446808510638298,0.22872340425531915,0.19148936170212766,0.8085106382978724,66.327728271484375,0.36380419135093689,0.19865970313549042,null,null,null,")"]
["PZ004","Northampton General Hospital","East Midlands",190,64.778945922851563,63.75,7.9831045841339545,"63.8 mmol/mol (8%)","63.8 mmol/mol (8.0%)",7.8947368421052627E-2,0.15263157894736842,0.30526315789473685,0.6,0.33157894736842103,0.14210526315789473,9.4736842105263161E-2,0.90526315789473688,65.405235290527344,0.29623508453369141,0.10970643162727356]
["PZ005","Derbyshire Children's Hospital","East Midlands",246,59.605690002441406,56.5,7.3197319059383297,"56.5 mmol/mol (7.3%)","56.5 mmol/mol (7.3%)",0.14634146341463414,0.35772357723577236,0.54065040650406504,0.37804878048780488,0.16260162601626016,0.11788617886178862,8.1300813008130079E-2,0.91869918699186992,60.224624633789063,0.51697802543640137,8.6680367588996887E-2]
["PZ006","Doncaster Royal Infirmary","Yorkshire and Humber",165,65.015151977539063,60,7.6399807850672516,"60 mmol/mol (7.6%)","60 mmol/mol (7.6%)",8.4848484848484854E-2,0.19393939393939394,0.36363636363636365,0.49696969696969695,0.27272727272727271,0.18787878787878787,0.1393939393939394,0.8606060606060606,63.951950073242188,0.38427862524986267,0.12062875926494598]
["PZ007","John Radcliffe Hospital","South Central",331,60.373111724853516,58,7.4569814255650098,"58 mmol/mol (7.5%)","58 mmol/mol (7.5%)",0.15709969788519637,0.30513595166163143,0.4773413897280967,0.4380664652567976,0.21148036253776434,0.12990936555891239,8.4592145015105744E-2,0.9154078549848943,61.398540496826172,0.44346791505813599,9.7075387835502625E-2]
["PZ009","Macclesfield District General Hospital","North West",105,63.338096618652344,60.5,7.6857306249428117,"60.5 mmol/mol (7.7%)","60.5 mmol/mol (7.7%)",7.6190476190476197E-2,0.19047619047619047,0.39047619047619048,0.51428571428571423,0.25714285714285712,0.15238095238095239,9.5238095238095233E-2,0.90476190476190477,65.217750549316406,0.35265460610389709,0.12503558397293091]
["PZ010","Luton and Dunstable Hospital","East of England",158,66.12945556640625,65.033004760742188,8.1004991088610296,"65 mmol/mol (8.1%)","65 mmol/mol (8.1%)",5.6962025316455694E-2,0.12025316455696203,0.29113924050632911,0.57594936708860756,0.34810126582278483,0.189873417721519,0.13291139240506328,0.86708860759493667,66.205276489257813,0.29290354251861572,0.15003536641597748]
["PZ011","Glan Clwyd District General Hospital ","Wales",110,65.386360168457031,61.5,7.7772303046939335,"61.5 mmol/mol (7.8%)","61.5 mmol/mol (7.8%)",0.1,0.21818181818181817,0.38181818181818183,0.46363636363636362,0.2818181818181818,0.24545454545454545,0.15454545454545454,0.84545454545454546,66.6319580078125,0.35714262723922729,0.18821999430656433]
["PZ012","Barnet General Hospital","London and South East",100,67.656501770019531,66,8.1889788635739773,"66 mmol/mol (8.2%)","66 mmol/mol (8.2%)",0.13,0.24,0.33,0.48,0.4,0.31,0.19,0.81,67.338493347167969,0.33833757042884827,0.17691376805305481]
["PZ014","Chase Farm Hospital","London and South East",52,72.221153259277344,67,8.2804785433250974,"67 mmol/mol (8.3%)","67 mmol/mol (8.3%)",7.6923076923076927E-2,0.19230769230769232,0.25,0.48076923076923078,0.42307692307692307,0.34615384615384615,0.26923076923076922,0.73076923076923084,72.913467407226563,0.24654968082904816,0.2872256338596344]
["PZ015","Wythenshawe Hospital","North West",106,61.174530029296875,57.5,7.4112315856894497,"57.5 mmol/mol (7.4%)","57.5 mmol/mol (7.4%)",0.19811320754716982,0.32075471698113206,0.51886792452830188,0.330188679245283,0.24528301886792453,0.17924528301886791,0.15094339622641509,0.84905660377358494,62.338676452636719,0.48710811138153076,0.18158486485481262]
["PZ016","Bassetlaw District General Hospital","Yorkshire and Humber",68,62.919116973876953,62,7.8229801445694935,"62 mmol/mol (7.8%)","62 mmol/mol (7.8%)",0.14705882352941177,0.19117647058823528,0.35294117647058826,0.54411764705882348,0.26470588235294118,0.16176470588235295,0.10294117647058823,0.8970588235294118,63.219917297363281,0.35046082735061646,0.1117093488574028]
["PZ017","Dorset County Hospital","South Central",89,65.214492797851563,61.754001617431641,7.8004713713451945,"61.8 mmol/mol (7.8%)","61.8 mmol/mol (7.8%)",4.49438202247191E-2,0.1348314606741573,0.38202247191011235,0.47191011235955055,0.3146067415730337,0.16853932584269662,0.14606741573033707,0.8539325842696629,64.211265563964844,0.40498653054237366,0.12845993041992188]
["PZ018","Worthing Hospital","London and South East",119,68.820602416992188,65.579498291015625,8.1505030918671082,"65.6 mmol/mol (8.2%)","65.6 mmol/mol (8.2%)",3.3613445378151259E-2,0.11764705882352941,0.26890756302521007,0.54621848739495793,0.42016806722689076,0.23529411764705882,0.18487394957983194,0.81512605042016806,69.404472351074219,0.25702521204948425,0.18550483882427216]
["PZ019","Basildon University Hospital","East of England",207,64.280189514160156,60.5,7.6857306249428117,"60.5 mmol/mol (7.7%)","60.5 mmol/mol (7.7%)",0.13043478260869565,0.2560386473429952,0.39613526570048307,0.43961352657004832,0.30434782608695654,0.20289855072463769,0.16425120772946861,0.83574879227053134,63.400257110595703,0.41181096434593201,0.14293526113033295]
["PZ020","Diana, Princess of Wales Hospital, Grimsby","Yorkshire and Humber",102,59.338233947753906,57,7.3654817458138897,"57 mmol/mol (7.4%)","57 mmol/mol (7.4%)",9.8039215686274508E-2,0.31372549019607843,0.5490196078431373,0.38235294117647056,0.17647058823529413,7.8431372549019607E-2,6.8627450980392163E-2,0.93137254901960786,60.785907745361328,0.5064464807510376,8.273865282535553E-2]
["PZ021","Wexham Park Hospital","South Central",169,63.621303558349609,61.5,7.7772303046939335,"61.5 mmol/mol (7.8%)","61.5 mmol/mol (7.8%)",0.10059171597633136,0.23076923076923078,0.38461538461538464,0.53846153846153844,0.29585798816568049,0.13017751479289941,7.6923076923076927E-2,0.92307692307692313,64.583793640136719,0.36540326476097107,8.66265669465065E-2]
["PZ022","West Cumberland Hospital ","East of England",55,63.081817626953125,58,7.4569814255650098,"58 mmol/mol (7.5%)","58 mmol/mol (7.5%)",0.18181818181818182,0.32727272727272727,0.47272727272727272,0.38181818181818183,0.25454545454545452,0.18181818181818182,0.14545454545454545,0.8545454545454545,62.678253173828125,0.47835266590118408,0.1356673389673233]
["PZ023","St George's Hospital, London","London and South East",134,66.098709106445313,62,7.8229801445694935,"62 mmol/mol (7.8%)","62 mmol/mol (7.8%)",0.16417910447761194,0.22388059701492538,0.35074626865671643,0.5,0.32089552238805968,0.21641791044776118,0.14925373134328357,0.85074626865671643,64.932289123535156,0.36017459630966187,0.12635497748851776]
["PZ024","East Kent Hospitals University NHS Foundation Trust","London and South East",349,65.36962890625,61.5,7.7772303046939335,"61.5 mmol/mol (7.8%)","61.5 mmol/mol (7.8%)",0.10315186246418338,0.22349570200573066,0.37535816618911177,0.4871060171919771,0.31518624641833809,0.18051575931232092,0.13753581661891118,0.86246418338108888,65.366508483886719,0.37437483668327332,0.13812528550624847]
["PZ026","Hull Royal Infirmary","Yorkshire and Humber",237,68.599159240722656,65,8.0974791838228573,"65 mmol/mol (8.1%)","65 mmol/mol (8.1%)",7.1729957805907171E-2,0.13502109704641349,0.22362869198312235,0.59493670886075944,0.379746835443038,0.24050632911392406,0.18143459915611815,0.81856540084388185,68.707489013671875,0.22081468999385834,0.18121664226055145]
["PZ027","Friarage Hospital ","North East",42,61.459690093994141,59.25,7.5713560252539107,"59.3 mmol/mol (7.6%)","59.3 mmol/mol (7.6%)",7.1428571428571425E-2,0.23809523809523808,0.42857142857142855,0.47619047619047616,0.21428571428571427,0.14285714285714285,9.5238095238095233E-2,0.90476190476190477,62.824588775634766,0.40986612439155579,0.12015490233898163]
["PZ028","Stoke Mandeville Hospital ","South Central",88,60.051136016845703,57,7.3654817458138897,"57 mmol/mol (7.4%)","57 mmol/mol (7.4%)",0.13636363636363635,0.34090909090909088,0.52272727272727271,0.39772727272727271,0.15909090909090909,0.11363636363636363,7.9545454545454544E-2,0.92045454545454541,63.339839935302734,0.42790207266807556,0.12504728138446808]
["PZ030","Leighton Hospital","North West",92,62.885414123535156,59,7.5484811053161316,"59 mmol/mol (7.5%)","59 mmol/mol (7.5%)",0.13043478260869565,0.2608695652173913,0.45652173913043476,0.45652173913043476,0.20652173913043478,0.11956521739130435,8.6956521739130432E-2,0.91304347826086962,63.796337127685547,0.43250945210456848,0.10565157234668732]
["PZ031","St Richard's Hospital ","London and South East",102,63.215686798095703,61,7.7314804648183735,"61 mmol/mol (7.7%)","61 mmol/mol (7.7%)",3.9215686274509803E-2,0.16666666666666666,0.38235294117647056,0.50980392156862742,0.23529411764705882,0.15686274509803921,0.10784313725490197,0.89215686274509798,64.912254333496094,0.34807944297790527,0.13437679409980774]
["PZ032","Royal Victoria Infirmary, Newcastle Upon Tyne","North East",281,66.001777648925781,63,7.9144798243206154,"63 mmol/mol (7.9%)","63 mmol/mol (7.9%)",0.10320284697508897,0.18505338078291814,0.31672597864768681,0.53024911032028466,0.36298932384341637,0.20640569395017794,0.15302491103202848,0.84697508896797147,64.929222106933594,0.33948999643325806,0.13653436303138733]
["PZ033","Queens Hospital, Burton on Trent","West Midlands",132,63.413974761962891,60.25,7.6628557050050325,"60.3 mmol/mol (7.7%)","60.3 mmol/mol (7.7%)",0.12121212121212122,0.26515151515151514,0.41666666666666669,0.46969696969696972,0.2196969696969697,0.15909090909090909,0.11363636363636363,0.88636363636363635,63.403785705566406,0.40572285652160645,0.1038910448551178]
["PZ034","Royal Hampshire County Hospital","South Central",121,65,62.5,7.8687299844450536,"62.5 mmol/mol (7.9%)","62.5 mmol/mol (7.9%)",0.11570247933884298,0.23966942148760331,0.37190082644628097,0.48760330578512395,0.2975206611570248,0.17355371900826447,0.14049586776859505,0.85950413223140498,66.126052856445313,0.34025919437408447,0.16016751527786255]
["PZ035","Royal Berkshire Hospital","South Central",229,61.646289825439453,58,7.4569814255650098,"58 mmol/mol (7.5%)","58 mmol/mol (7.5%)",0.13973799126637554,0.27947598253275108,0.4759825327510917,0.42794759825327511,0.20960698689956331,0.12663755458515283,9.606986899563319E-2,0.90393013100436681,63.006614685058594,0.43461734056472778,0.1131485179066658]
["PZ036","Whipps Cross University Hospital ","London and South East",140,65.902229309082031,61,7.7314804648183735,"61 mmol/mol (7.7%)","61 mmol/mol (7.7%)",0.1,0.24285714285714285,0.40714285714285714,0.44285714285714284,0.2857142857142857,0.17857142857142858,0.15,0.85,64.81390380859375,0.4439200758934021,0.13529045879840851]
["PZ038","Wycombe General Hospital ","South Central",96,58.810062408447266,58.25,7.4798563455027907,{"$f":"(ROUND(F35,1)&$X$2&$X$3&(ROUND(G35,1)&$X$4&$X$5))","v":"58.3 mmol/mol (7.5%)"},"58.3 mmol/mol (7.5%)",0.13541666666666666,0.30208333333333331,0.48958333333333331,0.44791666666666669,0.13541666666666666,7.2916666666666671E-2,6.25E-2,0.9375,62.451564788818359,0.40170985460281372,0.11016348004341125]
["PZ040","Birmingham Heartlands Hospital","West Midlands",254,70.876388549804688,69,8.4634779028273392,"69 mmol/mol (8.5%)","69 mmol/mol (8.5%)",3.5433070866141732E-2,9.8425196850393706E-2,0.16141732283464566,0.60629921259842523,0.50787401574803148,0.33858267716535434,0.23228346456692914,0.76771653543307083,68.548454284667969,0.18694348633289337,0.18163138628005981]
["PZ041","Addenbrooke's Hospital","East of England",231,63.038959503173828,60,7.6399807850672516,"60 mmol/mol (7.6%)","60 mmol/mol (7.6%)",0.11688311688311688,0.24242424242424243,0.36796536796536794,0.51515151515151514,0.21212121212121213,0.13419913419913421,0.11688311688311688,0.88311688311688308,64.665740966796875,0.33920589089393616,0.15403454005718231]
["PZ042","Nottingham Children's Hospital ","East Midlands",319,58.561126708984375,56.5,7.3197319059383297,"56.5 mmol/mol (7.3%)","56.5 mmol/mol (7.3%)",0.16927899686520376,0.33542319749216298,0.56112852664576807,0.37304075235109718,0.15987460815047022,8.4639498432601878E-2,6.5830721003134793E-2,0.93416927899686519,58.099723815917969,0.58071392774581909,6.2187075614929199E-2]
["PZ045","Whittington Hospital, London","London and South East",88,66.621200561523438,63.25,7.9373547442583945,"63.3 mmol/mol (7.9%)","63.3 mmol/mol (7.9%)",0.10227272727272728,0.22727272727272727,0.39772727272727271,0.40909090909090912,0.375,0.26136363636363635,0.19318181818181818,0.80681818181818188,64.086647033691406,0.45709139108657837,0.1352701336145401]
["PZ047","Airedale General Hospital, Keighley","Yorkshire and Humber",99,66.575759887695313,63,7.9144798243206154,"63 mmol/mol (7.9%)","63 mmol/mol (7.9%)",4.0404040404040407E-2,0.12121212121212122,0.25252525252525254,0.60606060606060608,0.36363636363636365,0.19191919191919191,0.14141414141414141,0.85858585858585856,65.272270202636719,0.26517686247825623,0.11467941850423813]
["PZ048","Lincoln County Hospital ","East Midlands",125,68.627998352050781,66,8.1889788635739773,"66 mmol/mol (8.2%)","66 mmol/mol (8.2%)",5.6000000000000001E-2,0.17599999999999999,0.27200000000000002,0.52,0.44800000000000001,0.30399999999999999,0.20799999999999999,0.79200000000000004,69.201698303222656,0.26463231444358826,0.23634918034076691]
["PZ049","Warrington Hospital","North West",141,62.946807861328125,59.5,7.5942309451916916,"59.5 mmol/mol (7.6%)","59.5 mmol/mol (7.6%)",9.9290780141843976E-2,0.19858156028368795,0.41134751773049644,0.47517730496453903,0.2978723404255319,0.15602836879432624,0.11347517730496454,0.88652482269503552,63.062507629394531,0.40451806783676147,0.11113405972719193]
["PZ050","Epsom & St Helier University Hospitals NHS Trust","London and South East",188,66.593086242675781,63.75,7.9831045841339545,"63.8 mmol/mol (8%)","63.8 mmol/mol (8.0%)",0.11170212765957446,0.19680851063829788,0.32978723404255317,0.54255319148936165,0.35106382978723405,0.20212765957446807,0.1276595744680851,0.87234042553191493,67.652603149414063,0.3095700740814209,0.14227791130542755]
["PZ052","Nevill Hall Hospital ","Wales",81,66.7283935546875,66,8.1889788635739773,"66 mmol/mol (8.2%)","66 mmol/mol (8.2%)",6.1728395061728392E-2,0.1111111111111111,0.20987654320987653,0.66666666666666663,0.41975308641975306,0.25925925925925924,0.12345679012345678,0.87654320987654322,66.614479064941406,0.21689046919345856,0.12699739634990692]
["PZ053","Scunthorpe General Hospital","Yorkshire and Humber",104,66.038459777832031,61.25,7.7543553847561526,"61.3 mmol/mol (7.8%)","61.3 mmol/mol (7.8%)",8.6538461538461536E-2,0.20192307692307693,0.375,0.48076923076923078,0.30769230769230771,0.18269230769230768,0.14423076923076922,0.85576923076923084,66.111091613769531,0.37248581647872925,0.14991332590579987]
["PZ054","Poole General Hospital","South Central",204,63.268001556396484,60.25,7.6628557050050325,"60.3 mmol/mol (7.7%)","60.3 mmol/mol (7.7%)",9.8039215686274508E-2,0.20588235294117646,0.34803921568627449,0.52941176470588236,0.26960784313725489,0.16666666666666666,0.12254901960784313,0.87745098039215685,65.498985290527344,0.31020033359527588,0.17855001986026764]
["PZ055","Leicester Royal Infirmary","East Midlands",334,63.266517639160156,61.5,7.7772303046939335,"61.5 mmol/mol (7.8%)","61.5 mmol/mol (7.8%)",9.580838323353294E-2,0.19461077844311378,0.3652694610778443,0.54191616766467066,0.26946107784431139,0.1437125748502994,9.2814371257485026E-2,0.90718562874251496,64.599479675292969,0.34627899527549744,0.12362757325172424]
["PZ056","Glangwili General Hospital (West Wales General Hospital),  ","Wales",103,66.009712219238281,64,8.0059795040717354,"64 mmol/mol (8%)","64 mmol/mol (8.0%)",8.7378640776699032E-2,0.25242718446601942,0.36893203883495146,0.44660194174757284,0.35922330097087379,0.26213592233009708,0.18446601941747573,0.81553398058252424,66.272628784179688,0.35818824172019958,0.19617506861686707]
["PZ057","Kingston Hospital","London and South East",155,60.470447540283203,58,7.4569814255650098,"58 mmol/mol (7.5%)","58 mmol/mol (7.5%)",0.16129032258064516,0.33548387096774196,0.4838709677419355,0.43870967741935485,0.20645161290322581,9.6774193548387094E-2,7.7419354838709681E-2,0.92258064516129035,62.118209838867188,0.42883485555648804,9.425894170999527E-2]
["PZ058","Newham University Hospital","London and South East",108,64.92645263671875,60.75,7.7086055448805926,"60.8 mmol/mol (7.7%)","60.8 mmol/mol (7.7%)",0.12037037037037036,0.29629629629629628,0.41666666666666669,0.39814814814814814,0.33333333333333331,0.23148148148148148,0.18518518518518517,0.81481481481481488,61.858078002929688,0.53096485137939453,0.13938543200492859]
["PZ059","The Royal London Hospital ","London and South East",229,63.847160339355469,59.5,7.5942309451916916,"59.5 mmol/mol (7.6%)","59.5 mmol/mol (7.6%)",0.13100436681222707,0.27947598253275108,0.44978165938864628,0.41484716157205243,0.27074235807860264,0.17903930131004367,0.13537117903930132,0.86462882096069871,60.586277008056641,0.57917517423629761,9.6555016934871674E-2]
["PZ060","Royal Devon and Exeter Hospital","South West",205,68.612197875976563,64,8.0059795040717354,"64 mmol/mol (8%)","64 mmol/mol (8.0%)",9.2682926829268292E-2,0.1951219512195122,0.32195121951219513,0.46341463414634149,0.37073170731707317,0.25365853658536586,0.21463414634146341,0.78536585365853662,68.621803283691406,0.31250962615013123,0.19885390996932983]
["PZ062","Croydon University Hospital","London and South East",115,69.247825622558594,64.5,8.0517293439472954,"64.5 mmol/mol (8.1%)","64.5 mmol/mol (8.1%)",9.5652173913043481E-2,0.20869565217391303,0.31304347826086959,0.46086956521739131,0.43478260869565216,0.29565217391304349,0.22608695652173913,0.77391304347826084,68.081573486328125,0.32973378896713257,0.18494972586631775]
["PZ064","Chesterfield Royal Hospital","East Midlands",166,62.484939575195313,62,7.8229801445694935,"62 mmol/mol (7.8%)","62 mmol/mol (7.8%)",0.10240963855421686,0.24096385542168675,0.38554216867469882,0.51204819277108438,0.25903614457831325,0.13253012048192772,0.10240963855421686,0.89759036144578319,61.610980987548828,0.40183284878730774,8.6847424507141113E-2]
["PZ065","County Hospital Stafford","West Midlands",81,65.080245971679688,61.5,7.7772303046939335,"61.5 mmol/mol (7.8%)","61.5 mmol/mol (7.8%)",3.7037037037037035E-2,9.8765432098765427E-2,0.34567901234567899,0.55555555555555558,0.29629629629629628,0.16049382716049382,9.8765432098765427E-2,0.90123456790123457,66.048851013183594,0.32900834083557129,0.11527442187070847]
["PZ067","Royal Cornwall Hospital","South West",200,60.055000305175781,59,7.5484811053161316,"59 mmol/mol (7.5%)","59 mmol/mol (7.5%)",0.13,0.3,0.47,0.47499999999999998,0.16,8.5000000000000006E-2,5.5E-2,0.94499999999999995,60.267536163330078,0.46855944395065308,6.2196206301450729E-2]
["PZ068","Royal United Hospital","South West",214,65.738319396972656,63,7.9144798243206154,"63 mmol/mol (7.9%)","63 mmol/mol (7.9%)",9.3457943925233641E-2,0.20093457943925233,0.32242990654205606,0.50467289719626163,0.34579439252336447,0.20093457943925233,0.17289719626168223,0.82710280373831779,67.085655212402344,0.29727441072463989,0.20706242322921753]
["PZ069","Stepping Hill Hospital","North West",173,62.283237457275391,60,7.6399807850672516,"60 mmol/mol (7.6%)","60 mmol/mol (7.6%)",0.11560693641618497,0.27167630057803466,0.4277456647398844,0.47398843930635837,0.25433526011560692,0.15028901734104047,9.8265895953757232E-2,0.90173410404624277,62.555850982666016,0.41310316324234009,9.9310033023357391E-2]
["PZ072","West Suffolk Hospital, Bury St Edmunds","East of England",150,64.298744201660156,59.5,7.5942309451916916,"59.5 mmol/mol (7.6%)","59.5 mmol/mol (7.6%)",0.12666666666666668,0.28666666666666668,0.41333333333333333,0.44,0.28000000000000003,0.16666666666666666,0.14666666666666667,0.85333333333333328,64.712997436523438,0.40088862180709839,0.1459762305021286]
["PZ073","Alexandra Hospital ","West Midlands",89,66.713485717773438,64,8.0059795040717354,"64 mmol/mol (8%)","64 mmol/mol (8.0%)",8.98876404494382E-2,0.19101123595505617,0.3258426966292135,0.48314606741573035,0.33707865168539325,0.2696629213483146,0.19101123595505617,0.8089887640449438,67.7352294921875,0.30341386795043945,0.21885624527931213]
["PZ074","Alder Hey Childrens Hospital","North West",394,63.853431701660156,61,7.7314804648183735,"61 mmol/mol (7.7%)","61 mmol/mol (7.7%)",0.12944162436548223,0.23857868020304568,0.39847715736040606,0.48730964467005078,0.27157360406091369,0.17512690355329949,0.11421319796954314,0.8857868020304569,62.306591033935547,0.44038942456245422,9.7242660820484161E-2]
["PZ075","St Mary's Hospital, Isle of Wight","South Central",71,63.802818298339844,61,7.7314804648183735,"61 mmol/mol (7.7%)","61 mmol/mol (7.7%)",0.12676056338028169,0.21126760563380281,0.36619718309859156,0.50704225352112675,0.323943661971831,0.19718309859154928,0.12676056338028169,0.87323943661971826,65.40478515625,0.34053575992584229,0.16091898083686829]
["PZ076","Colchester General Hospital","East of England",195,65.302238464355469,62,7.8229801445694935,"62 mmol/mol (7.8%)","62 mmol/mol (7.8%)",9.7435897435897437E-2,0.21025641025641026,0.35897435897435898,0.517948717948718,0.28717948717948716,0.19487179487179487,0.12307692307692308,0.87692307692307692,65.438804626464844,0.35444515943527222,0.12443254888057709]
["PZ078","Royal Stoke University Hospital","West Midlands",227,66.4493408203125,62.5,7.8687299844450536,"62.5 mmol/mol (7.9%)","62.5 mmol/mol (7.9%)",5.2863436123348019E-2,0.14977973568281938,0.31277533039647576,0.5374449339207048,0.30837004405286345,0.21145374449339208,0.14977973568281938,0.85022026431718056,66.736549377441406,0.31084039807319641,0.16310857236385345]
["PZ080","Sunderland Royal Hospital","North East",187,60.960166931152344,60,7.6399807850672516,"60 mmol/mol (7.6%)","60 mmol/mol (7.6%)",0.16577540106951871,0.24598930481283424,0.39037433155080214,0.55080213903743314,0.23529411764705882,0.11229946524064172,5.8823529411764705E-2,0.94117647058823528,60.2161865234375,0.40683367848396301,5.1777034997940063E-2]
["PZ082","Evelina Childrens Hospital","London and South East",86,70.087211608886719,65,8.0974791838228573,"65 mmol/mol (8.1%)","65 mmol/mol (8.1%)",4.6511627906976744E-2,0.12790697674418605,0.2558139534883721,0.51162790697674421,0.43023255813953487,0.26744186046511625,0.23255813953488372,0.76744186046511631,68.833366394042969,0.28607919812202454,0.22732444107532501]
["PZ084","Kidderminster Hospital","West Midlands",49,72.030609130859375,69.5,8.5092277427029011,{"$f":"(ROUND(F67,1)&$X$2&$X$3&(ROUND(G67,1)&$X$4&$X$5))","v":"69.5 mmol/mol (8.5%)"},"69.5 mmol/mol (8.5%)",0,4.0816326530612242E-2,0.16326530612244897,0.67346938775510201,0.51020408163265307,0.2857142857142857,0.16326530612244897,0.83673469387755106,72.223320007324219,0.16565030813217163,0.17579296231269836]
["PZ085","Princess Royal University Hospital","London and South East",151,65.61920166015625,62.5,{"$f":"(F68/10.929)+2.15","v":7.8687299844450536},"62.5 mmol/mol (7.9%)","62.5 mmol/mol (7.9%)",9.9337748344370855E-2,0.18543046357615894,0.33774834437086093,0.51655629139072845,0.3443708609271523,0.19867549668874171,0.14569536423841059,{"$f":"1-P68","v":0.85430463576158944},66.236953735351563,0.31564530730247498,0.14243556559085846]
["PZ086","Hinchingbrooke Hospital","East of England",96,68.119789123535156,67.5,8.3262283832006592,"67.5 mmol/mol (8.3%)","67.5 mmol/mol (8.3%)",0.11458333333333333,0.16666666666666666,0.23958333333333334,0.58333333333333337,0.44791666666666669,0.27083333333333331,0.17708333333333334,0.82291666666666663,68.492507934570313,0.23242934048175812,0.18195222318172455]
["PZ088","Royal Surrey County Hospital","London and South East",150,60.962001800537109,60,7.6399807850672516,"60 mmol/mol (7.6%)","60 mmol/mol (7.6%)",0.12,0.27333333333333332,0.40666666666666668,0.53333333333333333,0.17333333333333334,0.1,0.06,0.94,63.166957855224609,0.35119226574897766,8.0917336046695709E-2]
["PZ089","Northwick Park Hospital","London and South East",161,70.626594543457031,67,8.2804785433250974,"67 mmol/mol (8.3%)","67 mmol/mol (8.3%)",9.3167701863354033E-2,0.17391304347826086,0.2608695652173913,0.47204968944099379,0.44720496894409939,0.33540372670807456,0.26708074534161491,0.73291925465838514,68.053665161132813,0.30658400058746338,0.19738875329494476]
["PZ091","Royal Blackburn Hospital","North West",252,68.777778625488281,64.25,8.0288544240095163,"64.3 mmol/mol (8%)","64.3 mmol/mol (8.0%)",3.1746031746031744E-2,0.13095238095238096,0.24206349206349206,0.58730158730158732,0.38095238095238093,0.23412698412698413,0.17063492063492064,0.82936507936507931,67.343170166015625,0.26809349656105042,0.14650349318981171]
["PZ092","Princess of Wales Hospital, Bridgend","Wales",82,65.798782348632813,64.25,8.0288544240095163,"64.3 mmol/mol (8%)","64.3 mmol/mol (8.0%)",0.10975609756097561,0.26829268292682928,0.37804878048780488,0.46341463414634149,0.3902439024390244,0.1951219512195122,0.15853658536585366,0.84146341463414631,66.438285827636719,0.35716566443443298,0.16651928424835205]
["PZ094","Princess Royal Hospital","West Midlands",284,66.762321472167969,63.75,7.9831045841339545,"63.8 mmol/mol (8%)","63.8 mmol/mol (8.0%)",4.2253521126760563E-2,0.12676056338028169,0.23943661971830985,0.63028169014084512,0.31690140845070425,0.20070422535211269,0.13028169014084506,0.86971830985915499,66.742050170898438,0.23770140111446381,0.12408032268285751]
["PZ096","Derriford Hospital","South West",206,62.754856109619141,61,7.7314804648183735,"61 mmol/mol (7.7%)","61 mmol/mol (7.7%)",0.11165048543689321,0.24757281553398058,0.35922330097087379,0.56310679611650483,0.25242718446601942,0.12135922330097088,7.7669902912621352E-2,0.92233009708737868,63.211429595947266,0.35269749164581299,8.7880507111549377E-2]
["PZ097","City Hospital, Birmingham","West Midlands",74,72.089698791503906,69.25,8.4863528227651202,"69.3 mmol/mol (8.5%)","69.3 mmol/mol (8.5%)",9.45945945945946E-2,0.13513513513513514,0.20270270270270271,0.47297297297297297,0.5,0.36486486486486486,0.32432432432432434,0.67567567567567566,67.047401428222656,0.2790217399597168,0.18654671311378479]
["PZ099","East and North Hertfordshire NHS Trust","East of England",270,63.800193786621094,59.599998474121094,7.6033807735493717,"59.6 mmol/mol (7.6%)","59.6 mmol/mol (7.6%)",0.14814814814814814,0.28518518518518521,0.45925925925925926,0.42222222222222222,0.24444444444444444,0.15925925925925927,0.11851851851851852,0.88148148148148153,64.870414733886719,0.42771410942077637,0.1294838935136795]
["PZ100","North Devon District Hospital","South West",75,65.5,61,7.7314804648183735,"61 mmol/mol (7.7%)","61 mmol/mol (7.7%)",0.04,0.16,0.37333333333333335,0.48,0.26666666666666666,0.21333333333333335,0.14666666666666667,0.85333333333333328,65.283561706542969,0.37426307797431946,0.13352890312671661]
["PZ101","Leeds Childrens' Hospital","Yorkshire and Humber",411,64.706809997558594,61.5,7.7772303046939335,"61.5 mmol/mol (7.8%)","61.5 mmol/mol (7.8%)",0.12408759124087591,0.28953771289537711,0.38442822384428221,0.45985401459854014,0.30413625304136255,0.20681265206812652,0.15571776155717762,0.84428223844282235,62.899288177490234,0.42440414428710938,0.11744197458028793]
["PZ102","The Hillingdon Hospital","London and South East",168,66.372024536132813,61.5,7.7772303046939335,"61.5 mmol/mol (7.8%)","61.5 mmol/mol (7.8%)",7.1428571428571425E-2,0.14880952380952381,0.36309523809523808,0.44047619047619047,0.30952380952380953,0.22619047619047619,0.19642857142857142,0.8035714285714286,65.349464416503906,0.38788652420043945,0.17100924253463745]
["PZ104","Royal Albert Edward Infirmary","North West",150,69.343330383300781,65,8.0974791838228573,"65 mmol/mol (8.1%)","65 mmol/mol (8.1%)",0.04,0.18,0.26666666666666666,0.54666666666666663,0.42,0.26666666666666666,0.18666666666666668,0.81333333333333335,70.063796997070313,0.25648584961891174,0.20980951189994812]
["PZ105","St Luke's Hospital","Yorkshire and Humber",168,69.267860412597656,65.25,8.1203541037606364,"65.3 mmol/mol (8.1%)","65.3 mmol/mol (8.1%)",5.9523809523809521E-2,0.1130952380952381,0.22023809523809523,0.60119047619047616,0.4107142857142857,0.25595238095238093,0.17857142857142858,0.8214285714285714,68.094352722167969,0.2471267431974411,0.17293567955493927]
["PZ106","Victoria Hospital, Blackpool","North West",108,72.800926208496094,66.75,8.2576036233873182,"66.8 mmol/mol (8.3%)","66.8 mmol/mol (8.3%)",5.5555555555555552E-2,0.12962962962962962,0.23148148148148148,0.5,0.43518518518518517,0.3611111111111111,0.26851851851851855,0.7314814814814814,72.791069030761719,0.23199869692325592,0.26636701822280884]
["PZ107","Queen Elizabeth Hospital, Gateshead","North East",114,67.482452392578125,63,7.9144798243206154,"63 mmol/mol (7.9%)","63 mmol/mol (7.9%)",4.3859649122807015E-2,0.10526315789473684,0.35087719298245612,0.5,0.31578947368421051,0.21052631578947367,0.14912280701754385,0.85087719298245612,66.780364990234375,0.36053374409675598,0.12983854115009308]
["PZ108","Birmingham Children's Hospital","West Midlands",277,63.554153442382813,61,7.7314804648183735,"61 mmol/mol (7.7%)","61 mmol/mol (7.7%)",0.10108303249097472,0.24548736462093862,0.40433212996389889,0.4584837545126354,0.22382671480144403,0.16606498194945848,0.13718411552346571,0.86281588447653434,61.946006774902344,0.46272659301757813,0.11769581586122513]
["PZ109","Southampton Children’s Hospital","South Central",249,65.377510070800781,62,7.8229801445694935,"62 mmol/mol (7.8%)","62 mmol/mol (7.8%)",0.10040160642570281,0.22088353413654618,0.33333333333333331,0.51405622489959835,0.33333333333333331,0.20883534136546184,0.15261044176706828,0.84738955823293172,66.061813354492188,0.3180217444896698,0.15510274469852448]
["PZ110","Ormskirk & District General Hospital","North West",119,64.410179138183594,61.5,7.7772303046939335,"61.5 mmol/mol (7.8%)","61.5 mmol/mol (7.8%)",3.3613445378151259E-2,0.15126050420168066,0.30252100840336132,0.6386554621848739,0.26050420168067229,0.12605042016806722,5.8823529411764705E-2,0.94117647058823528,65.506156921386719,0.27737733721733093,6.5920189023017883E-2]
["PZ111","Hereford County Hospital","West Midlands",64,60.59375,58.5,7.5027312654405716,"58.5 mmol/mol (7.5%)","58.5 mmol/mol (7.5%)",0.1875,0.265625,0.453125,0.484375,0.1875,0.140625,6.25E-2,0.9375,62.052955627441406,0.42346587777137756,8.8151656091213226E-2]
["PZ112","Scarborough General Hospital","Yorkshire and Humber",74,64.601348876953125,62.75,7.8916049043828345,"62.8 mmol/mol (7.9%)","62.8 mmol/mol (7.9%)",6.7567567567567571E-2,0.16216216216216217,0.32432432432432434,0.59459459459459463,0.32432432432432434,0.14864864864864866,8.1081081081081086E-2,0.91891891891891886,64.77972412109375,0.32430893182754517,8.617941290140152E-2]
["PZ113","University Hospital of Wales","Wales",178,65.960670471191406,63,7.9144798243206154,"63 mmol/mol (7.9%)","63 mmol/mol (7.9%)",6.741573033707865E-2,0.1797752808988764,0.3089887640449438,0.5393258426966292,0.33707865168539325,0.2247191011235955,0.15168539325842698,0.848314606741573,66.418411254882813,0.30218905210494995,0.16717144846916199]
["PZ114","The York Hospital","Yorkshire and Humber",132,68.321968078613281,66.5,8.2347287034495373,"66.5 mmol/mol (8.2%)","66.5 mmol/mol (8.2%)",3.0303030303030304E-2,0.15151515151515152,0.26515151515151514,0.56060606060606055,0.44696969696969696,0.24242424242424243,0.17424242424242425,0.82575757575757569,70.170845031738281,0.24136190116405487,0.23555757105350494]
["PZ118","University Hospital Lewisham","London and South East",111,67.996376037597656,65.5,8.1432290236984173,"65.5 mmol/mol (8.1%)","65.5 mmol/mol (8.1%)",0.11711711711711711,0.1891891891891892,0.29729729729729731,0.46846846846846846,0.4144144144144144,0.27027027027027029,0.23423423423423423,0.76576576576576572,65.609466552734375,0.33892795443534851,0.17980930209159851]
["PZ119","Darent Valley Hospital, Dartford","London and South East",146,66.938262939453125,64.759750366210938,8.0754964192708325,"64.8 mmol/mol (8.1%)","64.8 mmol/mol (8.1%)",8.2191780821917804E-2,0.15068493150684931,0.25342465753424659,0.63698630136986301,0.36301369863013699,0.19863013698630136,0.1095890410958904,0.8904109589041096,69.82763671875,0.22253268957138062,0.17981795966625214]
["PZ120","North Tyneside General Hospital","North East",137,59.996349334716797,57.5,7.4112315856894497,"57.5 mmol/mol (7.4%)","57.5 mmol/mol (7.4%)",0.17518248175182483,0.29197080291970801,0.5036496350364964,0.44525547445255476,0.21167883211678831,9.4890510948905105E-2,5.1094890510948905E-2,0.94890510948905105,60.837535858154297,0.47902750968933105,5.8599390089511871E-2]
["PZ121","George Eliot Hospital","West Midlands",86,71.34576416015625,67,8.2804785433250974,"67 mmol/mol (8.3%)","67 mmol/mol (8.3%)",1.1627906976744186E-2,4.6511627906976744E-2,0.12790697674418605,0.62790697674418605,0.44186046511627908,0.30232558139534882,0.2441860465116279,0.7558139534883721,70.988250732421875,0.13094623386859894,0.25278669595718384]
["PZ122","University Hospital, Coventry ","West Midlands",195,66.897438049316406,63,7.9144798243206154,"63 mmol/mol (7.9%)","63 mmol/mol (7.9%)",6.6666666666666666E-2,0.19487179487179487,0.3487179487179487,0.48717948717948717,0.32307692307692309,0.20512820512820512,0.1641025641025641,0.83589743589743593,66.178146362304688,0.36598777770996094,0.15413922071456909]
["PZ125","Maidstone Hospital","London and South East",116,64.181037902832031,62.75,7.8916049043828345,"62.8 mmol/mol (7.9%)","62.8 mmol/mol (7.9%)",0.11206896551724138,0.17241379310344829,0.31034482758620691,0.60344827586206895,0.30172413793103448,0.1206896551724138,8.6206896551724144E-2,0.9137931034482758,66.398040771484375,0.27740061283111572,0.12323761731386185]
["PZ126","Medway Maritime Hospital","London and South East",258,67.552322387695313,63.75,7.9831045841339545,"63.8 mmol/mol (8%)","63.8 mmol/mol (8.0%)",9.6899224806201556E-2,0.1744186046511628,0.30620155038759689,0.5,0.36046511627906974,0.22868217054263565,0.19379844961240311,0.80620155038759689,67.327873229980469,0.30741545557975769,0.18294891715049744]
["PZ127","James Paget Hospital","East of England",135,69.844444274902344,66,8.1889788635739773,{"$f":"(ROUND(F99,1)&$X$2&$X$3&(ROUND(G99,1)&$X$4&$X$5))","v":"66 mmol/mol (8.2%)"},"66 mmol/mol (8.2%)",5.185185185185185E-2,0.12592592592592591,0.26666666666666666,0.54814814814814816,0.40740740740740738,0.2814814814814815,0.18518518518518517,0.81481481481481488,68.716812133789063,0.2828524112701416,0.16503337025642395]
["PZ128","Pilgrim Hospital ","East Midlands",88,65.8125,64,8.0059795040717354,"64 mmol/mol (8%)","64 mmol/mol (8.0%)",6.8181818181818177E-2,0.18181818181818182,0.28409090909090912,0.60227272727272729,0.34090909090909088,0.19318181818181818,0.11363636363636363,0.88636363636363635,66.868804931640625,0.27015930414199829,0.13500580191612244]
["PZ129","Harrogate District Hospital","Yorkshire and Humber",99,66.055557250976563,60,7.6399807850672516,"60 mmol/mol (7.6%)","60 mmol/mol (7.6%)",0.12121212121212122,0.27272727272727271,0.38383838383838381,0.43434343434343436,0.34343434343434343,0.25252525252525254,0.18181818181818182,0.81818181818181812,67.459815979003906,0.33858349919319153,0.19369292259216309]
["PZ130","Chelsea and Westminster Hospital","London and South East",155,67.929908752441406,63.939998626708984,8.0004893976309805,"63.9 mmol/mol (8%)","63.9 mmol/mol (8.0%)",9.6774193548387094E-2,0.16129032258064516,0.32258064516129031,0.49032258064516127,0.36774193548387096,0.26451612903225807,0.18709677419354839,0.81290322580645158,67.334701538085938,0.33904978632926941,0.18285797536373138]
["PZ131","Peterborough City Hospital","East of England",216,67.439811706542969,63,7.9144798243206154,"63 mmol/mol (7.9%)","63 mmol/mol (7.9%)",0.12037037037037036,0.25,0.36574074074074076,0.42129629629629628,0.37962962962962965,0.25462962962962965,0.21296296296296297,0.78703703703703698,67.83831787109375,0.36198779940605164,0.22843174636363983]
["PZ132","Ysbyty Gwynedd Hospital ","Wales",97,65.092269897460938,61,7.7314804648183735,"61 mmol/mol (7.7%)","61 mmol/mol (7.7%)",0.14432989690721648,0.25773195876288657,0.41237113402061853,0.44329896907216493,0.31958762886597936,0.20618556701030927,0.14432989690721648,0.85567010309278357,65.909629821777344,0.38924360275268555,0.16075077652931213]
["PZ133","James Cook University Hospital ","North East",119,65.89495849609375,65,8.0974791838228573,"65 mmol/mol (8.1%)","65 mmol/mol (8.1%)",6.7226890756302518E-2,0.18487394957983194,0.30252100840336132,0.57983193277310929,0.30252100840336132,0.18487394957983194,0.11764705882352941,0.88235294117647056,66.303199768066406,0.30155977606773376,0.13344262540340424]
["PZ135","Royal Alexandra Hospital, Brighton","London and South East",184,64.024459838867188,61,7.7314804648183735,"61 mmol/mol (7.7%)","61 mmol/mol (7.7%)",8.6956521739130432E-2,0.19565217391304349,0.33695652173913043,0.53260869565217395,0.2608695652173913,0.16847826086956522,0.13043478260869565,0.86956521739130432,64.861480712890625,0.31638062000274658,0.13793309032917023]
["PZ136","Central Manchester University Hospitals NHS Foundation Trust","North West",269,67.460968017578125,65,8.0974791838228573,"65 mmol/mol (8.1%)","65 mmol/mol (8.1%)",8.9219330855018583E-2,0.17472118959107807,0.27881040892193309,0.55018587360594795,0.38661710037174724,0.2342007434944238,0.17100371747211895,0.82899628252788105,64.289924621582031,0.34641072154045105,0.11944539099931717]
["PZ137","Musgrove Park Hospital","South West",180,63.833332061767578,60.25,7.6628557050050325,"60.3 mmol/mol (7.7%)","60.3 mmol/mol (7.7%)",0.12222222222222222,0.24444444444444444,0.37222222222222223,0.48888888888888887,0.25,0.18333333333333332,0.1388888888888889,0.86111111111111116,64.705650329589844,0.35641711950302124,0.15495429933071136]
["PZ138","Warwick Hospital","West Midlands",102,61.960784912109375,59.25,7.5713560252539107,"59.3 mmol/mol (7.6%)","59.3 mmol/mol (7.6%)",0.19607843137254902,0.29411764705882354,0.45098039215686275,0.42156862745098039,0.30392156862745096,0.20588235294117646,0.12745098039215685,0.87254901960784315,65.104629516601563,0.37371498346328735,0.19191870093345642]
["PZ139","Bristol Royal Hospital for Children","South West",423,63.050827026367188,60.5,7.6857306249428117,"60.5 mmol/mol (7.7%)","60.5 mmol/mol (7.7%)",0.12529550827423167,0.23404255319148937,0.41371158392434987,0.47517730496453903,0.27186761229314421,0.15602836879432624,0.1111111111111111,0.88888888888888884,63.413169860839844,0.40373599529266357,0.11699282377958298]
["PZ140","Tameside General Hospital","North West",86,66.767440795898438,63,7.9144798243206154,"63 mmol/mol (7.9%)","63 mmol/mol (7.9%)",6.9767441860465115E-2,0.13953488372093023,0.32558139534883723,0.52325581395348841,0.33720930232558138,0.20930232558139536,0.15116279069767441,0.84883720930232553,67.184745788574219,0.32233846187591553,0.18036136031150818]
["PZ141","South Tyneside District Hospital","North East",57,58.710525512695313,57.5,7.4112315856894497,"57.5 mmol/mol (7.4%)","57.5 mmol/mol (7.4%)",0.14035087719298245,0.2807017543859649,0.50877192982456143,0.43859649122807015,7.0175438596491224E-2,5.2631578947368418E-2,5.2631578947368418E-2,0.94736842105263164,58.405483245849609,0.51622599363327026,5.0239730626344681E-2]
["PZ144","Good Hope Hospital, Sutton Coldfield","West Midlands",135,62.514816284179688,61,7.7314804648183735,"61 mmol/mol (7.7%)","61 mmol/mol (7.7%)",0.1111111111111111,0.19259259259259259,0.37777777777777777,0.55555555555555558,0.23703703703703705,0.11851851851851852,6.6666666666666666E-2,0.93333333333333335,61.629863739013672,0.39907997846603394,5.894140899181366E-2]
["PZ145","Milton Keynes Hospital","South Central",132,61.068180084228516,61,7.7314804648183735,"61 mmol/mol (7.7%)","61 mmol/mol (7.7%)",5.3030303030303032E-2,0.20454545454545456,0.40151515151515149,0.56060606060606055,0.18181818181818182,8.3333333333333329E-2,3.787878787878788E-2,0.96212121212121215,63.240985870361328,0.35738801956176758,5.5600356310606003E-2]
["PZ146","Southend University Hospital","East of England",160,62.140209197998047,58,7.4569814255650098,"58 mmol/mol (7.5%)","58 mmol/mol (7.5%)",0.11874999999999999,0.33750000000000002,0.46250000000000002,0.45,0.2,0.1125,8.7499999999999994E-2,0.91249999999999998,62.739940643310547,0.44214680790901184,8.6094357073307037E-2]
["PZ149","Barnsley Hospital","Yorkshire and Humber",128,65.25,63,7.9144798243206154,"63 mmol/mol (7.9%)","63 mmol/mol (7.9%)",4.6875E-2,0.140625,0.3125,0.5859375,0.265625,0.15625,0.1015625,0.8984375,64.048820495605469,0.331368088722229,8.3231963217258453E-2]
["PZ150","Cumberland Infirmary","North East",98,62.88775634765625,59,7.5484811053161316,"59 mmol/mol (7.5%)","59 mmol/mol (7.5%)",0.16326530612244897,0.30612244897959184,0.43877551020408162,0.45918367346938777,0.2857142857142857,0.14285714285714285,0.10204081632653061,0.89795918367346939,64.399398803710938,0.40374907851219177,0.12493958324193954]
["PZ151","Queen Elizabeth Hospital, Woolwich","London and South East",105,70.633331298828125,68,8.3719782230762192,"68 mmol/mol (8.4%)","68 mmol/mol (8.4%)",5.7142857142857141E-2,0.10476190476190476,0.16190476190476191,0.63809523809523805,0.47619047619047616,0.30476190476190479,0.2,0.8,68.781204223632813,0.18103522062301636,0.16440773010253906]
["PZ152","Torbay Hospital","South West",138,70.13043212890625,67,8.2804785433250974,"67 mmol/mol (8.3%)","67 mmol/mol (8.3%)",5.0724637681159424E-2,0.12318840579710146,0.20289855072463769,0.56521739130434778,0.44927536231884058,0.29710144927536231,0.2318840579710145,0.76811594202898548,69.246856689453125,0.21054726839065552,0.2007681131362915]
["PZ153","Whiston Hospital","North West",137,61.164234161376953,56,7.2739820660627679,"56 mmol/mol (7.3%)","56 mmol/mol (7.3%)",0.145985401459854,0.34306569343065696,0.55474452554744524,0.35766423357664234,0.21897810218978103,0.12408759124087591,8.7591240875912413E-2,0.91240875912408759,60.894065856933594,0.569999098777771,9.0366773307323456E-2]
["PZ156","Queen Elizabeth Hospital, Kings Lynn","East of England",140,69.082145690917969,63.5,7.9602296641961754,"63.5 mmol/mol (8%)","63.5 mmol/mol (8.0%)",0.1357142857142857,0.20714285714285716,0.31428571428571428,0.45,0.41428571428571431,0.3,0.23571428571428571,0.76428571428571423,67.321380615234375,0.34230333566665649,0.1767909824848175]
["PZ157","Royal Free Hospital","London and South East",56,66.905357360839844,63.75,7.9831045841339545,"63.8 mmol/mol (8%)","63.8 mmol/mol (8.0%)",0.14285714285714285,0.23214285714285715,0.30357142857142855,0.5357142857142857,0.39285714285714285,0.21428571428571427,0.16071428571428573,0.8392857142857143,65.371253967285156,0.33073282241821289,0.12587995827198029]
["PZ159","Basingstoke and North Hampshire Hospital","South Central",132,62.358737945556641,60,7.6399807850672516,"60 mmol/mol (7.6%)","60 mmol/mol (7.6%)",0.13636363636363635,0.23484848484848486,0.43181818181818182,0.4621212121212121,0.25757575757575757,0.15151515151515152,0.10606060606060606,0.89393939393939392,63.919452667236328,0.39275503158569336,0.13215978443622589]
["PZ160","Bishop Auckland Hospital","North East",70,63.664287567138672,60.25,7.6628557050050325,"60.3 mmol/mol (7.7%)","60.3 mmol/mol (7.7%)",7.1428571428571425E-2,0.21428571428571427,0.34285714285714286,0.5,0.2857142857142857,0.15714285714285714,0.15714285714285714,0.84285714285714286,62.315361022949219,0.38266363739967346,0.13359202444553375]
["PZ161","Darlington Memorial Hospital","North East",73,65.520545959472656,65.5,8.1432290236984173,"65.5 mmol/mol (8.1%)","65.5 mmol/mol (8.1%)",9.5890410958904104E-2,0.17808219178082191,0.24657534246575341,0.61643835616438358,0.35616438356164382,0.21917808219178081,0.13698630136986301,0.86301369863013699,65.978065490722656,0.22957161068916321,0.13542313873767853]
["PZ162","University Hospital of North Durham","North East",129,67.019378662109375,64,8.0059795040717354,"64 mmol/mol (8%)","64 mmol/mol (8.0%)",6.2015503875968991E-2,0.12403100775193798,0.2558139534883721,0.5736434108527132,0.35658914728682173,0.21705426356589147,0.17054263565891473,0.8294573643410853,66.286766052246094,0.26952534914016724,0.14988452196121216]
["PZ163","University Hospital of North Tees and University Hospital of Hartlepool","North East",160,67.574996948242188,66.75,8.2576036233873182,"66.8 mmol/mol (8.3%)","66.8 mmol/mol (8.3%)",6.8750000000000006E-2,0.125,0.25624999999999998,0.57499999999999996,0.45,0.23125000000000001,0.16875000000000001,0.83125000000000004,66.459831237792969,0.27394953370094299,0.14920134842395782]
["PZ164","Rotherham Hospital","Yorkshire and Humber",113,66.07763671875,62.847000122070313,7.9004803844880875,"62.8 mmol/mol (7.9%)","62.8 mmol/mol (7.9%)",0.10619469026548672,0.15929203539823009,0.32743362831858408,0.51327433628318586,0.2831858407079646,0.17699115044247787,0.15929203539823009,0.84070796460176989,63.682518005371094,0.37283927202224731,0.11311013996601105]
["PZ167","University Hospitals of Morecambe Bay NHS Foundation Trust ","North West",189,66.965263366699219,63,7.9144798243206154,"63 mmol/mol (7.9%)","63 mmol/mol (7.9%)",6.3492063492063489E-2,0.13227513227513227,0.29100529100529099,0.56084656084656082,0.32804232804232802,0.20634920634920634,0.14814814814814814,0.85185185185185186,66.954597473144531,0.29101896286010742,0.15502022206783295]
["PZ168","Grantham and District Hospital","East Midlands",50,57.479999542236328,56,7.2739820660627679,"56 mmol/mol (7.3%)","56 mmol/mol (7.3%)",0.16,0.44,0.54,0.42,0.16,0.1,0.04,0.96,59.658477783203125,0.46780276298522949,5.5583149194717407E-2]
["PZ169","Salisbury District Hospital","South Central",125,61.992000579833984,61,7.7314804648183735,{"$f":"(ROUND(F131,1)&$X$2&$X$3&(ROUND(G131,1)&$X$4&$X$5))","v":"61 mmol/mol (7.7%)"},"61 mmol/mol (7.7%)",0.128,0.312,0.42399999999999999,0.47199999999999998,0.23200000000000001,0.12,0.104,0.89600000000000002,63.319110870361328,0.38862347602844238,0.11576066911220551]
["PZ170","Arrowe Park Hospital","North West",129,67.930229187011719,64.5,{"$f":"(F132/10.929)+2.15","v":8.0517293439472954},"64.5 mmol/mol (8.1%)","64.5 mmol/mol (8.1%)",8.5271317829457363E-2,0.17054263565891473,0.27131782945736432,0.55038759689922478,0.38759689922480622,0.23255813953488372,0.17829457364341086,{"$f":"1-P132","v":0.82170542635658916},68.039703369140625,0.27442905306816101,0.19273568689823151]
["PZ171 ","Broomfield Hospital","East of England",158,58.835441589355469,56,7.2739820660627679,"56 mmol/mol (7.3%)","56 mmol/mol (7.3%)",0.16455696202531644,0.36708860759493672,0.55063291139240511,0.39240506329113922,0.15189873417721519,7.5949367088607597E-2,5.6962025316455694E-2,0.94303797468354433,60.38763427734375,0.50718766450881958,7.2286941111087799E-2]
["PZ172","West Hertfordshire Hospitals NHS Trust ","North East",169,68.677513122558594,66,8.1889788635739773,"66 mmol/mol (8.2%)","66 mmol/mol (8.2%)",6.5088757396449703E-2,0.13609467455621302,0.27810650887573962,0.53254437869822491,0.40236686390532544,0.26627218934911245,0.1893491124260355,0.81065088757396453,70.278465270996094,0.25879290699958801,0.24633555114269257]
["PZ173","Yeovil District Hospital","South West",92,66.315216064453125,63,7.9144798243206154,"63 mmol/mol (7.9%)","63 mmol/mol (7.9%)",8.6956521739130432E-2,0.18478260869565216,0.29347826086956524,0.51086956521739135,0.38043478260869568,0.21739130434782608,0.19565217391304349,0.80434782608695654,65.864730834960938,0.29767611622810364,0.18213397264480591]
["PZ174","Kettering General Hospital","East Midlands",186,65.567207336425781,60.75,7.7086055448805926,"60.8 mmol/mol (7.7%)","60.8 mmol/mol (7.7%)",0.11827956989247312,0.24193548387096775,0.40860215053763443,0.43548387096774194,0.31720430107526881,0.19892473118279569,0.15591397849462366,0.84408602150537637,65.0052490234375,0.41343238949775696,0.13670854270458221]
["PZ175","Queen Elizabeth Woolwich, Bexley","London and South East",91,66.093406677246094,64,8.0059795040717354,"64 mmol/mol (8%)","64 mmol/mol (8.0%)",4.3956043956043959E-2,0.10989010989010989,0.26373626373626374,0.59340659340659341,0.32967032967032966,0.19780219780219779,0.14285714285714285,0.85714285714285721,66.03570556640625,0.26352977752685547,0.13558550179004669]
["PZ176","St Peter's Hospital","London and South East",184,63.195652008056641,60.5,7.6857306249428117,"60.5 mmol/mol (7.7%)","60.5 mmol/mol (7.7%)",0.10869565217391304,0.19565217391304349,0.35326086956521741,0.54347826086956519,0.26630434782608697,0.14673913043478262,0.10326086956521739,0.89673913043478259,65.171272277832031,0.31498983502388,0.13013224303722382]
["PZ177","Royal Bolton Hospital","North West",112,62.816963195800781,63,7.9144798243206154,"63 mmol/mol (7.9%)","63 mmol/mol (7.9%)",0.10714285714285714,0.21428571428571427,0.32142857142857145,0.625,0.2767857142857143,0.10714285714285714,5.3571428571428568E-2,0.9464285714285714,63.614627838134766,0.31855511665344238,6.7359365522861481E-2]
["PZ178","Manor Hospital, Walsall","West Midlands",145,65.46551513671875,63,7.9144798243206154,"63 mmol/mol (7.9%)","63 mmol/mol (7.9%)",0.10344827586206896,0.25517241379310346,0.3724137931034483,0.43448275862068964,0.32413793103448274,0.22068965517241379,0.19310344827586207,0.80689655172413799,63.231784820556641,0.42405804991722107,0.14208203554153442]
["PZ179","Countess of Chester Hospital NHS Trust","North West",156,69.509933471679688,63,7.9144798243206154,"63 mmol/mol (7.9%)","63 mmol/mol (7.9%)",0.11538461538461539,0.21153846153846154,0.34615384615384615,0.45512820512820512,0.39743589743589741,0.29487179487179488,0.19871794871794871,0.80128205128205132,69.310234069824219,0.34306728839874268,0.18025048077106476]
["PZ180","Kings Mill Hospital","East Midlands",154,58.499839782714844,55.742500305175781,7.2504209264503405,"55.7 mmol/mol (7.3%)","55.7 mmol/mol (7.3%)",0.18831168831168832,0.36363636363636365,0.61038961038961037,0.29870129870129869,0.15584415584415584,9.0909090909090912E-2,9.0909090909090912E-2,0.90909090909090906,58.236774444580078,0.61159849166870117,9.0578489005565643E-2]
["PZ181","Ipswich Hospital","East of England",206,67.479866027832031,63.120250701904297,7.9254827250347049,"63.1 mmol/mol (7.9%)","63.1 mmol/mol (7.9%)",0.12135922330097088,0.21844660194174756,0.36407766990291263,0.40291262135922329,0.35436893203883496,0.28155339805825241,0.23300970873786409,0.76699029126213591,67.528610229492188,0.35974356532096863,0.22564697265625]
["PZ182","West Middlesex University Hospital","London and South East",140,63.144069671630859,62.5,7.8687299844450536,"62.5 mmol/mol (7.9%)","62.5 mmol/mol (7.9%)",0.12142857142857143,0.31428571428571428,0.39285714285714285,0.5,0.3,0.14285714285714285,0.10714285714285714,0.8928571428571429,62.342170715332031,0.41948392987251282,0.10139939188957214]
["PZ183","Royal Preston Hospital","North West",196,68.755104064941406,65.25,8.1203541037606364,"65.3 mmol/mol (8.1%)","65.3 mmol/mol (8.1%)",4.5918367346938778E-2,0.12755102040816327,0.20408163265306123,0.63775510204081631,0.40306122448979592,0.24489795918367346,0.15816326530612246,0.84183673469387754,68.921157836914063,0.20161566138267517,0.1640557199716568]
["PZ185","Bronglais General Hospital","Wales",29,62.844825744628906,55,7.1824823863116478,"55 mmol/mol (7.2%)","55 mmol/mol (7.2%)",0.20689655172413793,0.44827586206896552,0.58620689655172409,0.27586206896551724,0.27586206896551724,0.17241379310344829,0.13793103448275862,0.86206896551724133,63.660198211669922,0.57469195127487183,0.16924206912517548]
["PZ186","Calderdale & Huddersfield NHS Foundation Trust","Yorkshire and Humber",196,68.068878173828125,65.25,8.1203541037606364,"65.3 mmol/mol (8.1%)","65.3 mmol/mol (8.1%)",6.1224489795918366E-2,0.14285714285714285,0.23469387755102042,0.61224489795918369,0.40816326530612246,0.25,0.15306122448979592,0.84693877551020402,67.578094482421875,0.24328422546386719,0.15232448279857635]
["PZ187","Wrexham Maelor Hospital","Wales",102,59.220588684082031,55.75,7.2511071461249887,"55.8 mmol/mol (7.3%)","55.8 mmol/mol (7.3%)",0.23529411764705882,0.38235294117647056,0.56862745098039214,0.36274509803921567,0.17647058823529413,9.8039215686274508E-2,6.8627450980392163E-2,0.93137254901960786,59.892383575439453,0.54606205224990845,7.7553674578666687E-2]
["PZ188","Royal Gwent Hospital","Wales",188,65.140960693359375,62,7.8229801445694935,"62 mmol/mol (7.8%)","62 mmol/mol (7.8%)",7.9787234042553196E-2,0.18085106382978725,0.30851063829787234,0.51595744680851063,0.31914893617021278,0.23936170212765959,0.17553191489361702,0.82446808510638303,65.64105224609375,0.30661341547966003,0.20535258948802948]
["PZ189","Royal Glamorgan Hospital","Wales",71,67.084510803222656,63,7.9144798243206154,"63 mmol/mol (7.9%)","63 mmol/mol (7.9%)",0.12676056338028169,0.26760563380281688,0.352112676056338,0.40845070422535212,0.38028169014084506,0.28169014084507044,0.23943661971830985,0.76056338028169013,66.12982177734375,0.38108384609222412,0.22614723443984985]
["PZ190","Withybush General Hospital","Wales",55,60.254547119140625,57.5,7.4112315856894497,"57.5 mmol/mol (7.4%)","57.5 mmol/mol (7.4%)",0.23636363636363636,0.34545454545454546,0.50909090909090904,0.38181818181818183,0.21818181818181817,0.14545454545454545,0.10909090909090909,0.89090909090909087,60.789581298828125,0.48795905709266663,0.11943668127059937]
["PZ191","Ealing Hospital","London and South East",89,70.966293334960938,68,8.3719782230762192,"68 mmol/mol (8.4%)","68 mmol/mol (8.4%)",4.49438202247191E-2,0.12359550561797752,0.19101123595505617,0.5955056179775281,0.4606741573033708,0.25842696629213485,0.21348314606741572,0.7865168539325843,66.642585754394531,0.24235662817955017,0.14051569998264313]
["PZ193","Neath Port Talbot Hospital","Wales",52,66.942306518554688,64.5,8.0517293439472954,"64.5 mmol/mol (8.1%)","64.5 mmol/mol (8.1%)",7.6923076923076927E-2,0.19230769230769232,0.30769230769230771,0.5,0.34615384615384615,0.26923076923076922,0.19230769230769232,0.80769230769230771,67.759803771972656,0.29001495242118835,0.21310985088348389]
["PZ196","Great Ormond Street Hospital","London and South East",9,59.277778625488281,62,7.8229801445694935,"62 mmol/mol (7.8%)","62 mmol/mol (7.8%)",0.1111111111111111,0.22222222222222221,0.44444444444444442,0.44444444444444442,0.1111111111111111,0.1111111111111111,0.1111111111111111,0.88888888888888884,59.387454986572266,0.54407185316085815,0.17922337353229523]
["PZ199","North Middlesex University Hospital","London and South East",135,63.781482696533203,60,7.6399807850672516,"60 mmol/mol (7.6%)","60 mmol/mol (7.6%)",0.15555555555555556,0.24444444444444444,0.42222222222222222,0.46666666666666667,0.25185185185185183,0.13333333333333333,0.1111111111111111,0.88888888888888884,59.352401733398438,0.48311847448348999,5.2263353019952774E-2]
["PZ200","Princess Alexandra Hospital, Harlow (inc Rectory Lane Health Center, Essex) ","East of England",88,61.806819915771484,58,7.4569814255650098,"58 mmol/mol (7.5%)","58 mmol/mol (7.5%)",0.15909090909090909,0.32954545454545453,0.45454545454545453,0.44318181818181818,0.25,0.11363636363636363,0.10227272727272728,0.89772727272727271,62.118698120117188,0.4332747757434845,0.1003134548664093]
["PZ202","St Marys Hospital, Imperial College, London","London and South East",115,69.77825927734375,67,8.2804785433250974,"67 mmol/mol (8.3%)","67 mmol/mol (8.3%)",6.0869565217391307E-2,0.10434782608695652,0.20869565217391303,0.59130434782608698,0.45217391304347826,0.30434782608695654,0.2,0.8,66.270034790039063,0.26003360748291016,0.13521647453308105]
["PZ203","University College London Hospital","London and South East",537,60.927833557128906,57.381999969482422,7.4004346206864682,"57.4 mmol/mol (7.4%)","57.4 mmol/mol (7.4%)",0.1750465549348231,0.33333333333333331,0.51955307262569828,0.38175046554934822,0.22346368715083798,0.13966480446927373,9.8696461824953452E-2,0.90130353817504649,60.342922210693359,0.55199974775314331,9.6950031816959381E-2]
["PZ206","The Pennine Acute Hospitals NHS Trust","North West",322,71.793525695800781,68,8.3719782230762192,"68 mmol/mol (8.4%)","68 mmol/mol (8.4%)",7.4534161490683232E-2,0.13975155279503104,0.23291925465838509,0.50931677018633537,0.48136645962732921,0.31677018633540371,0.25776397515527949,0.74223602484472051,71.118522644042969,0.24289710819721222,0.25085389614105225]
["PZ213","East Surrey Hospital","London and South East",224,65.341926574707031,63.5,7.9602296641961754,"63.5 mmol/mol (8%)","63.5 mmol/mol (8.0%)",7.5892857142857137E-2,0.13839285714285715,0.26339285714285715,0.6160714285714286,0.33035714285714285,0.20982142857142858,0.12053571428571429,0.8794642857142857,66.829635620117188,0.2410845011472702,0.13982303440570831]
["PZ215","Kings College Hospital, London","London and South East",103,71.087379455566406,68,8.3719782230762192,"68 mmol/mol (8.4%)","68 mmol/mol (8.4%)",6.7961165048543687E-2,0.1650485436893204,0.23300970873786409,0.5145631067961165,0.47572815533980584,0.33980582524271846,0.25242718446601942,0.74757281553398058,66.344871520996094,0.30142462253570557,0.14354963600635529]
["PZ216","Tunbridge Wells Hospital","London and South East",90,66.150001525878906,63.75,7.9831045841339545,"63.8 mmol/mol (8%)","63.8 mmol/mol (8.0%)",3.3333333333333333E-2,0.12222222222222222,0.25555555555555554,0.6333333333333333,0.33333333333333331,0.2,0.1111111111111111,0.88888888888888884,70.238899230957031,0.20897465944290161,0.21267895400524139]
["PZ218","Frimley Park Hospital ","London and South East",204,67.534317016601563,63,7.9144798243206154,{"$f":"(ROUND(F163,1)&$X$2&$X$3&(ROUND(G163,1)&$X$4&$X$5))","v":"63 mmol/mol (7.9%)"},"63 mmol/mol (7.9%)",7.3529411764705885E-2,0.16176470588235295,0.29411764705882354,0.52450980392156865,0.33333333333333331,0.22058823529411764,0.18137254901960784,0.81862745098039214,69.928955078125,0.25487017631530762,0.22720031440258026]
["PZ219","Sheffield Childrens Hospital","Yorkshire and Humber",226,59.128318786621094,57.25,7.3883566657516688,"57.3 mmol/mol (7.4%)","57.3 mmol/mol (7.4%)",0.18584070796460178,0.37168141592920356,0.50884955752212391,0.41592920353982299,0.16814159292035399,9.7345132743362831E-2,7.5221238938053103E-2,0.9247787610619469,59.580669403076172,0.50385010242462158,8.8175714015960693E-2]
["PZ220","Bedford Hospital","East of England",121,64.644630432128906,61,7.7314804648183735,"61 mmol/mol (7.7%)","61 mmol/mol (7.7%)",9.0909090909090912E-2,0.24793388429752067,0.32231404958677684,0.56198347107438018,0.26446280991735538,0.19008264462809918,0.11570247933884298,0.88429752066115697,65.144027709960938,0.30897423624992371,0.1194804459810257]
["PZ221","Great Western Hospital","South West",173,65.104049682617188,60,7.6399807850672516,"60 mmol/mol (7.6%)","60 mmol/mol (7.6%)",9.8265895953757232E-2,0.20809248554913296,0.38150289017341038,0.45664739884393063,0.31213872832369943,0.21965317919075145,0.16184971098265896,0.83815028901734101,66.131256103515625,0.36044815182685852,0.18730711936950684]
["PZ222","New Cross Hospital, Wolverhampton","West Midlands",187,68.740638732910156,66,8.1889788635739773,"66 mmol/mol (8.2%)","66 mmol/mol (8.2%)",9.0909090909090912E-2,0.18181818181818182,0.28877005347593582,0.5401069518716578,0.41176470588235292,0.25133689839572193,0.17112299465240641,0.82887700534759357,67.835182189941406,0.31363701820373535,0.16095344722270966]
["PZ223","Sandwell General Hospital","West Midlands",133,62.571430206298828,59.5,7.5942309451916916,"59.5 mmol/mol (7.6%)","59.5 mmol/mol (7.6%)",0.15789473684210525,0.3007518796992481,0.42105263157894735,0.48120300751879697,0.22556390977443608,0.14285714285714285,9.7744360902255634E-2,0.90225563909774431,60.740985870361328,0.47993075847625732,7.8548654913902283E-2]
["PZ225","Worcestershire Royal Hospital","West Midlands",123,66.215446472167969,61,7.7314804648183735,"61 mmol/mol (7.7%)","61 mmol/mol (7.7%)",0.13008130081300814,0.23577235772357724,0.4065040650406504,0.3983739837398374,0.32520325203252032,0.25203252032520324,0.1951219512195122,0.80487804878048785,66.793548583984375,0.38976675271987915,0.19884324073791504]
["PZ226","Dewsbury & District Hospital","Yorkshire and Humber",111,67.216217041015625,63,7.9144798243206154,"63 mmol/mol (7.9%)","63 mmol/mol (7.9%)",9.90990990990991E-2,0.2072072072072072,0.34234234234234234,0.49549549549549549,0.32432432432432434,0.2072072072072072,0.16216216216216217,0.83783783783783783,66.392219543457031,0.37426272034645081,0.15458041429519653]
["PZ228","Prince Charles Hospital ","Wales",86,61.918605804443359,61.25,7.7543553847561526,"61.3 mmol/mol (7.8%)","61.3 mmol/mol (7.8%)",5.8139534883720929E-2,0.18604651162790697,0.39534883720930231,0.52325581395348841,0.19767441860465115,0.13953488372093023,8.1395348837209308E-2,0.91860465116279066,60.497367858886719,0.43288877606391907,7.1264699101448059E-2]
["PZ230","East Sussex Healthcare NHS Trust/Conquest Hospital ","London and South East",125,65.255996704101563,62.5,7.8687299844450536,"62.5 mmol/mol (7.9%)","62.5 mmol/mol (7.9%)",9.6000000000000002E-2,0.20799999999999999,0.32,0.52800000000000002,0.32,0.216,0.152,0.84799999999999998,66.565338134765625,0.30113899707794189,0.18787854909896851]
["PZ231","Salford Royal Foundation Trust","North West",105,66.819046020507813,61.5,7.7772303046939335,"61.5 mmol/mol (7.8%)","61.5 mmol/mol (7.8%)",6.6666666666666666E-2,0.20952380952380953,0.31428571428571428,0.49523809523809526,0.29523809523809524,0.21904761904761905,0.19047619047619047,0.80952380952380953,65.575859069824219,0.33745026588439941,0.16283893585205078]
["PZ232","BHR University Hospitals NHS Trust ","London and South East",298,65.025169372558594,63,7.9144798243206154,"63 mmol/mol (7.9%)","63 mmol/mol (7.9%)",8.0536912751677847E-2,0.1912751677852349,0.31879194630872482,0.5436241610738255,0.31208053691275167,0.18791946308724833,0.13758389261744966,0.86241610738255037,64.143730163574219,0.34301942586898804,0.13150554895401001]
["PZ238","Queen Alexandra Hospital, Portsmouth","South Central",254,63.998031616210938,61,7.7314804648183735,"61 mmol/mol (7.7%)","61 mmol/mol (7.7%)",0.11023622047244094,0.2283464566929134,0.37795275590551181,0.49212598425196852,0.27165354330708663,0.16535433070866143,0.12992125984251968,0.87007874015748032,65.09918212890625,0.35214415192604065,0.14672805368900299]
["PZ240","Russells Hall Hospital","West Midlands",149,64.020133972167969,61,7.7314804648183735,"61 mmol/mol (7.7%)","61 mmol/mol (7.7%)",8.0536912751677847E-2,0.22147651006711411,0.40268456375838924,0.46979865771812079,0.31543624161073824,0.19463087248322147,0.12751677852348994,0.87248322147651003,63.055637359619141,0.42438203096389771,0.11299018561840057]
["PZ242","Cheltenham and Gloucester Hospital","South West",252,61.559524536132813,58.75,7.5256061853783507,"58.8 mmol/mol (7.5%)","58.8 mmol/mol (7.5%)",0.15079365079365079,0.29761904761904762,0.46825396825396826,0.42063492063492064,0.22619047619047619,0.15079365079365079,0.1111111111111111,0.88888888888888884,63.453758239746094,0.41852456331253052,0.14862547814846039]
[null,null,"East of England",2981,65.009475708007813,61.5,7.7772303046939335,"61.5 mmol/mol (7.8%)","61.5 mmol/mol (7.8%)",0.11237839651123784,0.23381415632338143,0.37302918483730291,0.48171754444817177,0.29855753102985577,0.19221737671922173,0.14525327071452532,0.85474672928547468,65.405799999999999,0.3638827,0.15129000000000001]
[null,null,"East Midlands",1858,62.219585418701172,59.5,7.5942309451916916,"59.5 mmol/mol (7.6%)","59.5 mmol/mol (7.6%)",0.1216361679224973,0.263724434876211,0.43702906350914961,0.46178686759956944,0.24973089343379978,0.14208826695371368,0.10118406889128095,0.89881593110871905,62.502809999999997,0.4297358,0.10647040000000001]
[null,null,"London and South East",6070,65.664840698242188,62.5,7.8687299844450536,"62.5 mmol/mol (7.9%)","62.5 mmol/mol (7.9%)",0.10280065897858319,0.20823723228995059,0.34629324546952223,0.50296540362438225,0.32520593080724874,0.20411861614497528,0.15074135090609556,0.84925864909390447,65.343140000000005,0.3515934,0.14410709999999999]
[null,null,"North East and North Cumbria",1522,64.360946655273438,62,7.8229801445694935,"62 mmol/mol (7.8%)","62 mmol/mol (7.8%)",0.10840998685939553,0.20367936925098554,0.35413929040735875,0.52299605781865965,0.30617608409986857,0.17279894875164259,0.12286465177398161,0.87713534822601835,64.019909999999996,0.36209980000000003,0.1169755]
[null,null,"North West",3341,66.497016906738281,63,7.9144798243206154,"63 mmol/mol (7.9%)","63 mmol/mol (7.9%)",8.7698293923974852E-2,0.19185872493265491,0.32804549536067046,0.51870697395989229,0.33971864711164323,0.21370847051780903,0.1532475306794373,0.8467524693205627,66.080280000000002,0.33679409999999999,0.14808840000000001]
[null,null,"South Central",2290,62.648200988769531,60,7.6399807850672516,"60 mmol/mol (7.6%)","60 mmol/mol (7.6%)",0.1165938864628821,0.24934497816593887,0.41179039301310044,0.48209606986899561,0.25152838427947599,0.14628820960698691,0.10611353711790393,0.89388646288209606,64.039510000000007,0.3780597,0.12625140000000001]
[null,null,"South West",2158,64.272476196289063,61,7.7314804648183735,"61 mmol/mol (7.7%)","61 mmol/mol (7.7%)",0.10936051899907322,0.2289156626506024,0.37627432808155697,0.48609823911028732,0.28822984244670991,0.18025949953660797,0.1376274328081557,0.8623725671918443,64.843100000000007,0.36270829999999998,0.14846799999999999]
[null,null,"West Midlands",2786,66.140029907226563,63.5,7.9602296641961754,"63.5 mmol/mol (8%)","63.5 mmol/mol (8.0%)",8.5068198133524772E-2,0.187724335965542,0.32519741564967697,0.51866475233309406,0.32770997846374733,0.21751615218951903,0.156137832017229,0.84386216798277103,65.459819999999993,0.33943079999999998,0.1436858]
[null,null,"Yorkshire and Humber",2621,65.546272277832031,62,7.8229801445694935,"62 mmol/mol (7.8%)","62 mmol/mol (7.8%)",9.462037390309043E-2,0.20946203739030905,0.34070965280427318,0.51354444868370852,0.31705455932850057,0.19763449065242275,0.1457458985120183,0.85425410148798164,65.095759999999999,0.34976220000000002,0.13747409999999999]
[null,null,"England",25627,65.022590637207031,62,7.8229801445694935,"62 mmol/mol (7.8%)","62 mmol/mol (7.8%)",0.10266515784133921,0.21613922815780232,0.35958169118507821,0.50025363874039097,0.30713700394115584,0.19124361025480938,0.14016467007453076,0.85983532992546929,64.994159999999994,0.35967539999999998,0.1393973]
[null,null,"Wales",1360,65.24407958984375,62,7.8229801445694935,"62 mmol/mol (7.8%)","62 mmol/mol (7.8%)",0.10882352941176471,0.22647058823529412,0.35808823529411765,0.48676470588235293,0.32132352941176473,0.21911764705882353,0.15514705882352942,0.84485294117647058,65.584720000000004,0.35293099999999999,0.1694175]
[null,null,"England and Wales",26987,65.03375244140625,62,7.8229801445694935,"62 mmol/mol (7.8%)","62 mmol/mol (7.8%)",0.10297550672546041,0.21665987327231631,0.35950642902138069,0.49957386889984068,0.3078519287064142,0.1926483121502946,0.14091970207877866,0.85908029792122131,65.043130000000005,0.36233379999999998,0.1360536]

{"sheet":"Mean HbA1c adjusted","index":14,"n_rows":552,"n_cols":26,"rows_kept":552,"cut":false,"hidden":true,"merged":[]}
[null,null,null,null,"Regional units",null,"Selected unit",null,null,null,"Funnels"]
["Unit code","Region","Denominator","Mean","Denominator","Mean","Denominator","Mean",null,null,"x-axis","Lower 2SD","Upper 2SD","Lower 3SD","Upper 3SD","National mean (E&W)"]
["*PZ001*","Wales",126,70.870147705078125,{"$f":"IF($B3='Unit list'!$D$1,'Mean HbA1c adjusted'!C3,-1)","v":-1},{"$f":"IF($B3='Unit list'!$D$1,'Mean HbA1c adjusted'!D3,-1)","v":-1},{"$f":"IF($A3='Unit list'!$A$1,'Mean HbA1c adjusted'!E3,-1)","v":-1},{"$f":"IF($A3='Unit list'!$A$1,'Mean HbA1c adjusted'!F3,-1)","v":-1},null,1,1,null,null,null,null,null,null,null,"95% CI",0.95,null,null,null,"1SD","2SD","3SD"]
["*PZ002*","East of England",281,63.347183227539063,{"$f":"IF($B4='Unit list'!$D$1,'Mean HbA1c adjusted'!C4,-1)","v":281},{"$f":"IF($B4='Unit list'!$D$1,'Mean HbA1c adjusted'!D4,-1)","v":63.347183227539063},{"$f":"IF($A4='Unit list'!$A$1,'Mean HbA1c adjusted'!E4,-1)","v":-1},{"$f":"IF($A4='Unit list'!$A$1,'Mean HbA1c adjusted'!F4,-1)","v":-1},null,{"$f":"J3+1","v":2},2,{"$f":"$T$7-TINV(1-$T$3,$K4-1)*$T$8/SQRT($K4)","v":-71.868282306586778},{"$f":"$T$7+TINV(1-$T$3,$K4-1)*$T$8/SQRT($K4)","v":201.9545423065868},{"$f":"$T$7-TINV(1-$T$4,$K4-1)*$T$8/SQRT($K4)","v":-3364.7861227200178},{"$f":"$T$7+TINV(1-$T$4,$K4-1)*$T$8/SQRT($K4)","v":3494.8723827200179},{"$f":"$T$7","v":65.043130000000005},null,null,"99% CI",0.998,null,null,null,0.84130000000000005,0.97719999999999996,0.99870000000000003]
["*PZ003*","Yorkshire and Humber",188,66.327728271484375,{"$f":"IF($B5='Unit list'!$D$1,'Mean HbA1c adjusted'!C5,-1)","v":-1},{"$f":"IF($B5='Unit list'!$D$1,'Mean HbA1c adjusted'!D5,-1)","v":-1},{"$f":"IF($A5='Unit list'!$A$1,'Mean HbA1c adjusted'!E5,-1)","v":-1},{"$f":"IF($A5='Unit list'!$A$1,'Mean HbA1c adjusted'!F5,-1)","v":-1},null,3,3,{"$f":"$T$7-TINV(1-$T$3,$K5-1)*$T$8/SQRT($K5)","v":27.188895576018012},{"$f":"$T$7+TINV(1-$T$3,$K5-1)*$T$8/SQRT($K5)","v":102.897364423982},{"$f":"$T$7-TINV(1-$T$4,$K5-1)*$T$8/SQRT($K5)","v":-131.38829687716424},{"$f":"$T$7+TINV(1-$T$4,$K5-1)*$T$8/SQRT($K5)","v":261.47455687716422},{"$f":"$T$7","v":65.043130000000005},null,null,null,null,null,null,null,0.15870000000000001,2.2800000000000001E-2,1.2999999999999999E-3]
["*PZ004*","East Midlands",190,65.405235290527344,{"$f":"IF($B6='Unit list'!$D$1,'Mean HbA1c adjusted'!C6,-1)","v":-1},{"$f":"IF($B6='Unit list'!$D$1,'Mean HbA1c adjusted'!D6,-1)","v":-1},{"$f":"IF($A6='Unit list'!$A$1,'Mean HbA1c adjusted'!E6,-1)","v":-1},{"$f":"IF($A6='Unit list'!$A$1,'Mean HbA1c adjusted'!F6,-1)","v":-1},null,4,4,40.795466935245429,89.290793064754581,-12.783328944543783,142.86958894454381,65.043130000000005,null,null,null,null,null,null,null,{"$f":"X4-X5","v":0.6826000000000001},{"$f":"Y4-Y5","v":0.95439999999999992},{"$f":"Z4-Z5","v":0.99740000000000006}]
["*PZ005*","East Midlands",245,60.224624633789063,{"$f":"IF($B7='Unit list'!$D$1,'Mean HbA1c adjusted'!C7,-1)","v":-1},{"$f":"IF($B7='Unit list'!$D$1,'Mean HbA1c adjusted'!D7,-1)","v":-1},{"$f":"IF($A7='Unit list'!$A$1,'Mean HbA1c adjusted'!E7,-1)","v":-1},{"$f":"IF($A7='Unit list'!$A$1,'Mean HbA1c adjusted'!F7,-1)","v":-1},null,5,5,46.122182163051733,83.964077836948277,16.159250988188269,113.92700901181175,65.043130000000005,null,null,"Mean",65.043130000000005,null,null,null,{"$f":"X6*100","v":68.260000000000005},{"$f":"Y6*100","v":95.44},{"$f":"Z6*100","v":99.740000000000009}]
["*PZ006*","Yorkshire and Humber",165,63.951950073242188,{"$f":"IF($B8='Unit list'!$D$1,'Mean HbA1c adjusted'!C8,-1)","v":-1},{"$f":"IF($B8='Unit list'!$D$1,'Mean HbA1c adjusted'!D8,-1)","v":-1},{"$f":"IF($A8='Unit list'!$A$1,'Mean HbA1c adjusted'!E8,-1)","v":-1},{"$f":"IF($A8='Unit list'!$A$1,'Mean HbA1c adjusted'!F8,-1)","v":-1},null,6,6,49.051430933721832,81.034829066278178,28.379853917045544,101.70640608295446,65.043130000000005,null,null,"SD",15.238379999999999]
["*PZ007*","South Central",331,61.398540496826172,{"$f":"IF($B9='Unit list'!$D$1,'Mean HbA1c adjusted'!C9,-1)","v":-1},{"$f":"IF($B9='Unit list'!$D$1,'Mean HbA1c adjusted'!D9,-1)","v":-1},{"$f":"IF($A9='Unit list'!$A$1,'Mean HbA1c adjusted'!E9,-1)","v":-1},{"$f":"IF($A9='Unit list'!$A$1,'Mean HbA1c adjusted'!F9,-1)","v":-1},null,7,7,50.949979045745337,79.136280954254673,35.049461588384702,95.036798411615308,65.043130000000005,null,null,"Max n",535]
["*PZ009*","North West",105,65.217750549316406,{"$f":"IF($B10='Unit list'!$D$1,'Mean HbA1c adjusted'!C10,-1)","v":-1},{"$f":"IF($B10='Unit list'!$D$1,'Mean HbA1c adjusted'!D10,-1)","v":-1},{"$f":"IF($A10='Unit list'!$A$1,'Mean HbA1c adjusted'!E10,-1)","v":-1},{"$f":"IF($A10='Unit list'!$A$1,'Mean HbA1c adjusted'!F10,-1)","v":-1},null,8,8,52.303525508256243,77.782734491743767,39.261994918503675,90.824265081496335,65.043130000000005]
["*PZ010*","East of England",156,66.205276489257813,{"$f":"IF($B11='Unit list'!$D$1,'Mean HbA1c adjusted'!C11,-1)","v":156},{"$f":"IF($B11='Unit list'!$D$1,'Mean HbA1c adjusted'!D11,-1)","v":66.205276489257813},{"$f":"IF($A11='Unit list'!$A$1,'Mean HbA1c adjusted'!E11,-1)","v":-1},{"$f":"IF($A11='Unit list'!$A$1,'Mean HbA1c adjusted'!F11,-1)","v":-1},null,9,9,53.329874235395849,76.756385764604161,42.181542483787695,87.904717516212315,65.043130000000005]
["*PZ011*","Wales",110,66.6319580078125,{"$f":"IF($B12='Unit list'!$D$1,'Mean HbA1c adjusted'!C12,-1)","v":-1},{"$f":"IF($B12='Unit list'!$D$1,'Mean HbA1c adjusted'!D12,-1)","v":-1},{"$f":"IF($A12='Unit list'!$A$1,'Mean HbA1c adjusted'!E12,-1)","v":-1},{"$f":"IF($A12='Unit list'!$A$1,'Mean HbA1c adjusted'!F12,-1)","v":-1},null,10,10,54.142249631194751,75.944010368805266,44.337687748814517,85.748572251185493,65.043130000000005,null,null,null,{"$f":"MAX(D3:D177)","v":72.913467407226563}]
["*PZ012*","London and South East",100,67.338493347167969,{"$f":"IF($B13='Unit list'!$D$1,'Mean HbA1c adjusted'!C13,-1)","v":-1},{"$f":"IF($B13='Unit list'!$D$1,'Mean HbA1c adjusted'!D13,-1)","v":-1},{"$f":"IF($A13='Unit list'!$A$1,'Mean HbA1c adjusted'!E13,-1)","v":-1},{"$f":"IF($A13='Unit list'!$A$1,'Mean HbA1c adjusted'!F13,-1)","v":-1},null,11,11,54.805847019403252,75.280412980596751,46.004713921676171,84.081546078323839,65.043130000000005,null,null,null,{"$f":"MIN(D3:D177)","v":58.099723815917969}]
["*PZ014*","London and South East",52,72.913467407226563,{"$f":"IF($B14='Unit list'!$D$1,'Mean HbA1c adjusted'!C14,-1)","v":-1},{"$f":"IF($B14='Unit list'!$D$1,'Mean HbA1c adjusted'!D14,-1)","v":-1},{"$f":"IF($A14='Unit list'!$A$1,'Mean HbA1c adjusted'!E14,-1)","v":-1},{"$f":"IF($A14='Unit list'!$A$1,'Mean HbA1c adjusted'!F14,-1)","v":-1},null,12,12,55.361125263974536,74.725134736025481,47.338705992977154,82.747554007022856,65.043130000000005]
["*PZ015*","North West",106,62.338676452636719,{"$f":"IF($B15='Unit list'!$D$1,'Mean HbA1c adjusted'!C15,-1)","v":-1},{"$f":"IF($B15='Unit list'!$D$1,'Mean HbA1c adjusted'!D15,-1)","v":-1},{"$f":"IF($A15='Unit list'!$A$1,'Mean HbA1c adjusted'!E15,-1)","v":-1},{"$f":"IF($A15='Unit list'!$A$1,'Mean HbA1c adjusted'!F15,-1)","v":-1},null,13,13,55.8346691265454,74.251590873454617,48.435060838838773,81.65119916116123,65.043130000000005]
["*PZ016*","Yorkshire and Humber",68,63.219917297363281,{"$f":"IF($B16='Unit list'!$D$1,'Mean HbA1c adjusted'!C16,-1)","v":-1},{"$f":"IF($B16='Unit list'!$D$1,'Mean HbA1c adjusted'!D16,-1)","v":-1},{"$f":"IF($A16='Unit list'!$A$1,'Mean HbA1c adjusted'!E16,-1)","v":-1},{"$f":"IF($A16='Unit list'!$A$1,'Mean HbA1c adjusted'!F16,-1)","v":-1},null,14,14,56.244751334000988,73.841508665999015,49.355437257896234,80.730822742103783,65.043130000000005]
["*PZ017*","South Central",89,64.211265563964844,{"$f":"IF($B17='Unit list'!$D$1,'Mean HbA1c adjusted'!C17,-1)","v":-1},{"$f":"IF($B17='Unit list'!$D$1,'Mean HbA1c adjusted'!D17,-1)","v":-1},{"$f":"IF($A17='Unit list'!$A$1,'Mean HbA1c adjusted'!E17,-1)","v":-1},{"$f":"IF($A17='Unit list'!$A$1,'Mean HbA1c adjusted'!F17,-1)","v":-1},null,15,15,56.604396432648755,73.481863567351255,50.141518893361344,79.944741106638659,65.043130000000005]
["*PZ018*","London and South East",119,69.404472351074219,{"$f":"IF($B18='Unit list'!$D$1,'Mean HbA1c adjusted'!C18,-1)","v":-1},{"$f":"IF($B18='Unit list'!$D$1,'Mean HbA1c adjusted'!D18,-1)","v":-1},{"$f":"IF($A18='Unit list'!$A$1,'Mean HbA1c adjusted'!E18,-1)","v":-1},{"$f":"IF($A18='Unit list'!$A$1,'Mean HbA1c adjusted'!F18,-1)","v":-1},null,16,16,56.923170468483221,73.163089531516789,50.82254263750773,79.263717362492272,65.043130000000005]
["*PZ019*","East of England",206,63.400257110595703,{"$f":"IF($B19='Unit list'!$D$1,'Mean HbA1c adjusted'!C19,-1)","v":206},{"$f":"IF($B19='Unit list'!$D$1,'Mean HbA1c adjusted'!D19,-1)","v":63.400257110595703},{"$f":"IF($A19='Unit list'!$A$1,'Mean HbA1c adjusted'!E19,-1)","v":-1},{"$f":"IF($A19='Unit list'!$A$1,'Mean HbA1c adjusted'!F19,-1)","v":-1},null,17,17,57.208277962051568,72.877982037948442,51.419654743686145,78.666605256313872,65.043130000000005]
["*PZ020*","Yorkshire and Humber",102,60.785907745361328,{"$f":"IF($B20='Unit list'!$D$1,'Mean HbA1c adjusted'!C20,-1)","v":-1},{"$f":"IF($B20='Unit list'!$D$1,'Mean HbA1c adjusted'!D20,-1)","v":-1},{"$f":"IF($A20='Unit list'!$A$1,'Mean HbA1c adjusted'!E20,-1)","v":-1},{"$f":"IF($A20='Unit list'!$A$1,'Mean HbA1c adjusted'!F20,-1)","v":-1},null,18,18,57.465261904181283,72.620998095818734,51.948552158914673,78.13770784108533,65.043130000000005]
["*PZ021*","South Central",169,64.583793640136719,{"$f":"IF($B21='Unit list'!$D$1,'Mean HbA1c adjusted'!C21,-1)","v":-1},{"$f":"IF($B21='Unit list'!$D$1,'Mean HbA1c adjusted'!D21,-1)","v":-1},{"$f":"IF($A21='Unit list'!$A$1,'Mean HbA1c adjusted'!E21,-1)","v":-1},{"$f":"IF($A21='Unit list'!$A$1,'Mean HbA1c adjusted'!F21,-1)","v":-1},null,19,19,57.698465942805058,72.387794057194952,52.421148767617801,77.665111232382202,65.043130000000005]
["*PZ022*","East of England",55,62.678253173828125,{"$f":"IF($B22='Unit list'!$D$1,'Mean HbA1c adjusted'!C22,-1)","v":55},{"$f":"IF($B22='Unit list'!$D$1,'Mean HbA1c adjusted'!D22,-1)","v":62.678253173828125},{"$f":"IF($A22='Unit list'!$A$1,'Mean HbA1c adjusted'!E22,-1)","v":-1},{"$f":"IF($A22='Unit list'!$A$1,'Mean HbA1c adjusted'!F22,-1)","v":-1},null,20,20,57.911348629498832,72.174911370501178,52.846662765847306,77.239597234152697,65.043130000000005]
["*PZ023*","London and South East",132,64.932289123535156,{"$f":"IF($B23='Unit list'!$D$1,'Mean HbA1c adjusted'!C23,-1)","v":-1},{"$f":"IF($B23='Unit list'!$D$1,'Mean HbA1c adjusted'!D23,-1)","v":-1},{"$f":"IF($A23='Unit list'!$A$1,'Mean HbA1c adjusted'!E23,-1)","v":-1},{"$f":"IF($A23='Unit list'!$A$1,'Mean HbA1c adjusted'!F23,-1)","v":-1},null,21,21,58.106702586365429,71.979557413634581,53.232347413150805,76.853912586849205,65.043130000000005]
["*PZ024*","London and South East",348,65.366508483886719,{"$f":"IF($B24='Unit list'!$D$1,'Mean HbA1c adjusted'!C24,-1)","v":-1},{"$f":"IF($B24='Unit list'!$D$1,'Mean HbA1c adjusted'!D24,-1)","v":-1},{"$f":"IF($A24='Unit list'!$A$1,'Mean HbA1c adjusted'!E24,-1)","v":-1},{"$f":"IF($A24='Unit list'!$A$1,'Mean HbA1c adjusted'!F24,-1)","v":-1},null,22,22,58.28681080743138,71.79944919256863,53.583994887711789,76.502265112288228,65.043130000000005]
["*PZ026*","Yorkshire and Humber",237,68.707489013671875,{"$f":"IF($B25='Unit list'!$D$1,'Mean HbA1c adjusted'!C25,-1)","v":-1},{"$f":"IF($B25='Unit list'!$D$1,'Mean HbA1c adjusted'!D25,-1)","v":-1},{"$f":"IF($A25='Unit list'!$A$1,'Mean HbA1c adjusted'!E25,-1)","v":-1},{"$f":"IF($A25='Unit list'!$A$1,'Mean HbA1c adjusted'!F25,-1)","v":-1},null,23,23,58.453560344171493,71.632699655828517,53.906291642144879,76.179968357855131,65.043130000000005]
["*PZ027*","North East and North Cumbria",42,62.824588775634766,{"$f":"IF($B26='Unit list'!$D$1,'Mean HbA1c adjusted'!C26,-1)","v":-1},{"$f":"IF($B26='Unit list'!$D$1,'Mean HbA1c adjusted'!D26,-1)","v":-1},{"$f":"IF($A26='Unit list'!$A$1,'Mean HbA1c adjusted'!E26,-1)","v":-1},{"$f":"IF($A26='Unit list'!$A$1,'Mean HbA1c adjusted'!F26,-1)","v":-1},null,24,24,58.608526456479936,71.477733543520074,54.203074109123783,75.883185890876234,65.043130000000005]
["*PZ028*","South Central",88,63.339839935302734,{"$f":"IF($B27='Unit list'!$D$1,'Mean HbA1c adjusted'!C27,-1)","v":-1},{"$f":"IF($B27='Unit list'!$D$1,'Mean HbA1c adjusted'!D27,-1)","v":-1},{"$f":"IF($A27='Unit list'!$A$1,'Mean HbA1c adjusted'!E27,-1)","v":-1},{"$f":"IF($A27='Unit list'!$A$1,'Mean HbA1c adjusted'!F27,-1)","v":-1},null,25,25,58.753035887291752,71.333224112708265,54.47751603149171,75.608743968508293,65.043130000000005]
["*PZ030*","North West",92,63.796337127685547,{"$f":"IF($B28='Unit list'!$D$1,'Mean HbA1c adjusted'!C28,-1)","v":-1},{"$f":"IF($B28='Unit list'!$D$1,'Mean HbA1c adjusted'!D28,-1)","v":-1},{"$f":"IF($A28='Unit list'!$A$1,'Mean HbA1c adjusted'!E28,-1)","v":-1},{"$f":"IF($A28='Unit list'!$A$1,'Mean HbA1c adjusted'!F28,-1)","v":-1},null,26,26,58.888215117277483,71.198044882722527,54.732267930698555,75.353992069301455,65.043130000000005]
["*PZ031*","London and South East",101,64.912254333496094,{"$f":"IF($B29='Unit list'!$D$1,'Mean HbA1c adjusted'!C29,-1)","v":-1},{"$f":"IF($B29='Unit list'!$D$1,'Mean HbA1c adjusted'!D29,-1)","v":-1},{"$f":"IF($A29='Unit list'!$A$1,'Mean HbA1c adjusted'!E29,-1)","v":-1},{"$f":"IF($A29='Unit list'!$A$1,'Mean HbA1c adjusted'!F29,-1)","v":-1},null,27,27,59.015027639039829,71.071232360960181,54.969562465134985,75.116697534865025,65.043130000000005]
["*PZ032*","North East and North Cumbria",281,64.929222106933594,{"$f":"IF($B30='Unit list'!$D$1,'Mean HbA1c adjusted'!C30,-1)","v":-1},{"$f":"IF($B30='Unit list'!$D$1,'Mean HbA1c adjusted'!D30,-1)","v":-1},{"$f":"IF($A30='Unit list'!$A$1,'Mean HbA1c adjusted'!E30,-1)","v":-1},{"$f":"IF($A30='Unit list'!$A$1,'Mean HbA1c adjusted'!F30,-1)","v":-1},null,28,28,59.134303086645502,70.951956913354508,55.191295079791296,74.894964920208707,65.043130000000005]
["*PZ033*","West Midlands",132,63.403785705566406,{"$f":"IF($B31='Unit list'!$D$1,'Mean HbA1c adjusted'!C31,-1)","v":-1},{"$f":"IF($B31='Unit list'!$D$1,'Mean HbA1c adjusted'!D31,-1)","v":-1},{"$f":"IF($A31='Unit list'!$A$1,'Mean HbA1c adjusted'!E31,-1)","v":-1},{"$f":"IF($A31='Unit list'!$A$1,'Mean HbA1c adjusted'!F31,-1)","v":-1},null,29,29,59.246760243584085,70.839499756415933,55.399086490336046,74.687173509663964,65.043130000000005]
["*PZ034*","South Central",120,66.126052856445313,{"$f":"IF($B32='Unit list'!$D$1,'Mean HbA1c adjusted'!C32,-1)","v":-1},{"$f":"IF($B32='Unit list'!$D$1,'Mean HbA1c adjusted'!D32,-1)","v":-1},{"$f":"IF($A32='Unit list'!$A$1,'Mean HbA1c adjusted'!E32,-1)","v":-1},{"$f":"IF($A32='Unit list'!$A$1,'Mean HbA1c adjusted'!F32,-1)","v":-1},null,30,30,59.353025393748112,70.733234606251898,55.59433163006937,74.491928369930648,65.043130000000005]
["*PZ035*","South Central",229,63.006614685058594,{"$f":"IF($B33='Unit list'!$D$1,'Mean HbA1c adjusted'!C33,-1)","v":-1},{"$f":"IF($B33='Unit list'!$D$1,'Mean HbA1c adjusted'!D33,-1)","v":-1},{"$f":"IF($A33='Unit list'!$A$1,'Mean HbA1c adjusted'!E33,-1)","v":-1},{"$f":"IF($A33='Unit list'!$A$1,'Mean HbA1c adjusted'!F33,-1)","v":-1},null,31,31,59.453647090052769,70.632612909947241,55.77823838293191,74.308021617068093,65.043130000000005]
["*PZ036*","London and South East",140,64.81390380859375,{"$f":"IF($B34='Unit list'!$D$1,'Mean HbA1c adjusted'!C34,-1)","v":-1},{"$f":"IF($B34='Unit list'!$D$1,'Mean HbA1c adjusted'!D34,-1)","v":-1},{"$f":"IF($A34='Unit list'!$A$1,'Mean HbA1c adjusted'!E34,-1)","v":-1},{"$f":"IF($A34='Unit list'!$A$1,'Mean HbA1c adjusted'!F34,-1)","v":-1},null,32,32,59.549108138982994,70.537151861017009,55.951858521433671,74.134401478566332,65.043130000000005]
["*PZ038*","South Central",96,62.451564788818359,{"$f":"IF($B35='Unit list'!$D$1,'Mean HbA1c adjusted'!C35,-1)","v":-1},{"$f":"IF($B35='Unit list'!$D$1,'Mean HbA1c adjusted'!D35,-1)","v":-1},{"$f":"IF($A35='Unit list'!$A$1,'Mean HbA1c adjusted'!E35,-1)","v":-1},{"$f":"IF($A35='Unit list'!$A$1,'Mean HbA1c adjusted'!F35,-1)","v":-1},null,33,33,59.639835400885211,70.446424599114806,56.11611263247196,73.970147367528057,65.043130000000005]
["*PZ040*","West Midlands",254,68.548454284667969,{"$f":"IF($B36='Unit list'!$D$1,'Mean HbA1c adjusted'!C36,-1)","v":-1},{"$f":"IF($B36='Unit list'!$D$1,'Mean HbA1c adjusted'!D36,-1)","v":-1},{"$f":"IF($A36='Unit list'!$A$1,'Mean HbA1c adjusted'!E36,-1)","v":-1},{"$f":"IF($A36='Unit list'!$A$1,'Mean HbA1c adjusted'!F36,-1)","v":-1},null,34,34,59.726207861480361,70.360052138519649,56.271810360693323,73.814449639306687,65.043130000000005]
["*PZ041*","East of England",231,64.665740966796875,{"$f":"IF($B37='Unit list'!$D$1,'Mean HbA1c adjusted'!C37,-1)","v":231},{"$f":"IF($B37='Unit list'!$D$1,'Mean HbA1c adjusted'!D37,-1)","v":64.665740966796875},{"$f":"IF($A37='Unit list'!$A$1,'Mean HbA1c adjusted'!E37,-1)","v":231},{"$f":"IF($A37='Unit list'!$A$1,'Mean HbA1c adjusted'!F37,-1)","v":64.665740966796875},null,35,35,59.808563323877223,70.277696676122787,56.419666971770539,73.666593028229471,65.043130000000005]
["*PZ042*","East Midlands",319,58.099723815917969,{"$f":"IF($B38='Unit list'!$D$1,'Mean HbA1c adjusted'!C38,-1)","v":-1},{"$f":"IF($B38='Unit list'!$D$1,'Mean HbA1c adjusted'!D38,-1)","v":-1},{"$f":"IF($A38='Unit list'!$A$1,'Mean HbA1c adjusted'!E38,-1)","v":-1},{"$f":"IF($A38='Unit list'!$A$1,'Mean HbA1c adjusted'!F38,-1)","v":-1},null,36,36,59.887203991384759,70.199056008615244,56.560316998874171,73.525943001125839,65.043130000000005]
["*PZ045*","London and South East",88,64.086647033691406,{"$f":"IF($B39='Unit list'!$D$1,'Mean HbA1c adjusted'!C39,-1)","v":-1},{"$f":"IF($B39='Unit list'!$D$1,'Mean HbA1c adjusted'!D39,-1)","v":-1},{"$f":"IF($A39='Unit list'!$A$1,'Mean HbA1c adjusted'!E39,-1)","v":-1},{"$f":"IF($A39='Unit list'!$A$1,'Mean HbA1c adjusted'!F39,-1)","v":-1},null,37,37,59.962401152091928,70.123858847908082,56.694325559027313,73.391934440972705,65.043130000000005]
["*PZ047*","Yorkshire and Humber",99,65.272270202636719,{"$f":"IF($B40='Unit list'!$D$1,'Mean HbA1c adjusted'!C40,-1)","v":-1},{"$f":"IF($B40='Unit list'!$D$1,'Mean HbA1c adjusted'!D40,-1)","v":-1},{"$f":"IF($A40='Unit list'!$A$1,'Mean HbA1c adjusted'!E40,-1)","v":-1},{"$f":"IF($A40='Unit list'!$A$1,'Mean HbA1c adjusted'!F40,-1)","v":-1},null,38,38,60.034399131193545,70.051860868806472,56.822197794262294,73.264062205737716,65.043130000000005]
["*PZ048*","East Midlands",125,69.201698303222656,{"$f":"IF($B41='Unit list'!$D$1,'Mean HbA1c adjusted'!C41,-1)","v":-1},{"$f":"IF($B41='Unit list'!$D$1,'Mean HbA1c adjusted'!D41,-1)","v":-1},{"$f":"IF($A41='Unit list'!$A$1,'Mean HbA1c adjusted'!E41,-1)","v":-1},{"$f":"IF($A41='Unit list'!$A$1,'Mean HbA1c adjusted'!F41,-1)","v":-1},null,39,39,60.103418642624973,69.982841357375037,56.944386793226919,73.141873206773099,65.043130000000005]
["*PZ049*","North West",141,63.062507629394531,{"$f":"IF($B42='Unit list'!$D$1,'Mean HbA1c adjusted'!C42,-1)","v":-1},{"$f":"IF($B42='Unit list'!$D$1,'Mean HbA1c adjusted'!D42,-1)","v":-1},{"$f":"IF($A42='Unit list'!$A$1,'Mean HbA1c adjusted'!E42,-1)","v":-1},{"$f":"IF($A42='Unit list'!$A$1,'Mean HbA1c adjusted'!F42,-1)","v":-1},null,40,40,60.169659645023557,69.916600354976453,57.061300273425985,73.024959726574025,65.043130000000005]
["*PZ050*","London and South East",188,67.652603149414063,{"$f":"IF($B43='Unit list'!$D$1,'Mean HbA1c adjusted'!C43,-1)","v":-1},{"$f":"IF($B43='Unit list'!$D$1,'Mean HbA1c adjusted'!D43,-1)","v":-1},{"$f":"IF($A43='Unit list'!$A$1,'Mean HbA1c adjusted'!E43,-1)","v":-1},{"$f":"IF($A43='Unit list'!$A$1,'Mean HbA1c adjusted'!F43,-1)","v":-1},null,41,41,60.233303786401059,69.852956213598958,57.173306246435899,72.912953753564111,65.043130000000005]
["*PZ052*","Wales",80,66.614479064941406,{"$f":"IF($B44='Unit list'!$D$1,'Mean HbA1c adjusted'!C44,-1)","v":-1},{"$f":"IF($B44='Unit list'!$D$1,'Mean HbA1c adjusted'!D44,-1)","v":-1},{"$f":"IF($A44='Unit list'!$A$1,'Mean HbA1c adjusted'!E44,-1)","v":-1},{"$f":"IF($A44='Unit list'!$A$1,'Mean HbA1c adjusted'!F44,-1)","v":-1},null,42,42,60.294516505756221,69.791743494243789,57.280737843730464,72.805522156269546,65.043130000000005]
["*PZ053*","Yorkshire and Humber",104,66.111091613769531,{"$f":"IF($B45='Unit list'!$D$1,'Mean HbA1c adjusted'!C45,-1)","v":-1},{"$f":"IF($B45='Unit list'!$D$1,'Mean HbA1c adjusted'!D45,-1)","v":-1},{"$f":"IF($A45='Unit list'!$A$1,'Mean HbA1c adjusted'!E45,-1)","v":-1},{"$f":"IF($A45='Unit list'!$A$1,'Mean HbA1c adjusted'!F45,-1)","v":-1},null,43,43,60.353448847119061,69.732811152880942,57.383897445958368,72.702362554041642,65.043130000000005]
["*PZ054*","South Central",204,65.498985290527344,{"$f":"IF($B46='Unit list'!$D$1,'Mean HbA1c adjusted'!C46,-1)","v":-1},{"$f":"IF($B46='Unit list'!$D$1,'Mean HbA1c adjusted'!D46,-1)","v":-1},{"$f":"IF($A46='Unit list'!$A$1,'Mean HbA1c adjusted'!E46,-1)","v":-1},{"$f":"IF($A46='Unit list'!$A$1,'Mean HbA1c adjusted'!F46,-1)","v":-1},null,44,44,60.410239031411386,69.676020968588617,57.483060231230532,72.603199768769471,65.043130000000005]
["*PZ055*","East Midlands",334,64.599479675292969,{"$f":"IF($B47='Unit list'!$D$1,'Mean HbA1c adjusted'!C47,-1)","v":-1},{"$f":"IF($B47='Unit list'!$D$1,'Mean HbA1c adjusted'!D47,-1)","v":-1},{"$f":"IF($A47='Unit list'!$A$1,'Mean HbA1c adjusted'!E47,-1)","v":-1},{"$f":"IF($A47='Unit list'!$A$1,'Mean HbA1c adjusted'!F47,-1)","v":-1},null,45,45,60.465013823437978,69.621246176562039,57.578477236443092,72.507782763556918,65.043130000000005]
["*PZ056*","Wales",103,66.272628784179688,{"$f":"IF($B48='Unit list'!$D$1,'Mean HbA1c adjusted'!C48,-1)","v":-1},{"$f":"IF($B48='Unit list'!$D$1,'Mean HbA1c adjusted'!D48,-1)","v":-1},{"$f":"IF($A48='Unit list'!$A$1,'Mean HbA1c adjusted'!E48,-1)","v":-1},{"$f":"IF($A48='Unit list'!$A$1,'Mean HbA1c adjusted'!F48,-1)","v":-1},null,46,46,60.517889724841424,69.568370275158586,57.67037800855902,72.415881991440983,65.043130000000005]
["*PZ057*","London and South East",152,62.118209838867188,{"$f":"IF($B49='Unit list'!$D$1,'Mean HbA1c adjusted'!C49,-1)","v":-1},{"$f":"IF($B49='Unit list'!$D$1,'Mean HbA1c adjusted'!D49,-1)","v":-1},{"$f":"IF($A49='Unit list'!$A$1,'Mean HbA1c adjusted'!E49,-1)","v":-1},{"$f":"IF($A49='Unit list'!$A$1,'Mean HbA1c adjusted'!F49,-1)","v":-1},null,47,47,60.568974018619684,69.517285981380326,57.758972909105694,72.327287090894316,65.043130000000005]
["*PZ058*","London and South East",108,61.858078002929688,{"$f":"IF($B50='Unit list'!$D$1,'Mean HbA1c adjusted'!C50,-1)","v":-1},{"$f":"IF($B50='Unit list'!$D$1,'Mean HbA1c adjusted'!D50,-1)","v":-1},{"$f":"IF($A50='Unit list'!$A$1,'Mean HbA1c adjusted'!E50,-1)","v":-1},{"$f":"IF($A50='Unit list'!$A$1,'Mean HbA1c adjusted'!F50,-1)","v":-1},null,48,48,60.618365686556174,69.467894313443836,57.844455124163666,72.241804875836337,65.043130000000005]
["*PZ059*","London and South East",229,60.586277008056641,{"$f":"IF($B51='Unit list'!$D$1,'Mean HbA1c adjusted'!C51,-1)","v":-1},{"$f":"IF($B51='Unit list'!$D$1,'Mean HbA1c adjusted'!D51,-1)","v":-1},{"$f":"IF($A51='Unit list'!$A$1,'Mean HbA1c adjusted'!E51,-1)","v":-1},{"$f":"IF($A51='Unit list'!$A$1,'Mean HbA1c adjusted'!F51,-1)","v":-1},null,49,49,60.666156217444872,69.420103782555145,57.927002423249064,72.159257576750946,65.043130000000005]
["*PZ060*","South West",205,68.621803283691406,{"$f":"IF($B52='Unit list'!$D$1,'Mean HbA1c adjusted'!C52,-1)","v":-1},{"$f":"IF($B52='Unit list'!$D$1,'Mean HbA1c adjusted'!D52,-1)","v":-1},{"$f":"IF($A52='Unit list'!$A$1,'Mean HbA1c adjusted'!E52,-1)","v":-1},{"$f":"IF($A52='Unit list'!$A$1,'Mean HbA1c adjusted'!F52,-1)","v":-1},null,50,50,60.71243032115099,69.37382967884902,58.006778703285526,72.079481296714476,65.043130000000005]
["*PZ062*","London and South East",115,68.081573486328125,{"$f":"IF($B53='Unit list'!$D$1,'Mean HbA1c adjusted'!C53,-1)","v":-1},{"$f":"IF($B53='Unit list'!$D$1,'Mean HbA1c adjusted'!D53,-1)","v":-1},{"$f":"IF($A53='Unit list'!$A$1,'Mean HbA1c adjusted'!E53,-1)","v":-1},{"$f":"IF($A53='Unit list'!$A$1,'Mean HbA1c adjusted'!F53,-1)","v":-1},null,51,51,60.757266561206272,69.328993438793745,58.083935347980429,72.002324652019581,65.043130000000005]
["*PZ064*","East Midlands",166,61.610980987548828,{"$f":"IF($B54='Unit list'!$D$1,'Mean HbA1c adjusted'!C54,-1)","v":-1},{"$f":"IF($B54='Unit list'!$D$1,'Mean HbA1c adjusted'!D54,-1)","v":-1},{"$f":"IF($A54='Unit list'!$A$1,'Mean HbA1c adjusted'!E54,-1)","v":-1},{"$f":"IF($A54='Unit list'!$A$1,'Mean HbA1c adjusted'!F54,-1)","v":-1},null,52,52,60.800737916702204,69.285522083297806,58.158612428097314,71.927647571902696,65.043130000000005]
["*PZ065*","West Midlands",81,66.048851013183594,{"$f":"IF($B55='Unit list'!$D$1,'Mean HbA1c adjusted'!C55,-1)","v":-1},{"$f":"IF($B55='Unit list'!$D$1,'Mean HbA1c adjusted'!D55,-1)","v":-1},{"$f":"IF($A55='Unit list'!$A$1,'Mean HbA1c adjusted'!E55,-1)","v":-1},{"$f":"IF($A55='Unit list'!$A$1,'Mean HbA1c adjusted'!F55,-1)","v":-1},null,53,53,60.842912282635595,69.243347717364415,58.230939764144303,71.855320235855714,65.043130000000005]
["*PZ067*","South West",200,60.267536163330078,{"$f":"IF($B56='Unit list'!$D$1,'Mean HbA1c adjusted'!C56,-1)","v":-1},{"$f":"IF($B56='Unit list'!$D$1,'Mean HbA1c adjusted'!D56,-1)","v":-1},{"$f":"IF($A56='Unit list'!$A$1,'Mean HbA1c adjusted'!E56,-1)","v":-1},{"$f":"IF($A56='Unit list'!$A$1,'Mean HbA1c adjusted'!F56,-1)","v":-1},null,54,54,60.883852916520041,69.202407083479969,58.301037869712417,71.785222130287593,65.043130000000005]
["*PZ068*","South West",214,67.085655212402344,{"$f":"IF($B57='Unit list'!$D$1,'Mean HbA1c adjusted'!C57,-1)","v":-1},{"$f":"IF($B57='Unit list'!$D$1,'Mean HbA1c adjusted'!D57,-1)","v":-1},{"$f":"IF($A57='Unit list'!$A$1,'Mean HbA1c adjusted'!E57,-1)","v":-1},{"$f":"IF($A57='Unit list'!$A$1,'Mean HbA1c adjusted'!F57,-1)","v":-1},null,55,55,60.923618837954017,69.162641162045986,58.369018790968362,71.717241209031656,65.043130000000005]
["*PZ069*","North West",172,62.555850982666016,{"$f":"IF($B58='Unit list'!$D$1,'Mean HbA1c adjusted'!C58,-1)","v":-1},{"$f":"IF($B58='Unit list'!$D$1,'Mean HbA1c adjusted'!D58,-1)","v":-1},{"$f":"IF($A58='Unit list'!$A$1,'Mean HbA1c adjusted'!E58,-1)","v":-1},{"$f":"IF($A58='Unit list'!$A$1,'Mean HbA1c adjusted'!F58,-1)","v":-1},null,56,56,60.962265186892694,69.123994813107316,58.434986855530582,71.651273144469428,65.043130000000005]
["*PZ072*","East of England",150,64.712997436523438,{"$f":"IF($B59='Unit list'!$D$1,'Mean HbA1c adjusted'!C59,-1)","v":150},{"$f":"IF($B59='Unit list'!$D$1,'Mean HbA1c adjusted'!D59,-1)","v":64.712997436523438},{"$f":"IF($A59='Unit list'!$A$1,'Mean HbA1c adjusted'!E59,-1)","v":-1},{"$f":"IF($A59='Unit list'!$A$1,'Mean HbA1c adjusted'!F59,-1)","v":-1},null,57,57,60.999843545575615,69.086416454424395,58.499039342052548,71.587220657947455,65.043130000000005]
["*PZ073*","West Midlands",89,67.7352294921875,{"$f":"IF($B60='Unit list'!$D$1,'Mean HbA1c adjusted'!C60,-1)","v":-1},{"$f":"IF($B60='Unit list'!$D$1,'Mean HbA1c adjusted'!D60,-1)","v":-1},{"$f":"IF($A60='Unit list'!$A$1,'Mean HbA1c adjusted'!E60,-1)","v":-1},{"$f":"IF($A60='Unit list'!$A$1,'Mean HbA1c adjusted'!F60,-1)","v":-1},null,58,58,61.036402228389292,69.049857771610718,58.561267080236817,71.524992919763193,65.043130000000005]
["*PZ074*","North West",394,62.306591033935547,{"$f":"IF($B61='Unit list'!$D$1,'Mean HbA1c adjusted'!C61,-1)","v":-1},{"$f":"IF($B61='Unit list'!$D$1,'Mean HbA1c adjusted'!D61,-1)","v":-1},{"$f":"IF($A61='Unit list'!$A$1,'Mean HbA1c adjusted'!E61,-1)","v":-1},{"$f":"IF($A61='Unit list'!$A$1,'Mean HbA1c adjusted'!F61,-1)","v":-1},null,59,59,61.071986543372702,69.014273456627308,58.621754989654654,71.464505010345349,65.043130000000005]
["*PZ075*","South Central",71,65.40478515625,{"$f":"IF($B62='Unit list'!$D$1,'Mean HbA1c adjusted'!C62,-1)","v":-1},{"$f":"IF($B62='Unit list'!$D$1,'Mean HbA1c adjusted'!D62,-1)","v":-1},{"$f":"IF($A62='Unit list'!$A$1,'Mean HbA1c adjusted'!E62,-1)","v":-1},{"$f":"IF($A62='Unit list'!$A$1,'Mean HbA1c adjusted'!F62,-1)","v":-1},null,60,60,61.106639028587537,68.979620971412473,58.680582564605047,71.405677435394963,65.043130000000005]
["*PZ076*","East of England",195,65.438804626464844,{"$f":"IF($B63='Unit list'!$D$1,'Mean HbA1c adjusted'!C63,-1)","v":195},{"$f":"IF($B63='Unit list'!$D$1,'Mean HbA1c adjusted'!D63,-1)","v":65.438804626464844},{"$f":"IF($A63='Unit list'!$A$1,'Mean HbA1c adjusted'!E63,-1)","v":-1},{"$f":"IF($A63='Unit list'!$A$1,'Mean HbA1c adjusted'!F63,-1)","v":-1},null,61,61,61.140399666159908,68.945860333840102,58.737824311278814,71.348435688721196,65.043130000000005]
["*PZ078*","West Midlands",227,66.736549377441406,{"$f":"IF($B64='Unit list'!$D$1,'Mean HbA1c adjusted'!C64,-1)","v":-1},{"$f":"IF($B64='Unit list'!$D$1,'Mean HbA1c adjusted'!D64,-1)","v":-1},{"$f":"IF($A64='Unit list'!$A$1,'Mean HbA1c adjusted'!E64,-1)","v":-1},{"$f":"IF($A64='Unit list'!$A$1,'Mean HbA1c adjusted'!F64,-1)","v":-1},null,62,62,61.173306076444518,68.912953923555492,58.793550142669588,71.292709857330422,65.043130000000005]
["*PZ080*","North East and North Cumbria",187,60.2161865234375,{"$f":"IF($B65='Unit list'!$D$1,'Mean HbA1c adjusted'!C65,-1)","v":-1},{"$f":"IF($B65='Unit list'!$D$1,'Mean HbA1c adjusted'!D65,-1)","v":-1},{"$f":"IF($A65='Unit list'!$A$1,'Mean HbA1c adjusted'!E65,-1)","v":-1},{"$f":"IF($A65='Unit list'!$A$1,'Mean HbA1c adjusted'!F65,-1)","v":-1},null,63,63,61.205393694457079,68.880866305542924,58.847825735970218,71.238434264029792,65.043130000000005]
["*PZ082*","London and South East",85,68.833366394042969,{"$f":"IF($B66='Unit list'!$D$1,'Mean HbA1c adjusted'!C66,-1)","v":-1},{"$f":"IF($B66='Unit list'!$D$1,'Mean HbA1c adjusted'!D66,-1)","v":-1},{"$f":"IF($A66='Unit list'!$A$1,'Mean HbA1c adjusted'!E66,-1)","v":-1},{"$f":"IF($A66='Unit list'!$A$1,'Mean HbA1c adjusted'!F66,-1)","v":-1},null,64,64,61.236695930457856,68.849564069542154,58.900712856590587,71.185547143409423,65.043130000000005]
["*PZ084*","West Midlands",49,72.223320007324219,{"$f":"IF($B67='Unit list'!$D$1,'Mean HbA1c adjusted'!C67,-1)","v":-1},{"$f":"IF($B67='Unit list'!$D$1,'Mean HbA1c adjusted'!D67,-1)","v":-1},{"$f":"IF($A67='Unit list'!$A$1,'Mean HbA1c adjusted'!E67,-1)","v":-1},{"$f":"IF($A67='Unit list'!$A$1,'Mean HbA1c adjusted'!F67,-1)","v":-1},null,65,65,61.267244316341959,68.819015683658051,58.952269652416334,71.133990347583676,65.043130000000005]
["*PZ085*","London and South East",151,66.236953735351563,{"$f":"IF($B68='Unit list'!$D$1,'Mean HbA1c adjusted'!C68,-1)","v":-1},{"$f":"IF($B68='Unit list'!$D$1,'Mean HbA1c adjusted'!D68,-1)","v":-1},{"$f":"IF($A68='Unit list'!$A$1,'Mean HbA1c adjusted'!E68,-1)","v":-1},{"$f":"IF($A68='Unit list'!$A$1,'Mean HbA1c adjusted'!F68,-1)","v":-1},null,{"$f":"J67+1","v":66},66,61.297068639295951,68.789191360704052,59.002550921482658,71.083709078517344,65.043130000000005]
["*PZ086*","East of England",96,68.492507934570313,{"$f":"IF($B69='Unit list'!$D$1,'Mean HbA1c adjusted'!C69,-1)","v":96},{"$f":"IF($B69='Unit list'!$D$1,'Mean HbA1c adjusted'!D69,-1)","v":68.492507934570313},{"$f":"IF($A69='Unit list'!$A$1,'Mean HbA1c adjusted'!E69,-1)","v":-1},{"$f":"IF($A69='Unit list'!$A$1,'Mean HbA1c adjusted'!F69,-1)","v":-1},null,67,67,{"$f":"$T$7-TINV(1-$T$3,$K69-1)*$T$8/SQRT($K69)","v":61.326197064009421},{"$f":"$T$7+TINV(1-$T$3,$K69-1)*$T$8/SQRT($K69)","v":68.760062935990589},{"$f":"$T$7-TINV(1-$T$4,$K69-1)*$T$8/SQRT($K69)","v":59.051608355853354},{"$f":"$T$7+TINV(1-$T$4,$K69-1)*$T$8/SQRT($K69)","v":71.034651644146663},{"$f":"$T$7","v":65.043130000000005}]
["*PZ088*","London and South East",150,63.166957855224609,{"$f":"IF($B70='Unit list'!$D$1,'Mean HbA1c adjusted'!C70,-1)","v":-1},{"$f":"IF($B70='Unit list'!$D$1,'Mean HbA1c adjusted'!D70,-1)","v":-1},{"$f":"IF($A70='Unit list'!$A$1,'Mean HbA1c adjusted'!E70,-1)","v":-1},{"$f":"IF($A70='Unit list'!$A$1,'Mean HbA1c adjusted'!F70,-1)","v":-1},null,68,68,61.354656244582259,68.731603755417751,59.099490764163178,70.986769235836832,65.043130000000005]
["*PZ089*","London and South East",156,68.053665161132813,{"$f":"IF($B71='Unit list'!$D$1,'Mean HbA1c adjusted'!C71,-1)","v":-1},{"$f":"IF($B71='Unit list'!$D$1,'Mean HbA1c adjusted'!D71,-1)","v":-1},{"$f":"IF($A71='Unit list'!$A$1,'Mean HbA1c adjusted'!E71,-1)","v":-1},{"$f":"IF($A71='Unit list'!$A$1,'Mean HbA1c adjusted'!F71,-1)","v":-1},null,69,69,61.382471427139116,68.703788572860887,59.146244274993286,70.940015725006717,65.043130000000005]
["*PZ091*","North West",252,67.343170166015625,{"$f":"IF($B72='Unit list'!$D$1,'Mean HbA1c adjusted'!C72,-1)","v":-1},{"$f":"IF($B72='Unit list'!$D$1,'Mean HbA1c adjusted'!D72,-1)","v":-1},{"$f":"IF($A72='Unit list'!$A$1,'Mean HbA1c adjusted'!E72,-1)","v":-1},{"$f":"IF($A72='Unit list'!$A$1,'Mean HbA1c adjusted'!F72,-1)","v":-1},null,70,70,61.409666544049458,68.676593455950552,59.191912522999026,70.894347477000991,65.043130000000005]
["*PZ092*","Wales",82,66.438285827636719,{"$f":"IF($B73='Unit list'!$D$1,'Mean HbA1c adjusted'!C73,-1)","v":-1},{"$f":"IF($B73='Unit list'!$D$1,'Mean HbA1c adjusted'!D73,-1)","v":-1},{"$f":"IF($A73='Unit list'!$A$1,'Mean HbA1c adjusted'!E73,-1)","v":-1},{"$f":"IF($A73='Unit list'!$A$1,'Mean HbA1c adjusted'!F73,-1)","v":-1},null,71,71,61.436264300553141,68.649995699446876,59.236536819491285,70.849723180508732,65.043130000000005]
["*PZ094*","West Midlands",284,66.742050170898438,{"$f":"IF($B74='Unit list'!$D$1,'Mean HbA1c adjusted'!C74,-1)","v":-1},{"$f":"IF($B74='Unit list'!$D$1,'Mean HbA1c adjusted'!D74,-1)","v":-1},{"$f":"IF($A74='Unit list'!$A$1,'Mean HbA1c adjusted'!E74,-1)","v":-1},{"$f":"IF($A74='Unit list'!$A$1,'Mean HbA1c adjusted'!F74,-1)","v":-1},null,72,72,61.462286254504527,68.623973745495476,59.28015630898178,70.806103691018222,65.043130000000005]
["*PZ096*","South West",204,63.211429595947266,{"$f":"IF($B75='Unit list'!$D$1,'Mean HbA1c adjusted'!C75,-1)","v":-1},{"$f":"IF($B75='Unit list'!$D$1,'Mean HbA1c adjusted'!D75,-1)","v":-1},{"$f":"IF($A75='Unit list'!$A$1,'Mean HbA1c adjusted'!E75,-1)","v":-1},{"$f":"IF($A75='Unit list'!$A$1,'Mean HbA1c adjusted'!F75,-1)","v":-1},null,73,73,61.487752889872112,68.598507110127898,59.322808113036302,70.763451886963708,65.043130000000005]
["*PZ097*","West Midlands",74,67.047401428222656,{"$f":"IF($B76='Unit list'!$D$1,'Mean HbA1c adjusted'!C76,-1)","v":-1},{"$f":"IF($B76='Unit list'!$D$1,'Mean HbA1c adjusted'!D76,-1)","v":-1},{"$f":"IF($A76='Unit list'!$A$1,'Mean HbA1c adjusted'!E76,-1)","v":-1},{"$f":"IF($A76='Unit list'!$A$1,'Mean HbA1c adjusted'!F76,-1)","v":-1},null,74,74,61.512683684563449,68.573576315436554,59.364527462633276,70.721732537366734,65.043130000000005]
["*PZ099*","East of England",270,64.870414733886719,{"$f":"IF($B77='Unit list'!$D$1,'Mean HbA1c adjusted'!C77,-1)","v":270},{"$f":"IF($B77='Unit list'!$D$1,'Mean HbA1c adjusted'!D77,-1)","v":64.870414733886719},{"$f":"IF($A77='Unit list'!$A$1,'Mean HbA1c adjusted'!E77,-1)","v":-1},{"$f":"IF($A77='Unit list'!$A$1,'Mean HbA1c adjusted'!F77,-1)","v":-1},null,75,75,61.537097173086202,68.549162826913815,59.405347820097013,70.68091217990299,65.043130000000005]
["*PZ100*","South West",75,65.283561706542969,{"$f":"IF($B78='Unit list'!$D$1,'Mean HbA1c adjusted'!C78,-1)","v":-1},{"$f":"IF($B78='Unit list'!$D$1,'Mean HbA1c adjusted'!D78,-1)","v":-1},{"$f":"IF($A78='Unit list'!$A$1,'Mean HbA1c adjusted'!E78,-1)","v":-1},{"$f":"IF($A78='Unit list'!$A$1,'Mean HbA1c adjusted'!F78,-1)","v":-1},null,76,76,61.56101100450357,68.52524899549644,59.44530099156168,70.64095900843833,65.043130000000005]
["*PZ101*","Yorkshire and Humber",411,62.899288177490234,{"$f":"IF($B79='Unit list'!$D$1,'Mean HbA1c adjusted'!C79,-1)","v":-1},{"$f":"IF($B79='Unit list'!$D$1,'Mean HbA1c adjusted'!D79,-1)","v":-1},{"$f":"IF($A79='Unit list'!$A$1,'Mean HbA1c adjusted'!E79,-1)","v":-1},{"$f":"IF($A79='Unit list'!$A$1,'Mean HbA1c adjusted'!F79,-1)","v":-1},null,77,77,61.58444199609611,68.501818003903907,59.48441723082243,70.60184276917758,65.043130000000005]
["*PZ102*","London and South East",168,65.349464416503906,{"$f":"IF($B80='Unit list'!$D$1,'Mean HbA1c adjusted'!C80,-1)","v":-1},{"$f":"IF($B80='Unit list'!$D$1,'Mean HbA1c adjusted'!D80,-1)","v":-1},{"$f":"IF($A80='Unit list'!$A$1,'Mean HbA1c adjusted'!E80,-1)","v":-1},{"$f":"IF($A80='Unit list'!$A$1,'Mean HbA1c adjusted'!F80,-1)","v":-1},null,78,78,61.607406183101084,68.478853816898933,59.522725335341995,70.563534664658022,65.043130000000005]
["*PZ104*","North West",150,70.063796997070313,{"$f":"IF($B81='Unit list'!$D$1,'Mean HbA1c adjusted'!C81,-1)","v":-1},{"$f":"IF($B81='Unit list'!$D$1,'Mean HbA1c adjusted'!D81,-1)","v":-1},{"$f":"IF($A81='Unit list'!$A$1,'Mean HbA1c adjusted'!E81,-1)","v":-1},{"$f":"IF($A81='Unit list'!$A$1,'Mean HbA1c adjusted'!F81,-1)","v":-1},null,79,79,61.629918864863619,68.456341135136398,59.560252735103134,70.526007264896876,65.043130000000005]
["*PZ105*","Yorkshire and Humber",168,68.094352722167969,{"$f":"IF($B82='Unit list'!$D$1,'Mean HbA1c adjusted'!C82,-1)","v":-1},{"$f":"IF($B82='Unit list'!$D$1,'Mean HbA1c adjusted'!D82,-1)","v":-1},{"$f":"IF($A82='Unit list'!$A$1,'Mean HbA1c adjusted'!E82,-1)","v":-1},{"$f":"IF($A82='Unit list'!$A$1,'Mean HbA1c adjusted'!F82,-1)","v":-1},null,80,80,61.651994647701727,68.434265352298283,59.597025574928139,70.489234425071871,65.043130000000005]
["*PZ106*","North West",108,72.791069030761719,{"$f":"IF($B83='Unit list'!$D$1,'Mean HbA1c adjusted'!C83,-1)","v":-1},{"$f":"IF($B83='Unit list'!$D$1,'Mean HbA1c adjusted'!D83,-1)","v":-1},{"$f":"IF($A83='Unit list'!$A$1,'Mean HbA1c adjusted'!E83,-1)","v":-1},{"$f":"IF($A83='Unit list'!$A$1,'Mean HbA1c adjusted'!F83,-1)","v":-1},null,81,81,61.673647484758298,68.412612515241705,59.633068790825263,70.453191209174747,65.043130000000005]
["*PZ107*","North East and North Cumbria",114,66.780364990234375,{"$f":"IF($B84='Unit list'!$D$1,'Mean HbA1c adjusted'!C84,-1)","v":-1},{"$f":"IF($B84='Unit list'!$D$1,'Mean HbA1c adjusted'!D84,-1)","v":-1},{"$f":"IF($A84='Unit list'!$A$1,'Mean HbA1c adjusted'!E84,-1)","v":-1},{"$f":"IF($A84='Unit list'!$A$1,'Mean HbA1c adjusted'!F84,-1)","v":-1},null,82,82,61.694890713087069,68.391369286912933,59.668406180867315,70.417853819132688,65.043130000000005]
["*PZ108*","West Midlands",277,61.946006774902344,{"$f":"IF($B85='Unit list'!$D$1,'Mean HbA1c adjusted'!C85,-1)","v":-1},{"$f":"IF($B85='Unit list'!$D$1,'Mean HbA1c adjusted'!D85,-1)","v":-1},{"$f":"IF($A85='Unit list'!$A$1,'Mean HbA1c adjusted'!E85,-1)","v":-1},{"$f":"IF($A85='Unit list'!$A$1,'Mean HbA1c adjusted'!F85,-1)","v":-1},null,83,83,61.715737088196789,68.370522911803221,59.703060471058976,70.383199528941034,65.043130000000005]
["*PZ109*","South Central",249,66.061813354492188,{"$f":"IF($B86='Unit list'!$D$1,'Mean HbA1c adjusted'!C86,-1)","v":-1},{"$f":"IF($B86='Unit list'!$D$1,'Mean HbA1c adjusted'!D86,-1)","v":-1},{"$f":"IF($A86='Unit list'!$A$1,'Mean HbA1c adjusted'!E86,-1)","v":-1},{"$f":"IF($A86='Unit list'!$A$1,'Mean HbA1c adjusted'!F86,-1)","v":-1},null,84,84,61.736198816256874,68.350061183743136,59.737053376606113,70.349206623393897,65.043130000000005]
["*PZ110*","North West",116,65.506156921386719,{"$f":"IF($B87='Unit list'!$D$1,'Mean HbA1c adjusted'!C87,-1)","v":-1},{"$f":"IF($B87='Unit list'!$D$1,'Mean HbA1c adjusted'!D87,-1)","v":-1},{"$f":"IF($A87='Unit list'!$A$1,'Mean HbA1c adjusted'!E87,-1)","v":-1},{"$f":"IF($A87='Unit list'!$A$1,'Mean HbA1c adjusted'!F87,-1)","v":-1},null,85,85,61.75628758414954,68.329972415850463,59.770405658961316,70.315854341038687,65.043130000000005]
["*PZ111*","West Midlands",64,62.052955627441406,{"$f":"IF($B88='Unit list'!$D$1,'Mean HbA1c adjusted'!C88,-1)","v":-1},{"$f":"IF($B88='Unit list'!$D$1,'Mean HbA1c adjusted'!D88,-1)","v":-1},{"$f":"IF($A88='Unit list'!$A$1,'Mean HbA1c adjusted'!E88,-1)","v":-1},{"$f":"IF($A88='Unit list'!$A$1,'Mean HbA1c adjusted'!F88,-1)","v":-1},null,86,86,61.776014587536274,68.310245412463729,59.803137178985516,70.283122821014501,65.043130000000005]
["*PZ112*","Yorkshire and Humber",74,64.77972412109375,{"$f":"IF($B89='Unit list'!$D$1,'Mean HbA1c adjusted'!C89,-1)","v":-1},{"$f":"IF($B89='Unit list'!$D$1,'Mean HbA1c adjusted'!D89,-1)","v":-1},{"$f":"IF($A89='Unit list'!$A$1,'Mean HbA1c adjusted'!E89,-1)","v":-1},{"$f":"IF($A89='Unit list'!$A$1,'Mean HbA1c adjusted'!F89,-1)","v":-1},null,87,87,61.795390557092205,68.290869442907805,59.835266946534006,70.250993053466004,65.043130000000005]
["*PZ113*","Wales",178,66.418411254882813,{"$f":"IF($B90='Unit list'!$D$1,'Mean HbA1c adjusted'!C90,-1)","v":-1},{"$f":"IF($B90='Unit list'!$D$1,'Mean HbA1c adjusted'!D90,-1)","v":-1},{"$f":"IF($A90='Unit list'!$A$1,'Mean HbA1c adjusted'!E90,-1)","v":-1},{"$f":"IF($A90='Unit list'!$A$1,'Mean HbA1c adjusted'!F90,-1)","v":-1},null,88,88,61.814425783047881,68.271834216952129,59.866813166747725,70.219446833252277,65.043130000000005]
["*PZ114*","Yorkshire and Humber",132,70.170845031738281,{"$f":"IF($B91='Unit list'!$D$1,'Mean HbA1c adjusted'!C91,-1)","v":-1},{"$f":"IF($B91='Unit list'!$D$1,'Mean HbA1c adjusted'!D91,-1)","v":-1},{"$f":"IF($A91='Unit list'!$A$1,'Mean HbA1c adjusted'!E91,-1)","v":-1},{"$f":"IF($A91='Unit list'!$A$1,'Mean HbA1c adjusted'!F91,-1)","v":-1},null,89,89,61.833130138166027,68.253129861833983,59.897793283305177,70.188466716694833,65.043130000000005]
["*PZ118*","London and South East",111,65.609466552734375,{"$f":"IF($B92='Unit list'!$D$1,'Mean HbA1c adjusted'!C92,-1)","v":-1},{"$f":"IF($B92='Unit list'!$D$1,'Mean HbA1c adjusted'!D92,-1)","v":-1},{"$f":"IF($A92='Unit list'!$A$1,'Mean HbA1c adjusted'!E92,-1)","v":-1},{"$f":"IF($A92='Unit list'!$A$1,'Mean HbA1c adjusted'!F92,-1)","v":-1},null,90,90,61.851513099270051,68.234746900729959,59.928224018867901,70.158035981132116,65.043130000000005]
["*PZ119*","London and South East",146,69.82763671875,{"$f":"IF($B93='Unit list'!$D$1,'Mean HbA1c adjusted'!C93,-1)","v":-1},{"$f":"IF($B93='Unit list'!$D$1,'Mean HbA1c adjusted'!D93,-1)","v":-1},{"$f":"IF($A93='Unit list'!$A$1,'Mean HbA1c adjusted'!E93,-1)","v":-1},{"$f":"IF($A93='Unit list'!$A$1,'Mean HbA1c adjusted'!F93,-1)","v":-1},null,91,91,61.869583767430669,68.216676232569341,59.95812141293225,70.128138587067752,65.043130000000005]
["*PZ120*","North East and North Cumbria",137,60.837535858154297,{"$f":"IF($B94='Unit list'!$D$1,'Mean HbA1c adjusted'!C94,-1)","v":-1},{"$f":"IF($B94='Unit list'!$D$1,'Mean HbA1c adjusted'!D94,-1)","v":-1},{"$f":"IF($A94='Unit list'!$A$1,'Mean HbA1c adjusted'!E94,-1)","v":-1},{"$f":"IF($A94='Unit list'!$A$1,'Mean HbA1c adjusted'!F94,-1)","v":-1},null,92,92,61.88735088690877,68.198909113091247,59.987500857281482,70.098759142718521,65.043130000000005]
["*PZ121*","West Midlands",86,70.988250732421875,{"$f":"IF($B95='Unit list'!$D$1,'Mean HbA1c adjusted'!C95,-1)","v":-1},{"$f":"IF($B95='Unit list'!$D$1,'Mean HbA1c adjusted'!D95,-1)","v":-1},{"$f":"IF($A95='Unit list'!$A$1,'Mean HbA1c adjusted'!E95,-1)","v":-1},{"$f":"IF($A95='Unit list'!$A$1,'Mean HbA1c adjusted'!F95,-1)","v":-1},null,93,93,61.904822862943796,68.181437137056221,60.016377129216046,70.069882870783971,65.043130000000005]
["*PZ122*","West Midlands",195,66.178146362304688,{"$f":"IF($B96='Unit list'!$D$1,'Mean HbA1c adjusted'!C96,-1)","v":-1},{"$f":"IF($B96='Unit list'!$D$1,'Mean HbA1c adjusted'!D96,-1)","v":-1},{"$f":"IF($A96='Unit list'!$A$1,'Mean HbA1c adjusted'!E96,-1)","v":-1},{"$f":"IF($A96='Unit list'!$A$1,'Mean HbA1c adjusted'!F96,-1)","v":-1},null,94,94,61.922007778469997,68.16425222153002,60.044764422724484,70.041495577275526,65.043130000000005]
["*PZ125*","London and South East",116,66.398040771484375,{"$f":"IF($B97='Unit list'!$D$1,'Mean HbA1c adjusted'!C97,-1)","v":-1},{"$f":"IF($B97='Unit list'!$D$1,'Mean HbA1c adjusted'!D97,-1)","v":-1},{"$f":"IF($A97='Unit list'!$A$1,'Mean HbA1c adjusted'!E97,-1)","v":-1},{"$f":"IF($A97='Unit list'!$A$1,'Mean HbA1c adjusted'!F97,-1)","v":-1},null,95,95,61.938913409836147,68.147346590163863,60.072676377744202,70.013583622255808,65.043130000000005]
["*PZ126*","London and South East",258,67.327873229980469,{"$f":"IF($B98='Unit list'!$D$1,'Mean HbA1c adjusted'!C98,-1)","v":-1},{"$f":"IF($B98='Unit list'!$D$1,'Mean HbA1c adjusted'!D98,-1)","v":-1},{"$f":"IF($A98='Unit list'!$A$1,'Mean HbA1c adjusted'!E98,-1)","v":-1},{"$f":"IF($A98='Unit list'!$A$1,'Mean HbA1c adjusted'!F98,-1)","v":-1},null,96,96,61.955547241598154,68.130712758401856,60.100126107648762,69.986133892351248,65.043130000000005]
["*PZ127*","East of England",135,68.716812133789063,{"$f":"IF($B99='Unit list'!$D$1,'Mean HbA1c adjusted'!C99,-1)","v":135},{"$f":"IF($B99='Unit list'!$D$1,'Mean HbA1c adjusted'!D99,-1)","v":68.716812133789063},{"$f":"IF($A99='Unit list'!$A$1,'Mean HbA1c adjusted'!E99,-1)","v":-1},{"$f":"IF($A99='Unit list'!$A$1,'Mean HbA1c adjusted'!F99,-1)","v":-1},null,97,97,61.971916480448392,68.11434351955161,60.127126225087366,69.959133774912644,65.043130000000005]
["*PZ128*","East Midlands",88,66.868804931640625,{"$f":"IF($B100='Unit list'!$D$1,'Mean HbA1c adjusted'!C100,-1)","v":-1},{"$f":"IF($B100='Unit list'!$D$1,'Mean HbA1c adjusted'!D100,-1)","v":-1},{"$f":"IF($A100='Unit list'!$A$1,'Mean HbA1c adjusted'!E100,-1)","v":-1},{"$f":"IF($A100='Unit list'!$A$1,'Mean HbA1c adjusted'!F100,-1)","v":-1},null,98,98,61.98802806834091,68.0982319316591,60.153688866291859,69.932571133708151,65.043130000000005]
["*PZ129*","Yorkshire and Humber",99,67.459815979003906,{"$f":"IF($B101='Unit list'!$D$1,'Mean HbA1c adjusted'!C101,-1)","v":-1},{"$f":"IF($B101='Unit list'!$D$1,'Mean HbA1c adjusted'!D101,-1)","v":-1},{"$f":"IF($A101='Unit list'!$A$1,'Mean HbA1c adjusted'!E101,-1)","v":-1},{"$f":"IF($A101='Unit list'!$A$1,'Mean HbA1c adjusted'!F101,-1)","v":-1},null,99,99,62.003888694866575,68.082371305133435,60.179825713957591,69.906434286042412,65.043130000000005]
["*PZ130*","London and South East",155,67.334701538085938,{"$f":"IF($B102='Unit list'!$D$1,'Mean HbA1c adjusted'!C102,-1)","v":-1},{"$f":"IF($B102='Unit list'!$D$1,'Mean HbA1c adjusted'!D102,-1)","v":-1},{"$f":"IF($A102='Unit list'!$A$1,'Mean HbA1c adjusted'!E102,-1)","v":-1},{"$f":"IF($A102='Unit list'!$A$1,'Mean HbA1c adjusted'!F102,-1)","v":-1},null,100,100,62.01950480892846,68.06675519107155,60.205548018795902,69.880711981204101,65.043130000000005]
["*PZ131*","East of England",216,67.83831787109375,{"$f":"IF($B103='Unit list'!$D$1,'Mean HbA1c adjusted'!C103,-1)","v":216},{"$f":"IF($B103='Unit list'!$D$1,'Mean HbA1c adjusted'!D103,-1)","v":67.83831787109375},{"$f":"IF($A103='Unit list'!$A$1,'Mean HbA1c adjusted'!E103,-1)","v":-1},{"$f":"IF($A103='Unit list'!$A$1,'Mean HbA1c adjusted'!F103,-1)","v":-1},null,null,101,62.0348826297637,68.05137737023631,60.230866619848328,69.855393380151682,65.043130000000005]
["*PZ132*","Wales",97,65.909629821777344,{"$f":"IF($B104='Unit list'!$D$1,'Mean HbA1c adjusted'!C104,-1)","v":-1},{"$f":"IF($B104='Unit list'!$D$1,'Mean HbA1c adjusted'!D104,-1)","v":-1},{"$f":"IF($A104='Unit list'!$A$1,'Mean HbA1c adjusted'!E104,-1)","v":-1},{"$f":"IF($A104='Unit list'!$A$1,'Mean HbA1c adjusted'!F104,-1)","v":-1},null,null,102,62.050028157354532,68.036231842645478,60.255791963645812,69.830468036354191,65.043130000000005]
["*PZ133*","North East and North Cumbria",119,66.303199768066406,{"$f":"IF($B105='Unit list'!$D$1,'Mean HbA1c adjusted'!C105,-1)","v":-1},{"$f":"IF($B105='Unit list'!$D$1,'Mean HbA1c adjusted'!D105,-1)","v":-1},{"$f":"IF($A105='Unit list'!$A$1,'Mean HbA1c adjusted'!E105,-1)","v":-1},{"$f":"IF($A105='Unit list'!$A$1,'Mean HbA1c adjusted'!F105,-1)","v":-1},null,null,103,62.064947182268355,68.021312817731655,60.280334122289645,69.805925877710365,65.043130000000005]
["*PZ135*","London and South East",184,64.861480712890625,{"$f":"IF($B106='Unit list'!$D$1,'Mean HbA1c adjusted'!C106,-1)","v":-1},{"$f":"IF($B106='Unit list'!$D$1,'Mean HbA1c adjusted'!D106,-1)","v":-1},{"$f":"IF($A106='Unit list'!$A$1,'Mean HbA1c adjusted'!E106,-1)","v":-1},{"$f":"IF($A106='Unit list'!$A$1,'Mean HbA1c adjusted'!F106,-1)","v":-1},null,null,104,62.079645294963186,68.006614705036824,60.304502810525065,69.781757189474945,65.043130000000005]
["*PZ136*","North West",269,64.289924621582031,{"$f":"IF($B107='Unit list'!$D$1,'Mean HbA1c adjusted'!C107,-1)","v":-1},{"$f":"IF($B107='Unit list'!$D$1,'Mean HbA1c adjusted'!D107,-1)","v":-1},{"$f":"IF($A107='Unit list'!$A$1,'Mean HbA1c adjusted'!E107,-1)","v":-1},{"$f":"IF($A107='Unit list'!$A$1,'Mean HbA1c adjusted'!F107,-1)","v":-1},null,null,105,62.094127894592773,67.992132105407237,60.328307401873239,69.757952598126764,65.043130000000005]
["*PZ137*","South West",180,64.705650329589844,{"$f":"IF($B108='Unit list'!$D$1,'Mean HbA1c adjusted'!C108,-1)","v":-1},{"$f":"IF($B108='Unit list'!$D$1,'Mean HbA1c adjusted'!D108,-1)","v":-1},{"$f":"IF($A108='Unit list'!$A$1,'Mean HbA1c adjusted'!E108,-1)","v":-1},{"$f":"IF($A108='Unit list'!$A$1,'Mean HbA1c adjusted'!F108,-1)","v":-1},null,null,106,62.108400197342547,67.977859802657463,60.351756943882336,69.734503056117674,65.043130000000005]
["*PZ138*","West Midlands",102,65.104629516601563,{"$f":"IF($B109='Unit list'!$D$1,'Mean HbA1c adjusted'!C109,-1)","v":-1},{"$f":"IF($B109='Unit list'!$D$1,'Mean HbA1c adjusted'!D109,-1)","v":-1},{"$f":"IF($A109='Unit list'!$A$1,'Mean HbA1c adjusted'!E109,-1)","v":-1},{"$f":"IF($A109='Unit list'!$A$1,'Mean HbA1c adjusted'!F109,-1)","v":-1},null,null,107,62.122467244325975,67.963792755674035,60.374860172553902,69.711399827446115,65.043130000000005]
["*PZ139*","South West",423,63.413169860839844,{"$f":"IF($B110='Unit list'!$D$1,'Mean HbA1c adjusted'!C110,-1)","v":-1},{"$f":"IF($B110='Unit list'!$D$1,'Mean HbA1c adjusted'!D110,-1)","v":-1},{"$f":"IF($A110='Unit list'!$A$1,'Mean HbA1c adjusted'!E110,-1)","v":-1},{"$f":"IF($A110='Unit list'!$A$1,'Mean HbA1c adjusted'!F110,-1)","v":-1},null,null,108,62.136333909068306,67.949926090931697,60.397625525996816,69.688634474003194,65.043130000000005]
["*PZ140*","North West",86,67.184745788574219,{"$f":"IF($B111='Unit list'!$D$1,'Mean HbA1c adjusted'!C111,-1)","v":-1},{"$f":"IF($B111='Unit list'!$D$1,'Mean HbA1c adjusted'!D111,-1)","v":-1},{"$f":"IF($A111='Unit list'!$A$1,'Mean HbA1c adjusted'!E111,-1)","v":-1},{"$f":"IF($A111='Unit list'!$A$1,'Mean HbA1c adjusted'!F111,-1)","v":-1},null,null,109,62.150004904602902,67.936255095397101,60.420061157357118,69.666198842642885,65.043130000000005]
["*PZ141*","North East and North Cumbria",57,58.405483245849609,{"$f":"IF($B112='Unit list'!$D$1,'Mean HbA1c adjusted'!C112,-1)","v":-1},{"$f":"IF($B112='Unit list'!$D$1,'Mean HbA1c adjusted'!D112,-1)","v":-1},{"$f":"IF($A112='Unit list'!$A$1,'Mean HbA1c adjusted'!E112,-1)","v":-1},{"$f":"IF($A112='Unit list'!$A$1,'Mean HbA1c adjusted'!F112,-1)","v":-1},null,null,110,62.163484790203789,67.922775209796228,60.442174947068729,69.644085052931274,65.043130000000005]
["*PZ144*","West Midlands",135,61.629863739013672,{"$f":"IF($B113='Unit list'!$D$1,'Mean HbA1c adjusted'!C113,-1)","v":-1},{"$f":"IF($B113='Unit list'!$D$1,'Mean HbA1c adjusted'!D113,-1)","v":-1},{"$f":"IF($A113='Unit list'!$A$1,'Mean HbA1c adjusted'!E113,-1)","v":-1},{"$f":"IF($A113='Unit list'!$A$1,'Mean HbA1c adjusted'!F113,-1)","v":-1},null,null,111,62.176777977776098,67.909482022223912,60.463974514466742,69.622285485533268,65.043130000000005]
["*PZ145*","South Central",131,63.240985870361328,{"$f":"IF($B114='Unit list'!$D$1,'Mean HbA1c adjusted'!C114,-1)","v":-1},{"$f":"IF($B114='Unit list'!$D$1,'Mean HbA1c adjusted'!D114,-1)","v":-1},{"$f":"IF($A114='Unit list'!$A$1,'Mean HbA1c adjusted'!E114,-1)","v":-1},{"$f":"IF($A114='Unit list'!$A$1,'Mean HbA1c adjusted'!F114,-1)","v":-1},null,null,112,62.189888737924917,67.896371262075093,60.485467228802108,69.600792771197902,65.043130000000005]
["*PZ146*","East of England",160,62.739940643310547,{"$f":"IF($B115='Unit list'!$D$1,'Mean HbA1c adjusted'!C115,-1)","v":160},{"$f":"IF($B115='Unit list'!$D$1,'Mean HbA1c adjusted'!D115,-1)","v":62.739940643310547},{"$f":"IF($A115='Unit list'!$A$1,'Mean HbA1c adjusted'!E115,-1)","v":-1},{"$f":"IF($A115='Unit list'!$A$1,'Mean HbA1c adjusted'!F115,-1)","v":-1},null,null,113,62.202821205721342,67.883438794278675,60.506660219693899,69.579599780306111,65.043130000000005]
["*PZ149*","Yorkshire and Humber",128,64.048820495605469,{"$f":"IF($B116='Unit list'!$D$1,'Mean HbA1c adjusted'!C116,-1)","v":-1},{"$f":"IF($B116='Unit list'!$D$1,'Mean HbA1c adjusted'!D116,-1)","v":-1},{"$f":"IF($A116='Unit list'!$A$1,'Mean HbA1c adjusted'!E116,-1)","v":-1},{"$f":"IF($A116='Unit list'!$A$1,'Mean HbA1c adjusted'!F116,-1)","v":-1},null,null,114,62.215579386183578,67.870680613816432,60.527560387052674,69.558699612947336,65.043130000000005]
["*PZ150*","North East and North Cumbria",98,64.399398803710938,{"$f":"IF($B117='Unit list'!$D$1,'Mean HbA1c adjusted'!C117,-1)","v":-1},{"$f":"IF($B117='Unit list'!$D$1,'Mean HbA1c adjusted'!D117,-1)","v":-1},{"$f":"IF($A117='Unit list'!$A$1,'Mean HbA1c adjusted'!E117,-1)","v":-1},{"$f":"IF($A117='Unit list'!$A$1,'Mean HbA1c adjusted'!F117,-1)","v":-1},null,null,115,62.228167159489502,67.858092840510508,60.548174410506341,69.538085589493676,65.043130000000005]
["*PZ151*","London and South East",105,68.781204223632813,{"$f":"IF($B118='Unit list'!$D$1,'Mean HbA1c adjusted'!C118,-1)","v":-1},{"$f":"IF($B118='Unit list'!$D$1,'Mean HbA1c adjusted'!D118,-1)","v":-1},{"$f":"IF($A118='Unit list'!$A$1,'Mean HbA1c adjusted'!E118,-1)","v":-1},{"$f":"IF($A118='Unit list'!$A$1,'Mean HbA1c adjusted'!F118,-1)","v":-1},null,null,116,62.24058828593607,67.84567171406394,60.568508758357673,69.51775124164233,65.043130000000005]
["*PZ152*","South West",138,69.246856689453125,{"$f":"IF($B119='Unit list'!$D$1,'Mean HbA1c adjusted'!C119,-1)","v":-1},{"$f":"IF($B119='Unit list'!$D$1,'Mean HbA1c adjusted'!D119,-1)","v":-1},{"$f":"IF($A119='Unit list'!$A$1,'Mean HbA1c adjusted'!E119,-1)","v":-1},{"$f":"IF($A119='Unit list'!$A$1,'Mean HbA1c adjusted'!F119,-1)","v":-1},null,null,117,62.252846410660069,67.833413589339941,60.588569696100798,69.497690303899219,65.043130000000005]
["*PZ153*","North West",137,60.894065856933594,{"$f":"IF($B120='Unit list'!$D$1,'Mean HbA1c adjusted'!C120,-1)","v":-1},{"$f":"IF($B120='Unit list'!$D$1,'Mean HbA1c adjusted'!D120,-1)","v":-1},{"$f":"IF($A120='Unit list'!$A$1,'Mean HbA1c adjusted'!E120,-1)","v":-1},{"$f":"IF($A120='Unit list'!$A$1,'Mean HbA1c adjusted'!F120,-1)","v":-1},null,null,118,62.264945068133564,67.821314931866453,60.608363294521979,69.477896705478031,65.043130000000005]
["*PZ156*","East of England",140,67.321380615234375,{"$f":"IF($B121='Unit list'!$D$1,'Mean HbA1c adjusted'!C121,-1)","v":140},{"$f":"IF($B121='Unit list'!$D$1,'Mean HbA1c adjusted'!D121,-1)","v":67.321380615234375},{"$f":"IF($A121='Unit list'!$A$1,'Mean HbA1c adjusted'!E121,-1)","v":-1},{"$f":"IF($A121='Unit list'!$A$1,'Mean HbA1c adjusted'!F121,-1)","v":-1},null,null,119,62.276887686446756,67.809372313553254,60.627895437408554,69.458364562591456,65.043130000000005]
["*PZ157*","London and South East",56,65.371253967285156,{"$f":"IF($B122='Unit list'!$D$1,'Mean HbA1c adjusted'!C122,-1)","v":-1},{"$f":"IF($B122='Unit list'!$D$1,'Mean HbA1c adjusted'!D122,-1)","v":-1},{"$f":"IF($A122='Unit list'!$A$1,'Mean HbA1c adjusted'!E122,-1)","v":-1},{"$f":"IF($A122='Unit list'!$A$1,'Mean HbA1c adjusted'!F122,-1)","v":-1},null,null,120,62.288677591389892,67.797582408610126,60.647171828888204,69.439088171111806,65.043130000000005]
["*PZ159*","South Central",131,63.919452667236328,{"$f":"IF($B123='Unit list'!$D$1,'Mean HbA1c adjusted'!C123,-1)","v":-1},{"$f":"IF($B123='Unit list'!$D$1,'Mean HbA1c adjusted'!D123,-1)","v":-1},{"$f":"IF($A123='Unit list'!$A$1,'Mean HbA1c adjusted'!E123,-1)","v":-1},{"$f":"IF($A123='Unit list'!$A$1,'Mean HbA1c adjusted'!F123,-1)","v":-1},null,null,121,62.300318010345443,67.78594198965456,60.666198000419229,69.420061999580781,65.043130000000005]
["*PZ160*","North East and North Cumbria",69,62.315361022949219,{"$f":"IF($B124='Unit list'!$D$1,'Mean HbA1c adjusted'!C124,-1)","v":-1},{"$f":"IF($B124='Unit list'!$D$1,'Mean HbA1c adjusted'!D124,-1)","v":-1},{"$f":"IF($A124='Unit list'!$A$1,'Mean HbA1c adjusted'!E124,-1)","v":-1},{"$f":"IF($A124='Unit list'!$A$1,'Mean HbA1c adjusted'!F124,-1)","v":-1},null,null,122,62.311812076000692,67.774447923999318,60.684979317451415,69.401280682548602,65.043130000000005]
["*PZ161*","North East and North Cumbria",71,65.978065490722656,{"$f":"IF($B125='Unit list'!$D$1,'Mean HbA1c adjusted'!C125,-1)","v":-1},{"$f":"IF($B125='Unit list'!$D$1,'Mean HbA1c adjusted'!D125,-1)","v":-1},{"$f":"IF($A125='Unit list'!$A$1,'Mean HbA1c adjusted'!E125,-1)","v":-1},{"$f":"IF($A125='Unit list'!$A$1,'Mean HbA1c adjusted'!F125,-1)","v":-1},null,null,123,62.32316282989062,67.76309717010939,60.703520985775576,69.382739014224427,65.043130000000005]
["*PZ162*","North East and North Cumbria",129,66.286766052246094,{"$f":"IF($B126='Unit list'!$D$1,'Mean HbA1c adjusted'!C126,-1)","v":-1},{"$f":"IF($B126='Unit list'!$D$1,'Mean HbA1c adjusted'!D126,-1)","v":-1},{"$f":"IF($A126='Unit list'!$A$1,'Mean HbA1c adjusted'!E126,-1)","v":-1},{"$f":"IF($A126='Unit list'!$A$1,'Mean HbA1c adjusted'!F126,-1)","v":-1},null,null,124,62.334373225780091,67.751886774219926,60.721828057578854,69.364431942421163,65.043130000000005]
["*PZ163*","North East and North Cumbria",160,66.459831237792969,{"$f":"IF($B127='Unit list'!$D$1,'Mean HbA1c adjusted'!C127,-1)","v":-1},{"$f":"IF($B127='Unit list'!$D$1,'Mean HbA1c adjusted'!D127,-1)","v":-1},{"$f":"IF($A127='Unit list'!$A$1,'Mean HbA1c adjusted'!E127,-1)","v":-1},{"$f":"IF($A127='Unit list'!$A$1,'Mean HbA1c adjusted'!F127,-1)","v":-1},null,null,125,62.345446132893869,67.740813867106141,60.739905437221708,69.346354562778302,65.043130000000005]
["*PZ164*","Yorkshire and Humber",113,63.682518005371094,{"$f":"IF($B128='Unit list'!$D$1,'Mean HbA1c adjusted'!C128,-1)","v":-1},{"$f":"IF($B128='Unit list'!$D$1,'Mean HbA1c adjusted'!D128,-1)","v":-1},{"$f":"IF($A128='Unit list'!$A$1,'Mean HbA1c adjusted'!E128,-1)","v":-1},{"$f":"IF($A128='Unit list'!$A$1,'Mean HbA1c adjusted'!F128,-1)","v":-1},null,null,126,62.356384339002588,67.729875660997422,60.757757886751662,69.328502113248348,65.043130000000005]
["*PZ167*","North West",189,66.954597473144531,{"$f":"IF($B129='Unit list'!$D$1,'Mean HbA1c adjusted'!C129,-1)","v":-1},{"$f":"IF($B129='Unit list'!$D$1,'Mean HbA1c adjusted'!D129,-1)","v":-1},{"$f":"IF($A129='Unit list'!$A$1,'Mean HbA1c adjusted'!E129,-1)","v":-1},{"$f":"IF($A129='Unit list'!$A$1,'Mean HbA1c adjusted'!F129,-1)","v":-1},null,null,127,62.367190553372069,67.719069446627941,60.775390031167817,69.310869968832193,65.043130000000005]
["*PZ168*","East Midlands",50,59.658477783203125,{"$f":"IF($B130='Unit list'!$D$1,'Mean HbA1c adjusted'!C130,-1)","v":-1},{"$f":"IF($B130='Unit list'!$D$1,'Mean HbA1c adjusted'!D130,-1)","v":-1},{"$f":"IF($A130='Unit list'!$A$1,'Mean HbA1c adjusted'!E130,-1)","v":-1},{"$f":"IF($A130='Unit list'!$A$1,'Mean HbA1c adjusted'!F130,-1)","v":-1},null,null,128,62.377867409583153,67.708392590416864,60.792806363449309,69.293453636550694,65.043130000000005]
["*PZ169*","South Central",125,63.319110870361328,{"$f":"IF($B131='Unit list'!$D$1,'Mean HbA1c adjusted'!C131,-1)","v":-1},{"$f":"IF($B131='Unit list'!$D$1,'Mean HbA1c adjusted'!D131,-1)","v":-1},{"$f":"IF($A131='Unit list'!$A$1,'Mean HbA1c adjusted'!E131,-1)","v":-1},{"$f":"IF($A131='Unit list'!$A$1,'Mean HbA1c adjusted'!F131,-1)","v":-1},null,null,129,62.388417468228823,67.697842531771187,60.810011249360173,69.276248750639837,65.043130000000005]
["*PZ170*","North West",129,68.039703369140625,{"$f":"IF($B132='Unit list'!$D$1,'Mean HbA1c adjusted'!C132,-1)","v":-1},{"$f":"IF($B132='Unit list'!$D$1,'Mean HbA1c adjusted'!D132,-1)","v":-1},{"$f":"IF($A132='Unit list'!$A$1,'Mean HbA1c adjusted'!E132,-1)","v":-1},{"$f":"IF($A132='Unit list'!$A$1,'Mean HbA1c adjusted'!F132,-1)","v":-1},null,null,130,62.398843219494609,67.687416780505401,60.827008932042212,69.259251067957791,65.043130000000005]
["*PZ171 *","East of England",158,60.38763427734375,{"$f":"IF($B133='Unit list'!$D$1,'Mean HbA1c adjusted'!C133,-1)","v":158},{"$f":"IF($B133='Unit list'!$D$1,'Mean HbA1c adjusted'!D133,-1)","v":60.38763427734375},{"$f":"IF($A133='Unit list'!$A$1,'Mean HbA1c adjusted'!E133,-1)","v":-1},{"$f":"IF($A133='Unit list'!$A$1,'Mean HbA1c adjusted'!F133,-1)","v":-1},null,null,131,{"$f":"$T$7-TINV(1-$T$3,$K133-1)*$T$8/SQRT($K133)","v":62.409147085628469},{"$f":"$T$7+TINV(1-$T$3,$K133-1)*$T$8/SQRT($K133)","v":67.677112914371534},{"$f":"$T$7-TINV(1-$T$4,$K133-1)*$T$8/SQRT($K133)","v":60.843803536406895},{"$f":"$T$7+TINV(1-$T$4,$K133-1)*$T$8/SQRT($K133)","v":69.242456463593115},{"$f":"$T$7","v":65.043130000000005}]
["*PZ172*","North East and North Cumbria",169,70.278465270996094,{"$f":"IF($B134='Unit list'!$D$1,'Mean HbA1c adjusted'!C134,-1)","v":-1},{"$f":"IF($B134='Unit list'!$D$1,'Mean HbA1c adjusted'!D134,-1)","v":-1},{"$f":"IF($A134='Unit list'!$A$1,'Mean HbA1c adjusted'!E134,-1)","v":-1},{"$f":"IF($A134='Unit list'!$A$1,'Mean HbA1c adjusted'!F134,-1)","v":-1},null,null,132,62.419331423305529,67.666928576694488,60.860399073336524,69.225860926663486,65.043130000000005]
["*PZ173*","South West",92,65.864730834960938,{"$f":"IF($B135='Unit list'!$D$1,'Mean HbA1c adjusted'!C135,-1)","v":-1},{"$f":"IF($B135='Unit list'!$D$1,'Mean HbA1c adjusted'!D135,-1)","v":-1},{"$f":"IF($A135='Unit list'!$A$1,'Mean HbA1c adjusted'!E135,-1)","v":-1},{"$f":"IF($A135='Unit list'!$A$1,'Mean HbA1c adjusted'!F135,-1)","v":-1},null,null,133,62.429398525893028,67.656861474106989,60.876799443704428,69.209460556295582,65.043130000000005]
["*PZ174*","East Midlands",186,65.0052490234375,{"$f":"IF($B136='Unit list'!$D$1,'Mean HbA1c adjusted'!C136,-1)","v":-1},{"$f":"IF($B136='Unit list'!$D$1,'Mean HbA1c adjusted'!D136,-1)","v":-1},{"$f":"IF($A136='Unit list'!$A$1,'Mean HbA1c adjusted'!E136,-1)","v":-1},{"$f":"IF($A136='Unit list'!$A$1,'Mean HbA1c adjusted'!F136,-1)","v":-1},null,null,134,62.439350625620342,67.646909374379675,60.893008442223319,69.193251557776691,65.043130000000005]
["*PZ175*","London and South East",91,66.03570556640625,{"$f":"IF($B137='Unit list'!$D$1,'Mean HbA1c adjusted'!C137,-1)","v":-1},{"$f":"IF($B137='Unit list'!$D$1,'Mean HbA1c adjusted'!D137,-1)","v":-1},{"$f":"IF($A137='Unit list'!$A$1,'Mean HbA1c adjusted'!E137,-1)","v":-1},{"$f":"IF($A137='Unit list'!$A$1,'Mean HbA1c adjusted'!F137,-1)","v":-1},null,null,135,62.449189895658748,67.637070104341262,60.909029761130391,69.177230238869626,65.043130000000005]
["*PZ176*","London and South East",184,65.171272277832031,{"$f":"IF($B138='Unit list'!$D$1,'Mean HbA1c adjusted'!C138,-1)","v":-1},{"$f":"IF($B138='Unit list'!$D$1,'Mean HbA1c adjusted'!D138,-1)","v":-1},{"$f":"IF($A138='Unit list'!$A$1,'Mean HbA1c adjusted'!E138,-1)","v":-1},{"$f":"IF($A138='Unit list'!$A$1,'Mean HbA1c adjusted'!F138,-1)","v":-1},null,null,136,62.458918452115448,67.627341547884569,60.924866993717316,69.161393006282694,65.043130000000005]
["*PZ177*","North West",112,63.614627838134766,{"$f":"IF($B139='Unit list'!$D$1,'Mean HbA1c adjusted'!C139,-1)","v":-1},{"$f":"IF($B139='Unit list'!$D$1,'Mean HbA1c adjusted'!D139,-1)","v":-1},{"$f":"IF($A139='Unit list'!$A$1,'Mean HbA1c adjusted'!E139,-1)","v":-1},{"$f":"IF($A139='Unit list'!$A$1,'Mean HbA1c adjusted'!F139,-1)","v":-1},null,null,137,62.468538355945853,67.617721644054157,60.940523637712786,69.145736362287224,65.043130000000005]
["*PZ178*","West Midlands",145,63.231784820556641,{"$f":"IF($B140='Unit list'!$D$1,'Mean HbA1c adjusted'!C140,-1)","v":-1},{"$f":"IF($B140='Unit list'!$D$1,'Mean HbA1c adjusted'!D140,-1)","v":-1},{"$f":"IF($A140='Unit list'!$A$1,'Mean HbA1c adjusted'!E140,-1)","v":-1},{"$f":"IF($A140='Unit list'!$A$1,'Mean HbA1c adjusted'!F140,-1)","v":-1},null,null,138,62.478051614788079,67.608208385211924,60.956003098524818,69.130256901475192,65.043130000000005]
["*PZ179*","North West",155,69.310234069824219,{"$f":"IF($B141='Unit list'!$D$1,'Mean HbA1c adjusted'!C141,-1)","v":-1},{"$f":"IF($B141='Unit list'!$D$1,'Mean HbA1c adjusted'!D141,-1)","v":-1},{"$f":"IF($A141='Unit list'!$A$1,'Mean HbA1c adjusted'!E141,-1)","v":-1},{"$f":"IF($A141='Unit list'!$A$1,'Mean HbA1c adjusted'!F141,-1)","v":-1},null,null,139,62.487460184723524,67.598799815276479,60.971308692349588,69.114951307650429,65.043130000000005]
["*PZ180*","East Midlands",153,58.236774444580078,{"$f":"IF($B142='Unit list'!$D$1,'Mean HbA1c adjusted'!C142,-1)","v":-1},{"$f":"IF($B142='Unit list'!$D$1,'Mean HbA1c adjusted'!D142,-1)","v":-1},{"$f":"IF($A142='Unit list'!$A$1,'Mean HbA1c adjusted'!E142,-1)","v":-1},{"$f":"IF($A142='Unit list'!$A$1,'Mean HbA1c adjusted'!F142,-1)","v":-1},null,null,140,62.496765971966774,67.589494028033229,60.986443649153415,69.099816350846595,65.043130000000005]
["*PZ181*","East of England",206,67.528610229492188,{"$f":"IF($B143='Unit list'!$D$1,'Mean HbA1c adjusted'!C143,-1)","v":206},{"$f":"IF($B143='Unit list'!$D$1,'Mean HbA1c adjusted'!D143,-1)","v":67.528610229492188},{"$f":"IF($A143='Unit list'!$A$1,'Mean HbA1c adjusted'!E143,-1)","v":-1},{"$f":"IF($A143='Unit list'!$A$1,'Mean HbA1c adjusted'!F143,-1)","v":-1},null,null,141,62.505970834488402,67.580289165511601,61.001411115533692,69.084848884466325,65.043130000000005]
["*PZ182*","London and South East",137,62.342170715332031,{"$f":"IF($B144='Unit list'!$D$1,'Mean HbA1c adjusted'!C144,-1)","v":-1},{"$f":"IF($B144='Unit list'!$D$1,'Mean HbA1c adjusted'!D144,-1)","v":-1},{"$f":"IF($A144='Unit list'!$A$1,'Mean HbA1c adjusted'!E144,-1)","v":-1},{"$f":"IF($A144='Unit list'!$A$1,'Mean HbA1c adjusted'!F144,-1)","v":-1},null,null,142,62.515076583573624,67.571183416426379,61.016214157464745,69.070045842535265,65.043130000000005]
["*PZ183*","North West",196,68.921157836914063,{"$f":"IF($B145='Unit list'!$D$1,'Mean HbA1c adjusted'!C145,-1)","v":-1},{"$f":"IF($B145='Unit list'!$D$1,'Mean HbA1c adjusted'!D145,-1)","v":-1},{"$f":"IF($A145='Unit list'!$A$1,'Mean HbA1c adjusted'!E145,-1)","v":-1},{"$f":"IF($A145='Unit list'!$A$1,'Mean HbA1c adjusted'!F145,-1)","v":-1},null,null,143,62.524084985319845,67.562175014680165,61.030855762934038,69.055404237065972,65.043130000000005]
["*PZ185*","Wales",29,63.660198211669922,{"$f":"IF($B146='Unit list'!$D$1,'Mean HbA1c adjusted'!C146,-1)","v":-1},{"$f":"IF($B146='Unit list'!$D$1,'Mean HbA1c adjusted'!D146,-1)","v":-1},{"$f":"IF($A146='Unit list'!$A$1,'Mean HbA1c adjusted'!E146,-1)","v":-1},{"$f":"IF($A146='Unit list'!$A$1,'Mean HbA1c adjusted'!F146,-1)","v":-1},null,null,144,62.53299776207588,67.55326223792413,61.04533884447369,69.04092115552632,65.043130000000005]
["*PZ186*","Yorkshire and Humber",196,67.578094482421875,{"$f":"IF($B147='Unit list'!$D$1,'Mean HbA1c adjusted'!C147,-1)","v":-1},{"$f":"IF($B147='Unit list'!$D$1,'Mean HbA1c adjusted'!D147,-1)","v":-1},{"$f":"IF($A147='Unit list'!$A$1,'Mean HbA1c adjusted'!E147,-1)","v":-1},{"$f":"IF($A147='Unit list'!$A$1,'Mean HbA1c adjusted'!F147,-1)","v":-1},null,null,145,62.541816593825679,67.544443406174338,61.059666241592382,69.026593758407628,65.043130000000005]
["*PZ187*","Wales",102,59.892383575439453,{"$f":"IF($B148='Unit list'!$D$1,'Mean HbA1c adjusted'!C148,-1)","v":-1},{"$f":"IF($B148='Unit list'!$D$1,'Mean HbA1c adjusted'!D148,-1)","v":-1},{"$f":"IF($A148='Unit list'!$A$1,'Mean HbA1c adjusted'!E148,-1)","v":-1},{"$f":"IF($A148='Unit list'!$A$1,'Mean HbA1c adjusted'!F148,-1)","v":-1},null,null,146,62.550543119518707,67.535716880481303,61.073840723112106,69.012419276887897,65.043130000000005]
["*PZ188*","Wales",182,65.64105224609375,{"$f":"IF($B149='Unit list'!$D$1,'Mean HbA1c adjusted'!C149,-1)","v":-1},{"$f":"IF($B149='Unit list'!$D$1,'Mean HbA1c adjusted'!D149,-1)","v":-1},{"$f":"IF($A149='Unit list'!$A$1,'Mean HbA1c adjusted'!E149,-1)","v":-1},{"$f":"IF($A149='Unit list'!$A$1,'Mean HbA1c adjusted'!F149,-1)","v":-1},null,null,147,62.559178938349838,67.527081061650165,61.087864989414243,68.998395010585767,65.043130000000005]
["*PZ189*","Wales",71,66.12982177734375,{"$f":"IF($B150='Unit list'!$D$1,'Mean HbA1c adjusted'!C150,-1)","v":-1},{"$f":"IF($B150='Unit list'!$D$1,'Mean HbA1c adjusted'!D150,-1)","v":-1},{"$f":"IF($A150='Unit list'!$A$1,'Mean HbA1c adjusted'!E150,-1)","v":-1},{"$f":"IF($A150='Unit list'!$A$1,'Mean HbA1c adjusted'!F150,-1)","v":-1},null,null,148,62.567725610990593,67.518534389009417,61.101741674598991,68.984518325401027,65.043130000000005]
["*PZ190*","Wales",55,60.789581298828125,{"$f":"IF($B151='Unit list'!$D$1,'Mean HbA1c adjusted'!C151,-1)","v":-1},{"$f":"IF($B151='Unit list'!$D$1,'Mean HbA1c adjusted'!D151,-1)","v":-1},{"$f":"IF($A151='Unit list'!$A$1,'Mean HbA1c adjusted'!E151,-1)","v":-1},{"$f":"IF($A151='Unit list'!$A$1,'Mean HbA1c adjusted'!F151,-1)","v":-1},null,null,149,62.576184660774288,67.510075339225722,61.115473348562119,68.970786651437891,65.043130000000005]
["*PZ191*","London and South East",87,66.642585754394531,{"$f":"IF($B152='Unit list'!$D$1,'Mean HbA1c adjusted'!C152,-1)","v":-1},{"$f":"IF($B152='Unit list'!$D$1,'Mean HbA1c adjusted'!D152,-1)","v":-1},{"$f":"IF($A152='Unit list'!$A$1,'Mean HbA1c adjusted'!E152,-1)","v":-1},{"$f":"IF($A152='Unit list'!$A$1,'Mean HbA1c adjusted'!F152,-1)","v":-1},null,null,150,62.584557574836694,67.501702425163316,61.129062518992775,68.957197481007242,65.043130000000005]
["*PZ193*","Wales",52,67.759803771972656,{"$f":"IF($B153='Unit list'!$D$1,'Mean HbA1c adjusted'!C153,-1)","v":-1},{"$f":"IF($B153='Unit list'!$D$1,'Mean HbA1c adjusted'!D153,-1)","v":-1},{"$f":"IF($A153='Unit list'!$A$1,'Mean HbA1c adjusted'!E153,-1)","v":-1},{"$f":"IF($A153='Unit list'!$A$1,'Mean HbA1c adjusted'!F153,-1)","v":-1},null,null,151,62.59284580521463,67.493414194785387,61.142511633295847,68.94374836670417,65.043130000000005]
["*PZ196*","London and South East",8,59.387454986572266,{"$f":"IF($B154='Unit list'!$D$1,'Mean HbA1c adjusted'!C154,-1)","v":-1},{"$f":"IF($B154='Unit list'!$D$1,'Mean HbA1c adjusted'!D154,-1)","v":-1},{"$f":"IF($A154='Unit list'!$A$1,'Mean HbA1c adjusted'!E154,-1)","v":-1},{"$f":"IF($A154='Unit list'!$A$1,'Mean HbA1c adjusted'!F154,-1)","v":-1},null,null,152,62.601050769903857,67.485209230096146,61.155823080442204,68.930436919557806,65.043130000000005]
["*PZ199*","London and South East",99,59.352401733398438,{"$f":"IF($B155='Unit list'!$D$1,'Mean HbA1c adjusted'!C155,-1)","v":-1},{"$f":"IF($B155='Unit list'!$D$1,'Mean HbA1c adjusted'!D155,-1)","v":-1},{"$f":"IF($A155='Unit list'!$A$1,'Mean HbA1c adjusted'!E155,-1)","v":-1},{"$f":"IF($A155='Unit list'!$A$1,'Mean HbA1c adjusted'!F155,-1)","v":-1},null,null,153,62.609173853878424,67.477086146121579,61.168999192750043,68.917260807249974,65.043130000000005]
["*PZ200*","East of England",88,62.118698120117188,{"$f":"IF($B156='Unit list'!$D$1,'Mean HbA1c adjusted'!C156,-1)","v":88},{"$f":"IF($B156='Unit list'!$D$1,'Mean HbA1c adjusted'!D156,-1)","v":62.118698120117188},{"$f":"IF($A156='Unit list'!$A$1,'Mean HbA1c adjusted'!E156,-1)","v":-1},{"$f":"IF($A156='Unit list'!$A$1,'Mean HbA1c adjusted'!F156,-1)","v":-1},null,null,154,62.617216410072885,67.469043589927125,61.182042247600258,68.904217752399759,65.043130000000005]
["*PZ202*","London and South East",115,66.270034790039063,{"$f":"IF($B157='Unit list'!$D$1,'Mean HbA1c adjusted'!C157,-1)","v":-1},{"$f":"IF($B157='Unit list'!$D$1,'Mean HbA1c adjusted'!D157,-1)","v":-1},{"$f":"IF($A157='Unit list'!$A$1,'Mean HbA1c adjusted'!E157,-1)","v":-1},{"$f":"IF($A157='Unit list'!$A$1,'Mean HbA1c adjusted'!F157,-1)","v":-1},null,null,155,62.625179760328983,67.46108023967102,61.194954469088863,68.89130553091114,65.043130000000005]
["*PZ203*","London and South East",535,60.342922210693359,{"$f":"IF($B158='Unit list'!$D$1,'Mean HbA1c adjusted'!C158,-1)","v":-1},{"$f":"IF($B158='Unit list'!$D$1,'Mean HbA1c adjusted'!D158,-1)","v":-1},{"$f":"IF($A158='Unit list'!$A$1,'Mean HbA1c adjusted'!E158,-1)","v":-1},{"$f":"IF($A158='Unit list'!$A$1,'Mean HbA1c adjusted'!F158,-1)","v":-1},null,null,156,62.633065196308507,67.453194803691503,61.207738029619009,68.878521970381001,65.043130000000005]
["*PZ206*","North West",322,71.118522644042969,{"$f":"IF($B159='Unit list'!$D$1,'Mean HbA1c adjusted'!C159,-1)","v":-1},{"$f":"IF($B159='Unit list'!$D$1,'Mean HbA1c adjusted'!D159,-1)","v":-1},{"$f":"IF($A159='Unit list'!$A$1,'Mean HbA1c adjusted'!E159,-1)","v":-1},{"$f":"IF($A159='Unit list'!$A$1,'Mean HbA1c adjusted'!F159,-1)","v":-1},null,null,157,62.64087398037347,67.44538601962654,61.220395051435233,68.865864948564777,65.043130000000005]
["*PZ213*","London and South East",224,66.829635620117188,{"$f":"IF($B160='Unit list'!$D$1,'Mean HbA1c adjusted'!C160,-1)","v":-1},{"$f":"IF($B160='Unit list'!$D$1,'Mean HbA1c adjusted'!D160,-1)","v":-1},{"$f":"IF($A160='Unit list'!$A$1,'Mean HbA1c adjusted'!E160,-1)","v":-1},{"$f":"IF($A160='Unit list'!$A$1,'Mean HbA1c adjusted'!F160,-1)","v":-1},null,null,158,62.648607346435192,67.437652653564825,61.232927608102536,68.853332391897482,65.043130000000005]
["*PZ215*","London and South East",103,66.344871520996094,{"$f":"IF($B161='Unit list'!$D$1,'Mean HbA1c adjusted'!C161,-1)","v":-1},{"$f":"IF($B161='Unit list'!$D$1,'Mean HbA1c adjusted'!D161,-1)","v":-1},{"$f":"IF($A161='Unit list'!$A$1,'Mean HbA1c adjusted'!E161,-1)","v":-1},{"$f":"IF($A161='Unit list'!$A$1,'Mean HbA1c adjusted'!F161,-1)","v":-1},null,null,159,62.656266500773476,67.429993499226541,61.245337725932387,68.840922274067623,65.043130000000005]
["*PZ216*","London and South East",90,70.238899230957031,{"$f":"IF($B162='Unit list'!$D$1,'Mean HbA1c adjusted'!C162,-1)","v":-1},{"$f":"IF($B162='Unit list'!$D$1,'Mean HbA1c adjusted'!D162,-1)","v":-1},{"$f":"IF($A162='Unit list'!$A$1,'Mean HbA1c adjusted'!E162,-1)","v":-1},{"$f":"IF($A162='Unit list'!$A$1,'Mean HbA1c adjusted'!F162,-1)","v":-1},null,null,160,62.663852622827093,67.422407377172917,61.257627385358077,68.828632614641933,65.043130000000005]
["*PZ218*","London and South East",204,69.928955078125,{"$f":"IF($B163='Unit list'!$D$1,'Mean HbA1c adjusted'!C163,-1)","v":-1},{"$f":"IF($B163='Unit list'!$D$1,'Mean HbA1c adjusted'!D163,-1)","v":-1},{"$f":"IF($A163='Unit list'!$A$1,'Mean HbA1c adjusted'!E163,-1)","v":-1},{"$f":"IF($A163='Unit list'!$A$1,'Mean HbA1c adjusted'!F163,-1)","v":-1},null,null,161,62.671366865956941,67.414893134043069,61.269798522261461,68.816461477738542,65.043130000000005]
["*PZ219*","Yorkshire and Humber",226,59.580669403076172,{"$f":"IF($B164='Unit list'!$D$1,'Mean HbA1c adjusted'!C164,-1)","v":-1},{"$f":"IF($B164='Unit list'!$D$1,'Mean HbA1c adjusted'!D164,-1)","v":-1},{"$f":"IF($A164='Unit list'!$A$1,'Mean HbA1c adjusted'!E164,-1)","v":-1},{"$f":"IF($A164='Unit list'!$A$1,'Mean HbA1c adjusted'!F164,-1)","v":-1},null,null,162,62.678810358182666,67.407449641817351,61.281853029253099,68.804406970746911,65.043130000000005]
["*PZ220*","East of England",121,65.144027709960938,{"$f":"IF($B165='Unit list'!$D$1,'Mean HbA1c adjusted'!C165,-1)","v":121},{"$f":"IF($B165='Unit list'!$D$1,'Mean HbA1c adjusted'!D165,-1)","v":65.144027709960938},{"$f":"IF($A165='Unit list'!$A$1,'Mean HbA1c adjusted'!E165,-1)","v":-1},{"$f":"IF($A165='Unit list'!$A$1,'Mean HbA1c adjusted'!F165,-1)","v":-1},null,null,163,62.68618420289414,67.40007579710587,61.293792756907742,68.792467243092261,65.043130000000005]
["*PZ221*","South West",173,66.131256103515625,{"$f":"IF($B166='Unit list'!$D$1,'Mean HbA1c adjusted'!C166,-1)","v":-1},{"$f":"IF($B166='Unit list'!$D$1,'Mean HbA1c adjusted'!D166,-1)","v":-1},{"$f":"IF($A166='Unit list'!$A$1,'Mean HbA1c adjusted'!E166,-1)","v":-1},{"$f":"IF($A166='Unit list'!$A$1,'Mean HbA1c adjusted'!F166,-1)","v":-1},null,null,164,62.693489479538613,67.392770520461397,61.305619514956966,68.780640485043051,65.043130000000005]
["*PZ222*","West Midlands",182,67.835182189941406,{"$f":"IF($B167='Unit list'!$D$1,'Mean HbA1c adjusted'!C167,-1)","v":-1},{"$f":"IF($B167='Unit list'!$D$1,'Mean HbA1c adjusted'!D167,-1)","v":-1},{"$f":"IF($A167='Unit list'!$A$1,'Mean HbA1c adjusted'!E167,-1)","v":-1},{"$f":"IF($A167='Unit list'!$A$1,'Mean HbA1c adjusted'!F167,-1)","v":-1},null,null,165,62.700727244284622,67.385532755715388,61.317335073440702,68.768924926559308,65.043130000000005]
["*PZ223*","West Midlands",133,60.740985870361328,{"$f":"IF($B168='Unit list'!$D$1,'Mean HbA1c adjusted'!C168,-1)","v":-1},{"$f":"IF($B168='Unit list'!$D$1,'Mean HbA1c adjusted'!D168,-1)","v":-1},{"$f":"IF($A168='Unit list'!$A$1,'Mean HbA1c adjusted'!E168,-1)","v":-1},{"$f":"IF($A168='Unit list'!$A$1,'Mean HbA1c adjusted'!F168,-1)","v":-1},null,null,166,62.707898530663485,67.378361469336525,61.32894116381943,68.757318836180573,65.043130000000005]
["*PZ225*","West Midlands",123,66.793548583984375,{"$f":"IF($B169='Unit list'!$D$1,'Mean HbA1c adjusted'!C169,-1)","v":-1},{"$f":"IF($B169='Unit list'!$D$1,'Mean HbA1c adjusted'!D169,-1)","v":-1},{"$f":"IF($A169='Unit list'!$A$1,'Mean HbA1c adjusted'!E169,-1)","v":-1},{"$f":"IF($A169='Unit list'!$A$1,'Mean HbA1c adjusted'!F169,-1)","v":-1},null,null,167,62.715004350189353,67.371255649810649,61.340439480048389,68.745820519951621,65.043130000000005]
["*PZ226*","Yorkshire and Humber",111,66.392219543457031,{"$f":"IF($B170='Unit list'!$D$1,'Mean HbA1c adjusted'!C170,-1)","v":-1},{"$f":"IF($B170='Unit list'!$D$1,'Mean HbA1c adjusted'!D170,-1)","v":-1},{"$f":"IF($A170='Unit list'!$A$1,'Mean HbA1c adjusted'!E170,-1)","v":-1},{"$f":"IF($A170='Unit list'!$A$1,'Mean HbA1c adjusted'!F170,-1)","v":-1},null,null,168,62.722045692958673,67.364214307041337,61.351831679615536,68.734428320384467,65.043130000000005]
["*PZ228*","Wales",86,60.497367858886719,{"$f":"IF($B171='Unit list'!$D$1,'Mean HbA1c adjusted'!C171,-1)","v":-1},{"$f":"IF($B171='Unit list'!$D$1,'Mean HbA1c adjusted'!D171,-1)","v":-1},{"$f":"IF($A171='Unit list'!$A$1,'Mean HbA1c adjusted'!E171,-1)","v":-1},{"$f":"IF($A171='Unit list'!$A$1,'Mean HbA1c adjusted'!F171,-1)","v":-1},null,null,169,62.729023528229646,67.357236471770364,61.363119384544639,68.723140615455364,65.043130000000005]
["*PZ230*","London and South East",125,66.565338134765625,{"$f":"IF($B172='Unit list'!$D$1,'Mean HbA1c adjusted'!C172,-1)","v":-1},{"$f":"IF($B172='Unit list'!$D$1,'Mean HbA1c adjusted'!D172,-1)","v":-1},{"$f":"IF($A172='Unit list'!$A$1,'Mean HbA1c adjusted'!E172,-1)","v":-1},{"$f":"IF($A172='Unit list'!$A$1,'Mean HbA1c adjusted'!F172,-1)","v":-1},null,null,170,62.735938804982908,67.350321195017102,61.374304182364774,68.711955817635229,65.043130000000005]
["*PZ231*","North West",105,65.575859069824219,{"$f":"IF($B173='Unit list'!$D$1,'Mean HbA1c adjusted'!C173,-1)","v":-1},{"$f":"IF($B173='Unit list'!$D$1,'Mean HbA1c adjusted'!D173,-1)","v":-1},{"$f":"IF($A173='Unit list'!$A$1,'Mean HbA1c adjusted'!E173,-1)","v":-1},{"$f":"IF($A173='Unit list'!$A$1,'Mean HbA1c adjusted'!F173,-1)","v":-1},null,null,171,62.74279245246364,67.343467547536363,61.38538762704772,68.70087237295229,65.043130000000005]
["*PZ232*","London and South East",298,64.143730163574219,{"$f":"IF($B174='Unit list'!$D$1,'Mean HbA1c adjusted'!C174,-1)","v":-1},{"$f":"IF($B174='Unit list'!$D$1,'Mean HbA1c adjusted'!D174,-1)","v":-1},{"$f":"IF($A174='Unit list'!$A$1,'Mean HbA1c adjusted'!E174,-1)","v":-1},{"$f":"IF($A174='Unit list'!$A$1,'Mean HbA1c adjusted'!F174,-1)","v":-1},null,null,172,62.749585380706186,67.336674619293817,61.396371239914323,68.68988876008568,65.043130000000005]
["*PZ238*","South Central",254,65.09918212890625,{"$f":"IF($B175='Unit list'!$D$1,'Mean HbA1c adjusted'!C175,-1)","v":-1},{"$f":"IF($B175='Unit list'!$D$1,'Mean HbA1c adjusted'!D175,-1)","v":-1},{"$f":"IF($A175='Unit list'!$A$1,'Mean HbA1c adjusted'!E175,-1)","v":-1},{"$f":"IF($A175='Unit list'!$A$1,'Mean HbA1c adjusted'!F175,-1)","v":-1},null,null,173,62.756318481041724,67.329941518958293,61.407256510511218,68.679003489488792,65.043130000000005]
["*PZ240*","West Midlands",149,63.055637359619141,{"$f":"IF($B176='Unit list'!$D$1,'Mean HbA1c adjusted'!C176,-1)","v":-1},{"$f":"IF($B176='Unit list'!$D$1,'Mean HbA1c adjusted'!D176,-1)","v":-1},{"$f":"IF($A176='Unit list'!$A$1,'Mean HbA1c adjusted'!E176,-1)","v":-1},{"$f":"IF($A176='Unit list'!$A$1,'Mean HbA1c adjusted'!F176,-1)","v":-1},null,null,174,62.7629926265896,67.323267373410417,61.418044897458834,68.668215102541168,65.043130000000005]
["*PZ242*","South West",252,63.453758239746094,{"$f":"IF($B177='Unit list'!$D$1,'Mean HbA1c adjusted'!C177,-1)","v":-1},{"$f":"IF($B177='Unit list'!$D$1,'Mean HbA1c adjusted'!D177,-1)","v":-1},{"$f":"IF($A177='Unit list'!$A$1,'Mean HbA1c adjusted'!E177,-1)","v":-1},{"$f":"IF($A177='Unit list'!$A$1,'Mean HbA1c adjusted'!F177,-1)","v":-1},null,null,175,62.769608672732986,67.316651327267024,61.428737829272045,68.657522170727958,65.043130000000005]
[null,null,null,null,null,null,null,null,null,null,176,62.776167457579454,67.310092542420549,61.439336705154226,68.646923294845777,65.043130000000005]
[null,null,{"$f":"SUM(C2:C177)","v":26900},null,null,null,null,null,null,null,177,62.782669802407014,67.303590197592996,61.449842895765968,68.636417104234042,65.043130000000005]
[null,null,null,null,null,null,null,null,null,null,178,62.789116512096143,67.297143487903867,61.460257743969251,68.626002256030759,65.043130000000005]
[null,null,null,null,null,null,null,null,null,null,179,62.795508375548359,67.290751624451644,61.470582565548028,68.615677434451982,65.043130000000005]
[null,null,null,null,null,null,null,null,null,null,180,62.801846166091757,67.28441383390826,61.480818649906155,68.605441350093855,65.043130000000005]
[null,null,null,null,null,null,null,null,null,null,181,62.808130641874101,67.278129358125909,61.490967260743446,68.595292739256564,65.043130000000005]
[null,null,null,null,null,null,null,null,null,null,182,62.814362546243842,67.271897453756168,61.501029636710662,68.585230363289341,65.043130000000005]
[null,null,null,null,"E&W",null,null,null,null,null,183,62.820542608119467,67.265717391880543,61.51100699204423,68.57525300795578,65.043130000000005]
[null,null,null,"Denominator",{"$f":"VLOOKUP('Unit list'!$A$1,'Mean HbA1c adjusted'!$A$3:$E$177,3,0)","v":231},null,null,null,null,null,184,62.826671542347661,67.259588457652356,61.520900517181417,68.565359482818593,65.043130000000005]
[null,null,null,"LCI",{"$f":"VLOOKUP($E$186,$K$4:$O$552,2,FALSE)","v":63.067652124161278},null,null,null,null,null,185,62.832750050050727,67.253509949949276,61.530711379356632,68.555548620643378,65.043130000000005]
[null,null,null,"UCI",{"$f":"VLOOKUP($E$186,$K$3:$P$559,3,0)","v":67.018607875838725},null,null,null,null,null,186,62.838778818963505,67.247481181036505,61.54044072317965,68.545819276820367,65.043130000000005]
[null,null,null,null,null,null,null,null,null,null,187,62.844758523760213,67.24150147623979,61.550089671196275,68.536170328803735,65.043130000000005]
[null,null,null,null,{"$f":"IF(VLOOKUP('Unit list'!$A$1,$A$3:$E$177,4,0)<E187,\" is lower than the national figure for England and Wales.\",IF(VLOOKUP('Unit list'!$A$1,$A$3:$E$177,4,0)>E188,\" is higher than the national figure for England and Wales.\",\" is similar to the national figure for England and Wales.\"))","v":" is similar to the national figure for England and Wales."},null,null,null,null,null,188,62.850689826371713,67.235570173628304,61.559659324432047,68.526600675567963,65.043130000000005]
[null,null,null,null,{"$f":"VLOOKUP('Unit list'!$A$1,#REF!,4,0)","v":{"$error":"#REF!"}},null,null,null,null,null,189,62.856573376293277,67.229686623706726,61.569150762919818,68.517109237080192,65.043130000000005]
[null,null,null,null,{"$f":"VLOOKUP('Unit list'!$A$1,#REF!,16,0)","v":{"$error":"#REF!"}},null,null,null,null,null,190,62.862409810883399,67.223850189116604,61.578565046211487,68.50769495378853,65.043130000000005]
[null,null,null,null,null,null,null,null,null,null,191,62.868199755653777,67.218060244346233,61.58790321387459,68.498356786125413,65.043130000000005]
[null,null,null,null,null,null,null,null,null,null,192,62.873943824551048,67.212316175448962,61.597166285974311,68.489093714025699,65.043130000000005]
[null,null,null,null,null,null,null,null,null,null,193,62.8796426202302,67.20661737976981,61.606355263541275,68.479904736458735,65.043130000000005]
["Unit code","Unadjusted mean 2017/18","Unadjusted mean 2018/19","Adjusted mean 2018/19","Expected mean 2018/19",null,null,null,null,null,194,62.885296734320207,67.200963265679803,61.615471129025813,68.470788870974189,65.043130000000005]
["PZ001",73.116280000000003,70.575393676757813,70.870147705078125,64.753270000000001,null,{"$f":"(C197/E197)*$P$197","v":70.891315692914603},{"$f":"G197-D197","v":2.1167987836477664E-2},{"$f":"IF(C197<E197,\"This unit performed better than expected according to its demographic characteristics.\",IF(D197>C197,\"In this case, the adjusted mean HbA1c is higher than the actual mean HbA1c, because the unit performance was worse than expected according to its demographic characteristics.\",\"\"))","v":"In this case, the adjusted mean HbA1c is higher than the actual mean HbA1c, because the unit performance was worse than expected according to its demographic characteristics."},null,195,{"$f":"$T$7-TINV(1-$T$3,$K197-1)*$T$8/SQRT($K197)","v":62.890906747682052},{"$f":"$T$7+TINV(1-$T$3,$K197-1)*$T$8/SQRT($K197)","v":67.195353252317958},{"$f":"$T$7-TINV(1-$T$4,$K197-1)*$T$8/SQRT($K197)","v":61.624514846738933},{"$f":"$T$7+TINV(1-$T$4,$K197-1)*$T$8/SQRT($K197)","v":68.461745153261077},{"$f":"$T$7","v":65.043130000000005}]
["PZ002",63.104230000000001,62.840568542480469,63.347183227539063,64.503680000000003,null,{"$f":"(C198/E198)*$P$197","v":63.366109793774058},{"$f":"G198-D198","v":1.8926566234995335E-2},{"$f":"IF(C198<E198,\"This unit performed better than expected according to its demographic characteristics.\",IF(D198>C198,\"In this case, the adjusted mean HbA1c is higher than the actual mean HbA1c, because the unit performance was worse than expected according to its demographic characteristics.\",\"\"))","v":"This unit performed better than expected according to its demographic characteristics."},null,196,62.896473230659431,67.189786769340586,61.633487363280629,68.452772636719388,65.043130000000005]
["PZ003",68.267439999999993,66.313827514648438,66.327728271484375,65.010080000000002,null,66.347540317330115,1.981204584573959E-2,"In this case, the adjusted mean HbA1c is higher than the actual mean HbA1c, because the unit performance was worse than expected according to its demographic characteristics.",null,197,62.901996743322314,67.184263256677696,61.642389607955906,68.443870392044104,65.043130000000005]
["PZ004",64.597620000000006,64.778945922851563,65.405235290527344,64.401079999999993,null,65.424763077311823,1.9527786784479417E-2,"In this case, the adjusted mean HbA1c is higher than the actual mean HbA1c, because the unit performance was worse than expected according to its demographic characteristics.",null,198,62.907477835703666,67.178782164296337,61.651222493178857,68.43503750682116,65.043130000000005]
["PZ005",64.154269999999997,59.605690002441406,60.224624633789063,64.377960000000002,null,60.221551654766586,-3.0729790224768294E-3,"This unit performed better than expected according to its demographic characteristics.",null,199,62.912917048029598,67.173342951970412,61.659986914865364,68.426273085134639,65.043130000000005]
["PZ006",65.954539999999994,65.015151977539063,63.951950073242188,66.104730000000004,null,63.971049908907133,1.9099835664945886E-2,"This unit performed better than expected according to its demographic characteristics.",null,200,62.918314910942932,67.167945089057071,61.668683752814616,68.417576247185394,65.043130000000005]
["PZ007",61.259619999999998,60.373111724853516,61.398540496826172,63.937730000000002,null,61.416884121850615,1.8343625024442645E-2,"This unit performed better than expected according to its demographic characteristics.",null,201,62.923671945720827,67.162588054279183,61.677313871079917,68.408946128920093,65.043130000000005]
["PZ009",65.745369999999994,63.338096618652344,65.217750549316406,63.149650000000001,null,65.237227004735018,1.9476455418612204E-2,"In this case, the adjusted mean HbA1c is higher than the actual mean HbA1c, because the unit performance was worse than expected according to its demographic characteristics.",null,202,62.928988664486106,67.157271335513897,61.685878118329136,68.400381881670882,65.043130000000005]
["PZ010",70.941109999999995,66.12945556640625,66.205276489257813,64.93553,null,66.239033934657741,3.3757445399928088E-2,"In this case, the adjusted mean HbA1c is higher than the actual mean HbA1c, because the unit performance was worse than expected according to its demographic characteristics.",null,203,62.934265570413018,67.151994429586992,61.694377328195138,68.391882671804879,65.043130000000005]
["PZ011",69.080359999999999,65.386360168457031,66.6319580078125,63.80818,null,66.651854427814328,1.9896420001828119E-2,"In this case, the adjusted mean HbA1c is higher than the actual mean HbA1c, because the unit performance was worse than expected according to its demographic characteristics.",null,204,62.939503157927241,67.146756842072762,61.702812319616456,68.383447680383554,65.043130000000005]
["PZ012",72.353210000000004,67.656501770019531,67.338493347167969,65.330780000000004,null,67.358611667771456,2.011832060348695E-2,"",null,205,62.944701912900506,67.141558087099497,61.711183897168659,68.375076102831343,65.043130000000005]
["PZ014",78.144069999999999,72.221153259277344,72.913467407226563,64.406310000000005,null,72.935242838676828,2.1775431450265614E-2,"In this case, the adjusted mean HbA1c is higher than the actual mean HbA1c, because the unit performance was worse than expected according to its demographic characteristics.",null,206,62.949862312839926,67.136397687160084,61.719492851386519,68.366767148613491,65.043130000000005]
["PZ015",67.504710000000003,61.174530029296875,62.338676452636719,63.809420000000003,null,62.357296295507162,1.8619842870442938E-2,"This unit performed better than expected according to its demographic characteristics.",null,207,62.954984827072245,67.131275172927772,61.727739959077518,68.3585200409225,65.043130000000005]
["PZ016",65.164060000000006,62.919116973876953,63.219917297363281,64.714330000000004,null,63.238795871286705,1.8878573923423403E-2,"This unit performed better than expected according to its demographic characteristics.",null,208,62.960069916923153,67.12619008307685,61.73592598362675,68.350334016373253,65.043130000000005]
["PZ017",67.096190000000007,65.214492797851563,64.211265563964844,66.039619999999999,null,64.230453369276248,1.9187805311403849E-2,"This unit performed better than expected according to its demographic characteristics.",null,209,62.965118035891841,67.121141964108162,61.744051675293626,68.342208324706377,65.043130000000005]
["PZ018",69.156189999999995,68.820602416992188,69.404472351074219,64.476699999999994,null,69.425193747303098,2.072139622887903E-2,"In this case, the adjusted mean HbA1c is higher than the actual mean HbA1c, because the unit performance was worse than expected according to its demographic characteristics.",null,210,62.970129629820811,67.116130370179206,61.752117771500586,68.334142228499417,65.043130000000005]
["PZ019",64.415909999999997,64.280189514160156,63.400257110595703,65.967399999999998,null,63.379559039679542,-2.0698070916161271E-2,"This unit performed better than expected according to its demographic characteristics.",null,211,62.975105137061384,67.111154862938633,61.760124997114112,68.326135002885906,65.043130000000005]
["PZ020",64.160920000000004,59.338233947753906,60.785907745361328,63.475110000000001,null,60.804061066363978,1.8153321002650102E-2,"This unit performed better than expected according to its demographic characteristics.",null,212,62.980044988634695,67.106215011365322,61.768074064718206,68.318185935281804,65.043130000000005]
["PZ021",68.332390000000004,63.621303558349609,64.583793640136719,64.054659999999998,null,64.603086147287286,1.9292507150566962E-2,"This unit performed better than expected according to its demographic characteristics.",null,213,62.984949608388604,67.101310391611406,61.77596567488073,68.310294325119273,65.043130000000005]
["PZ022",63.396419999999999,63.081817626953125,62.678253173828125,65.44238,null,62.696968914428297,1.8715740600171671E-2,"This unit performed better than expected according to its demographic characteristics.",null,214,62.989819413150428,67.096440586849582,61.783800516412583,68.302459483587427,65.043130000000005]
["PZ023",71.057140000000004,66.098709106445313,64.932289123535156,65.298069999999996,null,65.840643211088889,0.90835408755373237,"",null,215,62.99465481287573,67.091605187124273,61.79157926662019,68.29468073337982,65.043130000000005]
["PZ024",66.932850000000002,65.36962890625,65.366508483886719,65.033580000000001,null,65.379228254095452,1.2719770208732939E-2,"",null,216,62.999456210793369,67.086803789206641,61.799302591551339,68.286957408448671,65.043130000000005]
["PZ026",72.556250000000006,68.599159240722656,68.707489013671875,64.921189999999996,null,68.728007487001165,2.0518473329289577E-2,"In this case, the adjusted mean HbA1c is higher than the actual mean HbA1c, because the unit performance was worse than expected according to its demographic characteristics.",null,217,63.004224003546653,67.082035996453357,61.806971146234638,68.279288853765365,65.043130000000005]
["PZ027",66.902439999999999,61.459690093994141,62.824588775634766,63.61103,null,62.843356137188373,1.8767361553607032E-2,"This unit performed better than expected according to its demographic characteristics.",null,218,63.008958581331086,67.077301418668924,61.814585574912805,68.271674425087213,65.043130000000005]
["PZ028",61.814999999999998,60.051136016845703,63.339839935302734,61.647579999999998,null,63.35875384875412,1.8913913451385156E-2,"This unit performed better than expected according to its demographic characteristics.",null,219,63.013660328028422,67.072599671971588,61.822146511269878,68.264113488730132,65.043130000000005]
["PZ030",64.969070000000002,62.885414123535156,63.796337127685547,64.095259999999996,null,63.815392369746746,1.9055242061199351E-2,"This unit performed better than expected according to its demographic characteristics.",null,220,63.018329621337472,67.067930378662538,61.829654578652736,68.256605421347274,65.043130000000005]
["PZ031",66.166480000000007,63.215686798095703,64.912254333496094,63.514809999999997,null,64.736809170141939,-0.17544516335415494,"This unit performed better than expected according to its demographic characteristics.",null,221,63.02296683290156,67.06329316709845,61.837110390286796,68.249149609713214,65.043130000000005]
["PZ032",66.201390000000004,66.001777648925781,64.929222106933594,66.097830000000002,null,64.948610322762093,1.9388215828499256E-2,"This unit performed better than expected according to its demographic characteristics.",null,222,63.027572328432711,67.058687671567299,61.844514549486377,68.241745450513633,65.043130000000005]
["PZ033",67.430440000000004,63.413974761962891,63.403785705566406,65.03416,null,63.422721293841143,1.8935588274736403E-2,"This unit performed better than expected according to its demographic characteristics.",null,223,63.032146467832909,67.054113532167108,61.851867649859656,68.234392350140354,65.043130000000005]
["PZ034",67.896000000000001,65,66.126052856445313,63.883650000000003,null,66.1797416083771,5.3688751931787237E-2,"In this case, the adjusted mean HbA1c is higher than the actual mean HbA1c, because the unit performance was worse than expected according to its demographic characteristics.",null,224,63.036689605312183,67.049570394687834,61.859170275508539,68.227089724491478,65.043130000000005]
["PZ035",64.772729999999996,61.646289825439453,63.006614685058594,63.61983,null,63.025437872652844,1.8823187594250612E-2,"This unit performed better than expected according to its demographic characteristics.",null,225,63.041202089503805,67.045057910496212,61.866423001223446,68.219836998776572,65.043130000000005]
["PZ036",66.922240000000002,65.902229309082031,64.81390380859375,66.115549999999999,null,64.833269453864233,1.9365645270482901E-2,"This unit performed better than expected according to its demographic characteristics.",null,226,63.045684263576739,67.040575736423278,61.873626392673309,68.212633607326708,65.043130000000005]
["PZ038",61.72054,58.810062408447266,62.451564788818359,61.232230000000001,null,62.470214371430679,1.8649582612319193E-2,"This unit performed better than expected according to its demographic characteristics.",null,227,63.050136465345197,67.03612353465482,61.880781006590823,68.205478993409187,65.043130000000005]
["PZ040",70.119339999999994,70.876388549804688,68.548454284667969,67.231939999999994,null,68.568929505462108,2.0475220794139659E-2,"",null,228,63.054559027375674,67.031700972624336,61.887887390953132,68.198372609046885,65.043130000000005]
["PZ041",61.447859999999999,63.038959503173828,64.665740966796875,63.387929999999997,null,64.685047106439214,1.9306139642338849E-2,"This unit performed better than expected according to its demographic characteristics.",null,229,63.05895227709123,67.027307722908773,61.894946085158011,68.191313914841999,65.043130000000005]
["PZ042",58.21069,58.561126708984375,58.099723815917969,65.540099999999995,null,58.117076072190052,1.7352256272083366E-2,"This unit performed better than expected according to its demographic characteristics.",null,230,63.063316536873351,67.022943463126651,61.901957620195873,68.184302379804137,65.043130000000005]
["PZ045",71.694400000000002,66.621200561523438,64.086647033691406,67.595330000000004,null,64.105780811769719,1.9133778078312957E-2,"This unit performed better than expected according to its demographic characteristics.",null,231,63.067652124161278,67.018607875838725,61.908922518817391,68.177337481182619,65.043130000000005]
["PZ047",68.061859999999996,66.575759887695313,65.272270202636719,66.322239999999994,null,65.291760429444963,1.9490226808244415E-2,"",null,232,63.07195935154909,67.014300648450927,61.915841295697241,68.170418704302762,65.043130000000005]
["PZ048",69.301730000000006,68.627998352050781,69.201698303222656,64.484650000000002,null,69.222362507235829,2.0664204013172593E-2,"In this case, the adjusted mean HbA1c is higher than the actual mean HbA1c, because the unit performance was worse than expected according to its demographic characteristics.",null,233,63.07623852688026,67.01002147311975,61.922714457593756,68.163545542406254,65.043130000000005]
["PZ049",63.010950000000001,62.946807861328125,63.062507629394531,64.904420000000002,null,63.081334165059751,1.8826535665219524E-2,"This unit performed better than expected according to its demographic characteristics.",null,234,63.080489953340198,67.005770046659805,61.929542503504763,68.156717496495247,65.043130000000005]
["PZ050",71.688680000000005,66.593086242675781,67.652603149414063,64.005359999999996,null,67.672813114145015,2.0209964730952379E-2,"In this case, the adjusted mean HbA1c is higher than the actual mean HbA1c, because the unit performance was worse than expected according to its demographic characteristics.",null,235,63.084713929546382,67.001546070453628,61.936325924819776,68.149934075180227,65.043130000000005]
["PZ052",68.380679999999998,66.7283935546875,66.614479064941406,65.204800000000006,null,66.562945928347318,-5.1533136594088091E-2,"",null,236,63.088910749636511,66.997349250363499,61.943065205468407,68.143194794531595,65.043130000000005]
["PZ053",67.85378,66.038459777832031,66.111091613769531,64.952269999999999,null,66.130839219773236,1.9747606003704732E-2,"In this case, the adjusted mean HbA1c is higher than the actual mean HbA1c, because the unit performance was worse than expected according to its demographic characteristics.",null,237,63.093080703354566,66.993179296645437,61.949760822065421,68.136499177934596,65.043130000000005]
["PZ054",62.164540000000002,63.268001556396484,65.498985290527344,62.808920000000001,null,65.518541794269026,1.9556503741682718E-2,"In this case, the adjusted mean HbA1c is higher than the actual mean HbA1c, because the unit performance was worse than expected according to its demographic characteristics.",null,238,63.097224076134786,66.989035923865231,61.956413244052165,68.129846755947838,65.043130000000005]
["PZ055",64.432429999999997,63.266517639160156,64.599479675292969,63.682000000000002,null,64.618767178342182,1.9287503049213228E-2,"This unit performed better than expected according to its demographic characteristics.",null,239,63.101341149183789,66.984918850816214,61.963022933834878,68.123237066165132,65.043130000000005]
["PZ056",66.61,66.009712219238281,66.272628784179688,64.765739999999994,null,66.292430120284351,1.9801336104663392E-2,"In this case, the adjusted mean HbA1c is higher than the actual mean HbA1c, because the unit performance was worse than expected according to its demographic characteristics.",null,240,63.105432199560695,66.980827800439315,61.969590346919617,68.116669653080393,65.043130000000005]
["PZ057",63.970089999999999,60.470447540283203,62.118209838867188,63.618499999999997,null,61.824582165892323,-0.29362767297486414,"This unit performed better than expected according to its demographic characteristics.",null,241,63.109497500255479,66.976762499744524,61.976115932044046,68.110144067955957,65.043130000000005]
["PZ058",68.653019999999998,64.92645263671875,61.858078002929688,68.249110000000002,null,61.876553398116705,1.8475395187017796E-2,"This unit performed better than expected according to its demographic characteristics.",null,242,63.113537320265507,66.972722679734503,61.982600131306242,68.103659868693768,65.043130000000005]
["PZ059",63.797029999999999,63.847160339355469,60.586277008056641,68.523430000000005,null,60.604367733540805,1.8090725484164238E-2,"This unit performed better than expected according to its demographic characteristics.",null,243,63.117551924670224,66.968708075329786,61.989043380290418,68.097216619709585,65.043130000000005]
["PZ060",65.866100000000003,68.612197875976563,68.621803283691406,65.014610000000005,null,68.642296032120584,2.0492748429177254E-2,"In this case, the adjusted mean HbA1c is higher than the actual mean HbA1c, because the unit performance was worse than expected according to its demographic characteristics.",null,244,63.121541574704324,66.964718425295686,61.995446108189803,68.090813891810214,65.043130000000005]
["PZ062",69.041319999999999,69.247825622558594,68.081573486328125,66.13758,null,68.101907027523694,2.0333541195569182E-2,"",null,245,63.125506527829074,66.960753472170936,62.001808737926709,68.084451262073301,65.043130000000005]
["PZ064",61.151420000000002,62.484939575195313,61.610980987548828,65.946079999999995,null,61.629380363951491,1.8399376402662426E-2,"This unit performed better than expected according to its demographic characteristics.",null,246,63.129447037802144,66.956812962197873,62.008131686269834,68.078128313730176,65.043130000000005]
["PZ065",70.281610000000001,65.080245971679688,66.048851013183594,64.070139999999995,null,66.068575769741386,1.9724756557792489E-2,"In this case, the adjusted mean HbA1c is higher than the actual mean HbA1c, because the unit performance was worse than expected according to its demographic characteristics.",null,247,63.133363354745782,66.952896645254228,62.014415363948878,68.071844636051125,65.043130000000005]
["PZ067",61.124369999999999,60.055000305175781,60.267536163330078,64.794399999999996,null,60.285536898244111,1.8000734914032535E-2,"This unit performed better than expected according to its demographic characteristics.",null,248,63.137255725213592,66.949004274786418,62.020660175766594,68.065599824233416,65.043130000000005]
["PZ068",67.695909999999998,65.738319396972656,67.085655212402344,63.717779999999998,null,67.105697256226037,2.0042043823693234E-2,"In this case, the adjusted mean HbA1c is higher than the actual mean HbA1c, because the unit performance was worse than expected according to its demographic characteristics.",null,249,63.141124392255641,66.945135607744376,62.026866520708282,68.059393479291728,65.043130000000005]
["PZ069",63.705719999999999,62.283237457275391,62.555850982666016,64.844790000000003,null,62.473742466502436,-8.2108516163579282E-2,"This unit performed better than expected according to its demographic characteristics.",null,250,63.144969595482252,66.941290404517758,62.033034792048852,68.053225207951158,65.043130000000005]
["PZ072",65.775000000000006,64.298744201660156,64.712997436523438,64.607470000000006,null,64.732322407073482,1.9324970550044895E-2,"This unit performed better than expected according to its demographic characteristics.",null,251,63.148791571126367,66.937468428873643,62.039165377457451,68.047094622542559,65.043130000000005]
["PZ073",71.839079999999996,66.713485717773438,67.7352294921875,64.042860000000005,null,67.755467577404886,2.0238085217386015E-2,"In this case, the adjusted mean HbA1c is higher than the actual mean HbA1c, because the unit performance was worse than expected according to its demographic characteristics.",null,252,63.152590552104449,66.933669447895568,62.045258659099787,68.041001340900223,65.043130000000005]
["PZ074",65.907859999999999,63.853431701660156,62.306591033935547,66.638009999999994,null,62.325196372418731,1.8605338483183687E-2,"This unit performed better than expected according to its demographic characteristics.",null,253,63.156366768076168,66.929893231923842,62.051315013738147,68.034944986261863,65.043130000000005]
["PZ075",65.801469999999995,63.802818298339844,65.40478515625,63.431080000000001,null,65.424315728902883,1.9530572652882938E-2,"In this case, the adjusted mean HbA1c is higher than the actual mean HbA1c, because the unit performance was worse than expected according to its demographic characteristics.",null,254,63.16012044550267,66.92613955449734,62.057334812829247,68.028925187170771,65.043130000000005]
["PZ076",70.240840000000006,65.302238464355469,65.438804626464844,64.888009999999994,null,65.458348710772199,1.9544084307355547E-2,"In this case, the adjusted mean HbA1c is higher than the actual mean HbA1c, because the unit performance was worse than expected according to its demographic characteristics.",null,255,63.163851807703665,66.922408192296345,62.063318422619894,68.022941577380109,65.043130000000005]
["PZ078",67.546260000000004,66.4493408203125,66.736549377441406,64.743870000000001,null,66.756483870826571,1.9934493385164842E-2,"In this case, the adjusted mean HbA1c is higher than the actual mean HbA1c, because the unit performance was worse than expected according to its demographic characteristics.",null,256,63.167561074913195,66.918698925086815,62.069266204240563,68.016993795759447,65.043130000000005]
["PZ080",62.563540000000003,60.960166931152344,60.2161865234375,65.827089999999998,null,60.234168980045197,1.7982456607697372E-2,"This unit performed better than expected according to its demographic characteristics.",null,257,63.171248464334276,66.915011535665727,62.075178513796878,68.011081486203125,65.043130000000005]
["PZ082",76.775700000000001,70.087211608886719,68.833366394042969,66.009079999999997,null,69.061583891402947,0.22821749735997798,"",null,258,63.174914190192283,66.911345809807727,62.081055702459196,68.005204297540814,65.043130000000005]
["PZ084",74.354159999999993,72.030609130859375,72.223320007324219,64.850210000000004,null,72.244889780274789,2.1569772950570609E-2,"In this case, the adjusted mean HbA1c is higher than the actual mean HbA1c, because the unit performance was worse than expected according to its demographic characteristics.",null,259,{"$f":"$T$7-TINV(1-$T$3,$K261-1)*$T$8/SQRT($K261)","v":63.178558463787283},{"$f":"$T$7+TINV(1-$T$3,$K261-1)*$T$8/SQRT($K261)","v":66.907701536212727},{"$f":"$T$7-TINV(1-$T$4,$K261-1)*$T$8/SQRT($K261)","v":62.086898116550195},{"$f":"$T$7+TINV(1-$T$4,$K261-1)*$T$8/SQRT($K261)","v":67.999361883449822},{"$f":"$T$7","v":65.043130000000005}]
["PZ085",71.511809999999997,65.61920166015625,66.236953735351563,64.417280000000005,null,{"$f":"(C262/E262)*$P$197","v":66.256729003114685},{"$f":"G262-D262","v":1.9775267763122883E-2},{"$f":"IF(C262<E262,\"This unit performed better than expected according to its demographic characteristics.\",IF(D262>C262,\"In this case, the adjusted mean HbA1c is higher than the actual mean HbA1c, because the unit performance was worse than expected according to its demographic characteristics.\",\"\"))","v":"In this case, the adjusted mean HbA1c is higher than the actual mean HbA1c, because the unit performance was worse than expected according to its demographic characteristics."},null,260,63.182181493545137,66.904078506454866,62.092706097630511,67.993553902369499,65.043130000000005]
["PZ086",66.576530000000005,68.119789123535156,68.492507934570313,64.669870000000003,null,68.512961283742854,2.045334917254138E-2,"In this case, the adjusted mean HbA1c is higher than the actual mean HbA1c, because the unit performance was worse than expected according to its demographic characteristics.",null,261,63.185783485067603,66.900476514932407,62.09847998258266,67.98778001741735,65.043130000000005]
["PZ088",64.225009999999997,60.962001800537109,63.166957855224609,62.75394,null,63.18582400041447,1.8866145189861072E-2,"This unit performed better than expected according to its demographic characteristics.",null,262,63.189364641181356,66.896895358818654,62.104220103693045,67.982039896306972,65.043130000000005]
["PZ089",71.779340000000005,70.626594543457031,68.053665161132813,67.654399999999995,null,67.900606174134523,-0.15305898699828901,"",null,263,63.192925161985947,66.89333483801407,62.109926788732295,67.976333211267715,65.043130000000005]
["PZ091",71.505319999999998,68.777778625488281,67.343170166015625,66.408910000000006,null,67.36327996121085,2.0109795195224933E-2,"",null,264,63.196465244900736,66.889794755099274,62.115600361033827,67.970659638966183,65.043130000000005]
["PZ092",72.151309999999995,65.798782348632813,66.438285827636719,64.397829999999999,null,66.458120625242017,1.9834797605298604E-2,"In this case, the adjusted mean HbA1c is higher than the actual mean HbA1c, because the unit performance was worse than expected according to its demographic characteristics.",null,265,63.199985084710953,66.886274915289064,62.121241139570792,67.965018860429225,65.043130000000005]
["PZ094",64.774919999999995,66.762321472167969,66.742050170898438,65.043459999999996,null,66.761982751471308,1.9932580572870506E-2,"",null,266,63.203484873612645,66.882775126387372,62.126849439031382,67.959410560968635,65.043130000000005]
["PZ096",62.462179999999996,62.754856109619141,63.211429595947266,64.480980000000002,null,63.301957632611227,9.0528036663961586E-2,"This unit performed better than expected according to its demographic characteristics.",null,267,63.20696480125676,66.87929519874325,62.132425569892547,67.953834430107463,65.043130000000005]
["PZ097",68.839290000000005,72.089698791503906,67.047401428222656,69.913809999999998,null,67.067431315166957,2.0029886944300301E-2,"",null,268,63.210425054792395,66.875834945207615,62.137969838492168,67.948290161507842,65.043130000000005]
["PZ099",65.095519999999993,63.800193786621094,64.870414733886719,63.950960000000002,null,64.889788964675247,1.9374230788528735E-2,"This unit performed better than expected according to its demographic characteristics.",null,269,63.213865818908971,66.872394181091039,62.143482547099744,67.942777452900259,65.043130000000005]
["PZ100",67.975309999999993,65.5,65.283561706542969,65.239289999999997,null,65.303056103155029,1.9494396612060427E-2,"",null,270,63.217287275877695,66.868972724122315,62.148963993985575,67.937296006014435,65.043130000000005]
["PZ101",68.762609999999995,64.706809997558594,62.899288177490234,66.89228,null,62.918074470723731,1.8786293233496565E-2,"This unit performed better than expected according to its demographic characteristics.",null,271,63.220689605592135,66.865570394407868,62.154414473488551,67.931845526511466,65.043130000000005]
["PZ102",66.950869999999995,66.372024536132813,65.349464416503906,66.041169999999994,null,65.368984532934178,1.9520116430271628E-2,"",null,272,63.224072985607876,66.862187014392134,62.159834276082506,67.926425723917504,65.043130000000005]
["PZ104",73.869280000000003,69.343330383300781,70.063796997070313,64.355069999999998,null,70.084722971383343,2.0925974313030338E-2,"In this case, the adjusted mean HbA1c is higher than the actual mean HbA1c, because the unit performance was worse than expected according to its demographic characteristics.",null,273,63.227437591181534,66.858822408818483,62.16522368844123,67.92103631155878,65.043130000000005]
["PZ105",72.839780000000005,69.267860412597656,68.094352722167969,66.144300000000001,null,68.114689393317988,2.033667115001947E-2,"",null,274,63.2307835953088,66.855476404691217,62.170582993502158,67.915677006497859,65.043130000000005]
["PZ106",73.356059999999999,72.800926208496094,72.791069030761719,65.032520000000005,null,72.812803617322814,2.1734586561095171E-2,"",null,275,63.234111168761913,66.852148831238097,62.175912470528701,67.910347529471309,65.043130000000005]
["PZ107",69.618449999999996,67.482452392578125,66.780364990234375,65.707329999999999,null,66.800308636635677,1.9943646401301862E-2,"",null,276,63.23742048012614,66.848839519873877,62.18121239517145,67.905047604828567,65.043130000000005]
["PZ108",66.887960000000007,63.554153442382813,61.946006774902344,66.711749999999995,null,61.964512464338789,1.8505689436445039E-2,"This unit performed better than expected according to its demographic characteristics.",null,277,63.240711695835742,66.845548304164268,62.186483039527907,67.89977696047211,65.043130000000005]
["PZ109",68.876499999999993,65.377510070800781,66.061813354492188,64.350160000000002,null,66.081543334335223,1.9729979843035039E-2,"In this case, the adjusted mean HbA1c is higher than the actual mean HbA1c, because the unit performance was worse than expected according to its demographic characteristics.",null,278,63.243984980209135,66.842275019790875,62.191724672201289,67.894535327798721,65.043130000000005]
["PZ110",65.938190000000006,64.410179138183594,65.506156921386719,64.130309999999994,null,65.326982748222562,-0.17917417316415651,"In this case, the adjusted mean HbA1c is higher than the actual mean HbA1c, because the unit performance was worse than expected according to its demographic characteristics.",null,279,63.247240495483254,66.839019504516756,62.196937558357909,67.889322441642108,65.043130000000005]
["PZ111",62.905169999999998,60.59375,62.052955627441406,63.494639999999997,null,62.07149388416881,1.8538256727403279E-2,"This unit performed better than expected according to its demographic characteristics.",null,280,63.250478401847467,66.835781598152536,62.202121959783561,67.884138040216442,65.043130000000005]
["PZ112",65.506029999999996,64.601348876953125,64.77972412109375,64.844669999999994,null,64.799064181821223,1.9340060727472519E-2,"This unit performed better than expected according to its demographic characteristics.",null,281,63.253698857476579,66.832561142523431,62.207278134938711,67.878981865061292,65.043130000000005]
["PZ113",67.928569999999993,65.960670471191406,66.418411254882813,64.575580000000002,null,66.438249015260325,1.9837760377512836E-2,"In this case, the adjusted mean HbA1c is higher than the actual mean HbA1c, because the unit performance was worse than expected according to its demographic characteristics.",null,282,63.256902018563324,66.829357981436686,62.212406339012595,67.873853660987407,65.043130000000005]
["PZ114",67.853899999999996,68.321968078613281,70.170845031738281,63.310450000000003,null,70.191803274073933,2.0958242335652244E-2,"In this case, the adjusted mean HbA1c is higher than the actual mean HbA1c, because the unit performance was worse than expected according to its demographic characteristics.",null,283,63.260088039350215,66.826171960649788,62.217506823976279,67.868753176023731,65.043130000000005]
["PZ118",72.807689999999994,67.996376037597656,65.609466552734375,67.389309999999995,null,65.629060842770912,1.9594290036536677E-2,"",null,284,63.263257072160677,66.823002927839326,62.222579838634658,67.863680161365352,65.043130000000005]
["PZ119",65.772869999999998,66.938262939453125,69.82763671875,62.333109999999998,null,69.848498468069891,2.0861749319891487E-2,"In this case, the adjusted mean HbA1c is higher than the actual mean HbA1c, because the unit performance was worse than expected according to its demographic characteristics.",null,285,63.266409267429694,66.819850732570316,62.227625628677337,67.858634371322665,65.043130000000005]
["PZ120",58.375999999999998,59.996349334716797,60.837535858154297,64.124639999999999,null,60.855707717086574,1.8171858932277019E-2,"This unit performed better than expected according to its demographic characteristics.",null,286,63.269544773733784,66.816715226266226,62.232644436728748,67.853615563271262,65.043130000000005]
["PZ121",70.964290000000005,71.34576416015625,70.988250732421875,65.351179999999999,null,71.009457108783408,2.120637636153333E-2,"",null,287,63.272663737820402,66.813596262179615,62.23763650239701,67.848623497603,65.043130000000005]
["PZ122",69.476299999999995,66.897438049316406,66.178146362304688,65.730450000000005,null,66.197915269234173,1.9768906929485297E-2,"",null,288,63.275766304636804,66.810493695363206,62.242602062322014,67.843657937677989,65.043130000000005]
["PZ125",67.470089999999999,64.181037902832031,66.398040771484375,62.852589999999999,null,66.41787700154967,1.9836230065294558E-2,"In this case, the adjusted mean HbA1c is higher than the actual mean HbA1c, because the unit performance was worse than expected according to its demographic characteristics.",null,289,63.278852617358361,66.807407382641657,62.247541350222569,67.838718649777434,65.043130000000005]
["PZ126",71.598510000000005,67.552322387695313,67.327873229980469,65.240480000000005,null,67.347979151360875,2.0105921380405789E-2,"",null,290,63.281922817416245,66.804337182583765,62.252454596942528,67.833805403057482,65.043130000000005]
["PZ127",71.124989999999997,69.844444274902344,68.716812133789063,66.090739999999997,null,68.737333985823568,2.0521852034505628E-2,"",null,291,63.28497704452473,66.801282955475273,62.257342030496133,67.828917969503877,65.043130000000005]
["PZ128",63.123460000000001,65.8125,66.868804931640625,63.996560000000002,null,66.888767038806463,1.9962107165838461E-2,"In this case, the adjusted mean HbA1c is higher than the actual mean HbA1c, because the unit performance was worse than expected according to its demographic characteristics.",null,292,63.288015436707866,66.798244563292144,62.262203876112466,67.824056123887544,65.043130000000005]
["PZ129",70.102270000000004,66.055557250976563,67.459815979003906,63.670160000000003,null,67.479965457880283,2.0149478876376747E-2,"In this case, the adjusted mean HbA1c is higher than the actual mean HbA1c, because the unit performance was worse than expected according to its demographic characteristics.",null,293,63.291038130325674,66.795221869674336,62.267040356278997,67.819219643721013,65.043130000000005]
["PZ130",70.003649999999993,67.929908752441406,67.334701538085938,65.598489999999998,null,67.354810848133624,2.010931004768679E-2,"",null,294,63.29404526009985,66.79221473990016,62.271851690784366,67.814408309215651,65.043130000000005]
["PZ131",71.606480000000005,67.439811706542969,67.83831787109375,64.641739999999999,null,67.858576207945461,2.0258336851711078E-2,"In this case, the adjusted mean HbA1c is higher than the actual mean HbA1c, because the unit performance was worse than expected according to its demographic characteristics.",null,295,63.297036959138978,66.789223040861032,62.276638096760323,67.809621903239687,65.043130000000005]
["PZ132",70.459999999999994,65.092269897460938,65.909629821777344,64.217339999999993,null,65.929310882942815,1.9681061165471192E-2,"In this case, the adjusted mean HbA1c is higher than the actual mean HbA1c, because the unit performance was worse than expected according to its demographic characteristics.",null,296,63.300013358963319,66.786246641036698,62.281399788722872,67.804860211277145,65.043130000000005]
["PZ133",70.017300000000006,65.89495849609375,66.303199768066406,64.623350000000002,null,66.32299860353929,1.9798835472883525E-2,"In this case, the adjusted mean HbA1c is higher than the actual mean HbA1c, because the unit performance was worse than expected according to its demographic characteristics.",null,297,63.302974589529057,66.783285410470953,62.286136978612653,67.80012302138735,65.043130000000005]
["PZ135",66.958529999999996,64.024459838867188,64.861480712890625,64.18459,null,64.880857920557219,1.9377207666593677E-2,"This unit performed better than expected according to its demographic characteristics.",null,298,63.305920779252155,66.780339220747848,62.290849875834553,67.795410124165457,65.043130000000005]
["PZ136",65.316609999999997,67.460968017578125,64.289924621582031,68.230950000000007,null,64.309122365923031,1.9197744340999634E-2,"This unit performed better than expected according to its demographic characteristics.",null,299,63.308852055031721,66.777407944968289,62.29553868729657,67.79072131270344,65.043130000000005]
["PZ137",63.229730000000004,63.833332061767578,64.705650329589844,64.147109999999998,null,64.724969147116951,1.9318817527107512E-2,"This unit performed better than expected according to its demographic characteristics.",null,300,63.311768542273001,66.774491457727009,62.300203617447984,67.786056382552033,65.043130000000005]
["PZ138",62.484380000000002,61.960784912109375,65.104629516601563,61.883780000000002,null,65.124066240626689,1.943672402512675E-2,"In this case, the adjusted mean HbA1c is higher than the actual mean HbA1c, because the unit performance was worse than expected according to its demographic characteristics.",null,301,63.31467036490988,66.771589635090137,62.304844868316763,67.781415131683246,65.043130000000005]
["PZ139",65.842160000000007,63.050827026367188,63.413169860839844,64.652159999999995,null,63.432113310421727,1.8943449581882987E-2,"This unit performed better than expected according to its demographic characteristics.",null,302,63.317557645427023,66.76870235457298,62.309462639546318,67.776797360453685,65.043130000000005]
["PZ140",68.622219999999999,66.767440795898438,67.184745788574219,64.619829999999993,null,67.204808979765602,2.0063191191383112E-2,"In this case, the adjusted mean HbA1c is higher than the actual mean HbA1c, because the unit performance was worse than expected according to its demographic characteristics.",null,303,63.320430504881628,66.765829495118382,62.314057128431578,67.772202871568425,65.043130000000005]
["PZ141",56.941670000000002,58.710525512695313,58.405483245849609,65.363320000000002,null,58.422925018046179,1.7441772196569616E-2,"This unit performed better than expected according to its demographic characteristics.",null,304,63.32328906292463,66.76297093707538,62.318628529954395,67.767631470045615,65.043130000000005]
["PZ144",64.316800000000001,62.514816284179688,61.629863739013672,65.957400000000007,null,61.648265736642387,1.8401997628714639E-2,"This unit performed better than expected according to its demographic characteristics.",null,305,63.326133437821774,66.760126562178229,62.32317703681823,67.763082963181787,65.043130000000005]
["PZ145",61.62791,61.068180084228516,63.240985870361328,62.660690000000002,null,63.390070809655725,0.14908493929439715,"This unit performed better than expected according to its demographic characteristics.",null,306,63.328963746474066,66.757296253525936,62.32770283948237,67.75855716051764,65.043130000000005]
["PZ146",64.606700000000004,62.140209197998047,62.739940643310547,64.402150000000006,null,62.758676613941965,1.8735970631418297E-2,"This unit performed better than expected according to its demographic characteristics.",null,307,63.33178010443801,66.754479895562,62.332206126195324,67.754053873804679,65.043130000000005]
["PZ149",68.422479999999993,65.25,64.048820495605469,66.243170000000006,null,64.067951948857512,1.9131453252043684E-2,"This unit performed better than expected according to its demographic characteristics.",null,308,63.334582625945409,66.751677374054594,62.336687083027769,67.749572916972241,65.043130000000005]
["PZ150",66.295460000000006,62.88775634765625,64.399398803710938,63.497410000000002,null,64.418635524329744,1.9236720618806658E-2,"This unit performed better than expected according to its demographic characteristics.",null,309,63.337371423922782,66.748888576077221,62.34114589390478,67.74511410609523,65.043130000000005]
["PZ151",71.318960000000004,70.633331298828125,68.781204223632813,66.774649999999994,null,68.801752611249142,2.0548387616329933E-2,"",null,310,63.340146610010557,66.746113389989446,62.345582740637624,67.740677259362386,65.043130000000005]
["PZ152",72.680769999999995,70.13043212890625,69.246856689453125,65.853399999999993,null,69.267536891286198,2.0680201833073397E-2,"",null,311,63.342908294581797,66.74335170541822,62.349997802954768,67.736262197045249,65.043130000000005]
["PZ153",65.16207,61.164234161376953,60.894065856933594,65.312200000000004,null,60.912252747708422,1.8186890774828157E-2,"This unit performed better than expected according to its demographic characteristics.",null,312,63.345656586760626,66.740603413239384,62.354391258532544,67.731868741467466,65.043130000000005]
["PZ156",71.489509999999996,69.082145690917969,67.321380615234375,66.724379999999996,null,67.341487217315745,2.0106602081369829E-2,"",null,313,63.348391594440393,66.73786840555961,62.358763283025183,67.727496716974827,65.043130000000005]
["PZ157",69.771190000000004,66.905357360839844,65.371253967285156,66.549660000000003,null,65.390775197312252,1.9521230027095271E-2,"",null,314,63.351113424301396,66.735146575698607,62.363114050094225,67.723145949905785,65.043130000000005]
["PZ159",65.556569999999994,62.358737945556641,63.919452667236328,63.415529999999997,null,63.959214703855253,3.9762036618924412E-2,"This unit performed better than expected according to its demographic characteristics.",null,315,63.353822181828399,66.732437818171618,62.367443731437575,67.718816268562435,65.043130000000005]
["PZ160",null,63.664287567138672,62.315361022949219,66.486670000000004,null,62.282026345834204,-3.3334677115014699E-2,"This unit performed better than expected according to its demographic characteristics.",null,316,63.356517971327811,66.729742028672192,62.371752496817912,67.714507503182091,65.043130000000005]
["PZ161",null,65.520545959472656,65.978065490722656,64.857939999999999,null,65.707627909750997,-0.27043758097165949,"In this case, the adjusted mean HbA1c is higher than the actual mean HbA1c, because the unit performance was worse than expected according to its demographic characteristics.",null,317,63.359200895944532,66.727059104055471,62.37604051409064,67.710219485909363,65.043130000000005]
["PZ162",68.065700000000007,67.019378662109375,66.286766052246094,65.742360000000005,null,66.306566403135008,1.9800350888914409E-2,"",null,318,63.36187105767857,66.72438894232144,62.380307949231366,67.705952050768644,65.043130000000005]
["PZ163",65.834500000000006,67.574996948242188,66.459831237792969,66.114779999999996,null,66.479678390431303,1.9847152638334364E-2,"",null,319,63.364528557401265,66.721731442598752,62.384554966362877,67.70170503363714,65.043130000000005]
["PZ164",70.858189999999993,66.07763671875,63.682518005371094,67.469269999999995,null,63.701538718151689,1.9020712780594806E-2,"This unit performed better than expected according to its demographic characteristics.",null,320,63.367173494871338,66.719086505128672,62.388781727781648,67.697478272218362,65.043130000000005]
["PZ167",69.66919,66.965263366699219,66.954597473144531,65.03407,null,66.974592404326771,1.9994931182239384E-2,"",null,321,63.36980596875064,66.71645403124937,62.39298839398387,67.69327160601614,65.043130000000005]
["PZ168",58.326529999999998,57.479999542236328,59.658477783203125,62.649320000000003,null,59.676291500460316,1.7813717257190831E-2,"This unit performed better than expected according to its demographic characteristics.",null,322,63.372426076619547,66.713833923380463,62.397175123691078,67.689084876308925,65.043130000000005]
["PZ169",63.86,61.992000579833984,63.319110870361328,63.660870000000003,null,63.338024640163063,1.8913769801734759E-2,"This unit performed better than expected according to its demographic characteristics.",null,323,{"$f":"$T$7-TINV(1-$T$3,$K325-1)*$T$8/SQRT($K325)","v":63.375033914992216},{"$f":"$T$7+TINV(1-$T$3,$K325-1)*$T$8/SQRT($K325)","v":66.711226085007794},{"$f":"$T$7-TINV(1-$T$4,$K325-1)*$T$8/SQRT($K325)","v":62.401342073875234},{"$f":"$T$7+TINV(1-$T$4,$K325-1)*$T$8/SQRT($K325)","v":67.684917926124768},{"$f":"$T$7","v":65.043130000000005}]
["PZ170",70.24306,67.930229187011719,68.039703369140625,64.919089999999997,null,{"$f":"(C326/E326)*$P$197","v":68.060022528667574},{"$f":"G326-D326","v":2.0319159526948738E-2},{"$f":"IF(C326<E326,\"This unit performed better than expected according to its demographic characteristics.\",IF(D326>C326,\"In this case, the adjusted mean HbA1c is higher than the actual mean HbA1c, because the unit performance was worse than expected according to its demographic characteristics.\",\"\"))","v":"In this case, the adjusted mean HbA1c is higher than the actual mean HbA1c, because the unit performance was worse than expected according to its demographic characteristics."},null,324,63.377629579331483,66.708630420668527,62.405489399783555,67.680770600216462,65.043130000000005]
["PZ171 ",62.647820000000003,58.835441589355469,60.38763427734375,63.352350000000001,null,60.405672021698557,1.8037744354806762E-2,"This unit performed better than expected according to its demographic characteristics.",null,325,63.380213164063562,66.706046835936448,62.409617254962676,67.676642745037341,65.043130000000005]
["PZ172",66.591669999999993,68.677513122558594,70.278465270996094,63.542459999999998,null,70.299456679947312,2.0991408951218204E-2,"In this case, the adjusted mean HbA1c is higher than the actual mean HbA1c, because the unit performance was worse than expected according to its demographic characteristics.",null,326,63.382784762592422,66.703475237407588,62.413725791282616,67.672534208717394,65.043130000000005]
["PZ173",67.274039999999999,66.315216064453125,65.864730834960938,65.468440000000001,null,65.884405057739471,1.967422277853359E-2,"",null,327,63.38534446731407,66.70091553268594,62.417815158960181,67.668444841039829,65.043130000000005]
["PZ174",65.860339999999994,65.567207336425781,65.0052490234375,65.585819999999998,null,65.024671346948111,1.9422323510610795E-2,"This unit performed better than expected according to its demographic characteristics.",null,328,63.387892369630393,66.698367630369617,62.4218855065821,67.66437449341791,65.043130000000005]
["PZ175",62.457140000000003,66.093406677246094,66.03570556640625,65.080529999999996,null,66.055424604731797,1.9719038325547444E-2,"",null,329,63.390428559962906,66.695831440037097,62.42593698112762,67.66032301887239,65.043130000000005]
["PZ176",66.723240000000004,63.195652008056641,65.171272277832031,63.052570000000003,null,65.190729085187002,1.9456807354970351E-2,"In this case, the adjusted mean HbA1c is higher than the actual mean HbA1c, because the unit performance was worse than expected according to its demographic characteristics.",null,330,63.39295312776629,66.69330687223372,62.429969727990851,67.656290272009159,65.043130000000005]
["PZ177",66,62.816963195800781,63.614627838134766,64.208380000000005,null,63.633623887562429,1.8996049427663309E-2,"This unit performed better than expected according to its demographic characteristics.",null,331,63.395466161541492,66.690793838458518,62.433983891002626,67.652276108997384,65.043130000000005]
["PZ178",67.049340000000001,65.46551513671875,63.231784820556641,67.320740000000001,null,63.250671510066077,1.8886689509436394E-2,"This unit performed better than expected according to its demographic characteristics.",null,332,63.397967748848956,66.688292251151054,62.437979612452111,67.648280387547899,65.043130000000005]
["PZ179",71.730770000000007,69.509933471679688,69.310234069824219,65.226249999999993,null,69.314787207448148,4.5531376239296151E-3,"",null,333,63.400457976321263,66.685802023678747,62.441957033107933,67.644302966892084,65.043130000000005]
["PZ180",63.103169999999999,58.499839782714844,58.236774444580078,65.205950000000001,null,58.353765016325866,0.11699057174578797,"This unit performed better than expected according to its demographic characteristics.",null,334,63.402936929675839,66.683323070324164,62.445916292239033,67.640343707760977,65.043130000000005]
["PZ181",70.004199999999997,67.479866027832031,67.528610229492188,64.976770000000002,null,67.548782409942234,2.017218045004654E-2,"In this case, the adjusted mean HbA1c is higher than the actual mean HbA1c, because the unit performance was worse than expected according to its demographic characteristics.",null,335,63.405404693727299,66.680855306272719,62.449857527635118,67.636402472364892,65.043130000000005]
["PZ182",65.778909999999996,63.144069671630859,62.342170715332031,66.080370000000002,null,62.152919730639276,-0.18925098469275525,"This unit performed better than expected according to its demographic characteristics.",null,336,63.407861352399649,66.678398647600361,62.453780875626833,67.632479124373177,65.043130000000005]
["PZ183",73.644999999999996,68.755104064941406,68.921157836914063,64.867050000000006,null,68.941738091365522,2.0580254451459723E-2,"In this case, the adjusted mean HbA1c is higher than the actual mean HbA1c, because the unit performance was worse than expected according to its demographic characteristics.",null,337,63.410306988738299,66.675953011261711,62.457686471105546,67.628573528894464,65.043130000000005]
["PZ185",70.375,62.844825744628906,63.660198211669922,64.190880000000007,null,63.679204440494424,1.9006228824501648E-2,"This unit performed better than expected according to its demographic characteristics.",null,338,63.412741684921784,66.673518315078226,62.46157444754283,67.62468555245718,65.043130000000005]
["PZ186",69.505880000000005,68.068878173828125,67.578094482421875,65.495940000000004,null,67.598280015745473,2.0185533323598293E-2,"",null,339,63.415165522273441,66.671094477726569,62.465444937009593,67.620815062990417,65.043130000000005]
["PZ187",63.311320000000002,59.220588684082031,59.892383575439453,64.294359999999998,null,59.910269710364595,1.7886134925142017E-2,"This unit performed better than expected according to its demographic characteristics.",null,340,63.417578581272814,66.668681418727189,62.469298070194995,67.616961929805015,65.043130000000005]
["PZ188",64.789450000000002,65.140960693359375,65.64105224609375,64.508430000000004,null,65.680903638533195,3.9851392439445021E-2,"In this case, the adjusted mean HbA1c is higher than the actual mean HbA1c, because the unit performance was worse than expected according to its demographic characteristics.",null,341,63.419980941566777,66.666279058433233,62.473133976424862,67.613126023575148,65.043130000000005]
["PZ189",66.169120000000007,67.084510803222656,66.12982177734375,65.962429999999998,null,66.149572675846173,1.9750898502422842E-2,"",null,342,63.422372681980733,66.663887318019277,62.476952783680041,67.609307216319962,65.043130000000005]
["PZ190",62.990569999999998,60.254547119140625,60.789581298828125,64.451409999999996,null,60.807736267699802,1.8154968871677113E-2,"This unit performed better than expected according to its demographic characteristics.",null,343,63.424753880529337,66.661506119470673,62.48075461861422,67.605505381385782,65.043130000000005]
["PZ191",75.540819999999997,70.966293334960938,66.642585754394531,69.684619999999995,null,66.239434799300028,-0.40315095509450316,"",null,344,63.427124614427228,66.659135385572782,62.484539606571651,67.601720393428366,65.043130000000005]
["PZ193",73.181820000000002,66.942306518554688,67.759803771972656,64.239220000000003,null,67.780043801686887,2.0240029714230445E-2,"In this case, the adjusted mean HbA1c is higher than the actual mean HbA1c, because the unit performance was worse than expected according to its demographic characteristics.",null,345,63.429484960099643,66.656775039900367,62.488307871604462,67.597952128395548,65.043130000000005]
["PZ196",50.352939999999997,59.277778625488281,59.387454986572266,64.531049999999993,null,59.748171790926328,0.3607168043540625,"This unit performed better than expected according to its demographic characteristics.",null,346,63.431834993192595,66.654425006807415,62.492059536489741,67.594200463510276,65.043130000000005]
["PZ199",68.157529999999994,63.781482696533203,59.352401733398438,66.817679999999996,null,62.087568299638065,2.7351665662396272,"This unit performed better than expected according to its demographic characteristics.",null,347,63.434174788583192,66.652085211416818,62.495794722746354,67.590465277253656,65.043130000000005]
["PZ200",68.153260000000003,61.806819915771484,62.118698120117188,64.697239999999994,null,62.137256901038043,1.8558780920855611E-2,"This unit performed better than expected according to its demographic characteristics.",null,348,63.436504420389582,66.649755579610428,62.499513550651415,67.586746449348595,65.043130000000005]
["PZ202",68.298159999999996,69.77825927734375,66.270034790039063,68.465959999999995,null,66.289823283716117,1.978849367705493E-2,"",null,349,63.438823961980859,66.647436038019151,62.503216139256651,67.583043860743359,65.043130000000005]
["PZ203",64.768180000000001,60.927833557128906,60.342922210693359,65.539069999999995,null,60.46678719540418,0.12386498471082064,"This unit performed better than expected according to its demographic characteristics.",null,350,63.441133485986754,66.645126514013256,62.506902606404331,67.579357393595686,65.043130000000005]
["PZ206",74.244159999999994,71.793525695800781,71.118522644042969,65.640860000000004,null,71.139769116222894,2.1246472179925036E-2,"",null,351,63.443433064307172,66.642826935692838,62.510573068743007,67.575686931256996,65.043130000000005]
["PZ213",69.290599999999998,65.341926574707031,66.829635620117188,63.5762,null,66.849598193178025,1.9962573060837485E-2,"In this case, the adjusted mean HbA1c is higher than the actual mean HbA1c, because the unit performance was worse than expected according to its demographic characteristics.",null,352,63.445722768121605,66.640537231878412,62.514227641743084,67.572032358256919,65.043130000000005]
["PZ215",71.053889999999996,71.087379455566406,66.344871520996094,69.671769999999995,null,66.364693523470635,1.9822002474541023E-2,"",null,353,63.448002667898393,66.638257332101617,62.517866439712009,67.568393560288001,65.043130000000005]
["PZ216",69.844539999999995,66.150001525878906,70.238899230957031,61.238410000000002,null,70.259876909735908,2.0977678778876907E-2,"In this case, the adjusted mean HbA1c is higher than the actual mean HbA1c, because the unit performance was worse than expected according to its demographic characteristics.",null,354,63.450272833403858,66.635987166596152,62.521489575809341,67.564770424190669,65.043130000000005]
["PZ218",70.336309999999997,67.534317016601563,69.928955078125,62.797040000000003,null,69.949847336308025,2.0892258183025092E-2,"In this case, the adjusted mean HbA1c is higher than the actual mean HbA1c, because the unit performance was worse than expected according to its demographic characteristics.",null,355,63.452533333711159,66.633726666288851,62.525097162061485,67.561162837938525,65.043130000000005]
["PZ219",63.159820000000003,59.128318786621094,59.580669403076172,64.530029999999996,null,59.598467961655039,1.7798558578867585E-2,"This unit performed better than expected according to its demographic characteristics.",null,356,63.454784237209282,66.631475762790728,62.528689309376233,67.557570690623777,65.043130000000005]
["PZ220",68.956699999999998,64.644630432128906,65.144027709960938,64.525229999999993,null,65.163488777938767,1.9461067977829316E-2,"In this case, the adjusted mean HbA1c is higher than the actual mean HbA1c, because the unit performance was worse than expected according to its demographic characteristics.",null,357,63.457025611611627,66.629234388388383,62.532266127557151,67.553993872442859,65.043130000000005]
["PZ221",66.225430000000003,65.104049682617188,66.131256103515625,64.0137,null,66.151014033447979,1.9757929932353591E-2,"In this case, the adjusted mean HbA1c is higher than the actual mean HbA1c, because the unit performance was worse than expected according to its demographic characteristics.",null,358,63.459257523964567,66.627002476035443,62.53582772531761,67.550432274682407,65.043130000000005]
["PZ222",70.466840000000005,68.740638732910156,67.835182189941406,65.763679999999994,null,67.987471221009997,0.15228903106859093,"",null,359,63.461480040655921,66.624779959344082,62.539374210294653,67.546885789705357,65.043130000000005]
["PZ223",65.102109999999996,62.571430206298828,60.740985870361328,66.983220000000003,null,60.759122496562895,1.8136626201567196E-2,"This unit performed better than expected according to its demographic characteristics.",null,360,63.463693227423192,66.622566772576818,62.542905689062742,67.543354310937275,65.043130000000005]
["PZ225",68.360169999999997,66.215446472167969,66.793548583984375,64.460930000000005,null,66.813492962283703,1.9944378299328491E-2,"In this case, the adjusted mean HbA1c is higher than the actual mean HbA1c, because the unit performance was worse than expected according to its demographic characteristics.",null,361,63.465897149361773,66.620362850638244,62.546422267147094,67.539837732852916,65.043130000000005]
["PZ226",69.65625,67.216217041015625,66.392219543457031,65.830719999999999,null,66.412051138237501,1.9831594780470141E-2,"",null,362,63.468091870932987,66.61816812906703,62.549924049037024,67.536335950962979,65.043130000000005]
["PZ228",60.76596,61.918605804443359,60.497367858886719,66.551280000000006,null,60.515439023218846,1.807116433212741E-2,"This unit performed better than expected according to its demographic characteristics.",null,363,63.470277455971996,66.615982544028014,62.553411138198911,67.532848861801099,65.043130000000005]
["PZ230",69.199150000000003,65.255996704101563,66.565338134765625,63.744700000000002,null,66.585210643464478,1.9872508698853153E-2,"In this case, the adjusted mean HbA1c is higher than the actual mean HbA1c, because the unit performance was worse than expected according to its demographic characteristics.",null,364,63.472453967695557,66.613806032304453,62.556883637089093,67.529376362910924,65.043130000000005]
["PZ231",70.509609999999995,66.819046020507813,65.575859069824219,66.256429999999995,null,65.59544329188688,1.9584222062661638E-2,"",null,365,63.474621468709806,66.611638531290197,62.560341647166439,67.525918352833571,65.043130000000005]
["PZ232",65.032359999999997,65.025169372558594,64.143730163574219,65.917240000000007,null,64.162888870519254,1.9158706945034965E-2,"This unit performed better than expected according to its demographic characteristics.",null,366,63.476780021017731,66.609479978982279,62.563785268904887,67.52247473109513,65.043130000000005]
["PZ238",68.262169999999998,63.998031616210938,65.09918212890625,63.923830000000002,null,65.11863087924047,1.9448750334220222E-2,"In this case, the adjusted mean HbA1c is higher than the actual mean HbA1c, because the unit performance was worse than expected according to its demographic characteristics.",null,367,63.478929686026625,66.607330313973378,62.567214601805617,67.519045398194393,65.043130000000005]
["PZ240",66.461529999999996,64.020133972167969,63.055637359619141,66.01831,null,63.074469742850702,1.8832383231561778E-2,"This unit performed better than expected according to its demographic characteristics.",null,368,63.481070524555527,66.605189475444476,62.57062974440921,67.515630255590793,65.043130000000005]
["PZ242",62.7271,61.559524536132813,63.453758239746094,63.082610000000003,null,63.472709152995989,1.8950913249895507E-2,"This unit performed better than expected according to its demographic characteristics.",null,369,63.483202596842283,66.60305740315772,62.574030794307454,67.512229205692563,65.043130000000005]
[null,null,null,null,null,null,null,null,null,null,370,63.485325962550839,66.600934037449164,62.577417848155129,67.508842151844874,65.043130000000005]
[null,null,null,null,null,null,null,null,null,null,371,63.487440680778086,66.598819319221917,62.580791001681497,67.50546899831852,65.043130000000005]
[null,null,null,null,null,null,null,null,null,null,372,63.489546810060901,66.596713189939109,62.584150349701666,67.502109650298351,65.043130000000005]
[null,null,null,null,null,null,null,null,null,null,373,63.491644408382939,66.594615591617071,62.58749598612782,67.49876401387219,65.043130000000005]
[null,null,null,null,null,null,null,null,null,null,374,63.493733533181221,66.592526466818796,62.590828003980214,67.495431996019789,65.043130000000005]
[null,null,null,null,null,null,null,null,null,null,375,63.495814241352861,66.590445758647149,62.594146495398036,67.492113504601974,65.043130000000005]
[null,null,null,null,null,null,null,null,null,null,376,63.497886589261562,66.588373410738456,62.597451551650096,67.488808448349914,65.043130000000005]
[null,null,null,null,null,null,null,null,null,null,377,63.499950632743968,66.58630936725605,62.600743263145411,67.485516736854592,65.043130000000005]
[null,null,null,null,null,null,null,null,null,null,378,63.502006427116015,66.584253572883995,62.604021719443573,67.482238280556444,65.043130000000005]
[null,null,null,null,null,null,null,null,null,null,379,63.504054027179201,66.582205972820802,62.607287009264937,67.478972990735073,65.043130000000005]
[null,null,null,null,null,null,null,null,null,null,380,63.506093487226615,66.580166512773388,62.610539220500748,67.475720779499269,65.043130000000005]
[null,null,null,null,null,null,null,null,null,null,381,63.508124861049147,66.57813513895087,62.613778440223115,67.472481559776895,65.043130000000005]
[null,null,null,null,null,null,null,null,null,null,382,63.510148201941242,66.576111798058776,62.617004754694698,67.469255245305305,65.043130000000005]
[null,null,null,null,null,null,null,null,null,null,383,63.512163562706959,66.574096437293051,62.620218249378453,67.466041750621557,65.043130000000005]
[null,null,null,null,null,null,null,null,null,null,384,63.514170995665623,66.572089004334387,62.623419008947081,67.462840991052929,65.043130000000005]
[null,null,null,null,null,null,null,null,null,null,385,63.516170552657663,66.570089447342355,62.626607117292409,67.459652882707601,65.043130000000005]
[null,null,null,null,null,null,null,null,null,null,386,63.518162285050082,66.568097714949928,62.629782657534662,67.456477342465348,65.043130000000005]
[null,null,null,null,null,null,null,null,null,null,387,{"$f":"$T$7-TINV(1-$T$3,$K389-1)*$T$8/SQRT($K389)","v":63.520146243742126},{"$f":"$T$7+TINV(1-$T$3,$K389-1)*$T$8/SQRT($K389)","v":66.566113756257892},{"$f":"$T$7-TINV(1-$T$4,$K389-1)*$T$8/SQRT($K389)","v":62.632945712031486},{"$f":"$T$7+TINV(1-$T$4,$K389-1)*$T$8/SQRT($K389)","v":67.453314287968524},{"$f":"$T$7","v":65.043130000000005}]
[null,null,null,null,null,null,null,null,null,null,388,63.52212247917069,66.56413752082932,62.636096362387015,67.450163637612988,65.043130000000005]
[null,null,null,null,null,null,null,null,null,null,389,63.524091041315714,66.562168958684296,62.639234689460643,67.44702531053936,65.043130000000005]
[null,null,null,null,null,null,null,null,null,null,390,63.52605197970545,66.560208020294567,62.642360773375763,67.443899226624254,65.043130000000005]
[null,null,null,null,null,null,null,null,null,null,391,63.52800534342181,66.5582546565782,62.645474693528328,67.440785306471682,65.043130000000005]
[null,null,null,null,null,null,null,null,null,null,392,63.529951181105396,66.556308818894607,62.648576528595385,67.437683471404625,65.043130000000005]
[null,null,null,null,null,null,null,null,null,null,393,63.531889540960677,66.554370459039333,62.651666356543373,67.434593643456637,65.043130000000005]
[null,null,null,null,null,null,null,null,null,null,394,63.533820470760922,66.552439529239095,62.654744254636348,67.431515745363654,65.043130000000005]
[null,null,null,null,null,null,null,null,null,null,395,63.535744017853261,66.550515982146749,62.657810299444137,67.428449700555873,65.043130000000005]
[null,null,null,null,null,null,null,null,null,null,396,63.537660229163478,66.548599770836532,62.660864566850293,67.425395433149717,65.043130000000005]
[null,null,null,null,null,null,null,null,null,null,397,63.539569151200801,66.546690848799216,62.663907132060025,67.422352867939992,65.043130000000005]
[null,null,null,null,null,null,null,null,null,null,398,63.541470830062693,66.544789169937317,62.666938069607944,67.419321930392059,65.043130000000005]
[null,null,null,null,null,null,null,null,null,null,399,63.543365311439572,66.542894688560438,62.66995745336574,67.41630254663427,65.043130000000005]
[null,null,null,null,null,null,null,null,null,null,400,63.545252640619253,66.541007359380757,62.672965356549739,67.413294643450271,65.043130000000005]
[null,null,null,null,null,null,null,null,null,null,401,63.547132862491729,66.539127137508288,62.675961851728381,67.410298148271622,65.043130000000005]
[null,null,null,null,null,null,null,null,null,null,402,63.549006021553453,66.537253978446557,62.678947010829532,67.407312989170478,65.043130000000005]
[null,null,null,null,null,null,null,null,null,null,403,63.550872161911848,66.535387838088155,62.681920905147791,67.404339094852219,65.043130000000005]
[null,null,null,null,null,null,null,null,null,null,404,63.552731327289678,66.533528672710332,62.684883605351573,67.401376394648437,65.043130000000005]
[null,null,null,null,null,null,null,null,null,null,405,63.554583561029361,66.531676438970649,62.687835181490229,67.398424818509781,65.043130000000005]
[null,null,null,null,null,null,null,null,null,null,406,63.556428906097125,66.529831093902885,62.690775703000945,67.395484296999058,65.043130000000005]
[null,null,null,null,null,null,null,null,null,null,407,63.558267405087314,66.527992594912689,62.693705238715651,67.392554761284359,65.043130000000005]
[null,null,null,null,null,null,null,null,null,null,408,63.560099100226417,66.5261608997736,62.696623856867767,67.38963614313225,65.043130000000005]
[null,null,null,null,null,null,null,null,null,null,409,63.561924033377196,66.524335966622814,62.699531625098828,67.386728374901182,65.043130000000005]
[null,null,null,null,null,null,null,null,null,null,410,63.563742246042743,66.52251775395726,62.702428610465184,67.383831389534819,65.043130000000005]
[null,null,null,null,null,null,null,null,null,null,411,63.565553779370305,66.520706220629705,62.705314879444366,67.380945120555637,65.043130000000005]
[null,null,null,null,null,null,null,null,null,null,412,63.567358674155351,66.518901325844666,62.70819049794158,{"$f":"$T$7+TINV(1-$T$4,$K414-1)*$T$8/SQRT($K414)","v":67.378069502058423},65.043130000000005]
[null,null,null,null,null,null,null,null,null,null,413,63.569156970845341,66.517103029154669,62.711055531296005,67.375204468703998,65.043130000000005]
[null,null,null,null,null,null,null,null,null,null,414,63.570948709543558,66.515311290456452,62.713910044286983,67.37234995571302,65.043130000000005]
[null,null,null,null,null,null,null,null,null,null,415,63.572733930012873,66.513526069987137,62.716754101140246,67.369505898859757,65.043130000000005]
[null,null,null,null,null,null,null,null,null,null,416,63.574512671679429,66.511747328320581,62.719587765533959,67.366672234466051,65.043130000000005]
[null,null,null,null,null,null,null,null,null,null,417,63.576284973636319,66.509975026363691,62.722411100604646,67.363848899395364,65.043130000000005]
[null,null,null,null,null,null,null,null,null,null,418,63.578050874647147,66.508209125352863,62.725224168953183,67.361035831046834,65.043130000000005]
[null,null,null,null,null,null,null,null,null,null,419,63.579810413149708,66.506449586850295,62.72802703265058,67.358232967349437,65.043130000000005]
[null,null,null,null,null,null,null,null,null,null,420,63.581563627259349,66.504696372740668,62.730819753243772,67.355440246756245,65.043130000000005]
[null,null,null,null,null,null,null,null,null,null,421,63.583310554772552,66.502949445227458,62.733602391761231,67.352657608238786,65.043130000000005]
[null,null,null,null,null,null,null,null,null,null,422,63.585051233170304,66.501208766829706,62.736375008718618,67.349884991281399,65.043130000000005]
[null,null,null,null,null,null,null,null,null,null,423,63.586785699621466,66.499474300378552,62.739137664124307,67.34712233587571,65.043130000000005]
[null,null,null,null,null,null,null,null,null,null,424,63.588513990986129,66.497746009013881,62.741890417484811,67.344369582515199,65.043130000000005]
[null,null,null,null,null,null,null,null,null,null,425,63.59023614381897,66.49602385618104,62.744633327810199,67.341626672189818,65.043130000000005]
[null,null,null,null,null,null,null,null,null,null,426,63.591952194372318,66.494307805627685,62.747366453619378,67.338893546380632,65.043130000000005]
[null,null,null,null,null,null,null,null,null,null,427,63.593662178599565,66.492597821400452,62.750089852945386,67.336170147054617,65.043130000000005]
[null,null,null,null,null,null,null,null,null,null,428,63.595366132158198,66.490893867841805,62.752803583340473,67.33345641665953,65.043130000000005]
[null,null,null,null,null,null,null,null,null,null,429,63.597064090412935,66.489195909587082,62.755507701881307,67.330752298118696,65.043130000000005]
[null,null,null,null,null,null,null,null,null,null,430,63.598756088438883,66.48750391156112,62.758202265173963,67.328057734826046,65.043130000000005]
[null,null,null,null,null,null,null,null,null,null,431,63.600442161024525,66.485817838975493,62.76088732935893,67.325372670641087,65.043130000000005]
[null,null,null,null,null,null,null,null,null,null,432,63.60212234267469,66.48413765732532,62.763562950115983,67.322697049884027,65.043130000000005]
[null,null,null,null,null,null,null,null,null,null,433,63.603796667613615,66.482463332386388,62.766229182669072,67.320030817330931,65.043130000000005]
[null,null,null,null,null,null,null,null,null,null,434,63.60546516978777,66.480794830212233,62.768886081791067,67.317373918208943,65.043130000000005]
[null,null,null,null,null,null,null,null,null,null,435,63.607127882868824,66.479132117131186,62.771533701808551,67.314726298191459,65.043130000000005]
[null,null,null,null,null,null,null,null,null,null,436,63.608784840256483,66.477475159743534,62.774172096606414,67.312087903393603,65.043130000000005]
[null,null,null,null,null,null,null,null,null,null,437,63.610436075081239,66.475823924918771,62.776801319632469,67.309458680367541,65.043130000000005]
[null,null,null,null,null,null,null,null,null,null,438,63.612081620207292,66.474178379792718,62.779421423902058,67.306838576097945,65.043130000000005]
[null,null,null,null,null,null,null,null,null,null,439,63.613721508235152,66.472538491764851,62.782032462002483,67.304227537997534,65.043130000000005]
[null,null,null,null,null,null,null,null,null,null,440,63.615355771504454,66.470904228495556,62.784634486097453,67.301625513902565,65.043130000000005]
[null,null,null,null,null,null,null,null,null,null,441,63.61698444209658,66.46927555790343,62.787227547931465,67.299032452068545,65.043130000000005]
[null,null,null,null,null,null,null,null,null,null,442,63.618607551837314,66.467652448162696,62.789811698834143,67.296448301165867,65.043130000000005]
[null,null,null,null,null,null,null,null,null,null,443,63.620225132299467,66.466034867700543,62.792386989724449,67.293873010275561,65.043130000000005]
[null,null,null,null,null,null,null,null,null,null,444,63.621837214805495,66.464422785194515,62.794953471114979,67.291306528885031,65.043130000000005]
[null,null,null,null,null,null,null,null,null,null,445,63.623443830429935,66.462816169570075,62.797511193116044,67.288748806883973,65.043130000000005]
[null,null,null,null,null,null,null,null,null,null,446,63.625045010002019,66.461214989997998,62.800060205439848,67.286199794560162,65.043130000000005]
[null,null,null,null,null,null,null,null,null,null,447,63.62664078410814,66.459619215891877,62.802600557404475,67.283659442595535,65.043130000000005]
[null,null,null,null,null,null,null,null,null,null,448,63.628231183094307,66.45802881690571,62.805132297937959,67.281127702062051,65.043130000000005]
[null,null,null,null,null,null,null,null,null,null,449,63.629816237068496,66.456443762931514,62.807655475582237,67.278604524417773,65.043130000000005]
[null,null,null,null,null,null,null,null,null,null,450,63.631395975903189,66.454864024096821,62.810170138496986,67.276089861503024,65.043130000000005]
[null,null,null,null,null,null,null,null,null,null,451,{"$f":"$T$7-TINV(1-$T$3,$K453-1)*$T$8/SQRT($K453)","v":63.632970429237574},{"$f":"$T$7+TINV(1-$T$3,$K453-1)*$T$8/SQRT($K453)","v":66.453289570762436},{"$f":"$T$7-TINV(1-$T$4,$K453-1)*$T$8/SQRT($K453)","v":62.812676334463568},{"$f":"$T$7+TINV(1-$T$4,$K453-1)*$T$8/SQRT($K453)","v":67.273583665536449},{"$f":"$T$7","v":65.043130000000005}]
[null,null,null,null,null,null,null,null,null,null,452,63.63453962648002,66.45172037351999,62.815174110888812,67.271085889111191,65.043130000000005]
[null,null,null,null,null,null,null,null,null,null,453,63.636103596810301,66.450156403189709,62.817663514808771,67.268596485191239,65.043130000000005]
[null,null,null,null,null,null,null,null,null,null,454,63.637662369181875,66.448597630818128,62.820144592892433,67.266115407107577,65.043130000000005]
[null,null,null,null,null,null,null,null,null,null,455,63.639215972324251,66.447044027675759,62.822617391445448,67.263642608554562,65.043130000000005]
[null,null,null,null,null,null,null,null,null,null,456,63.640764434744995,66.445495565255015,62.825081956413683,67.261178043586327,65.043130000000005]
[null,null,null,null,null,null,null,null,null,null,457,63.642307784732132,66.443952215267871,62.827538333386876,67.258721666613127,65.043130000000005]
[null,null,null,null,null,null,null,null,null,null,458,63.643846050356252,66.442413949643765,62.829986567602127,67.256273432397876,65.043130000000005]
[null,null,null,null,null,null,null,null,null,null,459,63.64537925947257,66.440880740527433,62.832426703947426,67.253833296052576,65.043130000000005]
[null,null,null,null,null,null,null,null,null,null,460,63.646907439723208,66.439352560276802,62.834858786965107,67.25140121303491,65.043130000000005]
[null,null,null,null,null,null,null,null,null,null,461,63.648430618539088,66.437829381460929,62.837282860855233,67.24897713914477,65.043130000000005]
[null,null,null,null,null,null,null,null,null,null,462,63.649948823142203,66.436311176857799,62.839698969479016,67.246561030520994,65.043130000000005]
[null,null,null,null,null,null,null,null,null,null,463,63.651462080547539,66.434797919452464,62.842107156362118,67.244152843637892,65.043130000000005]
[null,null,null,null,null,null,null,null,null,null,464,63.652970417565079,66.433289582434924,62.844507464697955,67.241752535302055,65.043130000000005]
[null,null,null,null,null,null,null,null,null,null,465,63.654473860801879,66.431786139198124,62.84689993735094,67.23936006264907,65.043130000000005]
[null,null,null,null,null,null,null,null,null,null,466,63.655972436663987,66.430287563336023,62.849284616859727,67.23697538314029,65.043130000000005]
[null,null,null,null,null,null,null,null,null,null,467,63.657466171358408,66.428793828641602,62.851661545440336,67.234598454559674,65.043130000000005]
[null,null,null,null,null,null,null,null,null,null,468,63.658955090895034,66.427304909104976,62.854030764989353,67.232229235010649,65.043130000000005]
[null,null,null,null,null,null,null,null,null,null,469,63.660439221088531,66.425820778911486,62.856392317086986,67.229867682913024,65.043130000000005]
[null,null,null,null,null,null,null,null,null,null,470,63.661918587560173,66.42434141243983,62.858746243000127,67.227513756999883,65.043130000000005]
[null,null,null,null,null,null,null,null,null,null,471,63.663393215739852,66.422866784260151,62.861092583685441,67.225167416314576,65.043130000000005]
[null,null,null,null,null,null,null,null,null,null,472,63.664863130867737,66.42139686913228,62.863431379792289,67.222828620207721,65.043130000000005]
[null,null,null,null,null,null,null,null,null,null,473,63.666328357996193,66.419931642003817,62.865762671665706,67.220497328334304,65.043130000000005]
[null,null,null,null,null,null,null,null,null,null,474,63.667788921991516,66.418471078008494,62.868086499349339,67.218173500650664,65.043130000000005]
[null,null,null,null,null,null,null,null,null,null,475,63.669244847535793,66.417015152464216,62.870402902588353,67.215857097411657,65.043130000000005]
[null,null,null,null,null,null,null,null,null,null,476,63.670696159128561,66.415563840871442,62.872711920832209,67.213548079167794,65.043130000000005]
[null,null,null,null,null,null,null,null,null,null,477,63.672142881088561,66.414117118911449,62.87501359323759,67.211246406762427,65.043130000000005]
[null,null,null,null,null,null,null,null,null,null,478,63.67358503755549,66.412674962444527,62.877307958671075,67.208952041328942,65.043130000000005]
[null,null,null,null,null,null,null,null,null,null,479,63.67502265249167,66.411237347508347,62.879595055712016,67.206664944287994,65.043130000000005]
[null,null,null,null,null,null,null,null,null,null,480,63.676455749683676,66.409804250316341,62.881874922655179,67.204385077344838,65.043130000000005]
[null,null,null,null,null,null,null,null,null,null,481,63.677884352744073,66.408375647255937,62.884147597513461,67.202112402486549,65.043130000000005]
[null,null,null,null,null,null,null,null,null,null,482,63.679308485112969,66.406951514887041,62.886413118020542,67.199846881979468,65.043130000000005]
[null,null,null,null,null,null,null,null,null,null,483,63.680728170059709,66.405531829940301,62.88867152163354,67.19758847836647,65.043130000000005]
[null,null,null,null,null,null,null,null,null,null,484,63.682143430684391,66.404116569315619,62.89092284553562,67.195337154464397,65.043130000000005]
[null,null,null,null,null,null,null,null,null,null,485,63.683554289919506,66.402705710080511,62.893167126638488,67.193092873361522,65.043130000000005]
[null,null,null,null,null,null,null,null,null,null,486,63.684960770531482,66.401299229468535,62.895404401585019,67.190855598414998,65.043130000000005]
[null,null,null,null,null,null,null,null,null,null,487,63.68636289512218,66.399897104877837,62.897634706751759,67.188625293248251,65.043130000000005]
[null,null,null,null,null,null,null,null,null,null,488,63.687760686130531,66.398499313869479,62.899858078251349,67.186401921748654,65.043130000000005]
[null,null,null,null,null,null,null,null,null,null,489,63.689154165833926,66.397105834166084,62.902074551935058,67.184185448064952,65.043130000000005]
[null,null,null,null,null,null,null,null,null,null,490,63.69054335634975,66.39571664365026,62.904284163395133,67.181975836604877,65.043130000000005]
[null,null,null,null,null,null,null,null,null,null,491,63.69192827963689,66.394331720363112,62.906486947967259,67.179773052032743,65.043130000000005]
[null,null,null,null,null,null,null,null,null,null,492,63.693308957497173,66.39295104250283,62.908682940732938,67.17757705926708,65.043130000000005]
[null,null,null,null,null,null,null,null,null,null,493,63.694685411576749,66.391574588423254,62.910872176521757,67.175387823478246,65.043130000000005]
[null,null,null,null,null,null,null,null,null,null,494,63.696057663367618,66.390202336632385,62.913054689913814,67.173205310086203,65.043130000000005]
[null,null,null,null,null,null,null,null,null,null,495,63.697425734208977,66.388834265791033,62.915230515241916,67.171029484758094,65.043130000000005]
[null,null,null,null,null,null,null,null,null,null,496,63.698789645288578,66.387470354711425,62.917399686593924,67.168860313406086,65.043130000000005]
[null,null,null,null,null,null,null,null,null,null,497,63.700149417644248,66.386110582355769,62.919562237814944,67.166697762185066,65.043130000000005]
[null,null,null,null,null,null,null,null,null,null,498,63.70150507216507,66.384754927834933,62.92171820250956,67.164541797490457,65.043130000000005]
[null,null,null,null,null,null,null,null,null,null,499,{"$f":"$T$7-TINV(1-$T$3,$K501-1)*$T$8/SQRT($K501)","v":63.702856629592873},{"$f":"$T$7+TINV(1-$T$3,$K501-1)*$T$8/SQRT($K501)","v":66.383403370407137},{"$f":"$T$7-TINV(1-$T$4,$K501-1)*$T$8/SQRT($K501)","v":62.923867614044035},{"$f":"$T$7+TINV(1-$T$4,$K501-1)*$T$8/SQRT($K501)","v":67.162392385955968},65.043130000000005]
[null,null,null,null,null,null,null,null,null,null,500,{"$f":"$T$7-TINV(1-$T$3,$K502-1)*$T$8/SQRT($K502)","v":63.704204110523477},{"$f":"$T$7+TINV(1-$T$3,$K502-1)*$T$8/SQRT($K502)","v":66.382055889476533},{"$f":"$T$7-TINV(1-$T$4,$K502-1)*$T$8/SQRT($K502)","v":62.926010505548497},{"$f":"$T$7+TINV(1-$T$4,$K502-1)*$T$8/SQRT($K502)","v":67.16024949445152},65.043130000000005]
[null,null,null,null,null,null,null,null,null,null,501,63.705547535408051,66.380712464591966,62.928146909919015,67.158113090081002,65.043130000000005]
[null,null,null,null,null,null,null,null,null,null,502,63.706886924554418,66.379373075445585,62.93027685981982,67.155983140180183,65.043130000000005]
[null,null,null,null,null,null,null,null,null,null,503,63.708222298128348,66.378037701871662,62.932400387685306,67.153859612314704,65.043130000000005]
[null,null,null,null,null,null,null,null,null,null,504,63.709553676154819,66.376706323845198,62.934517525722157,67.151742474277853,65.043130000000005]
[null,null,null,null,null,null,null,null,null,null,505,63.710881078519229,66.375378921480774,62.93662830591142,67.149631694088598,65.043130000000005]
[null,null,null,null,null,null,null,null,null,null,506,63.712204524968783,66.374055475031227,62.938732760010438,67.147527239989572,65.043130000000005]
[null,null,null,null,null,null,null,null,null,null,507,63.713524035113565,66.372735964886445,62.940830919555005,67.145429080445012,65.043130000000005]
[null,null,null,null,null,null,null,null,null,null,508,63.714839628427882,66.371420371572128,62.942922815861188,67.143337184138829,65.043130000000005]
[null,null,null,null,null,null,null,null,null,null,509,63.716151324251385,66.370108675748625,62.945008480027411,67.141251519972599,65.043130000000005]
[null,null,null,null,null,null,null,null,null,null,510,63.717459141790322,66.368800858209681,62.947087942936363,67.139172057063647,65.043130000000005]
[null,null,null,null,null,null,null,null,null,null,511,63.718763100118714,66.367496899881289,62.949161235256888,67.137098764743115,65.043130000000005]
[null,null,null,null,null,null,null,null,null,null,512,63.720063218179455,66.366196781820548,62.951228387445894,67.135031612554116,65.043130000000005]
[null,null,null,null,null,null,null,null,null,null,513,63.721359514785561,66.364900485214449,62.953289429750278,67.132970570249739,65.043130000000005]
[null,null,null,null,null,null,null,null,null,null,514,63.722652008621289,66.363607991378714,62.955344392208751,67.130915607791252,65.043130000000005]
[null,null,null,null,null,null,null,null,null,null,515,63.723940718243178,66.362319281756825,62.957393304653635,67.128866695346375,{"$f":"$T$7","v":65.043130000000005}]
[null,null,null,null,null,null,null,null,null,null,516,63.725225662081328,66.361034337918682,62.959436196712772,67.126823803287238,65.043130000000005]
[null,null,null,null,null,null,null,null,null,null,517,63.726506858440345,66.359753141559665,62.96147309781125,67.12478690218876,65.043130000000005]
[null,null,null,null,null,null,null,null,null,null,518,63.727784325500579,66.358475674499431,62.963504037173216,67.122755962826787,65.043130000000005]
[null,null,null,null,null,null,null,null,null,null,519,63.729058081319074,66.357201918680929,62.965529043823629,67.120730956176388,65.043130000000005]
[null,null,null,null,null,null,null,null,null,null,520,63.730328143830768,66.355931856169249,62.967548146589991,67.118711853410019,65.043130000000005]
[null,null,null,null,null,null,null,null,null,null,521,63.731594530849435,66.354665469150575,62.969561374104096,67.116698625895921,65.043130000000005]
[null,null,null,null,null,null,null,null,null,null,522,63.732857260068847,66.35340273993117,62.971568754803734,67.114691245196283,65.043130000000005]
[null,null,null,null,null,null,null,null,null,null,523,63.734116349063704,66.352143650936299,62.973570316934328,67.112689683065682,65.043130000000005]
[null,null,null,null,null,null,null,null,null,null,524,63.735371815290748,66.350888184709262,62.975566088550657,67.11069391144936,65.043130000000005]
[null,null,null,null,null,null,null,null,null,null,525,63.736623676089749,66.349636323910261,62.977556097518523,67.10870390248148,65.043130000000005]
[null,null,null,null,null,null,null,null,null,null,526,63.737871948684486,66.348388051315524,62.979540371516293,67.106719628483717,65.043130000000005]
[null,null,null,null,null,null,null,null,null,null,527,63.739116650183725,66.347143349816278,62.981518938036629,67.104741061963381,65.043130000000005]
[null,null,null,null,null,null,null,null,null,null,528,63.740357797582369,66.345902202417633,62.98349182438799,67.102768175612027,65.043130000000005]
[null,null,null,null,null,null,null,null,null,null,529,63.741595407762162,66.344664592237848,62.985459057696303,67.100800942303707,65.043130000000005]
[null,null,null,null,null,null,null,null,null,null,530,63.742829497492899,66.343430502507118,62.987420664906466,67.098839335093544,65.043130000000005]
[null,null,null,null,null,null,null,null,null,null,531,63.744060083433226,66.342199916566784,62.989376672783898,67.096883327216119,65.043130000000005]
[null,null,null,null,null,null,null,null,null,null,532,63.745287182131648,66.340972817868362,62.991327107916135,67.094932892083875,65.043130000000005]
[null,null,null,null,null,null,null,null,null,null,533,63.746510810027452,66.339749189972551,62.993271996714256,67.092988003285754,65.043130000000005]
[null,null,null,null,null,null,null,null,null,null,534,63.747730983451653,66.338529016548364,62.995211365414477,67.091048634585533,65.043130000000005]
[null,null,null,null,null,null,null,null,null,null,535,63.748947718627868,66.337312281372135,62.997145240079576,67.089114759920434,65.043130000000005]
[null,null,null,null,null,null,null,null,null,null,536,63.750161031673265,66.336098968326738,62.999073646600372,67.08718635339963,65.043130000000005]
[null,null,null,null,null,null,null,null,null,null,537,63.751370938599422,66.334889061400588,63.000996610697221,67.085263389302781,65.043130000000005]
[null,null,null,null,null,null,null,null,null,null,538,63.752577455313187,66.333682544686823,63.00291415792141,67.0833458420786,65.043130000000005]
[null,null,null,null,null,null,null,null,null,null,539,63.753780597617705,66.332479402382305,63.004826313656594,67.081433686343416,65.043130000000005]
[null,null,null,null,null,null,null,null,null,null,540,63.754980381213123,66.331279618786894,63.006733103120219,67.079526896879784,65.043130000000005]
[null,null,null,null,null,null,null,null,null,null,541,63.756176821697466,66.330083178302544,63.008634551364921,67.077625448635089,65.043130000000005]
[null,null,null,null,null,null,null,null,null,null,542,63.757369934567585,66.328890065432418,63.010530683279889,67.075729316720114,65.043130000000005]
[null,null,null,null,null,null,null,null,null,null,543,63.758559735219983,66.327700264780034,63.012421523592273,67.073838476407744,65.043130000000005]
[null,null,null,null,null,null,null,null,null,null,544,63.759746238951529,66.326513761048489,63.014307096868443,67.07195290313156,65.043130000000005]
[null,null,null,null,null,null,null,null,null,null,545,63.760929460960448,66.325330539039555,63.016187427515476,67.070072572484534,65.043130000000005]
[null,null,null,null,null,null,null,null,null,null,546,63.762109416346981,66.324150583653037,63.018062539782349,67.068197460217661,65.043130000000005]
[null,null,null,null,null,null,null,null,null,null,547,63.763286120114323,66.32297387988568,63.019932457761342,67.066327542238668,65.043130000000005]
[null,null,null,null,null,null,null,null,null,null,548,63.764459587169412,66.321800412830598,63.021797205389291,67.064462794610719,65.043130000000005]
[null,null,null,null,null,null,null,null,null,null,549,63.765629832323604,66.320630167676399,63.023656806448862,67.062603193551155,65.043130000000005]
[null,null,null,null,null,null,null,null,null,null,550,63.766796870293589,66.319463129706421,63.025511284569873,67.060748715430137,65.043130000000005]